{"text_format":"1","workbook":"xlsx","n_sheets":29,"sheets":["DA 2.1","DA 2.2","DA 2.3","DA 1.1","DA 1.2","DA 1.3","welcome","DATA","DATA 1","DATA 2","Sheet1","Annex I","Annex II","Form 16 ","16 (Back)","Rent Receipt","12 BB","STATEMENT (2)","10BA","10-I","10-IA","Sheet4","SHEET2","RENT","NON PAN","OLD NEW PAYS","FORM","EDIT","Sheet6"],"not_rendered":{"charts":0,"images":6,"macros":1,"external_links":2,"defined_names":116,"comments":5,"pivot_tables":0},"unopened":[],"bounds":{"document_bytes":16777216,"sheet_cells":100000,"rows_first":2000,"rows_last":500,"rows_between":2000,"halvings":0,"cell_chars":16384,"cell_head_chars":4096},"cells_cut":0,"cells_raw":0,"read":"whole","date_system":"1900"}

{"sheet":"DA 2.1","index":0,"n_rows":11,"n_cols":5,"rows_kept":11,"cut":false,"hidden":true,"merged":[]}
[{"$f":"'DA 2.2'!C2","v":"2016-07-01"},null,null,"Start date:",{"$f":"'DA 2.2'!C2","v":"2016-07-01"}]
[{"$f":"'DA 2.2'!C3","v":"2017-08-31"},null,null,"End date:",{"$f":"'DA 2.2'!D15","v":"2017-08-31"}]
[{"$f":"'DA 2.2'!C4","v":"2017-08-31"}]
[{"$f":"'DA 2.2'!C5","v":"2017-08-31"},null,null,"Sorted list"]
[{"$f":"'DA 2.2'!C6","v":"2017-10-01"},null,null,{"$f":"SMALL(A2:A8,1)","v":"2016-10-01"}]
[{"$f":"'DA 2.2'!C7","v":"2017-08-31"},null,null,{"$f":"SMALL(A2:A8,2)","v":"2017-08-31"}]
[{"$f":"'DA 2.2'!C8","v":"2017-08-31"},null,null,{"$f":"SMALL(A2:A8,3)","v":"2017-08-31"}]
[{"$f":"'DA 2.2'!C9","v":"2016-10-01"},null,null,{"$f":"SMALL(A2:A8,4)","v":"2017-08-31"}]
[null,null,null,{"$f":"SMALL(A2:A8,5)","v":"2017-08-31"}]
[null,null,null,{"$f":"SMALL(A2:A8,6)","v":"2017-08-31"}]
[null,null,null,{"$f":"SMALL(A2:A8,7)","v":"2017-10-01"}]

{"sheet":"DA 2.2","index":1,"n_rows":801,"n_cols":33,"rows_kept":801,"cut":false,"hidden":true,"merged":[]}
[null,null,"DATE FROM","DATE ASCENDING","VLOOKUP","INCREMENTS","B PAY"]
[null,"BASIC PAY AS ON","2016-07-01",{"$f":"C2","v":"2016-07-01"},{"$f":"VLOOKUP(G2,L3:M82,2)","v":36},null,{"$f":"'DA 1.3'!C188","v":38130},"set link to date"]
[null,"aas date 2",{"$f":"IF(I15=1,D15,IF(DATA!CZ5=1-1-0,D15,IF(DATA!CZ5>=D15,D15,DATA!CZ5)))","v":"2017-08-31"},{"$f":"'DA 2.1'!D5","v":"2016-10-01"},{"$f":"E2+F3","v":37},{"$f":"IF(D3<=J15,0,IF(D3>=D15,0,IF(D3=A16,0,IF(D3=C8,D46,IF(F17=1,F20,1)))))","v":1},{"$f":"IF(D3=I13,J13,VLOOKUP(E3,K3:L82,2))","v":39160},null,null,{"$f":"E2","v":36},1,14170,1,{"$f":"E2","v":36},1,1,"2016-07-01","2016-07-01",1,null,null,"aas","DATE",null,null,null,null,null,"promotion","DATE"]
[null,"AAS DATE",{"$f":"IF(F15=1,VLOOKUP(U4,V4:W765,2),Q15)","v":"2017-08-31"},{"$f":"'DA 2.1'!D6","v":"2017-08-31"},37,{"$f":"IF(D4<=J15,0,IF(D4>=D15,0,IF(D4=A16,0,IF(D4=C8,D46,IF(F17=1,F20,1)))))","v":0},{"$f":"IF(D4=I13,J13,VLOOKUP(E4,K3:L82,2))","v":39160},null,null,{"$f":"E2","v":36},2,14600,2,null,null,2,"2016-08-01","2016-08-01",1,null,{"$f":"'DA 1.2'!U4","v":402},1,"2016-01-01",{"$f":"F15","v":2},null,{"$f":"IF(X4=2,\"\",W4)","v":""},null,{"$f":"'DA 1.2'!AB4","v":402},1,"2016-01-01",{"$f":"F17","v":2},null,{"$f":"IF(AE4=2,\"\",AD4)","v":""}]
[null,"Promotion Increment",{"$f":"IF(F17=2,Q15,VLOOKUP(AB4,AC4:AD765,2))","v":"2017-08-31"},{"$f":"'DA 2.1'!D7","v":"2017-08-31"},37,{"$f":"IF(D5<=J15,0,IF(D5>=D15,0,IF(D5=A17,0,IF(D5=C8,D46,IF(F17=1,F20,1)))))","v":0},{"$f":"IF(D5=I13,J13,VLOOKUP(E5,K3:L82,2))","v":39160},null,null,{"$f":"J4","v":36},3,15030,3,null,null,3,"2016-09-01","2016-09-01",1,null,null,2,"2016-01-02",{"$f":"X4","v":2},null,{"$f":"IF(X5=2,\"\",W5)","v":""},null,null,2,"2016-01-02",{"$f":"AE4","v":2},null,{"$f":"IF(AE5=2,\"\",AD5)","v":""}]
[null,"BASIC PAY AS ON",{"$f":"H7","v":"2017-10-01"},{"$f":"'DA 2.1'!D8","v":"2017-08-31"},37,{"$f":"IF(D6<=J15,0,IF(D6>=D15,0,IF(D6=A16,0,IF(D6=C8,D46,IF(F17=1,F20,1)))))","v":0},{"$f":"IF(D6=I13,J13,VLOOKUP(E6,K3:L82,2))","v":39160},null,"2017-02-01",null,4,15460,4,null,null,4,"2016-10-01","2016-10-01",1,null,null,3,"2016-01-03",{"$f":"X5","v":2},null,"",null,null,3,"2016-01-03",{"$f":"AE5","v":2},null,""]
[null,"INCREMENT DATE 2",{"$f":"IF(H7=I6,I7,IF(H7>D15,D15,IF(H7=\"not applicable\",D15,H7)))","v":"2017-08-31"},{"$f":"'DA 2.1'!D9","v":"2017-08-31"},37,{"$f":"IF(D7<=J15,0,IF(D7>=D15,0,IF(D7=A17,0,IF(D7=C8,D46,IF(F17=1,F20,1)))))","v":0},{"$f":"IF(D7=I13,J13,VLOOKUP(E7,K3:L82,2))","v":39160},{"$f":"VLOOKUP(DATA!CQ5,DATA!CR5:CS19,2)","v":"2017-10-01"},"2017-02-01",null,5,15930,5,null,null,5,"2016-11-01","2016-11-01",1,null,null,4,"2016-01-04",2,null,"",null,null,4,"2016-01-04",2,null,""]
[null,"promotion increment 2",{"$f":"IF(F17=1,D15,IF(DATA!DX5>=D15,D15,IF(DATA!DX5=1-1-0,D15,DATA!DX5)))","v":"2017-08-31"},{"$f":"'DA 2.1'!D10","v":"2017-08-31"},37,{"$f":"IF(D8<=J15,0,IF(D8>=D15,0,IF(D8=A17,0,IF(D8=C8,D46,IF(F17=1,F20,1)))))","v":0},{"$f":"IF(D8=I13,J13,VLOOKUP(E8,K3:L82,2))","v":39160},null,null,null,6,16400,6,null,null,6,"2016-12-01","2016-12-01",1,null,null,5,"2016-01-05",2,null,"",null,null,5,"2016-01-05",2,null,""]
[null,"INCREMENT DATE 1",{"$f":"IF('DA 1.2'!C3<'DA 2.2'!C15,'DA 1.2'!C3,'DA 2.2'!D16)","v":"2016-10-01"},{"$f":"'DA 2.1'!D11","v":"2017-10-01"},null,null,null,null,null,null,7,16870,7,null,null,7,"2017-01-01","2017-01-01",1,null,null,6,"2016-01-06",2,null,"",null,null,6,"2016-01-06",2,null,""]
[null,"SURRENDER LEAVE DA DIFFERENCE",{"$f":"VLOOKUP(D51,E50:F74,2)","v":"2016-11-01"},{"$f":"MONTH(D15)","v":8},{"$f":"YEAR(D15)","v":2017},null,null,null,null,null,8,17380,8,null,null,8,"2017-02-01","2017-02-01",1,null,null,7,"2016-01-07",2,null,"",null,null,7,"2016-01-07",2,null,""]
[null,"DAYS",{"$f":"IF(H52=2,VLOOKUP(C10,H76:I100,2),DATE(E11,D11,D12))","v":"2016-11-06"},{"$f":"MONTH(C10)","v":11},{"$f":"YEAR(C10)","v":2016},null,null,null,null,null,9,17890,9,null,null,9,"2017-03-01","2017-03-01",1,null,null,8,"2016-01-08",2,null,"",null,null,8,"2016-01-08",2,null,""]
[null,"SL",null,{"$f":"VLOOKUP(H52,H50:J51,3)","v":30},{"$f":"DATE(E10,D10,1)","v":"2017-08-01"},null,null,null,null,null,10,18400,10,null,null,10,"2017-04-01","2017-04-01",1,null,null,9,"2016-01-09",2,null,"",null,null,9,"2016-01-09",2,null,""]
[null,"DAY","MONTH","YEAR",null,null,null,null,"2016-01-01",{"$f":"DATA!J5","v":39160},11,18950,11,null,null,11,"2017-05-01","2017-05-01",1,null,null,10,"2016-01-10",2,null,"",null,null,10,"2016-01-10",2,null,""]
[null,{"$f":"IF(D12=15,15,VLOOKUP(C14,'DA 2.3'!D6:E586,2))","v":30},{"$f":"MONTH(C10)","v":11},{"$f":"YEAR(C10)","v":2016},null,null,null,null,null,null,12,19500,12,null,null,12,"2017-06-01","2017-06-01",1,null,null,11,"2016-01-11",2,null,"",null,null,11,"2016-01-11",2,null,""]
[null,"BILL UPTO",{"$f":"C16","v":"2017-08-01"},{"$f":"VLOOKUP(D24,E24:F47,2)","v":"2017-08-31"},"aas",{"$f":"'DA 1.2'!F15","v":2},1,"Yes",{"$f":"F15","v":2},"2016-07-01",13,20050,13,null,null,13,{"$f":"D15","v":"2017-08-31"},"Not applicable",0,null,null,12,"2016-01-12",2,null,"",null,null,12,"2016-01-12",2,null,""]
["2016-07-01",{"$f":"D15","v":"2017-08-31"},{"$f":"E12","v":"2017-08-01"},{"$f":"D15","v":"2017-08-31"},null,null,2,"No",{"$f":"I15","v":2},{"$f":"J15","v":"2016-07-01"},14,20640,14,null,null,null,null,null,null,null,null,13,"2016-01-13",2,null,"",null,null,13,"2016-01-13",2,null,""]
[{"$f":"A16","v":"2016-07-01"},{"$f":"B16","v":"2017-08-31"},{"$f":"C16","v":"2017-08-01"},{"$f":"D16","v":"2017-08-31"},"promotion",{"$f":"'DA 1.2'!F17","v":2},1,"Yes",{"$f":"F17","v":2},null,15,21230,15,null,null,null,null,null,null,null,null,14,"2016-01-14",2,null,"",null,null,14,"2016-01-14",2,null,""]
[{"$f":"A17","v":"2016-07-01"},{"$f":"B17","v":"2017-08-31"},{"$f":"C17","v":"2017-08-01"},"2017-08-31",null,{"$f":"F17","v":2},2,"No",{"$f":"I17","v":2},null,16,21820,16,null,null,null,null,null,null,null,null,15,"2016-01-15",2,null,"",null,null,15,"2016-01-15",2,null,""]
["2016-07-01","2017-08-31","2017-08-01","2017-08-31",null,null,null,null,2,null,17,22460,17,null,null,null,null,null,null,null,null,16,"2016-01-16",2,null,"",null,null,16,"2016-01-16",2,null,""]
["2016-07-01","2017-08-31","2017-08-01","2017-08-31","promotion inc",{"$f":"'DA 1.2'!F20","v":1},1,{"$f":"IF(F17=2,\"\",I20)","v":""},"1 Increment",null,18,23100,18,null,null,null,null,null,null,null,null,17,"2016-01-17",2,null,"",null,null,17,"2016-01-17",2,null,""]
["2016-07-01","2017-08-31","2017-08-01","2017-08-31",null,null,2,{"$f":"IF(F18=2,\"\",I21)","v":""},"2 Increments",null,19,23740,19,null,null,null,null,null,null,null,null,18,"2016-01-18",2,null,"",null,null,18,"2016-01-18",2,null,""]
["2016-07-01","2017-08-31","2017-08-01","2017-08-31",null,null,null,null,null,null,20,24440,20,null,null,null,null,null,null,null,null,19,"2016-01-19",2,null,"",null,null,19,"2016-01-19",2,null,""]
[null,null,"2017-08-01",null,"bill upto the month of","2016-01-31",1,2016,"2016-01-01",null,21,25140,21,null,null,null,null,null,null,null,null,20,"2016-01-20",2,null,"",null,null,20,"2016-01-20",2,null,""]
[null,null,"2017-08-01",19,1,"2016-02-29",{"$f":"MONTH(F24)","v":2},{"$f":"YEAR(F24)","v":2016},{"$f":"DATE(H24,G24,1)","v":"2016-02-01"},"Feb- 16",22,25840,22,null,null,null,null,null,null,null,null,21,"2016-01-21",2,null,"",null,null,21,"2016-01-21",2,null,""]
[null,null,"2017-08-01",null,2,"2016-03-31",{"$f":"MONTH(F25)","v":3},{"$f":"YEAR(F25)","v":2016},{"$f":"DATE(H25,G25,1)","v":"2016-03-01"},"Mar- 16",23,26600,23,null,null,null,null,null,null,null,null,22,"2016-01-22",2,null,"",null,null,22,"2016-01-22",2,null,""]
[null,null,"2017-08-01",null,3,"2016-04-30",4,2016,"2016-04-01","Apr- 16",24,27360,24,null,null,null,null,null,null,null,null,23,"2016-01-23",2,null,"",null,null,23,"2016-01-23",2,null,""]
[null,null,"2017-08-01",null,4,"2016-05-31",5,2016,"2016-05-01","May- 16",25,28120,25,null,null,null,null,null,null,null,null,24,"2016-01-24",2,null,"",null,null,24,"2016-01-24",2,null,""]
[null,null,"2017-08-01",null,5,"2016-06-30",6,2016,"2016-06-01","Jun- 16",26,28940,26,null,null,null,null,null,null,null,null,25,"2016-01-25",2,null,"",null,null,25,"2016-01-25",2,null,""]
[null,null,"2017-08-01",null,6,"2016-07-31",7,2016,"2016-07-01","Jul- 16",27,29760,27,null,null,null,null,null,null,null,null,26,"2016-01-26",2,null,"",null,null,26,"2016-01-26",2,null,""]
[null,null,"2017-08-01",null,7,"2016-08-31",8,2016,"2016-08-01","Aug- 16",28,30580,28,null,null,null,null,null,null,null,null,27,"2016-01-27",2,null,"",null,null,27,"2016-01-27",2,null,""]
[null,null,"2017-08-01",null,8,"2016-09-30",9,2016,"2016-09-01","Sep- 16",29,31460,29,null,null,null,null,null,null,null,null,28,"2016-01-28",2,null,"",null,null,28,"2016-01-28",2,null,""]
[null,null,"2017-08-01",null,9,"2016-10-31",10,2016,"2016-10-01","Oct- 16",30,32340,30,null,null,null,null,null,null,null,null,29,"2016-01-29",2,null,"",null,null,29,"2016-01-29",2,null,""]
[null,null,"2017-08-01",null,10,"2016-11-30",11,2016,"2016-11-01","Nov- 16",31,33220,31,null,null,null,null,null,null,null,null,30,"2016-01-30",2,null,"",null,null,30,"2016-01-30",2,null,""]
[null,null,"2017-08-01",null,11,"2016-12-31",12,2016,"2016-12-01","Dec- 16",32,34170,32,null,null,null,null,null,null,null,null,31,"2016-01-31",2,null,"",null,null,31,"2016-01-31",2,null,""]
[null,null,"2017-08-01",null,12,"2017-01-31",1,2017,"2017-01-01","Jan- 17",33,35120,33,null,null,null,null,null,null,null,null,32,"2016-02-01",2,null,"",null,null,32,"2016-02-01",2,null,""]
[null,null,"2017-08-01",null,13,"2017-02-28",2,2017,"2017-02-01","Feb- 17",34,36070,34,null,null,null,null,null,null,null,null,33,"2016-02-02",2,null,"",null,null,33,"2016-02-02",2,null,""]
[null,null,"2017-08-01",null,14,"2017-03-31",3,2017,"2017-03-01","Mar- 17",35,37100,35,null,null,null,null,null,null,null,null,34,"2016-02-03",2,null,"",null,null,34,"2016-02-03",2,null,""]
[null,null,"2017-08-01",null,15,"2017-04-30",4,2017,"2017-04-01","Apr- 17",36,38130,36,null,null,null,null,null,null,null,null,35,"2016-02-04",2,null,"",null,null,35,"2016-02-04",2,null,""]
[null,null,"2017-08-01",null,16,"2017-05-31",5,2017,"2017-05-01","May- 17",37,39160,37,null,null,null,null,null,null,null,null,36,"2016-02-05",2,null,"",null,null,36,"2016-02-05",2,null,""]
[null,null,null,{"$f":"D24","v":19},17,"2017-06-30",6,2017,"2017-06-01","Jun- 17",38,40270,38,null,null,null,null,null,null,null,null,37,"2016-02-06",2,null,"",null,null,37,"2016-02-06",2,null,""]
[null,null,null,null,18,"2017-07-31",7,2017,"2017-07-01","Jul- 17",39,41380,39,null,null,null,null,null,null,null,null,38,"2016-02-07",2,null,"",null,null,38,"2016-02-07",2,null,""]
[null,null,null,null,19,"2017-08-31",8,2017,"2017-08-01","Aug- 17",40,42490,40,null,null,null,null,null,null,null,null,39,"2016-02-08",2,null,"",null,null,39,"2016-02-08",2,null,""]
[null,null,null,null,20,"2017-09-30",9,2017,"2017-09-01","Sep- 17",41,43680,41,null,null,null,null,null,null,null,null,40,"2016-02-09",2,null,"",null,null,40,"2016-02-09",2,null,""]
[null,null,null,null,21,"2017-10-31",10,2017,"2017-10-01","Oct- 17",42,44870,42,null,null,null,null,null,null,null,null,41,"2016-02-10",2,null,"",null,null,41,"2016-02-10",2,null,""]
[null,null,null,null,22,"2017-11-30",11,2017,"2017-11-01","Nov- 17",43,46060,43,null,null,null,null,null,null,null,null,42,"2016-02-11",2,null,"",null,null,42,"2016-02-11",2,null,""]
[null,"promotion 2",{"$f":"DATA!EP3","v":2},{"$f":"C46-1","v":1},23,"2017-12-31",12,2017,"2017-12-01","Dec- 17",44,47330,44,null,null,null,null,null,null,null,null,43,"2016-02-12",2,null,"",null,null,43,"2016-02-12",2,null,""]
[null,null,null,null,24,"2018-01-31",1,2018,"2018-01-01","Jan- 18",45,48600,45,null,null,null,null,null,null,null,null,44,"2016-02-13",2,null,"",null,null,44,"2016-02-13",2,null,""]
[null,null,null,null,null,null,null,null,null,null,46,49870,46,null,null,null,null,null,null,null,null,45,"2016-02-14",2,null,"",null,null,45,"2016-02-14",2,null,""]
[null,null,null,null,null,null,null,null,null,null,47,51230,47,null,null,null,null,null,null,null,null,46,"2016-02-15",2,null,"",null,null,46,"2016-02-15",2,null,""]
[null,2,"Yes","SL",1,"2016-01-01",{"$f":"IF(B50=1,IF(F50<=C16,I23,\"\"),\"\")","v":""},1,{"$f":"IF(B50=1,\"15 days\",\"\")","v":""},15,48,52590,48,null,null,null,null,null,null,null,null,47,"2016-02-16",2,null,"",null,null,47,"2016-02-16",2,null,""]
[null,{"$f":"B50","v":2},"No",11,2,"2016-02-01",{"$f":"IF(B50=2,\"\",IF(F51<=C17,I24,\"\"))","v":""},2,{"$f":"IF(B51=1,\"1 Month\",\"\")","v":""},30,49,53950,49,null,null,null,null,null,null,null,null,48,"2016-02-17",2,null,"",null,null,48,"2016-02-17",2,null,""]
[null,{"$f":"B51","v":2},null,null,3,"2016-03-01",{"$f":"IF(B51=2,\"\",IF(F52<=C18,I25,\"\"))","v":""},2,null,null,50,55410,50,null,null,null,null,null,null,null,null,49,"2016-02-18",2,null,"",null,null,49,"2016-02-18",2,null,""]
[null,{"$f":"B52","v":2},null,null,4,"2016-04-01","",null,null,null,51,56870,51,null,null,null,null,null,null,null,null,50,"2016-02-19",2,null,"",null,null,50,"2016-02-19",2,null,""]
[null,2,null,null,5,"2016-05-01","",null,null,null,52,58330,52,null,null,null,null,null,null,null,null,51,"2016-02-20",2,null,"",null,null,51,"2016-02-20",2,null,""]
[null,2,null,null,6,"2016-06-01","",null,null,null,53,59890,53,null,null,null,null,null,null,null,null,52,"2016-02-21",2,null,"",null,null,52,"2016-02-21",2,null,""]
[null,2,null,null,7,"2016-07-01","",null,null,null,54,61450,54,null,null,null,null,null,null,null,null,53,"2016-02-22",2,null,"",null,null,53,"2016-02-22",2,null,""]
[null,2,null,null,8,"2016-08-01","",null,null,null,55,63010,55,null,null,null,null,null,null,null,null,54,"2016-02-23",2,null,"",null,null,54,"2016-02-23",2,null,""]
[null,2,null,null,9,"2016-09-01","",null,null,null,56,64670,56,null,null,null,null,null,null,null,null,55,"2016-02-24",2,null,"",null,null,55,"2016-02-24",2,null,""]
[null,2,null,null,10,"2016-10-01","",null,null,null,57,66330,57,null,null,null,null,null,null,null,null,56,"2016-02-25",2,null,"",null,null,56,"2016-02-25",2,null,""]
[null,2,null,null,11,"2016-11-01","",null,null,null,58,67990,58,null,null,null,null,null,null,null,null,57,"2016-02-26",2,null,"",null,null,57,"2016-02-26",2,null,""]
[null,2,null,null,12,"2016-12-01","",null,null,null,59,69750,59,null,null,null,null,null,null,null,null,58,"2016-02-27",2,null,"",null,null,58,"2016-02-27",2,null,""]
[null,2,null,null,13,"2017-01-01","",null,null,null,60,71510,60,null,null,null,null,null,null,null,null,59,"2016-02-28",2,null,"",null,null,59,"2016-02-28",2,null,""]
[null,2,null,null,14,"2017-02-01","",null,null,null,61,73270,61,null,null,null,null,null,null,null,null,60,"2016-02-29",2,null,"",null,null,60,"2016-02-29",2,null,""]
[null,2,null,null,15,"2017-03-01","",null,null,null,62,75150,62,null,null,null,null,null,null,null,null,61,"2016-03-01",2,null,"",null,null,61,"2016-03-01",2,null,""]
[null,2,null,null,16,"2017-04-01",{"$f":"IF(B64=2,\"\",IF(F65<=C31,I38,\"\"))","v":""},null,null,null,63,77030,63,null,null,null,null,null,null,null,null,62,"2016-03-02",2,null,"",null,null,62,"2016-03-02",2,null,""]
[null,2,null,null,17,"2017-05-01","",null,null,null,64,78910,64,null,null,null,null,null,null,null,null,63,"2016-03-03",2,null,"",null,null,63,"2016-03-03",2,null,""]
[null,2,null,null,18,"2017-06-01","",null,null,null,65,80930,65,null,null,null,null,null,null,null,null,64,"2016-03-04",2,null,"",null,null,64,"2016-03-04",2,null,""]
[null,2,null,null,19,"2017-07-01","",null,null,null,66,82950,66,null,null,null,null,null,null,null,null,65,"2016-03-05",2,null,"",null,null,65,"2016-03-05",2,null,""]
[null,2,null,null,20,"2017-08-01","",null,null,null,67,84970,67,null,null,null,null,null,null,null,null,66,"2016-03-06",2,null,{"$f":"IF(X69=2,\"\",W69)","v":""},null,null,66,"2016-03-06",2,null,{"$f":"IF(AE69=2,\"\",AD69)","v":""}]
[null,2,null,null,21,"2017-09-01","",null,null,null,68,87130,68,null,null,null,null,null,null,null,null,67,"2016-03-07",{"$f":"X69","v":2},null,"",null,null,67,"2016-03-07",{"$f":"AE69","v":2},null,""]
[null,2,null,null,22,"2017-10-01","",null,null,null,69,89290,69,null,null,null,null,null,null,null,null,68,"2016-03-08",2,null,"",null,null,68,"2016-03-08",2,null,""]
[null,2,null,null,23,"2017-11-01","",null,null,null,70,91450,70,null,null,null,null,null,null,null,null,69,"2016-03-09",2,null,"",null,null,69,"2016-03-09",2,null,""]
[null,2,null,null,24,"2017-12-01","",null,null,null,71,93780,71,null,null,null,null,null,null,null,null,70,"2016-03-10",2,null,"",null,null,70,"2016-03-10",2,null,""]
[null,2,null,null,25,"2018-01-01","",null,null,null,72,96110,72,null,null,null,null,null,null,null,null,71,"2016-03-11",2,null,"",null,null,71,"2016-03-11",2,null,""]
[null,2,null,null,null,null,null,null,null,null,73,98440,73,null,null,null,null,null,null,null,null,72,"2016-03-12",2,null,"",null,null,72,"2016-03-12",2,null,""]
[null,2,null,null,1,null,1,"2016-01-01","2016-01-31",null,74,100770,74,null,null,null,null,null,null,null,null,73,"2016-03-13",2,null,"",null,null,73,"2016-03-13",2,null,""]
[null,2,null,null,2,null,2,"2016-02-01","2016-02-28",null,75,103290,75,null,null,null,null,null,null,null,null,74,"2016-03-14",2,null,"",null,null,74,"2016-03-14",2,null,""]
[null,2,null,null,3,null,3,"2016-03-01","2016-03-27",null,76,105810,76,null,null,null,null,null,null,null,null,75,"2016-03-15",2,null,"",null,null,75,"2016-03-15",2,null,""]
[null,2,null,null,4,null,4,"2016-04-01","2016-04-24",null,77,108330,77,null,null,null,null,null,null,null,null,76,"2016-03-16",2,null,"",null,null,76,"2016-03-16",2,null,""]
[null,2,null,null,5,null,5,"2016-05-01","2016-05-22",null,78,110850,78,null,null,null,null,null,null,null,null,77,"2016-03-17",2,null,"",null,null,77,"2016-03-17",2,null,""]
[null,2,null,null,6,null,6,"2016-06-01","2016-06-19",null,79,110850,79,null,null,null,null,null,null,null,null,78,"2016-03-18",2,null,"",null,null,78,"2016-03-18",2,null,""]
[null,2,null,null,7,null,7,"2016-07-01","2016-07-17",null,80,110850,80,null,null,null,null,null,null,null,null,79,"2016-03-19",2,null,"",null,null,79,"2016-03-19",2,null,""]
[null,2,null,null,8,null,8,"2016-08-01","2016-08-14",null,null,null,null,null,null,null,null,null,null,null,null,80,"2016-03-20",2,null,"",null,null,80,"2016-03-20",2,null,""]
[null,2,null,null,9,null,9,"2016-09-01","2016-09-11",null,null,null,null,null,null,null,null,null,null,null,null,81,"2016-03-21",2,null,"",null,null,81,"2016-03-21",2,null,""]
[null,2,null,null,10,null,10,"2016-10-01","2016-10-09",null,null,null,null,null,null,null,null,null,null,null,null,82,"2016-03-22",2,null,"",null,null,82,"2016-03-22",2,null,""]
[null,2,null,null,11,null,11,"2016-11-01","2016-11-06",null,null,null,null,null,null,null,null,null,null,null,null,83,"2016-03-23",2,null,"",null,null,83,"2016-03-23",2,null,""]
[null,2,null,null,12,null,12,"2016-12-01","2016-12-04",null,null,null,null,null,null,null,null,null,null,null,null,84,"2016-03-24",2,null,"",null,null,84,"2016-03-24",2,null,""]
[null,2,null,null,13,null,13,"2017-01-01","2017-01-01",null,null,null,null,null,null,null,null,null,null,null,null,85,"2016-03-25",2,null,"",null,null,85,"2016-03-25",2,null,""]
[null,2,null,null,14,null,14,"2017-02-01","2017-01-29",null,null,null,null,null,null,null,null,null,null,null,null,86,"2016-03-26",2,null,"",null,null,86,"2016-03-26",2,null,""]
[null,2,null,null,15,null,15,"2017-03-01","2017-02-26",null,null,null,null,null,null,null,null,null,null,null,null,87,"2016-03-27",2,null,"",null,null,87,"2016-03-27",2,null,""]
[null,2,null,null,16,null,16,"2017-04-01","2017-03-26",null,null,null,null,null,null,null,null,null,null,null,null,88,"2016-03-28",2,null,"",null,null,88,"2016-03-28",2,null,""]
[null,2,null,null,17,null,17,"2017-05-01","2017-04-23",null,null,null,null,null,null,null,null,null,null,null,null,89,"2016-03-29",2,null,"",null,null,89,"2016-03-29",2,null,""]
[null,2,null,null,18,null,18,"2017-06-01","2017-05-21",null,null,null,null,null,null,null,null,null,null,null,null,90,"2016-03-30",2,null,"",null,null,90,"2016-03-30",2,null,""]
[null,2,null,null,19,null,19,"2017-07-01","2017-06-18",null,null,null,null,null,null,null,null,null,null,null,null,91,"2016-03-31",2,null,"",null,null,91,"2016-03-31",2,null,""]
[null,2,null,null,20,null,20,"2017-08-01","2017-07-16",null,null,null,null,null,null,null,null,null,null,null,null,92,"2016-04-01",2,null,"",null,null,92,"2016-04-01",2,null,""]
[null,2,null,null,21,null,21,"2017-09-01","2017-08-13",null,null,null,null,null,null,null,null,null,null,null,null,93,"2016-04-02",2,null,"",null,null,93,"2016-04-02",2,null,""]
[null,2,null,null,22,null,22,"2017-10-01","2017-09-10",null,null,null,null,null,null,null,null,null,null,null,null,94,"2016-04-03",2,null,"",null,null,94,"2016-04-03",2,null,""]
[null,2,null,null,23,null,23,"2017-11-01","2017-10-08",null,null,null,null,null,null,null,null,null,null,null,null,95,"2016-04-04",2,null,"",null,null,95,"2016-04-04",2,null,""]
[null,2,null,null,24,null,24,"2017-12-01","2017-11-05",null,null,null,null,null,null,null,null,null,null,null,null,96,"2016-04-05",2,null,"",null,null,96,"2016-04-05",2,null,""]
[null,2,null,null,25,null,25,"2018-01-01","2017-12-03",null,null,null,null,null,null,null,null,null,null,null,null,97,"2016-04-06",2,null,"",null,null,97,"2016-04-06",2,null,""]
[null,2,null,null,null,null,null,null,null,null,null,null,null,null,null,null,null,null,null,null,null,98,"2016-04-07",2,null,"",null,null,98,"2016-04-07",2,null,""]
[null,2,null,null,null,null,null,null,null,null,null,null,null,null,null,null,null,null,null,null,null,99,"2016-04-08",2,null,"",null,null,99,"2016-04-08",2,null,""]
[null,2,null,null,null,null,null,null,null,null,null,null,null,null,null,null,null,null,null,null,null,100,"2016-04-09",2,null,"",null,null,100,"2016-04-09",2,null,""]
[null,2,null,null,null,null,null,null,null,null,null,null,null,null,null,null,null,null,null,null,null,101,"2016-04-10",2,null,"",null,null,101,"2016-04-10",2,null,""]
[null,2,null,null,null,null,null,null,null,null,null,null,null,null,null,null,null,null,null,null,null,102,"2016-04-11",2,null,"",null,null,102,"2016-04-11",2,null,""]
[null,2,null,null,null,null,null,null,null,null,null,null,null,null,null,null,null,null,null,null,null,103,"2016-04-12",2,null,"",null,null,103,"2016-04-12",2,null,""]
[null,2,null,null,null,null,null,null,null,null,null,null,null,null,null,null,null,null,null,null,null,104,"2016-04-13",2,null,"",null,null,104,"2016-04-13",2,null,""]
[null,2,null,null,null,null,null,null,null,null,null,null,null,null,null,null,null,null,null,null,null,105,"2016-04-14",2,null,"",null,null,105,"2016-04-14",2,null,""]
[null,2,null,null,null,null,null,null,null,null,null,null,null,null,null,null,null,null,null,null,null,106,"2016-04-15",2,null,"",null,null,106,"2016-04-15",2,null,""]
[null,2,null,null,null,null,null,null,null,null,null,null,null,null,null,null,null,null,null,null,null,107,"2016-04-16",2,null,"",null,null,107,"2016-04-16",2,null,""]
[null,2,null,null,null,null,null,null,null,null,null,null,null,null,null,null,null,null,null,null,null,108,"2016-04-17",2,null,"",null,null,108,"2016-04-17",2,null,""]
[null,2,null,null,null,null,null,null,null,null,null,null,null,null,null,null,null,null,null,null,null,109,"2016-04-18",2,null,"",null,null,109,"2016-04-18",2,null,""]
[null,2,null,null,null,null,null,null,null,null,null,null,null,null,null,null,null,null,null,null,null,110,"2016-04-19",2,null,"",null,null,110,"2016-04-19",2,null,""]
[null,2,null,null,null,null,null,null,null,null,null,null,null,null,null,null,null,null,null,null,null,111,"2016-04-20",2,null,"",null,null,111,"2016-04-20",2,null,""]
[null,2,null,null,null,null,null,null,null,null,null,null,null,null,null,null,null,null,null,null,null,112,"2016-04-21",2,null,"",null,null,112,"2016-04-21",2,null,""]
[null,2,null,null,null,null,null,null,null,null,null,null,null,null,null,null,null,null,null,null,null,113,"2016-04-22",2,null,"",null,null,113,"2016-04-22",2,null,""]
[null,{"$f":"B116","v":2},null,null,null,null,null,null,null,null,null,null,null,null,null,null,null,null,null,null,null,114,"2016-04-23",2,null,"",null,null,114,"2016-04-23",2,null,""]
[null,2,null,null,null,null,null,null,null,null,null,null,null,null,null,null,null,null,null,null,null,115,"2016-04-24",2,null,"",null,null,115,"2016-04-24",2,null,""]
[null,2,null,null,null,null,null,null,null,null,null,null,null,null,null,null,null,null,null,null,null,116,"2016-04-25",2,null,"",null,null,116,"2016-04-25",2,null,""]
[null,2,null,null,null,null,null,null,null,null,null,null,null,null,null,null,null,null,null,null,null,117,"2016-04-26",2,null,"",null,null,117,"2016-04-26",2,null,""]
[null,2,null,null,null,null,null,null,null,null,null,null,null,null,null,null,null,null,null,null,null,118,"2016-04-27",2,null,"",null,null,118,"2016-04-27",2,null,""]
[null,2,null,null,null,null,null,null,null,null,null,null,null,null,null,null,null,null,null,null,null,119,"2016-04-28",2,null,"",null,null,119,"2016-04-28",2,null,""]
[null,2,null,null,null,null,null,null,null,null,null,null,null,null,null,null,null,null,null,null,null,120,"2016-04-29",2,null,"",null,null,120,"2016-04-29",2,null,""]
[null,2,null,null,null,null,null,null,null,null,null,null,null,null,null,null,null,null,null,null,null,121,"2016-04-30",2,null,"",null,null,121,"2016-04-30",2,null,""]
[null,2,null,null,null,null,null,null,null,null,null,null,null,null,null,null,null,null,null,null,null,122,"2016-05-01",2,null,"",null,null,122,"2016-05-01",2,null,""]
[null,2,null,null,null,null,null,null,null,null,null,null,null,null,null,null,null,null,null,null,null,123,"2016-05-02",2,null,"",null,null,123,"2016-05-02",2,null,""]
[null,2,null,null,null,null,null,null,null,null,null,null,null,null,null,null,null,null,null,null,null,124,"2016-05-03",2,null,"",null,null,124,"2016-05-03",2,null,""]
[null,2,null,null,null,null,null,null,null,null,null,null,null,null,null,null,null,null,null,null,null,125,"2016-05-04",2,null,"",null,null,125,"2016-05-04",2,null,""]
[null,2,null,null,null,null,null,null,null,null,null,null,null,null,null,null,null,null,null,null,null,126,"2016-05-05",2,null,"",null,null,126,"2016-05-05",2,null,""]
[null,2,null,null,null,null,null,null,null,null,null,null,null,null,null,null,null,null,null,null,null,127,"2016-05-06",2,null,"",null,null,127,"2016-05-06",2,null,""]
[null,2,null,null,null,null,null,null,null,null,null,null,null,null,null,null,null,null,null,null,null,128,"2016-05-07",2,null,"",null,null,128,"2016-05-07",2,null,""]
[null,2,null,null,null,null,null,null,null,null,null,null,null,null,null,null,null,null,null,null,null,129,"2016-05-08",2,null,"",null,null,129,"2016-05-08",2,null,""]
[null,2,null,null,null,null,null,null,null,null,null,null,null,null,null,null,null,null,null,null,null,130,"2016-05-09",2,null,{"$f":"IF(X133=2,\"\",W133)","v":""},null,null,130,"2016-05-09",2,null,{"$f":"IF(AE133=2,\"\",AD133)","v":""}]
[null,2,null,null,null,null,null,null,null,null,null,null,null,null,null,null,null,null,null,null,null,131,"2016-05-10",{"$f":"X133","v":2},null,"",null,null,131,"2016-05-10",{"$f":"AE133","v":2},null,""]
[null,2,null,null,null,null,null,null,null,null,null,null,null,null,null,null,null,null,null,null,null,132,"2016-05-11",2,null,"",null,null,132,"2016-05-11",2,null,""]
[null,2,null,null,null,null,null,null,null,null,null,null,null,null,null,null,null,null,null,null,null,133,"2016-05-12",2,null,"",null,null,133,"2016-05-12",2,null,""]
[null,2,null,null,null,null,null,null,null,null,null,null,null,null,null,null,null,null,null,null,null,134,"2016-05-13",2,null,"",null,null,134,"2016-05-13",2,null,""]
[null,2,null,null,null,null,null,null,null,null,null,null,null,null,null,null,null,null,null,null,null,135,"2016-05-14",2,null,"",null,null,135,"2016-05-14",2,null,""]
[null,2,null,null,null,null,null,null,null,null,null,null,null,null,null,null,null,null,null,null,null,136,"2016-05-15",2,null,"",null,null,136,"2016-05-15",2,null,""]
[null,2,null,null,null,null,null,null,null,null,null,null,null,null,null,null,null,null,null,null,null,137,"2016-05-16",2,null,"",null,null,137,"2016-05-16",2,null,""]
[null,2,null,null,null,null,null,null,null,null,null,null,null,null,null,null,null,null,null,null,null,138,"2016-05-17",2,null,"",null,null,138,"2016-05-17",2,null,""]
[null,2,null,null,null,null,null,null,null,null,null,null,null,null,null,null,null,null,null,null,null,139,"2016-05-18",2,null,"",null,null,139,"2016-05-18",2,null,""]
[null,2,null,null,null,null,null,null,null,null,null,null,null,null,null,null,null,null,null,null,null,140,"2016-05-19",2,null,"",null,null,140,"2016-05-19",2,null,""]
[null,2,null,null,null,null,null,null,null,null,null,null,null,null,null,null,null,null,null,null,null,141,"2016-05-20",2,null,"",null,null,141,"2016-05-20",2,null,""]
[null,2,null,null,null,null,null,null,null,null,null,null,null,null,null,null,null,null,null,null,null,142,"2016-05-21",2,null,"",null,null,142,"2016-05-21",2,null,""]
[null,2,null,null,null,null,null,null,null,null,null,null,null,null,null,null,null,null,null,null,null,143,"2016-05-22",2,null,"",null,null,143,"2016-05-22",2,null,""]
[null,2,null,null,null,null,null,null,null,null,null,null,null,null,null,null,null,null,null,null,null,144,"2016-05-23",2,null,"",null,null,144,"2016-05-23",2,null,""]
[null,2,null,null,null,null,null,null,null,null,null,null,null,null,null,null,null,null,null,null,null,145,"2016-05-24",2,null,"",null,null,145,"2016-05-24",2,null,""]
[null,2,null,null,null,null,null,null,null,null,null,null,null,null,null,null,null,null,null,null,null,146,"2016-05-25",2,null,"",null,null,146,"2016-05-25",2,null,""]
[null,2,null,null,null,null,null,null,null,null,null,null,null,null,null,null,null,null,null,null,null,147,"2016-05-26",2,null,"",null,null,147,"2016-05-26",2,null,""]
[null,2,null,null,null,null,null,null,null,null,null,null,null,null,null,null,null,null,null,null,null,148,"2016-05-27",2,null,"",null,null,148,"2016-05-27",2,null,""]
[null,2,null,null,null,null,null,null,null,null,null,null,null,null,null,null,null,null,null,null,null,149,"2016-05-28",2,null,"",null,null,149,"2016-05-28",2,null,""]
[null,2,null,null,null,null,null,null,null,null,null,null,null,null,null,null,null,null,null,null,null,150,"2016-05-29",2,null,"",null,null,150,"2016-05-29",2,null,""]
[null,2,null,null,null,null,null,null,null,null,null,null,null,null,null,null,null,null,null,null,null,151,"2016-05-30",2,null,"",null,null,151,"2016-05-30",2,null,""]
[null,2,null,null,null,null,null,null,null,null,null,null,null,null,null,null,null,null,null,null,null,152,"2016-05-31",2,null,"",null,null,152,"2016-05-31",2,null,""]
[null,2,null,null,null,null,null,null,null,null,null,null,null,null,null,null,null,null,null,null,null,153,"2016-06-01",2,null,"",null,null,153,"2016-06-01",2,null,""]
[null,2,null,null,null,null,null,null,null,null,null,null,null,null,null,null,null,null,null,null,null,154,"2016-06-02",2,null,"",null,null,154,"2016-06-02",2,null,""]
[null,2,null,null,null,null,null,null,null,null,null,null,null,null,null,null,null,null,null,null,null,155,"2016-06-03",2,null,"",null,null,155,"2016-06-03",2,null,""]
[null,2,null,null,null,null,null,null,null,null,null,null,null,null,null,null,null,null,null,null,null,156,"2016-06-04",2,null,"",null,null,156,"2016-06-04",2,null,""]
[null,2,null,null,null,null,null,null,null,null,null,null,null,null,null,null,null,null,null,null,null,157,"2016-06-05",2,null,"",null,null,157,"2016-06-05",2,null,""]
[null,2,null,null,null,null,null,null,null,null,null,null,null,null,null,null,null,null,null,null,null,158,"2016-06-06",2,null,"",null,null,158,"2016-06-06",2,null,""]
[null,2,null,null,null,null,null,null,null,null,null,null,null,null,null,null,null,null,null,null,null,159,"2016-06-07",2,null,"",null,null,159,"2016-06-07",2,null,""]
[null,2,null,null,null,null,null,null,null,null,null,null,null,null,null,null,null,null,null,null,null,160,"2016-06-08",2,null,"",null,null,160,"2016-06-08",2,null,""]
[null,2,null,null,null,null,null,null,null,null,null,null,null,null,null,null,null,null,null,null,null,161,"2016-06-09",2,null,"",null,null,161,"2016-06-09",2,null,""]
[null,2,null,null,null,null,null,null,null,null,null,null,null,null,null,null,null,null,null,null,null,162,"2016-06-10",2,null,"",null,null,162,"2016-06-10",2,null,""]
[null,2,null,null,null,null,null,null,null,null,null,null,null,null,null,null,null,null,null,null,null,163,"2016-06-11",2,null,"",null,null,163,"2016-06-11",2,null,""]
[null,2,null,null,null,null,null,null,null,null,null,null,null,null,null,null,null,null,null,null,null,164,"2016-06-12",2,null,"",null,null,164,"2016-06-12",2,null,""]
[null,2,null,null,null,null,null,null,null,null,null,null,null,null,null,null,null,null,null,null,null,165,"2016-06-13",2,null,"",null,null,165,"2016-06-13",2,null,""]
[null,2,null,null,null,null,null,null,null,null,null,null,null,null,null,null,null,null,null,null,null,166,"2016-06-14",2,null,"",null,null,166,"2016-06-14",2,null,""]
[null,2,null,null,null,null,null,null,null,null,null,null,null,null,null,null,null,null,null,null,null,167,"2016-06-15",2,null,"",null,null,167,"2016-06-15",2,null,""]
[null,2,null,null,null,null,null,null,null,null,null,null,null,null,null,null,null,null,null,null,null,168,"2016-06-16",2,null,"",null,null,168,"2016-06-16",2,null,""]
[null,2,null,null,null,null,null,null,null,null,null,null,null,null,null,null,null,null,null,null,null,169,"2016-06-17",2,null,"",null,null,169,"2016-06-17",2,null,""]
[null,2,null,null,null,null,null,null,null,null,null,null,null,null,null,null,null,null,null,null,null,170,"2016-06-18",2,null,"",null,null,170,"2016-06-18",2,null,""]
[null,2,null,null,null,null,null,null,null,null,null,null,null,null,null,null,null,null,null,null,null,171,"2016-06-19",2,null,"",null,null,171,"2016-06-19",2,null,""]
[null,2,null,null,null,null,null,null,null,null,null,null,null,null,null,null,null,null,null,null,null,172,"2016-06-20",2,null,"",null,null,172,"2016-06-20",2,null,""]
[null,2,null,null,null,null,null,null,null,null,null,null,null,null,null,null,null,null,null,null,null,173,"2016-06-21",2,null,"",null,null,173,"2016-06-21",2,null,""]
[null,2,null,null,null,null,null,null,null,null,null,null,null,null,null,null,null,null,null,null,null,174,"2016-06-22",2,null,"",null,null,174,"2016-06-22",2,null,""]
[null,2,null,null,null,null,null,null,null,null,null,null,null,null,null,null,null,null,null,null,null,175,"2016-06-23",2,null,"",null,null,175,"2016-06-23",2,null,""]
[null,2,null,null,null,null,null,null,null,null,null,null,null,null,null,null,null,null,null,null,null,176,"2016-06-24",2,null,"",null,null,176,"2016-06-24",2,null,""]
[null,2,null,null,null,null,null,null,null,null,null,null,null,null,null,null,null,null,null,null,null,177,"2016-06-25",2,null,"",null,null,177,"2016-06-25",2,null,""]
[null,{"$f":"B180","v":2},null,null,null,null,null,null,null,null,null,null,null,null,null,null,null,null,null,null,null,178,"2016-06-26",2,null,"",null,null,178,"2016-06-26",2,null,""]
[null,2,null,null,null,null,null,null,null,null,null,null,null,null,null,null,null,null,null,null,null,179,"2016-06-27",2,null,"",null,null,179,"2016-06-27",2,null,""]
[null,2,null,null,null,null,null,null,null,null,null,null,null,null,null,null,null,null,null,null,null,180,"2016-06-28",2,null,"",null,null,180,"2016-06-28",2,null,""]
[null,2,null,null,null,null,null,null,null,null,null,null,null,null,null,null,null,null,null,null,null,181,"2016-06-29",2,null,"",null,null,181,"2016-06-29",2,null,""]
[null,2,null,null,null,null,null,null,null,null,null,null,null,null,null,null,null,null,null,null,null,182,"2016-06-30",2,null,"",null,null,182,"2016-06-30",2,null,""]
[null,2,null,null,null,null,null,null,null,null,null,null,null,null,null,null,null,null,null,null,null,183,"2016-07-01",2,null,"",null,null,183,"2016-07-01",2,null,""]
[null,2,null,null,null,null,null,null,null,null,null,null,null,null,null,null,null,null,null,null,null,184,"2016-07-02",2,null,"",null,null,184,"2016-07-02",2,null,""]
[null,2,null,null,null,null,null,null,null,null,null,null,null,null,null,null,null,null,null,null,null,185,"2016-07-03",2,null,"",null,null,185,"2016-07-03",2,null,""]
[null,2,null,null,null,null,null,null,null,null,null,null,null,null,null,null,null,null,null,null,null,186,"2016-07-04",2,null,"",null,null,186,"2016-07-04",2,null,""]
[null,2,null,null,null,null,null,null,null,null,null,null,null,null,null,null,null,null,null,null,null,187,"2016-07-05",2,null,"",null,null,187,"2016-07-05",2,null,""]
[null,2,null,null,null,null,null,null,null,null,null,null,null,null,null,null,null,null,null,null,null,188,"2016-07-06",2,null,"",null,null,188,"2016-07-06",2,null,""]
[null,2,null,null,null,null,null,null,null,null,null,null,null,null,null,null,null,null,null,null,null,189,"2016-07-07",2,null,"",null,null,189,"2016-07-07",2,null,""]
[null,2,null,null,null,null,null,null,null,null,null,null,null,null,null,null,null,null,null,null,null,190,"2016-07-08",2,null,"",null,null,190,"2016-07-08",2,null,""]
[null,2,null,null,null,null,null,null,null,null,null,null,null,null,null,null,null,null,null,null,null,191,"2016-07-09",2,null,"",null,null,191,"2016-07-09",2,null,""]
[null,2,null,null,null,null,null,null,null,null,null,null,null,null,null,null,null,null,null,null,null,192,"2016-07-10",2,null,"",null,null,192,"2016-07-10",2,null,""]
[null,2,null,null,null,null,null,null,null,null,null,null,null,null,null,null,null,null,null,null,null,193,"2016-07-11",2,null,"",null,null,193,"2016-07-11",2,null,""]
[null,2,null,null,null,null,null,null,null,null,null,null,null,null,null,null,null,null,null,null,null,194,"2016-07-12",2,null,{"$f":"IF(X197=2,\"\",W197)","v":""},null,null,194,"2016-07-12",2,null,{"$f":"IF(AE197=2,\"\",AD197)","v":""}]
[null,2,null,null,null,null,null,null,null,null,null,null,null,null,null,null,null,null,null,null,null,195,"2016-07-13",{"$f":"X197","v":2},null,"",null,null,195,"2016-07-13",{"$f":"AE197","v":2},null,""]
[null,2,null,null,null,null,null,null,null,null,null,null,null,null,null,null,null,null,null,null,null,196,"2016-07-14",2,null,"",null,null,196,"2016-07-14",2,null,""]
[null,2,null,null,null,null,null,null,null,null,null,null,null,null,null,null,null,null,null,null,null,197,"2016-07-15",2,null,"",null,null,197,"2016-07-15",2,null,""]
[null,2,null,null,null,null,null,null,null,null,null,null,null,null,null,null,null,null,null,null,null,198,"2016-07-16",2,null,"",null,null,198,"2016-07-16",2,null,""]
[null,2,null,null,null,null,null,null,null,null,null,null,null,null,null,null,null,null,null,null,null,199,"2016-07-17",2,null,"",null,null,199,"2016-07-17",2,null,""]
[null,2,null,null,null,null,null,null,null,null,null,null,null,null,null,null,null,null,null,null,null,200,"2016-07-18",2,null,"",null,null,200,"2016-07-18",2,null,""]
[null,2,null,null,null,null,null,null,null,null,null,null,null,null,null,null,null,null,null,null,null,201,"2016-07-19",2,null,"",null,null,201,"2016-07-19",2,null,""]
[null,2,null,null,null,null,null,null,null,null,null,null,null,null,null,null,null,null,null,null,null,202,"2016-07-20",2,null,"",null,null,202,"2016-07-20",2,null,""]
[null,2,null,null,null,null,null,null,null,null,null,null,null,null,null,null,null,null,null,null,null,203,"2016-07-21",2,null,"",null,null,203,"2016-07-21",2,null,""]
[null,2,null,null,null,null,null,null,null,null,null,null,null,null,null,null,null,null,null,null,null,204,"2016-07-22",2,null,"",null,null,204,"2016-07-22",2,null,""]
[null,2,null,null,null,null,null,null,null,null,null,null,null,null,null,null,null,null,null,null,null,205,"2016-07-23",2,null,"",null,null,205,"2016-07-23",2,null,""]
[null,2,null,null,null,null,null,null,null,null,null,null,null,null,null,null,null,null,null,null,null,206,"2016-07-24",2,null,"",null,null,206,"2016-07-24",2,null,""]
[null,2,null,null,null,null,null,null,null,null,null,null,null,null,null,null,null,null,null,null,null,207,"2016-07-25",2,null,"",null,null,207,"2016-07-25",2,null,""]
[null,2,null,null,null,null,null,null,null,null,null,null,null,null,null,null,null,null,null,null,null,208,"2016-07-26",2,null,"",null,null,208,"2016-07-26",2,null,""]
[null,2,null,null,null,null,null,null,null,null,null,null,null,null,null,null,null,null,null,null,null,209,"2016-07-27",2,null,"",null,null,209,"2016-07-27",2,null,""]
[null,2,null,null,null,null,null,null,null,null,null,null,null,null,null,null,null,null,null,null,null,210,"2016-07-28",2,null,"",null,null,210,"2016-07-28",2,null,""]
[null,2,null,null,null,null,null,null,null,null,null,null,null,null,null,null,null,null,null,null,null,211,"2016-07-29",2,null,"",null,null,211,"2016-07-29",2,null,""]
[null,2,null,null,null,null,null,null,null,null,null,null,null,null,null,null,null,null,null,null,null,212,"2016-07-30",2,null,"",null,null,212,"2016-07-30",2,null,""]
[null,2,null,null,null,null,null,null,null,null,null,null,null,null,null,null,null,null,null,null,null,213,"2016-07-31",2,null,"",null,null,213,"2016-07-31",2,null,""]
[null,2,null,null,null,null,null,null,null,null,null,null,null,null,null,null,null,null,null,null,null,214,"2016-08-01",2,null,"",null,null,214,"2016-08-01",2,null,""]
[null,2,null,null,null,null,null,null,null,null,null,null,null,null,null,null,null,null,null,null,null,215,"2016-08-02",2,null,"",null,null,215,"2016-08-02",2,null,""]
[null,2,null,null,null,null,null,null,null,null,null,null,null,null,null,null,null,null,null,null,null,216,"2016-08-03",2,null,"",null,null,216,"2016-08-03",2,null,""]
[null,2,null,null,null,null,null,null,null,null,null,null,null,null,null,null,null,null,null,null,null,217,"2016-08-04",2,null,"",null,null,217,"2016-08-04",2,null,""]
[null,2,null,null,null,null,null,null,null,null,null,null,null,null,null,null,null,null,null,null,null,218,"2016-08-05",2,null,"",null,null,218,"2016-08-05",2,null,""]
[null,2,null,null,null,null,null,null,null,null,null,null,null,null,null,null,null,null,null,null,null,219,"2016-08-06",2,null,"",null,null,219,"2016-08-06",2,null,""]
[null,2,null,null,null,null,null,null,null,null,null,null,null,null,null,null,null,null,null,null,null,220,"2016-08-07",2,null,"",null,null,220,"2016-08-07",2,null,""]
[null,2,null,null,null,null,null,null,null,null,null,null,null,null,null,null,null,null,null,null,null,221,"2016-08-08",2,null,"",null,null,221,"2016-08-08",2,null,""]
[null,2,null,null,null,null,null,null,null,null,null,null,null,null,null,null,null,null,null,null,null,222,"2016-08-09",2,null,"",null,null,222,"2016-08-09",2,null,""]
[null,2,null,null,null,null,null,null,null,null,null,null,null,null,null,null,null,null,null,null,null,223,"2016-08-10",2,null,"",null,null,223,"2016-08-10",2,null,""]
[null,2,null,null,null,null,null,null,null,null,null,null,null,null,null,null,null,null,null,null,null,224,"2016-08-11",2,null,"",null,null,224,"2016-08-11",2,null,""]
[null,2,null,null,null,null,null,null,null,null,null,null,null,null,null,null,null,null,null,null,null,225,"2016-08-12",2,null,"",null,null,225,"2016-08-12",2,null,""]
[null,2,null,null,null,null,null,null,null,null,null,null,null,null,null,null,null,null,null,null,null,226,"2016-08-13",2,null,"",null,null,226,"2016-08-13",2,null,""]
[null,2,null,null,null,null,null,null,null,null,null,null,null,null,null,null,null,null,null,null,null,227,"2016-08-14",2,null,"",null,null,227,"2016-08-14",2,null,""]
[null,2,null,null,null,null,null,null,null,null,null,null,null,null,null,null,null,null,null,null,null,228,"2016-08-15",2,null,"",null,null,228,"2016-08-15",2,null,""]
[null,2,null,null,null,null,null,null,null,null,null,null,null,null,null,null,null,null,null,null,null,229,"2016-08-16",2,null,"",null,null,229,"2016-08-16",2,null,""]
[null,2,null,null,null,null,null,null,null,null,null,null,null,null,null,null,null,null,null,null,null,230,"2016-08-17",2,null,"",null,null,230,"2016-08-17",2,null,""]
[null,2,null,null,null,null,null,null,null,null,null,null,null,null,null,null,null,null,null,null,null,231,"2016-08-18",2,null,"",null,null,231,"2016-08-18",2,null,""]
[null,2,null,null,null,null,null,null,null,null,null,null,null,null,null,null,null,null,null,null,null,232,"2016-08-19",2,null,"",null,null,232,"2016-08-19",2,null,""]
[null,2,null,null,null,null,null,null,null,null,null,null,null,null,null,null,null,null,null,null,null,233,"2016-08-20",2,null,"",null,null,233,"2016-08-20",2,null,""]
[null,2,null,null,null,null,null,null,null,null,null,null,null,null,null,null,null,null,null,null,null,234,"2016-08-21",2,null,"",null,null,234,"2016-08-21",2,null,""]
[null,2,null,null,null,null,null,null,null,null,null,null,null,null,null,null,null,null,null,null,null,235,"2016-08-22",2,null,"",null,null,235,"2016-08-22",2,null,""]
[null,2,null,null,null,null,null,null,null,null,null,null,null,null,null,null,null,null,null,null,null,236,"2016-08-23",2,null,"",null,null,236,"2016-08-23",2,null,""]
[null,2,null,null,null,null,null,null,null,null,null,null,null,null,null,null,null,null,null,null,null,237,"2016-08-24",2,null,"",null,null,237,"2016-08-24",2,null,""]
[null,2,null,null,null,null,null,null,null,null,null,null,null,null,null,null,null,null,null,null,null,238,"2016-08-25",2,null,"",null,null,238,"2016-08-25",2,null,""]
[null,2,null,null,null,null,null,null,null,null,null,null,null,null,null,null,null,null,null,null,null,239,"2016-08-26",2,null,"",null,null,239,"2016-08-26",2,null,""]
[null,2,null,null,null,null,null,null,null,null,null,null,null,null,null,null,null,null,null,null,null,240,"2016-08-27",2,null,"",null,null,240,"2016-08-27",2,null,""]
[null,2,null,null,null,null,null,null,null,null,null,null,null,null,null,null,null,null,null,null,null,241,"2016-08-28",2,null,"",null,null,241,"2016-08-28",2,null,""]
[null,{"$f":"B244","v":2},null,null,null,null,null,null,null,null,null,null,null,null,null,null,null,null,null,null,null,242,"2016-08-29",2,null,"",null,null,242,"2016-08-29",2,null,""]
[null,2,null,null,null,null,null,null,null,null,null,null,null,null,null,null,null,null,null,null,null,243,"2016-08-30",2,null,"",null,null,243,"2016-08-30",2,null,""]
[null,2,null,null,null,null,null,null,null,null,null,null,null,null,null,null,null,null,null,null,null,244,"2016-08-31",2,null,"",null,null,244,"2016-08-31",2,null,""]
[null,2,null,null,null,null,null,null,null,null,null,null,null,null,null,null,null,null,null,null,null,245,"2016-09-01",2,null,"",null,null,245,"2016-09-01",2,null,""]
[null,2,null,null,null,null,null,null,null,null,null,null,null,null,null,null,null,null,null,null,null,246,"2016-09-02",2,null,"",null,null,246,"2016-09-02",2,null,""]
[null,2,null,null,null,null,null,null,null,null,null,null,null,null,null,null,null,null,null,null,null,247,"2016-09-03",2,null,"",null,null,247,"2016-09-03",2,null,""]
[null,2,null,null,null,null,null,null,null,null,null,null,null,null,null,null,null,null,null,null,null,248,"2016-09-04",2,null,"",null,null,248,"2016-09-04",2,null,""]
[null,2,null,null,null,null,null,null,null,null,null,null,null,null,null,null,null,null,null,null,null,249,"2016-09-05",2,null,"",null,null,249,"2016-09-05",2,null,""]
[null,2,null,null,null,null,null,null,null,null,null,null,null,null,null,null,null,null,null,null,null,250,"2016-09-06",2,null,"",null,null,250,"2016-09-06",2,null,""]
[null,2,null,null,null,null,null,null,null,null,null,null,null,null,null,null,null,null,null,null,null,251,"2016-09-07",2,null,"",null,null,251,"2016-09-07",2,null,""]
[null,2,null,null,null,null,null,null,null,null,null,null,null,null,null,null,null,null,null,null,null,252,"2016-09-08",2,null,"",null,null,252,"2016-09-08",2,null,""]
[null,2,null,null,null,null,null,null,null,null,null,null,null,null,null,null,null,null,null,null,null,253,"2016-09-09",2,null,"",null,null,253,"2016-09-09",2,null,""]
[null,2,null,null,null,null,null,null,null,null,null,null,null,null,null,null,null,null,null,null,null,254,"2016-09-10",2,null,"",null,null,254,"2016-09-10",2,null,""]
[null,2,null,null,null,null,null,null,null,null,null,null,null,null,null,null,null,null,null,null,null,255,"2016-09-11",2,null,"",null,null,255,"2016-09-11",2,null,""]
[null,2,null,null,null,null,null,null,null,null,null,null,null,null,null,null,null,null,null,null,null,256,"2016-09-12",2,null,"",null,null,256,"2016-09-12",2,null,""]
[null,2,null,null,null,null,null,null,null,null,null,null,null,null,null,null,null,null,null,null,null,257,"2016-09-13",2,null,"",null,null,257,"2016-09-13",2,null,""]
[null,2,null,null,null,null,null,null,null,null,null,null,null,null,null,null,null,null,null,null,null,258,"2016-09-14",2,null,{"$f":"IF(X261=2,\"\",W261)","v":""},null,null,258,"2016-09-14",2,null,{"$f":"IF(AE261=2,\"\",AD261)","v":""}]
[null,2,null,null,null,null,null,null,null,null,null,null,null,null,null,null,null,null,null,null,null,259,"2016-09-15",{"$f":"X261","v":2},null,"",null,null,259,"2016-09-15",{"$f":"AE261","v":2},null,""]
[null,2,null,null,null,null,null,null,null,null,null,null,null,null,null,null,null,null,null,null,null,260,"2016-09-16",2,null,"",null,null,260,"2016-09-16",2,null,""]
[null,2,null,null,null,null,null,null,null,null,null,null,null,null,null,null,null,null,null,null,null,261,"2016-09-17",2,null,"",null,null,261,"2016-09-17",2,null,""]
[null,2,null,null,null,null,null,null,null,null,null,null,null,null,null,null,null,null,null,null,null,262,"2016-09-18",2,null,"",null,null,262,"2016-09-18",2,null,""]
[null,2,null,null,null,null,null,null,null,null,null,null,null,null,null,null,null,null,null,null,null,263,"2016-09-19",2,null,"",null,null,263,"2016-09-19",2,null,""]
[null,2,null,null,null,null,null,null,null,null,null,null,null,null,null,null,null,null,null,null,null,264,"2016-09-20",2,null,"",null,null,264,"2016-09-20",2,null,""]
[null,2,null,null,null,null,null,null,null,null,null,null,null,null,null,null,null,null,null,null,null,265,"2016-09-21",2,null,"",null,null,265,"2016-09-21",2,null,""]
[null,2,null,null,null,null,null,null,null,null,null,null,null,null,null,null,null,null,null,null,null,266,"2016-09-22",2,null,"",null,null,266,"2016-09-22",2,null,""]
[null,2,null,null,null,null,null,null,null,null,null,null,null,null,null,null,null,null,null,null,null,267,"2016-09-23",2,null,"",null,null,267,"2016-09-23",2,null,""]
[null,2,null,null,null,null,null,null,null,null,null,null,null,null,null,null,null,null,null,null,null,268,"2016-09-24",2,null,"",null,null,268,"2016-09-24",2,null,""]
[null,2,null,null,null,null,null,null,null,null,null,null,null,null,null,null,null,null,null,null,null,269,"2016-09-25",2,null,"",null,null,269,"2016-09-25",2,null,""]
[null,2,null,null,null,null,null,null,null,null,null,null,null,null,null,null,null,null,null,null,null,270,"2016-09-26",2,null,"",null,null,270,"2016-09-26",2,null,""]
[null,2,null,null,null,null,null,null,null,null,null,null,null,null,null,null,null,null,null,null,null,271,"2016-09-27",2,null,"",null,null,271,"2016-09-27",2,null,""]
[null,2,null,null,null,null,null,null,null,null,null,null,null,null,null,null,null,null,null,null,null,272,"2016-09-28",2,null,"",null,null,272,"2016-09-28",2,null,""]
[null,2,null,null,null,null,null,null,null,null,null,null,null,null,null,null,null,null,null,null,null,273,"2016-09-29",2,null,"",null,null,273,"2016-09-29",2,null,""]
[null,2,null,null,null,null,null,null,null,null,null,null,null,null,null,null,null,null,null,null,null,274,"2016-09-30",2,null,"",null,null,274,"2016-09-30",2,null,""]
[null,2,null,null,null,null,null,null,null,null,null,null,null,null,null,null,null,null,null,null,null,275,"2016-10-01",2,null,"",null,null,275,"2016-10-01",2,null,""]
[null,2,null,null,null,null,null,null,null,null,null,null,null,null,null,null,null,null,null,null,null,276,"2016-10-02",2,null,"",null,null,276,"2016-10-02",2,null,""]
[null,2,null,null,null,null,null,null,null,null,null,null,null,null,null,null,null,null,null,null,null,277,"2016-10-03",2,null,"",null,null,277,"2016-10-03",2,null,""]
[null,2,null,null,null,null,null,null,null,null,null,null,null,null,null,null,null,null,null,null,null,278,"2016-10-04",2,null,"",null,null,278,"2016-10-04",2,null,""]
[null,2,null,null,null,null,null,null,null,null,null,null,null,null,null,null,null,null,null,null,null,279,"2016-10-05",2,null,"",null,null,279,"2016-10-05",2,null,""]
[null,2,null,null,null,null,null,null,null,null,null,null,null,null,null,null,null,null,null,null,null,280,"2016-10-06",2,null,"",null,null,280,"2016-10-06",2,null,""]
[null,2,null,null,null,null,null,null,null,null,null,null,null,null,null,null,null,null,null,null,null,281,"2016-10-07",2,null,"",null,null,281,"2016-10-07",2,null,""]
[null,2,null,null,null,null,null,null,null,null,null,null,null,null,null,null,null,null,null,null,null,282,"2016-10-08",2,null,"",null,null,282,"2016-10-08",2,null,""]
[null,2,null,null,null,null,null,null,null,null,null,null,null,null,null,null,null,null,null,null,null,283,"2016-10-09",2,null,"",null,null,283,"2016-10-09",2,null,""]
[null,2,null,null,null,null,null,null,null,null,null,null,null,null,null,null,null,null,null,null,null,284,"2016-10-10",2,null,"",null,null,284,"2016-10-10",2,null,""]
[null,2,null,null,null,null,null,null,null,null,null,null,null,null,null,null,null,null,null,null,null,285,"2016-10-11",2,null,"",null,null,285,"2016-10-11",2,null,""]
[null,2,null,null,null,null,null,null,null,null,null,null,null,null,null,null,null,null,null,null,null,286,"2016-10-12",2,null,"",null,null,286,"2016-10-12",2,null,""]
[null,2,null,null,null,null,null,null,null,null,null,null,null,null,null,null,null,null,null,null,null,287,"2016-10-13",2,null,"",null,null,287,"2016-10-13",2,null,""]
[null,2,null,null,null,null,null,null,null,null,null,null,null,null,null,null,null,null,null,null,null,288,"2016-10-14",2,null,"",null,null,288,"2016-10-14",2,null,""]
[null,2,null,null,null,null,null,null,null,null,null,null,null,null,null,null,null,null,null,null,null,289,"2016-10-15",2,null,"",null,null,289,"2016-10-15",2,null,""]
[null,2,null,null,null,null,null,null,null,null,null,null,null,null,null,null,null,null,null,null,null,290,"2016-10-16",2,null,"",null,null,290,"2016-10-16",2,null,""]
[null,2,null,null,null,null,null,null,null,null,null,null,null,null,null,null,null,null,null,null,null,291,"2016-10-17",2,null,"",null,null,291,"2016-10-17",2,null,""]
[null,2,null,null,null,null,null,null,null,null,null,null,null,null,null,null,null,null,null,null,null,292,"2016-10-18",2,null,"",null,null,292,"2016-10-18",2,null,""]
[null,2,null,null,null,null,null,null,null,null,null,null,null,null,null,null,null,null,null,null,null,293,"2016-10-19",2,null,"",null,null,293,"2016-10-19",2,null,""]
[null,2,null,null,null,null,null,null,null,null,null,null,null,null,null,null,null,null,null,null,null,294,"2016-10-20",2,null,"",null,null,294,"2016-10-20",2,null,""]
[null,2,null,null,null,null,null,null,null,null,null,null,null,null,null,null,null,null,null,null,null,295,"2016-10-21",2,null,"",null,null,295,"2016-10-21",2,null,""]
[null,2,null,null,null,null,null,null,null,null,null,null,null,null,null,null,null,null,null,null,null,296,"2016-10-22",2,null,"",null,null,296,"2016-10-22",2,null,""]
[null,2,null,null,null,null,null,null,null,null,null,null,null,null,null,null,null,null,null,null,null,297,"2016-10-23",2,null,"",null,null,297,"2016-10-23",2,null,""]
[null,2,null,null,null,null,null,null,null,null,null,null,null,null,null,null,null,null,null,null,null,298,"2016-10-24",2,null,"",null,null,298,"2016-10-24",2,null,""]
[null,2,null,null,null,null,null,null,null,null,null,null,null,null,null,null,null,null,null,null,null,299,"2016-10-25",2,null,"",null,null,299,"2016-10-25",2,null,""]
[null,2,null,null,null,null,null,null,null,null,null,null,null,null,null,null,null,null,null,null,null,300,"2016-10-26",2,null,"",null,null,300,"2016-10-26",2,null,""]
[null,2,null,null,null,null,null,null,null,null,null,null,null,null,null,null,null,null,null,null,null,301,"2016-10-27",2,null,"",null,null,301,"2016-10-27",2,null,""]
[null,2,null,null,null,null,null,null,null,null,null,null,null,null,null,null,null,null,null,null,null,302,"2016-10-28",2,null,"",null,null,302,"2016-10-28",2,null,""]
[null,2,null,null,null,null,null,null,null,null,null,null,null,null,null,null,null,null,null,null,null,303,"2016-10-29",2,null,"",null,null,303,"2016-10-29",2,null,""]
[null,2,null,null,null,null,null,null,null,null,null,null,null,null,null,null,null,null,null,null,null,304,"2016-10-30",2,null,"",null,null,304,"2016-10-30",2,null,""]
[null,2,null,null,null,null,null,null,null,null,null,null,null,null,null,null,null,null,null,null,null,305,"2016-10-31",2,null,"",null,null,305,"2016-10-31",2,null,""]
[null,{"$f":"B308","v":2},null,null,null,null,null,null,null,null,null,null,null,null,null,null,null,null,null,null,null,306,"2016-11-01",2,null,"",null,null,306,"2016-11-01",2,null,""]
[null,2,null,null,null,null,null,null,null,null,null,null,null,null,null,null,null,null,null,null,null,307,"2016-11-02",2,null,"",null,null,307,"2016-11-02",2,null,""]
[null,2,null,null,null,null,null,null,null,null,null,null,null,null,null,null,null,null,null,null,null,308,"2016-11-03",2,null,"",null,null,308,"2016-11-03",2,null,""]
[null,2,null,null,null,null,null,null,null,null,null,null,null,null,null,null,null,null,null,null,null,309,"2016-11-04",2,null,"",null,null,309,"2016-11-04",2,null,""]
[null,2,null,null,null,null,null,null,null,null,null,null,null,null,null,null,null,null,null,null,null,310,"2016-11-05",2,null,"",null,null,310,"2016-11-05",2,null,""]
[null,2,null,null,null,null,null,null,null,null,null,null,null,null,null,null,null,null,null,null,null,311,"2016-11-06",2,null,"",null,null,311,"2016-11-06",2,null,""]
[null,2,null,null,null,null,null,null,null,null,null,null,null,null,null,null,null,null,null,null,null,312,"2016-11-07",2,null,"",null,null,312,"2016-11-07",2,null,""]
[null,2,null,null,null,null,null,null,null,null,null,null,null,null,null,null,null,null,null,null,null,313,"2016-11-08",2,null,"",null,null,313,"2016-11-08",2,null,""]
[null,2,null,null,null,null,null,null,null,null,null,null,null,null,null,null,null,null,null,null,null,314,"2016-11-09",2,null,"",null,null,314,"2016-11-09",2,null,""]
[null,2,null,null,null,null,null,null,null,null,null,null,null,null,null,null,null,null,null,null,null,315,"2016-11-10",2,null,"",null,null,315,"2016-11-10",2,null,""]
[null,2,null,null,null,null,null,null,null,null,null,null,null,null,null,null,null,null,null,null,null,316,"2016-11-11",2,null,"",null,null,316,"2016-11-11",2,null,""]
[null,2,null,null,null,null,null,null,null,null,null,null,null,null,null,null,null,null,null,null,null,317,"2016-11-12",2,null,"",null,null,317,"2016-11-12",2,null,""]
[null,2,null,null,null,null,null,null,null,null,null,null,null,null,null,null,null,null,null,null,null,318,"2016-11-13",2,null,"",null,null,318,"2016-11-13",2,null,""]
[null,2,null,null,null,null,null,null,null,null,null,null,null,null,null,null,null,null,null,null,null,319,"2016-11-14",2,null,"",null,null,319,"2016-11-14",2,null,""]
[null,2,null,null,null,null,null,null,null,null,null,null,null,null,null,null,null,null,null,null,null,320,"2016-11-15",2,null,"",null,null,320,"2016-11-15",2,null,""]
[null,2,null,null,null,null,null,null,null,null,null,null,null,null,null,null,null,null,null,null,null,321,"2016-11-16",2,null,"",null,null,321,"2016-11-16",2,null,""]
[null,2,null,null,null,null,null,null,null,null,null,null,null,null,null,null,null,null,null,null,null,322,"2016-11-17",2,null,{"$f":"IF(X325=2,\"\",W325)","v":""},null,null,322,"2016-11-17",2,null,{"$f":"IF(AE325=2,\"\",AD325)","v":""}]
[null,2,null,null,null,null,null,null,null,null,null,null,null,null,null,null,null,null,null,null,null,323,"2016-11-18",{"$f":"X325","v":2},null,"",null,null,323,"2016-11-18",{"$f":"AE325","v":2},null,""]
[null,2,null,null,null,null,null,null,null,null,null,null,null,null,null,null,null,null,null,null,null,324,"2016-11-19",2,null,"",null,null,324,"2016-11-19",2,null,""]
[null,2,null,null,null,null,null,null,null,null,null,null,null,null,null,null,null,null,null,null,null,325,"2016-11-20",2,null,"",null,null,325,"2016-11-20",2,null,""]
[null,2,null,null,null,null,null,null,null,null,null,null,null,null,null,null,null,null,null,null,null,326,"2016-11-21",2,null,"",null,null,326,"2016-11-21",2,null,""]
[null,2,null,null,null,null,null,null,null,null,null,null,null,null,null,null,null,null,null,null,null,327,"2016-11-22",2,null,"",null,null,327,"2016-11-22",2,null,""]
[null,2,null,null,null,null,null,null,null,null,null,null,null,null,null,null,null,null,null,null,null,328,"2016-11-23",2,null,"",null,null,328,"2016-11-23",2,null,""]
[null,2,null,null,null,null,null,null,null,null,null,null,null,null,null,null,null,null,null,null,null,329,"2016-11-24",2,null,"",null,null,329,"2016-11-24",2,null,""]
[null,2,null,null,null,null,null,null,null,null,null,null,null,null,null,null,null,null,null,null,null,330,"2016-11-25",2,null,"",null,null,330,"2016-11-25",2,null,""]
[null,2,null,null,null,null,null,null,null,null,null,null,null,null,null,null,null,null,null,null,null,331,"2016-11-26",2,null,"",null,null,331,"2016-11-26",2,null,""]
[null,2,null,null,null,null,null,null,null,null,null,null,null,null,null,null,null,null,null,null,null,332,"2016-11-27",2,null,"",null,null,332,"2016-11-27",2,null,""]
[null,2,null,null,null,null,null,null,null,null,null,null,null,null,null,null,null,null,null,null,null,333,"2016-11-28",2,null,"",null,null,333,"2016-11-28",2,null,""]
[null,2,null,null,null,null,null,null,null,null,null,null,null,null,null,null,null,null,null,null,null,334,"2016-11-29",2,null,"",null,null,334,"2016-11-29",2,null,""]
[null,2,null,null,null,null,null,null,null,null,null,null,null,null,null,null,null,null,null,null,null,335,"2016-11-30",2,null,"",null,null,335,"2016-11-30",2,null,""]
[null,2,null,null,null,null,null,null,null,null,null,null,null,null,null,null,null,null,null,null,null,336,"2016-12-01",2,null,"",null,null,336,"2016-12-01",2,null,""]
[null,2,null,null,null,null,null,null,null,null,null,null,null,null,null,null,null,null,null,null,null,337,"2016-12-02",2,null,"",null,null,337,"2016-12-02",2,null,""]
[null,2,null,null,null,null,null,null,null,null,null,null,null,null,null,null,null,null,null,null,null,338,"2016-12-03",2,null,"",null,null,338,"2016-12-03",2,null,""]
[null,2,null,null,null,null,null,null,null,null,null,null,null,null,null,null,null,null,null,null,null,339,"2016-12-04",2,null,"",null,null,339,"2016-12-04",2,null,""]
[null,2,null,null,null,null,null,null,null,null,null,null,null,null,null,null,null,null,null,null,null,340,"2016-12-05",2,null,"",null,null,340,"2016-12-05",2,null,""]
[null,2,null,null,null,null,null,null,null,null,null,null,null,null,null,null,null,null,null,null,null,341,"2016-12-06",2,null,"",null,null,341,"2016-12-06",2,null,""]
[null,2,null,null,null,null,null,null,null,null,null,null,null,null,null,null,null,null,null,null,null,342,"2016-12-07",2,null,"",null,null,342,"2016-12-07",2,null,""]
[null,2,null,null,null,null,null,null,null,null,null,null,null,null,null,null,null,null,null,null,null,343,"2016-12-08",2,null,"",null,null,343,"2016-12-08",2,null,""]
[null,2,null,null,null,null,null,null,null,null,null,null,null,null,null,null,null,null,null,null,null,344,"2016-12-09",2,null,"",null,null,344,"2016-12-09",2,null,""]
[null,2,null,null,null,null,null,null,null,null,null,null,null,null,null,null,null,null,null,null,null,345,"2016-12-10",2,null,"",null,null,345,"2016-12-10",2,null,""]
[null,2,null,null,null,null,null,null,null,null,null,null,null,null,null,null,null,null,null,null,null,346,"2016-12-11",2,null,"",null,null,346,"2016-12-11",2,null,""]
[null,2,null,null,null,null,null,null,null,null,null,null,null,null,null,null,null,null,null,null,null,347,"2016-12-12",2,null,"",null,null,347,"2016-12-12",2,null,""]
[null,2,null,null,null,null,null,null,null,null,null,null,null,null,null,null,null,null,null,null,null,348,"2016-12-13",2,null,"",null,null,348,"2016-12-13",2,null,""]
[null,2,null,null,null,null,null,null,null,null,null,null,null,null,null,null,null,null,null,null,null,349,"2016-12-14",2,null,"",null,null,349,"2016-12-14",2,null,""]
[null,2,null,null,null,null,null,null,null,null,null,null,null,null,null,null,null,null,null,null,null,350,"2016-12-15",2,null,"",null,null,350,"2016-12-15",2,null,""]
[null,2,null,null,null,null,null,null,null,null,null,null,null,null,null,null,null,null,null,null,null,351,"2016-12-16",2,null,"",null,null,351,"2016-12-16",2,null,""]
[null,2,null,null,null,null,null,null,null,null,null,null,null,null,null,null,null,null,null,null,null,352,"2016-12-17",2,null,"",null,null,352,"2016-12-17",2,null,""]
[null,2,null,null,null,null,null,null,null,null,null,null,null,null,null,null,null,null,null,null,null,353,"2016-12-18",2,null,"",null,null,353,"2016-12-18",2,null,""]
[null,2,null,null,null,null,null,null,null,null,null,null,null,null,null,null,null,null,null,null,null,354,"2016-12-19",2,null,"",null,null,354,"2016-12-19",2,null,""]
[null,2,null,null,null,null,null,null,null,null,null,null,null,null,null,null,null,null,null,null,null,355,"2016-12-20",2,null,"",null,null,355,"2016-12-20",2,null,""]
[null,2,null,null,null,null,null,null,null,null,null,null,null,null,null,null,null,null,null,null,null,356,"2016-12-21",2,null,"",null,null,356,"2016-12-21",2,null,""]
[null,2,null,null,null,null,null,null,null,null,null,null,null,null,null,null,null,null,null,null,null,357,"2016-12-22",2,null,"",null,null,357,"2016-12-22",2,null,""]
[null,2,null,null,null,null,null,null,null,null,null,null,null,null,null,null,null,null,null,null,null,358,"2016-12-23",2,null,"",null,null,358,"2016-12-23",2,null,""]
[null,2,null,null,null,null,null,null,null,null,null,null,null,null,null,null,null,null,null,null,null,359,"2016-12-24",2,null,"",null,null,359,"2016-12-24",2,null,""]
[null,2,null,null,null,null,null,null,null,null,null,null,null,null,null,null,null,null,null,null,null,360,"2016-12-25",2,null,"",null,null,360,"2016-12-25",2,null,""]
[null,2,null,null,null,null,null,null,null,null,null,null,null,null,null,null,null,null,null,null,null,361,"2016-12-26",2,null,"",null,null,361,"2016-12-26",2,null,""]
[null,2,null,null,null,null,null,null,null,null,null,null,null,null,null,null,null,null,null,null,null,362,"2016-12-27",2,null,"",null,null,362,"2016-12-27",2,null,""]
[null,2,null,null,null,null,null,null,null,null,null,null,null,null,null,null,null,null,null,null,null,363,"2016-12-28",2,null,"",null,null,363,"2016-12-28",2,null,""]
[null,2,null,null,null,null,null,null,null,null,null,null,null,null,null,null,null,null,null,null,null,364,"2016-12-29",2,null,"",null,null,364,"2016-12-29",2,null,""]
[null,2,null,null,null,null,null,null,null,null,null,null,null,null,null,null,null,null,null,null,null,365,"2016-12-30",2,null,"",null,null,365,"2016-12-30",2,null,""]
[null,2,null,null,null,null,null,null,null,null,null,null,null,null,null,null,null,null,null,null,null,366,"2016-12-31",2,null,"",null,null,366,"2016-12-31",2,null,""]
[null,2,null,null,null,null,null,null,null,null,null,null,null,null,null,null,null,null,null,null,null,367,"2017-01-01",2,null,"",null,null,367,"2017-01-01",2,null,""]
[null,2,null,null,null,null,null,null,null,null,null,null,null,null,null,null,null,null,null,null,null,368,"2017-01-02",2,null,"",null,null,368,"2017-01-02",2,null,""]
[null,2,null,null,null,null,null,null,null,null,null,null,null,null,null,null,null,null,null,null,null,369,"2017-01-03",2,null,"",null,null,369,"2017-01-03",2,null,""]
[null,{"$f":"B372","v":2},null,null,null,null,null,null,null,null,null,null,null,null,null,null,null,null,null,null,null,370,"2017-01-04",2,null,"",null,null,370,"2017-01-04",2,null,""]
[null,2,null,null,null,null,null,null,null,null,null,null,null,null,null,null,null,null,null,null,null,371,"2017-01-05",2,null,"",null,null,371,"2017-01-05",2,null,""]
[null,2,null,null,null,null,null,null,null,null,null,null,null,null,null,null,null,null,null,null,null,372,"2017-01-06",2,null,"",null,null,372,"2017-01-06",2,null,""]
[null,2,null,null,null,null,null,null,null,null,null,null,null,null,null,null,null,null,null,null,null,373,"2017-01-07",2,null,"",null,null,373,"2017-01-07",2,null,""]
[null,2,null,null,null,null,null,null,null,null,null,null,null,null,null,null,null,null,null,null,null,374,"2017-01-08",2,null,"",null,null,374,"2017-01-08",2,null,""]
[null,2,null,null,null,null,null,null,null,null,null,null,null,null,null,null,null,null,null,null,null,375,"2017-01-09",2,null,"",null,null,375,"2017-01-09",2,null,""]
[null,2,null,null,null,null,null,null,null,null,null,null,null,null,null,null,null,null,null,null,null,376,"2017-01-10",2,null,"",null,null,376,"2017-01-10",2,null,""]
[null,2,null,null,null,null,null,null,null,null,null,null,null,null,null,null,null,null,null,null,null,377,"2017-01-11",2,null,"",null,null,377,"2017-01-11",2,null,""]
[null,2,null,null,null,null,null,null,null,null,null,null,null,null,null,null,null,null,null,null,null,378,"2017-01-12",2,null,"",null,null,378,"2017-01-12",2,null,""]
[null,2,null,null,null,null,null,null,null,null,null,null,null,null,null,null,null,null,null,null,null,379,"2017-01-13",2,null,"",null,null,379,"2017-01-13",2,null,""]
[null,2,null,null,null,null,null,null,null,null,null,null,null,null,null,null,null,null,null,null,null,380,"2017-01-14",2,null,"",null,null,380,"2017-01-14",2,null,""]
[null,2,null,null,null,null,null,null,null,null,null,null,null,null,null,null,null,null,null,null,null,381,"2017-01-15",2,null,"",null,null,381,"2017-01-15",2,null,""]
[null,2,null,null,null,null,null,null,null,null,null,null,null,null,null,null,null,null,null,null,null,382,"2017-01-16",2,null,"",null,null,382,"2017-01-16",2,null,""]
[null,2,null,null,null,null,null,null,null,null,null,null,null,null,null,null,null,null,null,null,null,383,"2017-01-17",2,null,"",null,null,383,"2017-01-17",2,null,""]
[null,2,null,null,null,null,null,null,null,null,null,null,null,null,null,null,null,null,null,null,null,384,"2017-01-18",2,null,"",null,null,384,"2017-01-18",2,null,""]
[null,2,null,null,null,null,null,null,null,null,null,null,null,null,null,null,null,null,null,null,null,385,"2017-01-19",2,null,"",null,null,385,"2017-01-19",2,null,""]
[null,2,null,null,null,null,null,null,null,null,null,null,null,null,null,null,null,null,null,null,null,386,"2017-01-20",2,null,{"$f":"IF(X389=2,\"\",W389)","v":""},null,null,386,"2017-01-20",2,null,{"$f":"IF(AE389=2,\"\",AD389)","v":""}]
[null,2,null,null,null,null,null,null,null,null,null,null,null,null,null,null,null,null,null,null,null,387,"2017-01-21",{"$f":"X389","v":2},null,"",null,null,387,"2017-01-21",{"$f":"AE389","v":2},null,""]
[null,2,null,null,null,null,null,null,null,null,null,null,null,null,null,null,null,null,null,null,null,388,"2017-01-22",2,null,"",null,null,388,"2017-01-22",2,null,""]
[null,2,null,null,null,null,null,null,null,null,null,null,null,null,null,null,null,null,null,null,null,389,"2017-01-23",2,null,"",null,null,389,"2017-01-23",2,null,""]
[null,2,null,null,null,null,null,null,null,null,null,null,null,null,null,null,null,null,null,null,null,390,"2017-01-24",2,null,"",null,null,390,"2017-01-24",2,null,""]
[null,2,null,null,null,null,null,null,null,null,null,null,null,null,null,null,null,null,null,null,null,391,"2017-01-25",2,null,"",null,null,391,"2017-01-25",2,null,""]
[null,2,null,null,null,null,null,null,null,null,null,null,null,null,null,null,null,null,null,null,null,392,"2017-01-26",2,null,"",null,null,392,"2017-01-26",2,null,""]
[null,2,null,null,null,null,null,null,null,null,null,null,null,null,null,null,null,null,null,null,null,393,"2017-01-27",2,null,"",null,null,393,"2017-01-27",2,null,""]
[null,2,null,null,null,null,null,null,null,null,null,null,null,null,null,null,null,null,null,null,null,394,"2017-01-28",2,null,"",null,null,394,"2017-01-28",2,null,""]
[null,2,null,null,null,null,null,null,null,null,null,null,null,null,null,null,null,null,null,null,null,395,"2017-01-29",2,null,"",null,null,395,"2017-01-29",2,null,""]
[null,2,null,null,null,null,null,null,null,null,null,null,null,null,null,null,null,null,null,null,null,396,"2017-01-30",2,null,"",null,null,396,"2017-01-30",2,null,""]
[null,2,null,null,null,null,null,null,null,null,null,null,null,null,null,null,null,null,null,null,null,397,"2017-01-31",2,null,"",null,null,397,"2017-01-31",2,null,""]
[null,2,null,null,null,null,null,null,null,null,null,null,null,null,null,null,null,null,null,null,null,398,"2017-02-01",2,null,"",null,null,398,"2017-02-01",2,null,""]
[null,2,null,null,null,null,null,null,null,null,null,null,null,null,null,null,null,null,null,null,null,399,"2017-02-02",2,null,"",null,null,399,"2017-02-02",2,null,""]
[null,2,null,null,null,null,null,null,null,null,null,null,null,null,null,null,null,null,null,null,null,400,"2017-02-03",2,null,"",null,null,400,"2017-02-03",2,null,""]
[null,2,null,null,null,null,null,null,null,null,null,null,null,null,null,null,null,null,null,null,null,401,"2017-02-04",2,null,"",null,null,401,"2017-02-04",2,null,""]
[null,2,null,null,null,null,null,null,null,null,null,null,null,null,null,null,null,null,null,null,null,402,"2017-02-05",2,null,"",null,null,402,"2017-02-05",2,null,""]
[null,2,null,null,null,null,null,null,null,null,null,null,null,null,null,null,null,null,null,null,null,403,"2017-02-06",2,null,"",null,null,403,"2017-02-06",2,null,""]
[null,2,null,null,null,null,null,null,null,null,null,null,null,null,null,null,null,null,null,null,null,404,"2017-02-07",2,null,"",null,null,404,"2017-02-07",2,null,""]
[null,2,null,null,null,null,null,null,null,null,null,null,null,null,null,null,null,null,null,null,null,405,"2017-02-08",2,null,"",null,null,405,"2017-02-08",2,null,""]
[null,2,null,null,null,null,null,null,null,null,null,null,null,null,null,null,null,null,null,null,null,406,"2017-02-09",2,null,"",null,null,406,"2017-02-09",2,null,""]
[null,2,null,null,null,null,null,null,null,null,null,null,null,null,null,null,null,null,null,null,null,407,"2017-02-10",2,null,"",null,null,407,"2017-02-10",2,null,""]
[null,2,null,null,null,null,null,null,null,null,null,null,null,null,null,null,null,null,null,null,null,408,"2017-02-11",2,null,"",null,null,408,"2017-02-11",2,null,""]
[null,2,null,null,null,null,null,null,null,null,null,null,null,null,null,null,null,null,null,null,null,409,"2017-02-12",2,null,"",null,null,409,"2017-02-12",2,null,""]
[null,2,null,null,null,null,null,null,null,null,null,null,null,null,null,null,null,null,null,null,null,410,"2017-02-13",2,null,"",null,null,410,"2017-02-13",2,null,""]
[null,2,null,null,null,null,null,null,null,null,null,null,null,null,null,null,null,null,null,null,null,411,"2017-02-14",2,null,"",null,null,411,"2017-02-14",2,null,""]
[null,2,null,null,null,null,null,null,null,null,null,null,null,null,null,null,null,null,null,null,null,412,"2017-02-15",2,null,"",null,null,412,"2017-02-15",2,null,""]
[null,2,null,null,null,null,null,null,null,null,null,null,null,null,null,null,null,null,null,null,null,413,"2017-02-16",2,null,"",null,null,413,"2017-02-16",2,null,""]
[null,2,null,null,null,null,null,null,null,null,null,null,null,null,null,null,null,null,null,null,null,414,"2017-02-17",2,null,"",null,null,414,"2017-02-17",2,null,""]
[null,2,null,null,null,null,null,null,null,null,null,null,null,null,null,null,null,null,null,null,null,415,"2017-02-18",2,null,"",null,null,415,"2017-02-18",2,null,""]
[null,2,null,null,null,null,null,null,null,null,null,null,null,null,null,null,null,null,null,null,null,416,"2017-02-19",2,null,"",null,null,416,"2017-02-19",2,null,""]
[null,2,null,null,null,null,null,null,null,null,null,null,null,null,null,null,null,null,null,null,null,417,"2017-02-20",2,null,"",null,null,417,"2017-02-20",2,null,""]
[null,2,null,null,null,null,null,null,null,null,null,null,null,null,null,null,null,null,null,null,null,418,"2017-02-21",2,null,"",null,null,418,"2017-02-21",2,null,""]
[null,2,null,null,null,null,null,null,null,null,null,null,null,null,null,null,null,null,null,null,null,419,"2017-02-22",2,null,"",null,null,419,"2017-02-22",2,null,""]
[null,2,null,null,null,null,null,null,null,null,null,null,null,null,null,null,null,null,null,null,null,420,"2017-02-23",2,null,"",null,null,420,"2017-02-23",2,null,""]
[null,2,null,null,null,null,null,null,null,null,null,null,null,null,null,null,null,null,null,null,null,421,"2017-02-24",2,null,"",null,null,421,"2017-02-24",2,null,""]
[null,2,null,null,null,null,null,null,null,null,null,null,null,null,null,null,null,null,null,null,null,422,"2017-02-25",2,null,"",null,null,422,"2017-02-25",2,null,""]
[null,2,null,null,null,null,null,null,null,null,null,null,null,null,null,null,null,null,null,null,null,423,"2017-02-26",2,null,"",null,null,423,"2017-02-26",2,null,""]
[null,2,null,null,null,null,null,null,null,null,null,null,null,null,null,null,null,null,null,null,null,424,"2017-02-27",2,null,"",null,null,424,"2017-02-27",2,null,""]
[null,2,null,null,null,null,null,null,null,null,null,null,null,null,null,null,null,null,null,null,null,425,"2017-02-28",2,null,"",null,null,425,"2017-02-28",2,null,""]
[null,2,null,null,null,null,null,null,null,null,null,null,null,null,null,null,null,null,null,null,null,426,"2017-03-01",2,null,"",null,null,426,"2017-03-01",2,null,""]
[null,2,null,null,null,null,null,null,null,null,null,null,null,null,null,null,null,null,null,null,null,427,"2017-03-02",2,null,"",null,null,427,"2017-03-02",2,null,""]
[null,2,null,null,null,null,null,null,null,null,null,null,null,null,null,null,null,null,null,null,null,428,"2017-03-03",2,null,"",null,null,428,"2017-03-03",2,null,""]
[null,2,null,null,null,null,null,null,null,null,null,null,null,null,null,null,null,null,null,null,null,429,"2017-03-04",2,null,"",null,null,429,"2017-03-04",2,null,""]
[null,2,null,null,null,null,null,null,null,null,null,null,null,null,null,null,null,null,null,null,null,430,"2017-03-05",2,null,"",null,null,430,"2017-03-05",2,null,""]
[null,2,null,null,null,null,null,null,null,null,null,null,null,null,null,null,null,null,null,null,null,431,"2017-03-06",2,null,"",null,null,431,"2017-03-06",2,null,""]
[null,2,null,null,null,null,null,null,null,null,null,null,null,null,null,null,null,null,null,null,null,432,"2017-03-07",2,null,"",null,null,432,"2017-03-07",2,null,""]
[null,2,null,null,null,null,null,null,null,null,null,null,null,null,null,null,null,null,null,null,null,433,"2017-03-08",2,null,"",null,null,433,"2017-03-08",2,null,""]
[null,{"$f":"B436","v":2},null,null,null,null,null,null,null,null,null,null,null,null,null,null,null,null,null,null,null,434,"2017-03-09",2,null,"",null,null,434,"2017-03-09",2,null,""]
[null,2,null,null,null,null,null,null,null,null,null,null,null,null,null,null,null,null,null,null,null,435,"2017-03-10",2,null,"",null,null,435,"2017-03-10",2,null,""]
[null,2,null,null,null,null,null,null,null,null,null,null,null,null,null,null,null,null,null,null,null,436,"2017-03-11",2,null,"",null,null,436,"2017-03-11",2,null,""]
[null,2,null,null,null,null,null,null,null,null,null,null,null,null,null,null,null,null,null,null,null,437,"2017-03-12",2,null,"",null,null,437,"2017-03-12",2,null,""]
[null,2,null,null,null,null,null,null,null,null,null,null,null,null,null,null,null,null,null,null,null,438,"2017-03-13",2,null,"",null,null,438,"2017-03-13",2,null,""]
[null,2,null,null,null,null,null,null,null,null,null,null,null,null,null,null,null,null,null,null,null,439,"2017-03-14",2,null,"",null,null,439,"2017-03-14",2,null,""]
[null,2,null,null,null,null,null,null,null,null,null,null,null,null,null,null,null,null,null,null,null,440,"2017-03-15",2,null,"",null,null,440,"2017-03-15",2,null,""]
[null,2,null,null,null,null,null,null,null,null,null,null,null,null,null,null,null,null,null,null,null,441,"2017-03-16",2,null,"",null,null,441,"2017-03-16",2,null,""]
[null,2,null,null,null,null,null,null,null,null,null,null,null,null,null,null,null,null,null,null,null,442,"2017-03-17",2,null,"",null,null,442,"2017-03-17",2,null,""]
[null,2,null,null,null,null,null,null,null,null,null,null,null,null,null,null,null,null,null,null,null,443,"2017-03-18",2,null,"",null,null,443,"2017-03-18",2,null,""]
[null,2,null,null,null,null,null,null,null,null,null,null,null,null,null,null,null,null,null,null,null,444,"2017-03-19",2,null,"",null,null,444,"2017-03-19",2,null,""]
[null,2,null,null,null,null,null,null,null,null,null,null,null,null,null,null,null,null,null,null,null,445,"2017-03-20",2,null,"",null,null,445,"2017-03-20",2,null,""]
[null,2,null,null,null,null,null,null,null,null,null,null,null,null,null,null,null,null,null,null,null,446,"2017-03-21",2,null,"",null,null,446,"2017-03-21",2,null,""]
[null,2,null,null,null,null,null,null,null,null,null,null,null,null,null,null,null,null,null,null,null,447,"2017-03-22",2,null,"",null,null,447,"2017-03-22",2,null,""]
[null,2,null,null,null,null,null,null,null,null,null,null,null,null,null,null,null,null,null,null,null,448,"2017-03-23",2,null,"",null,null,448,"2017-03-23",2,null,""]
[null,2,null,null,null,null,null,null,null,null,null,null,null,null,null,null,null,null,null,null,null,449,"2017-03-24",2,null,"",null,null,449,"2017-03-24",2,null,""]
[null,2,null,null,null,null,null,null,null,null,null,null,null,null,null,null,null,null,null,null,null,450,"2017-03-25",2,null,{"$f":"IF(X453=2,\"\",W453)","v":""},null,null,450,"2017-03-25",2,null,{"$f":"IF(AE453=2,\"\",AD453)","v":""}]
[null,2,null,null,null,null,null,null,null,null,null,null,null,null,null,null,null,null,null,null,null,451,"2017-03-26",{"$f":"X453","v":2},null,"",null,null,451,"2017-03-26",{"$f":"AE453","v":2},null,""]
[null,2,null,null,null,null,null,null,null,null,null,null,null,null,null,null,null,null,null,null,null,452,"2017-03-27",2,null,"",null,null,452,"2017-03-27",2,null,""]
[null,2,null,null,null,null,null,null,null,null,null,null,null,null,null,null,null,null,null,null,null,453,"2017-03-28",2,null,"",null,null,453,"2017-03-28",2,null,""]
[null,2,null,null,null,null,null,null,null,null,null,null,null,null,null,null,null,null,null,null,null,454,"2017-03-29",2,null,"",null,null,454,"2017-03-29",2,null,""]
[null,2,null,null,null,null,null,null,null,null,null,null,null,null,null,null,null,null,null,null,null,455,"2017-03-30",2,null,"",null,null,455,"2017-03-30",2,null,""]
[null,2,null,null,null,null,null,null,null,null,null,null,null,null,null,null,null,null,null,null,null,456,"2017-03-31",2,null,"",null,null,456,"2017-03-31",2,null,""]
[null,2,null,null,null,null,null,null,null,null,null,null,null,null,null,null,null,null,null,null,null,457,"2017-04-01",2,null,"",null,null,457,"2017-04-01",2,null,""]
[null,2,null,null,null,null,null,null,null,null,null,null,null,null,null,null,null,null,null,null,null,458,"2017-04-02",2,null,"",null,null,458,"2017-04-02",2,null,""]
[null,2,null,null,null,null,null,null,null,null,null,null,null,null,null,null,null,null,null,null,null,459,"2017-04-03",2,null,"",null,null,459,"2017-04-03",2,null,""]
[null,2,null,null,null,null,null,null,null,null,null,null,null,null,null,null,null,null,null,null,null,460,"2017-04-04",2,null,"",null,null,460,"2017-04-04",2,null,""]
[null,2,null,null,null,null,null,null,null,null,null,null,null,null,null,null,null,null,null,null,null,461,"2017-04-05",2,null,"",null,null,461,"2017-04-05",2,null,""]
[null,2,null,null,null,null,null,null,null,null,null,null,null,null,null,null,null,null,null,null,null,462,"2017-04-06",2,null,"",null,null,462,"2017-04-06",2,null,""]
[null,2,null,null,null,null,null,null,null,null,null,null,null,null,null,null,null,null,null,null,null,463,"2017-04-07",2,null,"",null,null,463,"2017-04-07",2,null,""]
[null,2,null,null,null,null,null,null,null,null,null,null,null,null,null,null,null,null,null,null,null,464,"2017-04-08",2,null,"",null,null,464,"2017-04-08",2,null,""]
[null,2,null,null,null,null,null,null,null,null,null,null,null,null,null,null,null,null,null,null,null,465,"2017-04-09",2,null,"",null,null,465,"2017-04-09",2,null,""]
[null,2,null,null,null,null,null,null,null,null,null,null,null,null,null,null,null,null,null,null,null,466,"2017-04-10",2,null,"",null,null,466,"2017-04-10",2,null,""]
[null,2,null,null,null,null,null,null,null,null,null,null,null,null,null,null,null,null,null,null,null,467,"2017-04-11",2,null,"",null,null,467,"2017-04-11",2,null,""]
[null,2,null,null,null,null,null,null,null,null,null,null,null,null,null,null,null,null,null,null,null,468,"2017-04-12",2,null,"",null,null,468,"2017-04-12",2,null,""]
[null,2,null,null,null,null,null,null,null,null,null,null,null,null,null,null,null,null,null,null,null,469,"2017-04-13",2,null,"",null,null,469,"2017-04-13",2,null,""]
[null,2,null,null,null,null,null,null,null,null,null,null,null,null,null,null,null,null,null,null,null,470,"2017-04-14",2,null,"",null,null,470,"2017-04-14",2,null,""]
[null,2,null,null,null,null,null,null,null,null,null,null,null,null,null,null,null,null,null,null,null,471,"2017-04-15",2,null,"",null,null,471,"2017-04-15",2,null,""]
[null,2,null,null,null,null,null,null,null,null,null,null,null,null,null,null,null,null,null,null,null,472,"2017-04-16",2,null,"",null,null,472,"2017-04-16",2,null,""]
[null,2,null,null,null,null,null,null,null,null,null,null,null,null,null,null,null,null,null,null,null,473,"2017-04-17",2,null,"",null,null,473,"2017-04-17",2,null,""]
[null,2,null,null,null,null,null,null,null,null,null,null,null,null,null,null,null,null,null,null,null,474,"2017-04-18",2,null,"",null,null,474,"2017-04-18",2,null,""]
[null,2,null,null,null,null,null,null,null,null,null,null,null,null,null,null,null,null,null,null,null,475,"2017-04-19",2,null,"",null,null,475,"2017-04-19",2,null,""]
[null,2,null,null,null,null,null,null,null,null,null,null,null,null,null,null,null,null,null,null,null,476,"2017-04-20",2,null,"",null,null,476,"2017-04-20",2,null,""]
[null,2,null,null,null,null,null,null,null,null,null,null,null,null,null,null,null,null,null,null,null,477,"2017-04-21",2,null,"",null,null,477,"2017-04-21",2,null,""]
[null,2,null,null,null,null,null,null,null,null,null,null,null,null,null,null,null,null,null,null,null,478,"2017-04-22",2,null,"",null,null,478,"2017-04-22",2,null,""]
[null,2,null,null,null,null,null,null,null,null,null,null,null,null,null,null,null,null,null,null,null,479,"2017-04-23",2,null,"",null,null,479,"2017-04-23",2,null,""]
[null,2,null,null,null,null,null,null,null,null,null,null,null,null,null,null,null,null,null,null,null,480,"2017-04-24",2,null,"",null,null,480,"2017-04-24",2,null,""]
[null,2,null,null,null,null,null,null,null,null,null,null,null,null,null,null,null,null,null,null,null,481,"2017-04-25",2,null,"",null,null,481,"2017-04-25",2,null,""]
[null,2,null,null,null,null,null,null,null,null,null,null,null,null,null,null,null,null,null,null,null,482,"2017-04-26",2,null,"",null,null,482,"2017-04-26",2,null,""]
[null,2,null,null,null,null,null,null,null,null,null,null,null,null,null,null,null,null,null,null,null,483,"2017-04-27",2,null,"",null,null,483,"2017-04-27",2,null,""]
[null,2,null,null,null,null,null,null,null,null,null,null,null,null,null,null,null,null,null,null,null,484,"2017-04-28",2,null,"",null,null,484,"2017-04-28",2,null,""]
[null,2,null,null,null,null,null,null,null,null,null,null,null,null,null,null,null,null,null,null,null,485,"2017-04-29",2,null,"",null,null,485,"2017-04-29",2,null,""]
[null,2,null,null,null,null,null,null,null,null,null,null,null,null,null,null,null,null,null,null,null,486,"2017-04-30",2,null,"",null,null,486,"2017-04-30",2,null,""]
[null,2,null,null,null,null,null,null,null,null,null,null,null,null,null,null,null,null,null,null,null,487,"2017-05-01",2,null,"",null,null,487,"2017-05-01",2,null,""]
[null,2,null,null,null,null,null,null,null,null,null,null,null,null,null,null,null,null,null,null,null,488,"2017-05-02",2,null,"",null,null,488,"2017-05-02",2,null,""]
[null,2,null,null,null,null,null,null,null,null,null,null,null,null,null,null,null,null,null,null,null,489,"2017-05-03",2,null,"",null,null,489,"2017-05-03",2,null,""]
[null,2,null,null,null,null,null,null,null,null,null,null,null,null,null,null,null,null,null,null,null,490,"2017-05-04",2,null,"",null,null,490,"2017-05-04",2,null,""]
[null,2,null,null,null,null,null,null,null,null,null,null,null,null,null,null,null,null,null,null,null,491,"2017-05-05",2,null,"",null,null,491,"2017-05-05",2,null,""]
[null,2,null,null,null,null,null,null,null,null,null,null,null,null,null,null,null,null,null,null,null,492,"2017-05-06",2,null,"",null,null,492,"2017-05-06",2,null,""]
[null,2,null,null,null,null,null,null,null,null,null,null,null,null,null,null,null,null,null,null,null,493,"2017-05-07",2,null,"",null,null,493,"2017-05-07",2,null,""]
[null,2,null,null,null,null,null,null,null,null,null,null,null,null,null,null,null,null,null,null,null,494,"2017-05-08",2,null,"",null,null,494,"2017-05-08",2,null,""]
[null,2,null,null,null,null,null,null,null,null,null,null,null,null,null,null,null,null,null,null,null,495,"2017-05-09",2,null,"",null,null,495,"2017-05-09",2,null,""]
[null,2,null,null,null,null,null,null,null,null,null,null,null,null,null,null,null,null,null,null,null,496,"2017-05-10",2,null,"",null,null,496,"2017-05-10",2,null,""]
[null,2,null,null,null,null,null,null,null,null,null,null,null,null,null,null,null,null,null,null,null,497,"2017-05-11",2,null,"",null,null,497,"2017-05-11",2,null,""]
[null,{"$f":"B500","v":2},null,null,null,null,null,null,null,null,null,null,null,null,null,null,null,null,null,null,null,498,"2017-05-12",2,null,"",null,null,498,"2017-05-12",2,null,""]
[null,2,null,null,null,null,null,null,null,null,null,null,null,null,null,null,null,null,null,null,null,499,"2017-05-13",2,null,"",null,null,499,"2017-05-13",2,null,""]
[null,2,null,null,null,null,null,null,null,null,null,null,null,null,null,null,null,null,null,null,null,500,"2017-05-14",2,null,"",null,null,500,"2017-05-14",2,null,""]
[null,2,null,null,null,null,null,null,null,null,null,null,null,null,null,null,null,null,null,null,null,501,"2017-05-15",2,null,"",null,null,501,"2017-05-15",2,null,""]
[null,2,null,null,null,null,null,null,null,null,null,null,null,null,null,null,null,null,null,null,null,502,"2017-05-16",2,null,"",null,null,502,"2017-05-16",2,null,""]
[null,2,null,null,null,null,null,null,null,null,null,null,null,null,null,null,null,null,null,null,null,503,"2017-05-17",2,null,"",null,null,503,"2017-05-17",2,null,""]
[null,2,null,null,null,null,null,null,null,null,null,null,null,null,null,null,null,null,null,null,null,504,"2017-05-18",2,null,"",null,null,504,"2017-05-18",2,null,""]
[null,2,null,null,null,null,null,null,null,null,null,null,null,null,null,null,null,null,null,null,null,505,"2017-05-19",2,null,"",null,null,505,"2017-05-19",2,null,""]
[null,2,null,null,null,null,null,null,null,null,null,null,null,null,null,null,null,null,null,null,null,506,"2017-05-20",2,null,"",null,null,506,"2017-05-20",2,null,""]
[null,2,null,null,null,null,null,null,null,null,null,null,null,null,null,null,null,null,null,null,null,507,"2017-05-21",2,null,"",null,null,507,"2017-05-21",2,null,""]
[null,2,null,null,null,null,null,null,null,null,null,null,null,null,null,null,null,null,null,null,null,508,"2017-05-22",2,null,"",null,null,508,"2017-05-22",2,null,""]
[null,2,null,null,null,null,null,null,null,null,null,null,null,null,null,null,null,null,null,null,null,509,"2017-05-23",2,null,"",null,null,509,"2017-05-23",2,null,""]
[null,2,null,null,null,null,null,null,null,null,null,null,null,null,null,null,null,null,null,null,null,510,"2017-05-24",2,null,"",null,null,510,"2017-05-24",2,null,""]
[null,2,null,null,null,null,null,null,null,null,null,null,null,null,null,null,null,null,null,null,null,511,"2017-05-25",2,null,"",null,null,511,"2017-05-25",2,null,""]
[null,2,null,null,null,null,null,null,null,null,null,null,null,null,null,null,null,null,null,null,null,512,"2017-05-26",2,null,"",null,null,512,"2017-05-26",2,null,""]
[null,2,null,null,null,null,null,null,null,null,null,null,null,null,null,null,null,null,null,null,null,513,"2017-05-27",2,null,"",null,null,513,"2017-05-27",2,null,""]
[null,2,null,null,null,null,null,null,null,null,null,null,null,null,null,null,null,null,null,null,null,514,"2017-05-28",2,null,{"$f":"IF(X517=2,\"\",W517)","v":""},null,null,514,"2017-05-28",2,null,{"$f":"IF(AE517=2,\"\",AD517)","v":""}]
[null,2,null,null,null,null,null,null,null,null,null,null,null,null,null,null,null,null,null,null,null,515,"2017-05-29",{"$f":"X517","v":2},null,"",null,null,515,"2017-05-29",{"$f":"AE517","v":2},null,""]
[null,2,null,null,null,null,null,null,null,null,null,null,null,null,null,null,null,null,null,null,null,516,"2017-05-30",2,null,"",null,null,516,"2017-05-30",2,null,""]
[null,2,null,null,null,null,null,null,null,null,null,null,null,null,null,null,null,null,null,null,null,517,"2017-05-31",2,null,"",null,null,517,"2017-05-31",2,null,""]
[null,2,null,null,null,null,null,null,null,null,null,null,null,null,null,null,null,null,null,null,null,518,"2017-06-01",2,null,"",null,null,518,"2017-06-01",2,null,""]
[null,2,null,null,null,null,null,null,null,null,null,null,null,null,null,null,null,null,null,null,null,519,"2017-06-02",2,null,"",null,null,519,"2017-06-02",2,null,""]
[null,2,null,null,null,null,null,null,null,null,null,null,null,null,null,null,null,null,null,null,null,520,"2017-06-03",2,null,"",null,null,520,"2017-06-03",2,null,""]
[null,2,null,null,null,null,null,null,null,null,null,null,null,null,null,null,null,null,null,null,null,521,"2017-06-04",2,null,"",null,null,521,"2017-06-04",2,null,""]
[null,2,null,null,null,null,null,null,null,null,null,null,null,null,null,null,null,null,null,null,null,522,"2017-06-05",2,null,"",null,null,522,"2017-06-05",2,null,""]
[null,2,null,null,null,null,null,null,null,null,null,null,null,null,null,null,null,null,null,null,null,523,"2017-06-06",2,null,"",null,null,523,"2017-06-06",2,null,""]
[null,2,null,null,null,null,null,null,null,null,null,null,null,null,null,null,null,null,null,null,null,524,"2017-06-07",2,null,"",null,null,524,"2017-06-07",2,null,""]
[null,2,null,null,null,null,null,null,null,null,null,null,null,null,null,null,null,null,null,null,null,525,"2017-06-08",2,null,"",null,null,525,"2017-06-08",2,null,""]
[null,2,null,null,null,null,null,null,null,null,null,null,null,null,null,null,null,null,null,null,null,526,"2017-06-09",2,null,"",null,null,526,"2017-06-09",2,null,""]
[null,2,null,null,null,null,null,null,null,null,null,null,null,null,null,null,null,null,null,null,null,527,"2017-06-10",2,null,"",null,null,527,"2017-06-10",2,null,""]
[null,2,null,null,null,null,null,null,null,null,null,null,null,null,null,null,null,null,null,null,null,528,"2017-06-11",2,null,"",null,null,528,"2017-06-11",2,null,""]
[null,2,null,null,null,null,null,null,null,null,null,null,null,null,null,null,null,null,null,null,null,529,"2017-06-12",2,null,"",null,null,529,"2017-06-12",2,null,""]
[null,2,null,null,null,null,null,null,null,null,null,null,null,null,null,null,null,null,null,null,null,530,"2017-06-13",2,null,"",null,null,530,"2017-06-13",2,null,""]
[null,2,null,null,null,null,null,null,null,null,null,null,null,null,null,null,null,null,null,null,null,531,"2017-06-14",2,null,"",null,null,531,"2017-06-14",2,null,""]
[null,2,null,null,null,null,null,null,null,null,null,null,null,null,null,null,null,null,null,null,null,532,"2017-06-15",2,null,"",null,null,532,"2017-06-15",2,null,""]
[null,2,null,null,null,null,null,null,null,null,null,null,null,null,null,null,null,null,null,null,null,533,"2017-06-16",2,null,"",null,null,533,"2017-06-16",2,null,""]
[null,2,null,null,null,null,null,null,null,null,null,null,null,null,null,null,null,null,null,null,null,534,"2017-06-17",2,null,"",null,null,534,"2017-06-17",2,null,""]
[null,2,null,null,null,null,null,null,null,null,null,null,null,null,null,null,null,null,null,null,null,535,"2017-06-18",2,null,"",null,null,535,"2017-06-18",2,null,""]
[null,2,null,null,null,null,null,null,null,null,null,null,null,null,null,null,null,null,null,null,null,536,"2017-06-19",2,null,"",null,null,536,"2017-06-19",2,null,""]
[null,2,null,null,null,null,null,null,null,null,null,null,null,null,null,null,null,null,null,null,null,537,"2017-06-20",2,null,"",null,null,537,"2017-06-20",2,null,""]
[null,2,null,null,null,null,null,null,null,null,null,null,null,null,null,null,null,null,null,null,null,538,"2017-06-21",2,null,"",null,null,538,"2017-06-21",2,null,""]
[null,2,null,null,null,null,null,null,null,null,null,null,null,null,null,null,null,null,null,null,null,539,"2017-06-22",2,null,"",null,null,539,"2017-06-22",2,null,""]
[null,2,null,null,null,null,null,null,null,null,null,null,null,null,null,null,null,null,null,null,null,540,"2017-06-23",2,null,"",null,null,540,"2017-06-23",2,null,""]
[null,2,null,null,null,null,null,null,null,null,null,null,null,null,null,null,null,null,null,null,null,541,"2017-06-24",2,null,"",null,null,541,"2017-06-24",2,null,""]
[null,2,null,null,null,null,null,null,null,null,null,null,null,null,null,null,null,null,null,null,null,542,"2017-06-25",2,null,"",null,null,542,"2017-06-25",2,null,""]
[null,2,null,null,null,null,null,null,null,null,null,null,null,null,null,null,null,null,null,null,null,543,"2017-06-26",2,null,"",null,null,543,"2017-06-26",2,null,""]
[null,2,null,null,null,null,null,null,null,null,null,null,null,null,null,null,null,null,null,null,null,544,"2017-06-27",2,null,"",null,null,544,"2017-06-27",2,null,""]
[null,2,null,null,null,null,null,null,null,null,null,null,null,null,null,null,null,null,null,null,null,545,"2017-06-28",2,null,"",null,null,545,"2017-06-28",2,null,""]
[null,2,null,null,null,null,null,null,null,null,null,null,null,null,null,null,null,null,null,null,null,546,"2017-06-29",2,null,"",null,null,546,"2017-06-29",2,null,""]
[null,2,null,null,null,null,null,null,null,null,null,null,null,null,null,null,null,null,null,null,null,547,"2017-06-30",2,null,"",null,null,547,"2017-06-30",2,null,""]
[null,2,null,null,null,null,null,null,null,null,null,null,null,null,null,null,null,null,null,null,null,548,"2017-07-01",2,null,"",null,null,548,"2017-07-01",2,null,""]
[null,2,null,null,null,null,null,null,null,null,null,null,null,null,null,null,null,null,null,null,null,549,"2017-07-02",2,null,"",null,null,549,"2017-07-02",2,null,""]
[null,2,null,null,null,null,null,null,null,null,null,null,null,null,null,null,null,null,null,null,null,550,"2017-07-03",2,null,"",null,null,550,"2017-07-03",2,null,""]
[null,2,null,null,null,null,null,null,null,null,null,null,null,null,null,null,null,null,null,null,null,551,"2017-07-04",2,null,"",null,null,551,"2017-07-04",2,null,""]
[null,2,null,null,null,null,null,null,null,null,null,null,null,null,null,null,null,null,null,null,null,552,"2017-07-05",2,null,"",null,null,552,"2017-07-05",2,null,""]
[null,2,null,null,null,null,null,null,null,null,null,null,null,null,null,null,null,null,null,null,null,553,"2017-07-06",2,null,"",null,null,553,"2017-07-06",2,null,""]
[null,2,null,null,null,null,null,null,null,null,null,null,null,null,null,null,null,null,null,null,null,554,"2017-07-07",2,null,"",null,null,554,"2017-07-07",2,null,""]
[null,2,null,null,null,null,null,null,null,null,null,null,null,null,null,null,null,null,null,null,null,555,"2017-07-08",2,null,"",null,null,555,"2017-07-08",2,null,""]
[null,2,null,null,null,null,null,null,null,null,null,null,null,null,null,null,null,null,null,null,null,556,"2017-07-09",2,null,"",null,null,556,"2017-07-09",2,null,""]
[null,2,null,null,null,null,null,null,null,null,null,null,null,null,null,null,null,null,null,null,null,557,"2017-07-10",2,null,"",null,null,557,"2017-07-10",2,null,""]
[null,2,null,null,null,null,null,null,null,null,null,null,null,null,null,null,null,null,null,null,null,558,"2017-07-11",2,null,"",null,null,558,"2017-07-11",2,null,""]
[null,2,null,null,null,null,null,null,null,null,null,null,null,null,null,null,null,null,null,null,null,559,"2017-07-12",2,null,"",null,null,559,"2017-07-12",2,null,""]
[null,2,null,null,null,null,null,null,null,null,null,null,null,null,null,null,null,null,null,null,null,560,"2017-07-13",2,null,"",null,null,560,"2017-07-13",2,null,""]
[null,2,null,null,null,null,null,null,null,null,null,null,null,null,null,null,null,null,null,null,null,561,"2017-07-14",2,null,"",null,null,561,"2017-07-14",2,null,""]
[null,{"$f":"B564","v":2},null,null,null,null,null,null,null,null,null,null,null,null,null,null,null,null,null,null,null,562,"2017-07-15",2,null,"",null,null,562,"2017-07-15",2,null,""]
[null,2,null,null,null,null,null,null,null,null,null,null,null,null,null,null,null,null,null,null,null,563,"2017-07-16",2,null,"",null,null,563,"2017-07-16",2,null,""]
[null,2,null,null,null,null,null,null,null,null,null,null,null,null,null,null,null,null,null,null,null,564,"2017-07-17",2,null,"",null,null,564,"2017-07-17",2,null,""]
[null,2,null,null,null,null,null,null,null,null,null,null,null,null,null,null,null,null,null,null,null,565,"2017-07-18",2,null,"",null,null,565,"2017-07-18",2,null,""]
[null,2,null,null,null,null,null,null,null,null,null,null,null,null,null,null,null,null,null,null,null,566,"2017-07-19",2,null,"",null,null,566,"2017-07-19",2,null,""]
[null,2,null,null,null,null,null,null,null,null,null,null,null,null,null,null,null,null,null,null,null,567,"2017-07-20",2,null,"",null,null,567,"2017-07-20",2,null,""]
[null,2,null,null,null,null,null,null,null,null,null,null,null,null,null,null,null,null,null,null,null,568,"2017-07-21",2,null,"",null,null,568,"2017-07-21",2,null,""]
[null,2,null,null,null,null,null,null,null,null,null,null,null,null,null,null,null,null,null,null,null,569,"2017-07-22",2,null,"",null,null,569,"2017-07-22",2,null,""]
[null,2,null,null,null,null,null,null,null,null,null,null,null,null,null,null,null,null,null,null,null,570,"2017-07-23",2,null,"",null,null,570,"2017-07-23",2,null,""]
[null,2,null,null,null,null,null,null,null,null,null,null,null,null,null,null,null,null,null,null,null,571,"2017-07-24",2,null,"",null,null,571,"2017-07-24",2,null,""]
[null,2,null,null,null,null,null,null,null,null,null,null,null,null,null,null,null,null,null,null,null,572,"2017-07-25",2,null,"",null,null,572,"2017-07-25",2,null,""]
[null,2,null,null,null,null,null,null,null,null,null,null,null,null,null,null,null,null,null,null,null,573,"2017-07-26",2,null,"",null,null,573,"2017-07-26",2,null,""]
[null,2,null,null,null,null,null,null,null,null,null,null,null,null,null,null,null,null,null,null,null,574,"2017-07-27",2,null,"",null,null,574,"2017-07-27",2,null,""]
[null,2,null,null,null,null,null,null,null,null,null,null,null,null,null,null,null,null,null,null,null,575,"2017-07-28",2,null,"",null,null,575,"2017-07-28",2,null,""]
[null,2,null,null,null,null,null,null,null,null,null,null,null,null,null,null,null,null,null,null,null,576,"2017-07-29",2,null,"",null,null,576,"2017-07-29",2,null,""]
[null,2,null,null,null,null,null,null,null,null,null,null,null,null,null,null,null,null,null,null,null,577,"2017-07-30",2,null,"",null,null,577,"2017-07-30",2,null,""]
[null,2,null,null,null,null,null,null,null,null,null,null,null,null,null,null,null,null,null,null,null,578,"2017-07-31",2,null,{"$f":"IF(X581=2,\"\",W581)","v":""},null,null,578,"2017-07-31",2,null,{"$f":"IF(AE581=2,\"\",AD581)","v":""}]
[null,2,null,null,null,null,null,null,null,null,null,null,null,null,null,null,null,null,null,null,null,579,"2017-08-01",{"$f":"X581","v":2},null,"",null,null,579,"2017-08-01",{"$f":"AE581","v":2},null,""]
[null,2,null,null,null,null,null,null,null,null,null,null,null,null,null,null,null,null,null,null,null,580,"2017-08-02",2,null,"",null,null,580,"2017-08-02",2,null,""]
[null,2,null,null,null,null,null,null,null,null,null,null,null,null,null,null,null,null,null,null,null,581,"2017-08-03",2,null,"",null,null,581,"2017-08-03",2,null,""]
[null,2,null,null,null,null,null,null,null,null,null,null,null,null,null,null,null,null,null,null,null,582,"2017-08-04",2,null,"",null,null,582,"2017-08-04",2,null,""]
[null,2,null,null,null,null,null,null,null,null,null,null,null,null,null,null,null,null,null,null,null,583,"2017-08-05",2,null,"",null,null,583,"2017-08-05",2,null,""]
[null,2,null,null,null,null,null,null,null,null,null,null,null,null,null,null,null,null,null,null,null,584,"2017-08-06",2,null,"",null,null,584,"2017-08-06",2,null,""]
[null,2,null,null,null,null,null,null,null,null,null,null,null,null,null,null,null,null,null,null,null,585,"2017-08-07",2,null,"",null,null,585,"2017-08-07",2,null,""]
[null,2,null,null,null,null,null,null,null,null,null,null,null,null,null,null,null,null,null,null,null,586,"2017-08-08",2,null,"",null,null,586,"2017-08-08",2,null,""]
[null,2,null,null,null,null,null,null,null,null,null,null,null,null,null,null,null,null,null,null,null,587,"2017-08-09",2,null,"",null,null,587,"2017-08-09",2,null,""]
[null,2,null,null,null,null,null,null,null,null,null,null,null,null,null,null,null,null,null,null,null,588,"2017-08-10",2,null,"",null,null,588,"2017-08-10",2,null,""]
[null,2,null,null,null,null,null,null,null,null,null,null,null,null,null,null,null,null,null,null,null,589,"2017-08-11",2,null,"",null,null,589,"2017-08-11",2,null,""]
[null,2,null,null,null,null,null,null,null,null,null,null,null,null,null,null,null,null,null,null,null,590,"2017-08-12",2,null,"",null,null,590,"2017-08-12",2,null,""]
[null,2,null,null,null,null,null,null,null,null,null,null,null,null,null,null,null,null,null,null,null,591,"2017-08-13",2,null,"",null,null,591,"2017-08-13",2,null,""]
[null,2,null,null,null,null,null,null,null,null,null,null,null,null,null,null,null,null,null,null,null,592,"2017-08-14",2,null,"",null,null,592,"2017-08-14",2,null,""]
[null,2,null,null,null,null,null,null,null,null,null,null,null,null,null,null,null,null,null,null,null,593,"2017-08-15",2,null,"",null,null,593,"2017-08-15",2,null,""]
[null,2,null,null,null,null,null,null,null,null,null,null,null,null,null,null,null,null,null,null,null,594,"2017-08-16",2,null,"",null,null,594,"2017-08-16",2,null,""]
[null,2,null,null,null,null,null,null,null,null,null,null,null,null,null,null,null,null,null,null,null,595,"2017-08-17",2,null,"",null,null,595,"2017-08-17",2,null,""]
[null,2,null,null,null,null,null,null,null,null,null,null,null,null,null,null,null,null,null,null,null,596,"2017-08-18",2,null,"",null,null,596,"2017-08-18",2,null,""]
[null,2,null,null,null,null,null,null,null,null,null,null,null,null,null,null,null,null,null,null,null,597,"2017-08-19",2,null,"",null,null,597,"2017-08-19",2,null,""]
[null,2,null,null,null,null,null,null,null,null,null,null,null,null,null,null,null,null,null,null,null,598,"2017-08-20",2,null,"",null,null,598,"2017-08-20",2,null,""]
[null,2,null,null,null,null,null,null,null,null,null,null,null,null,null,null,null,null,null,null,null,599,"2017-08-21",2,null,"",null,null,599,"2017-08-21",2,null,""]
[null,2,null,null,null,null,null,null,null,null,null,null,null,null,null,null,null,null,null,null,null,600,"2017-08-22",2,null,"",null,null,600,"2017-08-22",2,null,""]
[null,2,null,null,null,null,null,null,null,null,null,null,null,null,null,null,null,null,null,null,null,601,"2017-08-23",2,null,"",null,null,601,"2017-08-23",2,null,""]
[null,2,null,null,null,null,null,null,null,null,null,null,null,null,null,null,null,null,null,null,null,602,"2017-08-24",2,null,"",null,null,602,"2017-08-24",2,null,""]
[null,2,null,null,null,null,null,null,null,null,null,null,null,null,null,null,null,null,null,null,null,603,"2017-08-25",2,null,"",null,null,603,"2017-08-25",2,null,""]
[null,2,null,null,null,null,null,null,null,null,null,null,null,null,null,null,null,null,null,null,null,604,"2017-08-26",2,null,"",null,null,604,"2017-08-26",2,null,""]
[null,2,null,null,null,null,null,null,null,null,null,null,null,null,null,null,null,null,null,null,null,605,"2017-08-27",2,null,"",null,null,605,"2017-08-27",2,null,""]
[null,2,null,null,null,null,null,null,null,null,null,null,null,null,null,null,null,null,null,null,null,606,"2017-08-28",2,null,"",null,null,606,"2017-08-28",2,null,""]
[null,2,null,null,null,null,null,null,null,null,null,null,null,null,null,null,null,null,null,null,null,607,"2017-08-29",2,null,"",null,null,607,"2017-08-29",2,null,""]
[null,2,null,null,null,null,null,null,null,null,null,null,null,null,null,null,null,null,null,null,null,608,"2017-08-30",2,null,"",null,null,608,"2017-08-30",2,null,""]
[null,2,null,null,null,null,null,null,null,null,null,null,null,null,null,null,null,null,null,null,null,609,"2017-08-31",2,null,"",null,null,609,"2017-08-31",2,null,""]
[null,2,null,null,null,null,null,null,null,null,null,null,null,null,null,null,null,null,null,null,null,610,"2017-09-01",2,null,"",null,null,610,"2017-09-01",2,null,""]
[null,2,null,null,null,null,null,null,null,null,null,null,null,null,null,null,null,null,null,null,null,611,"2017-09-02",2,null,"",null,null,611,"2017-09-02",2,null,""]
[null,2,null,null,null,null,null,null,null,null,null,null,null,null,null,null,null,null,null,null,null,612,"2017-09-03",2,null,"",null,null,612,"2017-09-03",2,null,""]
[null,2,null,null,null,null,null,null,null,null,null,null,null,null,null,null,null,null,null,null,null,613,"2017-09-04",2,null,"",null,null,613,"2017-09-04",2,null,""]
[null,2,null,null,null,null,null,null,null,null,null,null,null,null,null,null,null,null,null,null,null,614,"2017-09-05",2,null,"",null,null,614,"2017-09-05",2,null,""]
[null,2,null,null,null,null,null,null,null,null,null,null,null,null,null,null,null,null,null,null,null,615,"2017-09-06",2,null,"",null,null,615,"2017-09-06",2,null,""]
[null,2,null,null,null,null,null,null,null,null,null,null,null,null,null,null,null,null,null,null,null,616,"2017-09-07",2,null,"",null,null,616,"2017-09-07",2,null,""]
[null,2,null,null,null,null,null,null,null,null,null,null,null,null,null,null,null,null,null,null,null,617,"2017-09-08",2,null,"",null,null,617,"2017-09-08",2,null,""]
[null,2,null,null,null,null,null,null,null,null,null,null,null,null,null,null,null,null,null,null,null,618,"2017-09-09",2,null,"",null,null,618,"2017-09-09",2,null,""]
[null,2,null,null,null,null,null,null,null,null,null,null,null,null,null,null,null,null,null,null,null,619,"2017-09-10",2,null,"",null,null,619,"2017-09-10",2,null,""]
[null,2,null,null,null,null,null,null,null,null,null,null,null,null,null,null,null,null,null,null,null,620,"2017-09-11",2,null,"",null,null,620,"2017-09-11",2,null,""]
[null,2,null,null,null,null,null,null,null,null,null,null,null,null,null,null,null,null,null,null,null,621,"2017-09-12",2,null,"",null,null,621,"2017-09-12",2,null,""]
[null,2,null,null,null,null,null,null,null,null,null,null,null,null,null,null,null,null,null,null,null,622,"2017-09-13",2,null,"",null,null,622,"2017-09-13",2,null,""]
[null,2,null,null,null,null,null,null,null,null,null,null,null,null,null,null,null,null,null,null,null,623,"2017-09-14",2,null,"",null,null,623,"2017-09-14",2,null,""]
[null,2,null,null,null,null,null,null,null,null,null,null,null,null,null,null,null,null,null,null,null,624,"2017-09-15",2,null,"",null,null,624,"2017-09-15",2,null,""]
[null,2,null,null,null,null,null,null,null,null,null,null,null,null,null,null,null,null,null,null,null,625,"2017-09-16",2,null,"",null,null,625,"2017-09-16",2,null,""]
[null,{"$f":"B628","v":2},null,null,null,null,null,null,null,null,null,null,null,null,null,null,null,null,null,null,null,626,"2017-09-17",2,null,"",null,null,626,"2017-09-17",2,null,""]
[null,2,null,null,null,null,null,null,null,null,null,null,null,null,null,null,null,null,null,null,null,627,"2017-09-18",2,null,"",null,null,627,"2017-09-18",2,null,""]
[null,2,null,null,null,null,null,null,null,null,null,null,null,null,null,null,null,null,null,null,null,628,"2017-09-19",2,null,"",null,null,628,"2017-09-19",2,null,""]
[null,2,null,null,null,null,null,null,null,null,null,null,null,null,null,null,null,null,null,null,null,629,"2017-09-20",2,null,"",null,null,629,"2017-09-20",2,null,""]
[null,2,null,null,null,null,null,null,null,null,null,null,null,null,null,null,null,null,null,null,null,630,"2017-09-21",2,null,"",null,null,630,"2017-09-21",2,null,""]
[null,2,null,null,null,null,null,null,null,null,null,null,null,null,null,null,null,null,null,null,null,631,"2017-09-22",2,null,"",null,null,631,"2017-09-22",2,null,""]
[null,2,null,null,null,null,null,null,null,null,null,null,null,null,null,null,null,null,null,null,null,632,"2017-09-23",2,null,"",null,null,632,"2017-09-23",2,null,""]
[null,2,null,null,null,null,null,null,null,null,null,null,null,null,null,null,null,null,null,null,null,633,"2017-09-24",2,null,"",null,null,633,"2017-09-24",2,null,""]
[null,2,null,null,null,null,null,null,null,null,null,null,null,null,null,null,null,null,null,null,null,634,"2017-09-25",2,null,"",null,null,634,"2017-09-25",2,null,""]
[null,2,null,null,null,null,null,null,null,null,null,null,null,null,null,null,null,null,null,null,null,635,"2017-09-26",2,null,"",null,null,635,"2017-09-26",2,null,""]
[null,2,null,null,null,null,null,null,null,null,null,null,null,null,null,null,null,null,null,null,null,636,"2017-09-27",2,null,"",null,null,636,"2017-09-27",2,null,""]
[null,2,null,null,null,null,null,null,null,null,null,null,null,null,null,null,null,null,null,null,null,637,"2017-09-28",2,null,"",null,null,637,"2017-09-28",2,null,""]
[null,2,null,null,null,null,null,null,null,null,null,null,null,null,null,null,null,null,null,null,null,638,"2017-09-29",2,null,"",null,null,638,"2017-09-29",2,null,""]
[null,2,null,null,null,null,null,null,null,null,null,null,null,null,null,null,null,null,null,null,null,639,"2017-09-30",2,null,"",null,null,639,"2017-09-30",2,null,""]
[null,2,null,null,null,null,null,null,null,null,null,null,null,null,null,null,null,null,null,null,null,640,"2017-10-01",2,null,"",null,null,640,"2017-10-01",2,null,""]
[null,2,null,null,null,null,null,null,null,null,null,null,null,null,null,null,null,null,null,null,null,641,"2017-10-02",2,null,"",null,null,641,"2017-10-02",2,null,""]
[null,2,null,null,null,null,null,null,null,null,null,null,null,null,null,null,null,null,null,null,null,642,"2017-10-03",2,null,{"$f":"IF(X645=2,\"\",W645)","v":""},null,null,642,"2017-10-03",2,null,{"$f":"IF(AE645=2,\"\",AD645)","v":""}]
[null,2,null,null,null,null,null,null,null,null,null,null,null,null,null,null,null,null,null,null,null,643,"2017-10-04",{"$f":"X645","v":2},null,"",null,null,643,"2017-10-04",{"$f":"AE645","v":2},null,""]
[null,2,null,null,null,null,null,null,null,null,null,null,null,null,null,null,null,null,null,null,null,644,"2017-10-05",2,null,"",null,null,644,"2017-10-05",2,null,""]
[null,2,null,null,null,null,null,null,null,null,null,null,null,null,null,null,null,null,null,null,null,645,"2017-10-06",2,null,"",null,null,645,"2017-10-06",2,null,""]
[null,2,null,null,null,null,null,null,null,null,null,null,null,null,null,null,null,null,null,null,null,646,"2017-10-07",2,null,"",null,null,646,"2017-10-07",2,null,""]
[null,2,null,null,null,null,null,null,null,null,null,null,null,null,null,null,null,null,null,null,null,647,"2017-10-08",2,null,"",null,null,647,"2017-10-08",2,null,""]
[null,2,null,null,null,null,null,null,null,null,null,null,null,null,null,null,null,null,null,null,null,648,"2017-10-09",2,null,"",null,null,648,"2017-10-09",2,null,""]
[null,2,null,null,null,null,null,null,null,null,null,null,null,null,null,null,null,null,null,null,null,649,"2017-10-10",2,null,"",null,null,649,"2017-10-10",2,null,""]
[null,2,null,null,null,null,null,null,null,null,null,null,null,null,null,null,null,null,null,null,null,650,"2017-10-11",2,null,"",null,null,650,"2017-10-11",2,null,""]
[null,2,null,null,null,null,null,null,null,null,null,null,null,null,null,null,null,null,null,null,null,651,"2017-10-12",2,null,"",null,null,651,"2017-10-12",2,null,""]
[null,2,null,null,null,null,null,null,null,null,null,null,null,null,null,null,null,null,null,null,null,652,"2017-10-13",2,null,"",null,null,652,"2017-10-13",2,null,""]
[null,2,null,null,null,null,null,null,null,null,null,null,null,null,null,null,null,null,null,null,null,653,"2017-10-14",2,null,"",null,null,653,"2017-10-14",2,null,""]
[null,2,null,null,null,null,null,null,null,null,null,null,null,null,null,null,null,null,null,null,null,654,"2017-10-15",2,null,"",null,null,654,"2017-10-15",2,null,""]
[null,2,null,null,null,null,null,null,null,null,null,null,null,null,null,null,null,null,null,null,null,655,"2017-10-16",2,null,"",null,null,655,"2017-10-16",2,null,""]
[null,2,null,null,null,null,null,null,null,null,null,null,null,null,null,null,null,null,null,null,null,656,"2017-10-17",2,null,"",null,null,656,"2017-10-17",2,null,""]
[null,2,null,null,null,null,null,null,null,null,null,null,null,null,null,null,null,null,null,null,null,657,"2017-10-18",2,null,"",null,null,657,"2017-10-18",2,null,""]
[null,2,null,null,null,null,null,null,null,null,null,null,null,null,null,null,null,null,null,null,null,658,"2017-10-19",2,null,"",null,null,658,"2017-10-19",2,null,""]
[null,2,null,null,null,null,null,null,null,null,null,null,null,null,null,null,null,null,null,null,null,659,"2017-10-20",2,null,"",null,null,659,"2017-10-20",2,null,""]
[null,2,null,null,null,null,null,null,null,null,null,null,null,null,null,null,null,null,null,null,null,660,"2017-10-21",2,null,"",null,null,660,"2017-10-21",2,null,""]
[null,2,null,null,null,null,null,null,null,null,null,null,null,null,null,null,null,null,null,null,null,661,"2017-10-22",2,null,"",null,null,661,"2017-10-22",2,null,""]
[null,2,null,null,null,null,null,null,null,null,null,null,null,null,null,null,null,null,null,null,null,662,"2017-10-23",2,null,"",null,null,662,"2017-10-23",2,null,""]
[null,2,null,null,null,null,null,null,null,null,null,null,null,null,null,null,null,null,null,null,null,663,"2017-10-24",2,null,"",null,null,663,"2017-10-24",2,null,""]
[null,2,null,null,null,null,null,null,null,null,null,null,null,null,null,null,null,null,null,null,null,664,"2017-10-25",2,null,"",null,null,664,"2017-10-25",2,null,""]
[null,2,null,null,null,null,null,null,null,null,null,null,null,null,null,null,null,null,null,null,null,665,"2017-10-26",2,null,"",null,null,665,"2017-10-26",2,null,""]
[null,2,null,null,null,null,null,null,null,null,null,null,null,null,null,null,null,null,null,null,null,666,"2017-10-27",2,null,"",null,null,666,"2017-10-27",2,null,""]
[null,2,null,null,null,null,null,null,null,null,null,null,null,null,null,null,null,null,null,null,null,667,"2017-10-28",2,null,"",null,null,667,"2017-10-28",2,null,""]
[null,2,null,null,null,null,null,null,null,null,null,null,null,null,null,null,null,null,null,null,null,668,"2017-10-29",2,null,"",null,null,668,"2017-10-29",2,null,""]
[null,2,null,null,null,null,null,null,null,null,null,null,null,null,null,null,null,null,null,null,null,669,"2017-10-30",2,null,"",null,null,669,"2017-10-30",2,null,""]
[null,2,null,null,null,null,null,null,null,null,null,null,null,null,null,null,null,null,null,null,null,670,"2017-10-31",2,null,"",null,null,670,"2017-10-31",2,null,""]
[null,2,null,null,null,null,null,null,null,null,null,null,null,null,null,null,null,null,null,null,null,671,"2017-11-01",2,null,"",null,null,671,"2017-11-01",2,null,""]
[null,2,null,null,null,null,null,null,null,null,null,null,null,null,null,null,null,null,null,null,null,672,"2017-11-02",2,null,"",null,null,672,"2017-11-02",2,null,""]
[null,2,null,null,null,null,null,null,null,null,null,null,null,null,null,null,null,null,null,null,null,673,"2017-11-03",2,null,"",null,null,673,"2017-11-03",2,null,""]
[null,2,null,null,null,null,null,null,null,null,null,null,null,null,null,null,null,null,null,null,null,674,"2017-11-04",2,null,"",null,null,674,"2017-11-04",2,null,""]
[null,2,null,null,null,null,null,null,null,null,null,null,null,null,null,null,null,null,null,null,null,675,"2017-11-05",2,null,"",null,null,675,"2017-11-05",2,null,""]
[null,2,null,null,null,null,null,null,null,null,null,null,null,null,null,null,null,null,null,null,null,676,"2017-11-06",2,null,"",null,null,676,"2017-11-06",2,null,""]
[null,2,null,null,null,null,null,null,null,null,null,null,null,null,null,null,null,null,null,null,null,677,"2017-11-07",2,null,"",null,null,677,"2017-11-07",2,null,""]
[null,2,null,null,null,null,null,null,null,null,null,null,null,null,null,null,null,null,null,null,null,678,"2017-11-08",2,null,"",null,null,678,"2017-11-08",2,null,""]
[null,2,null,null,null,null,null,null,null,null,null,null,null,null,null,null,null,null,null,null,null,679,"2017-11-09",2,null,"",null,null,679,"2017-11-09",2,null,""]
[null,2,null,null,null,null,null,null,null,null,null,null,null,null,null,null,null,null,null,null,null,680,"2017-11-10",2,null,"",null,null,680,"2017-11-10",2,null,""]
[null,2,null,null,null,null,null,null,null,null,null,null,null,null,null,null,null,null,null,null,null,681,"2017-11-11",2,null,"",null,null,681,"2017-11-11",2,null,""]
[null,2,null,null,null,null,null,null,null,null,null,null,null,null,null,null,null,null,null,null,null,682,"2017-11-12",2,null,"",null,null,682,"2017-11-12",2,null,""]
[null,2,null,null,null,null,null,null,null,null,null,null,null,null,null,null,null,null,null,null,null,683,"2017-11-13",2,null,"",null,null,683,"2017-11-13",2,null,""]
[null,2,null,null,null,null,null,null,null,null,null,null,null,null,null,null,null,null,null,null,null,684,"2017-11-14",2,null,"",null,null,684,"2017-11-14",2,null,""]
[null,2,null,null,null,null,null,null,null,null,null,null,null,null,null,null,null,null,null,null,null,685,"2017-11-15",2,null,"",null,null,685,"2017-11-15",2,null,""]
[null,2,null,null,null,null,null,null,null,null,null,null,null,null,null,null,null,null,null,null,null,686,"2017-11-16",2,null,"",null,null,686,"2017-11-16",2,null,""]
[null,2,null,null,null,null,null,null,null,null,null,null,null,null,null,null,null,null,null,null,null,687,"2017-11-17",2,null,"",null,null,687,"2017-11-17",2,null,""]
[null,2,null,null,null,null,null,null,null,null,null,null,null,null,null,null,null,null,null,null,null,688,"2017-11-18",2,null,"",null,null,688,"2017-11-18",2,null,""]
[null,2,null,null,null,null,null,null,null,null,null,null,null,null,null,null,null,null,null,null,null,689,"2017-11-19",2,null,"",null,null,689,"2017-11-19",2,null,""]
[null,{"$f":"B692","v":2},null,null,null,null,null,null,null,null,null,null,null,null,null,null,null,null,null,null,null,690,"2017-11-20",2,null,"",null,null,690,"2017-11-20",2,null,""]
[null,2,null,null,null,null,null,null,null,null,null,null,null,null,null,null,null,null,null,null,null,691,"2017-11-21",2,null,"",null,null,691,"2017-11-21",2,null,""]
[null,2,null,null,null,null,null,null,null,null,null,null,null,null,null,null,null,null,null,null,null,692,"2017-11-22",2,null,"",null,null,692,"2017-11-22",2,null,""]
[null,2,null,null,null,null,null,null,null,null,null,null,null,null,null,null,null,null,null,null,null,693,"2017-11-23",2,null,"",null,null,693,"2017-11-23",2,null,""]
[null,2,null,null,null,null,null,null,null,null,null,null,null,null,null,null,null,null,null,null,null,694,"2017-11-24",2,null,"",null,null,694,"2017-11-24",2,null,""]
[null,2,null,null,null,null,null,null,null,null,null,null,null,null,null,null,null,null,null,null,null,695,"2017-11-25",2,null,"",null,null,695,"2017-11-25",2,null,""]
[null,2,null,null,null,null,null,null,null,null,null,null,null,null,null,null,null,null,null,null,null,696,"2017-11-26",2,null,"",null,null,696,"2017-11-26",2,null,""]
[null,2,null,null,null,null,null,null,null,null,null,null,null,null,null,null,null,null,null,null,null,697,"2017-11-27",2,null,"",null,null,697,"2017-11-27",2,null,""]
[null,2,null,null,null,null,null,null,null,null,null,null,null,null,null,null,null,null,null,null,null,698,"2017-11-28",2,null,"",null,null,698,"2017-11-28",2,null,""]
[null,2,null,null,null,null,null,null,null,null,null,null,null,null,null,null,null,null,null,null,null,699,"2017-11-29",2,null,"",null,null,699,"2017-11-29",2,null,""]
[null,2,null,null,null,null,null,null,null,null,null,null,null,null,null,null,null,null,null,null,null,700,"2017-11-30",2,null,"",null,null,700,"2017-11-30",2,null,""]
[null,2,null,null,null,null,null,null,null,null,null,null,null,null,null,null,null,null,null,null,null,701,"2017-12-01",2,null,"",null,null,701,"2017-12-01",2,null,""]
[null,2,null,null,null,null,null,null,null,null,null,null,null,null,null,null,null,null,null,null,null,702,"2017-12-02",2,null,"",null,null,702,"2017-12-02",2,null,""]
[null,2,null,null,null,null,null,null,null,null,null,null,null,null,null,null,null,null,null,null,null,703,"2017-12-03",2,null,"",null,null,703,"2017-12-03",2,null,""]
[null,2,null,null,null,null,null,null,null,null,null,null,null,null,null,null,null,null,null,null,null,704,"2017-12-04",2,null,"",null,null,704,"2017-12-04",2,null,""]
[null,2,null,null,null,null,null,null,null,null,null,null,null,null,null,null,null,null,null,null,null,705,"2017-12-05",2,null,"",null,null,705,"2017-12-05",2,null,""]
[null,2,null,null,null,null,null,null,null,null,null,null,null,null,null,null,null,null,null,null,null,706,"2017-12-06",2,null,{"$f":"IF(X709=2,\"\",W709)","v":""},null,null,706,"2017-12-06",2,null,{"$f":"IF(AE709=2,\"\",AD709)","v":""}]
[null,2,null,null,null,null,null,null,null,null,null,null,null,null,null,null,null,null,null,null,null,707,"2017-12-07",{"$f":"X709","v":2},null,"",null,null,707,"2017-12-07",{"$f":"AE709","v":2},null,""]
[null,2,null,null,null,null,null,null,null,null,null,null,null,null,null,null,null,null,null,null,null,708,"2017-12-08",2,null,"",null,null,708,"2017-12-08",2,null,""]
[null,2,null,null,null,null,null,null,null,null,null,null,null,null,null,null,null,null,null,null,null,709,"2017-12-09",2,null,"",null,null,709,"2017-12-09",2,null,""]
[null,2,null,null,null,null,null,null,null,null,null,null,null,null,null,null,null,null,null,null,null,710,"2017-12-10",2,null,"",null,null,710,"2017-12-10",2,null,""]
[null,2,null,null,null,null,null,null,null,null,null,null,null,null,null,null,null,null,null,null,null,711,"2017-12-11",2,null,"",null,null,711,"2017-12-11",2,null,""]
[null,2,null,null,null,null,null,null,null,null,null,null,null,null,null,null,null,null,null,null,null,712,"2017-12-12",2,null,"",null,null,712,"2017-12-12",2,null,""]
[null,2,null,null,null,null,null,null,null,null,null,null,null,null,null,null,null,null,null,null,null,713,"2017-12-13",2,null,"",null,null,713,"2017-12-13",2,null,""]
[null,2,null,null,null,null,null,null,null,null,null,null,null,null,null,null,null,null,null,null,null,714,"2017-12-14",2,null,"",null,null,714,"2017-12-14",2,null,""]
[null,2,null,null,null,null,null,null,null,null,null,null,null,null,null,null,null,null,null,null,null,715,"2017-12-15",2,null,"",null,null,715,"2017-12-15",2,null,""]
[null,2,null,null,null,null,null,null,null,null,null,null,null,null,null,null,null,null,null,null,null,716,"2017-12-16",2,null,"",null,null,716,"2017-12-16",2,null,""]
[null,2,null,null,null,null,null,null,null,null,null,null,null,null,null,null,null,null,null,null,null,717,"2017-12-17",2,null,"",null,null,717,"2017-12-17",2,null,""]
[null,2,null,null,null,null,null,null,null,null,null,null,null,null,null,null,null,null,null,null,null,718,"2017-12-18",2,null,"",null,null,718,"2017-12-18",2,null,""]
[null,2,null,null,null,null,null,null,null,null,null,null,null,null,null,null,null,null,null,null,null,719,"2017-12-19",2,null,"",null,null,719,"2017-12-19",2,null,""]
[null,2,null,null,null,null,null,null,null,null,null,null,null,null,null,null,null,null,null,null,null,720,"2017-12-20",2,null,"",null,null,720,"2017-12-20",2,null,""]
[null,2,null,null,null,null,null,null,null,null,null,null,null,null,null,null,null,null,null,null,null,721,"2017-12-21",2,null,"",null,null,721,"2017-12-21",2,null,""]
[null,2,null,null,null,null,null,null,null,null,null,null,null,null,null,null,null,null,null,null,null,722,"2017-12-22",2,null,"",null,null,722,"2017-12-22",2,null,""]
[null,2,null,null,null,null,null,null,null,null,null,null,null,null,null,null,null,null,null,null,null,723,"2017-12-23",2,null,"",null,null,723,"2017-12-23",2,null,""]
[null,2,null,null,null,null,null,null,null,null,null,null,null,null,null,null,null,null,null,null,null,724,"2017-12-24",2,null,"",null,null,724,"2017-12-24",2,null,""]
[null,2,null,null,null,null,null,null,null,null,null,null,null,null,null,null,null,null,null,null,null,725,"2017-12-25",2,null,"",null,null,725,"2017-12-25",2,null,""]
[null,2,null,null,null,null,null,null,null,null,null,null,null,null,null,null,null,null,null,null,null,726,"2017-12-26",2,null,"",null,null,726,"2017-12-26",2,null,""]
[null,2,null,null,null,null,null,null,null,null,null,null,null,null,null,null,null,null,null,null,null,727,"2017-12-27",2,null,"",null,null,727,"2017-12-27",2,null,""]
[null,2,null,null,null,null,null,null,null,null,null,null,null,null,null,null,null,null,null,null,null,728,"2017-12-28",2,null,"",null,null,728,"2017-12-28",2,null,""]
[null,2,null,null,null,null,null,null,null,null,null,null,null,null,null,null,null,null,null,null,null,729,"2017-12-29",2,null,"",null,null,729,"2017-12-29",2,null,""]
[null,2,null,null,null,null,null,null,null,null,null,null,null,null,null,null,null,null,null,null,null,730,"2017-12-30",2,null,"",null,null,730,"2017-12-30",2,null,""]
[null,2,null,null,null,null,null,null,null,null,null,null,null,null,null,null,null,null,null,null,null,731,"2017-12-31",2,null,"",null,null,731,"2017-12-31",2,null,""]
[null,2,null,null,null,null,null,null,null,null,null,null,null,null,null,null,null,null,null,null,null,732,"2018-01-01",2,null,"",null,null,732,"2018-01-01",2,null,""]
[null,2,null,null,null,null,null,null,null,null,null,null,null,null,null,null,null,null,null,null,null,733,"2018-01-02",2,null,"",null,null,733,"2018-01-02",2,null,""]
[null,2,null,null,null,null,null,null,null,null,null,null,null,null,null,null,null,null,null,null,null,734,"2018-01-03",2,null,"",null,null,734,"2018-01-03",2,null,""]
[null,2,null,null,null,null,null,null,null,null,null,null,null,null,null,null,null,null,null,null,null,735,"2018-01-04",2,null,"",null,null,735,"2018-01-04",2,null,""]
[null,2,null,null,null,null,null,null,null,null,null,null,null,null,null,null,null,null,null,null,null,736,"2018-01-05",2,null,"",null,null,736,"2018-01-05",2,null,""]
[null,2,null,null,null,null,null,null,null,null,null,null,null,null,null,null,null,null,null,null,null,737,"2018-01-06",2,null,"",null,null,737,"2018-01-06",2,null,""]
[null,2,null,null,null,null,null,null,null,null,null,null,null,null,null,null,null,null,null,null,null,738,"2018-01-07",2,null,"",null,null,738,"2018-01-07",2,null,""]
[null,2,null,null,null,null,null,null,null,null,null,null,null,null,null,null,null,null,null,null,null,739,"2018-01-08",2,null,"",null,null,739,"2018-01-08",2,null,""]
[null,2,null,null,null,null,null,null,null,null,null,null,null,null,null,null,null,null,null,null,null,740,"2018-01-09",2,null,"",null,null,740,"2018-01-09",2,null,""]
[null,2,null,null,null,null,null,null,null,null,null,null,null,null,null,null,null,null,null,null,null,741,"2018-01-10",2,null,"",null,null,741,"2018-01-10",2,null,""]
[null,2,null,null,null,null,null,null,null,null,null,null,null,null,null,null,null,null,null,null,null,742,"2018-01-11",2,null,"",null,null,742,"2018-01-11",2,null,""]
[null,2,null,null,null,null,null,null,null,null,null,null,null,null,null,null,null,null,null,null,null,743,"2018-01-12",2,null,"",null,null,743,"2018-01-12",2,null,""]
[null,2,null,null,null,null,null,null,null,null,null,null,null,null,null,null,null,null,null,null,null,744,"2018-01-13",2,null,"",null,null,744,"2018-01-13",2,null,""]
[null,2,null,null,null,null,null,null,null,null,null,null,null,null,null,null,null,null,null,null,null,745,"2018-01-14",2,null,"",null,null,745,"2018-01-14",2,null,""]
[null,2,null,null,null,null,null,null,null,null,null,null,null,null,null,null,null,null,null,null,null,746,"2018-01-15",2,null,"",null,null,746,"2018-01-15",2,null,""]
[null,2,null,null,null,null,null,null,null,null,null,null,null,null,null,null,null,null,null,null,null,747,"2018-01-16",2,null,"",null,null,747,"2018-01-16",2,null,""]
[null,2,null,null,null,null,null,null,null,null,null,null,null,null,null,null,null,null,null,null,null,748,"2018-01-17",2,null,"",null,null,748,"2018-01-17",2,null,""]
[null,2,null,null,null,null,null,null,null,null,null,null,null,null,null,null,null,null,null,null,null,749,"2018-01-18",2,null,"",null,null,749,"2018-01-18",2,null,""]
[null,2,null,null,null,null,null,null,null,null,null,null,null,null,null,null,null,null,null,null,null,750,"2018-01-19",2,null,"",null,null,750,"2018-01-19",2,null,""]
[null,2,null,null,null,null,null,null,null,null,null,null,null,null,null,null,null,null,null,null,null,751,"2018-01-20",2,null,"",null,null,751,"2018-01-20",2,null,""]
[null,2,null,null,null,null,null,null,null,null,null,null,null,null,null,null,null,null,null,null,null,752,"2018-01-21",2,null,"",null,null,752,"2018-01-21",2,null,""]
[null,2,null,null,null,null,null,null,null,null,null,null,null,null,null,null,null,null,null,null,null,753,"2018-01-22",2,null,"",null,null,753,"2018-01-22",2,null,""]
[null,{"$f":"B756","v":2},null,null,null,null,null,null,null,null,null,null,null,null,null,null,null,null,null,null,null,754,"2018-01-23",2,null,"",null,null,754,"2018-01-23",2,null,""]
[null,2,null,null,null,null,null,null,null,null,null,null,null,null,null,null,null,null,null,null,null,755,"2018-01-24",2,null,"",null,null,755,"2018-01-24",2,null,""]
[null,2,null,null,null,null,null,null,null,null,null,null,null,null,null,null,null,null,null,null,null,756,"2018-01-25",2,null,"",null,null,756,"2018-01-25",2,null,""]
[null,2,null,null,null,null,null,null,null,null,null,null,null,null,null,null,null,null,null,null,null,757,"2018-01-26",2,null,"",null,null,757,"2018-01-26",2,null,""]
[null,2,null,null,null,null,null,null,null,null,null,null,null,null,null,null,null,null,null,null,null,758,"2018-01-27",2,null,"",null,null,758,"2018-01-27",2,null,""]
[null,2,null,null,null,null,null,null,null,null,null,null,null,null,null,null,null,null,null,null,null,759,"2018-01-28",2,null,"",null,null,759,"2018-01-28",2,null,""]
[null,2,null,null,null,null,null,null,null,null,null,null,null,null,null,null,null,null,null,null,null,760,"2018-01-29",2,null,"",null,null,760,"2018-01-29",2,null,""]
[null,2,null,null,null,null,null,null,null,null,null,null,null,null,null,null,null,null,null,null,null,761,"2018-01-30",2,null,"",null,null,761,"2018-01-30",2,null,""]
[null,2,null,null,null,null,null,null,null,null,null,null,null,null,null,null,null,null,null,null,null,762,"2018-01-31",2,null,"",null,null,762,"2018-01-31",2,null,""]
[null,2]
[null,2]
[null,2]
[null,2]
[null,2]
[null,2]
[null,2]
[null,2]
[null,2]
[null,2]
[null,2]
[null,2]
[null,2]
[null,2]
[null,2]
[null,2]
[null,2]
[null,2]
[null,2]
[null,2]
[null,2]
[null,2]
[null,2]
[null,2]
[null,2]
[null,2]
[null,2]
[null,2]
[null,2]
[null,2]
[null,2]
[null,2]
[null,2]
[null,2]
[null,2]
[null,2]

{"sheet":"DA 2.3","index":2,"n_rows":586,"n_cols":78,"rows_kept":586,"cut":false,"hidden":true,"merged":[[3,39,3,44],[3,11,3,14],[3,15,3,18],[3,19,3,22],[3,23,3,26],[3,27,3,30],[3,31,3,34],[3,35,3,38],[3,69,3,70],[3,71,3,72],[2,63,2,68],[3,48,3,58],[3,63,3,64],[3,65,3,66],[3,67,3,68]]}
[null,null,"manual",null,null,null,null,"DA2",null,"DA DIF",{"$f":"ROUND(SUM(U1+BH6),0)","v":19993},null,null,"PF","CPS","SL",1,{"$f":"IF(K2=0,\"\",IF('DATA 1'!S11=\"CPS\",\"\",\"Cash\"))","v":""},2,null,{"$f":"IF('DA 1.2'!I17<4,ROUND(SUM(K6:K767),0),0)","v":0},{"$f":"IF('DA 1.2'!I17<4,ROUND(SUM(K6:K402),0),0)","v":0},{"$f":"IF('DA 1.2'!I17<4,SUM(AU6:AU586),0)","v":0},{"$f":"IF('DA 1.2'!I17<4,K3-L3,0)","v":0},{"$f":"IF('DA 1.2'!I17<4,K3-M3,0)","v":0},"FOR AAS/PROMO EMPLOYEES"]
[null,null,"GROSS","PF/CPS",2,1,"Yes",null,null,"SL DIF",{"$f":"BG6","v":0},"PF","CPS","NET","NET",null,2,{"$f":"IF(K2=0,\"\",IF('DATA 1'!S11=\"CPS\",\"\",\"PF\"))","v":""},null,null,"DIFF","PF","CPS","PF NET","CPS NET",null,null,null,null,null,null,null,null,null,null,null,null,null,null,null,null,null,null,null,null,{"$f":"SUM(AS3+AV3)","v":19996.102121000113}]
[null,null,{"$f":"'DATA 1'!R28","v":0},{"$f":"'DATA 1'!S28","v":0},null,2,"No",null,null,"GROSS",{"$f":"IF(E2=1,C3,SUM(K1:K2))","v":19993},{"$f":"IF(E2=1,D3,IF(S1=2,IF(E2=1,D3,ROUND(SUM(V1+BI6),0))+K2,IF(E2=1,D3,ROUND(SUM(V1+BI6),0))))","v":18557},{"$f":"ROUND(IF(E2=1,C3,SUM(W1+BX6)),0)","v":2004},{"$f":"X1+BJ6","v":1436},{"$f":"Y1+BY3","v":17986},null,null,null,null,null,null,null,null,null,null,null,null,null,null,null,null,null,null,null,null,null,null,null,null,null,null,null,null,null,{"$f":"SUM(AS6:AS586)","v":0},0,{"$f":"SUM(AU6:AU586)","v":1999.6101740000126},{"$f":"SUM(AV6:AV586)","v":19996.102121000113},null,{"$f":"IF(AW31<'DA 1.2'!G8,1,0)","v":1},{"$f":"IF(AX3=1,VLOOKUP(AW31,B6:C767,2),0)","v":39160},null,null,null,null,null,null,null,null,null,null,null,null,"FOR NON AAS / PROMOTIONS (CPS EMPLOYEES)",null,null,null,null,null,null,null,null,null,null,null,null,{"$f":"BY4+BW6","v":17986}]
[null,null,null,null,"feb days change",null,null,null,null,null,null,"BASIC PAY FROM 01-07-2016",null,null,null,"INCREMENT 1 B.PAY",null,null,null,"INCREMENT 2 B.PAY",null,null,null,"INCREMENT 3 B.PAY",null,null,null,"INCREMENT 4 B.PAY",null,null,null,"INCREMENT 5 B.PAY",null,null,null,"INCREMENT 6 B.PAY",null,null,null,"SURRENDER LEAVE DIFF",null,null,null,null,null,null,null,1,"FOR NON AAS / PROMOTIONS (PF EMPLOYEES)",null,null,null,null,null,null,null,null,null,null,{"$f":"SUM(BF6:BF30)","v":19993},{"$f":"SUM(BF6:BF18)","v":18557},{"$f":"BK4-BI4","v":1436},{"$f":"BH4+BG6","v":19993},"TD",null,"AD",null,"DIFF",null,{"$f":"BB5","v":"AAS"},null,"PROMO",null,null,{"$f":"BG6","v":0},{"$f":"SUM(BP6:BP30)+SUM(BR6:BR30)+SUM(BT6:BT30)","v":2004},{"$f":"SUM(BQ6:BQ24)+SUM(BS6:BS24)+SUM(BU6:BU24)","v":17986},{"$f":"BY4+BX4+BW4","v":19990}]
[null,"DATE","BASIC PAY","MONTH","DAY IN MONTH","BASIC PAY FOR DAYS","NEW DA","OLD DA","ELIGIBLE","DRAWN","DIFF","FROM","TO","ORIGINAL","CALCU","FROM","TO","ORIGINAL","CALCU","FROM","TO","ORIGINAL","CALCU","FROM","TO","ORIGINAL","CALCU","FROM","TO","ORIGINAL","CALCU","FROM","TO","ORIGINAL","CALCU","FROM","TO","ORIGINAL","CALCU","FROM","TO","DATE CAL FROM","DATE CAL TO","TOTAL","BASIC",null,"CPS","cps","MONTHS","B.PAY","TD","AD","DIF","AAS","AAS 2","PROMO","PROMO 2","DIFF TOT","SL","DA DIFF","PF","NET","GROSS","CPS","CASH","CPS","CASH","CPS","CASH","CPS","CASH","CPS","CASH",{"$f":"BF5","v":"DIFF TOT"},"SL","CPS","CASH","GROSS"]
[null,"2016-07-01",{"$f":"O6+S6+W6+AA6+AE6+AI6+AM6","v":38130},{"$f":"MONTH(B6)","v":7},{"$f":"IF(D6=1,31,IF(D6=2,29,IF(D6=3,31,IF(D6=5,31,IF(D6=7,31,IF(D6=8,31,IF(D6=10,31,IF(D6=12,31,30))))))))","v":31},{"$f":"C6/E6","v":1230},0.22008,0.18340000000000001,{"$f":"F6*G6","v":270.69839999999999},{"$f":"F6*H6","v":225.58200000000002},{"$f":"I6-J6","v":45.11639999999997},"2016-07-01",{"$f":"'DA 2.2'!D3-1","v":"2016-09-30"},{"$f":"'DA 2.2'!G2","v":38130},{"$f":"IF(M6>=B6,N6,0)","v":38130},{"$f":"'DA 2.2'!D3","v":"2016-10-01"},{"$f":"IF('DA 2.2'!D15='DA 2.2'!D4,'DA 2.2'!D4,'DA 2.2'!D4-1)","v":"2017-08-31"},{"$f":"'DA 2.2'!G3","v":39160},{"$f":"IF(O6>0,0,IF(Q6>=B6,R6,0))","v":0},{"$f":"'DA 2.2'!D4","v":"2017-08-31"},{"$f":"IF('DA 2.2'!D15='DA 2.2'!D5,'DA 2.2'!D5,'DA 2.2'!D5-1)","v":"2017-08-31"},{"$f":"IF(R6<'DA 2.2'!G4,'DA 2.2'!G4,R6)","v":39160},{"$f":"IF(T6>U6,0,IF(O6>0,0,IF(S6>0,0,IF(U6>=B6,V6,0))))","v":0},{"$f":"'DA 2.2'!D5","v":"2017-08-31"},{"$f":"IF('DA 2.2'!D15='DA 2.2'!D6,'DA 2.2'!D6,'DA 2.2'!D6-1)","v":"2017-08-31"},{"$f":"IF(V6<'DA 2.2'!G5,'DA 2.2'!G5,V6)","v":39160},{"$f":"IF(X6>=Y6,0,IF(O6>0,0,IF(S6>0,0,IF(W6>0,0,IF(Y6>=B6,Z6,0)))))","v":0},{"$f":"'DA 2.2'!D6","v":"2017-08-31"},{"$f":"IF('DA 2.2'!D15='DA 2.2'!D7,'DA 2.2'!D7,'DA 2.2'!D7-1)","v":"2017-08-31"},{"$f":"IF(Z6<'DA 2.2'!G6,'DA 2.2'!G6,Z6)","v":39160},{"$f":"IF(O6>0,0,IF(AB6>=AC6,0,IF(S6>0,0,IF(W6>0,0,IF(AA6>0,0,IF(AC6>=B6,AD6,0))))))","v":0},{"$f":"'DA 2.2'!D7","v":"2017-08-31"},{"$f":"IF('DA 2.2'!D15='DA 2.2'!D8,'DA 2.2'!D8,'DA 2.2'!D8-1)","v":"2017-08-31"},{"$f":"IF(AD6<'DA 2.2'!G7,'DA 2.2'!G7,AD6)","v":39160},{"$f":"IF(O6>0,0,IF(S6>0,0,IF(AF6>=AG6,0,IF(W6>0,0,IF(AA6>0,0,IF(AE6>0,0,IF(AG6>=B6,AH6,0)))))))","v":0},{"$f":"'DA 2.2'!D8","v":"2017-08-31"},{"$f":"'DA 2.2'!D8","v":"2017-08-31"},{"$f":"IF(AH6<'DA 2.2'!G8,'DA 2.2'!G8,AH6)","v":39160},{"$f":"IF(O6>0,0,IF(S6>0,0,IF(AJ6>=AK6,0,IF(W6>0,0,IF(AA6>0,0,IF(AE6>0,0,IF(AI6>0,0,IF(AK6>=B6,AL6,0))))))))","v":0},{"$f":"'DA 2.2'!C10","v":"2016-11-01"},{"$f":"DATE('DA 2.2'!D14,'DA 2.2'!C14,'DA 2.2'!B14)","v":"2016-11-30"},{"$f":"IF(B6>=AN6,1,0)","v":0},{"$f":"IF(B6<=AO6,1,0)","v":1},{"$f":"IF(SUM(AP6:AQ6)=2,1,0)","v":0},{"$f":"IF('DA 2.2'!B50=2,0,IF(AR6=1,I6-J6,0))","v":0},null,{"$f":"ROUND(K6*10%,6)","v":4.5116399999999999},{"$f":"ROUND(K6,6)","v":45.116399999999999},"2016-07-01",{"$f":"VLOOKUP(AW6,B6:C586,2)","v":38130},{"$f":"ROUND(AX6*G6,0)","v":8392},{"$f":"AX6*H6","v":6993.0420000000004},{"$f":"ROUND(AY6-AZ6,0)","v":1399},{"$f":"ROUND(IF(AW6=BH33,BI33,0),0)","v":0},{"$f":"IF(AW6=BL33,BM33,0)","v":0},{"$f":"ROUND(IF(AW6=BJ33,BK33,0),0)","v":0},{"$f":"IF(AW6=BN33,BO33,0)","v":0},{"$f":"SUM(BA6:BE6)","v":1399},{"$f":"BA31","v":0},{"$f":"IF('DA 1.2'!I17=4,BH4,0)","v":19993},{"$f":"IF('DA 1.2'!I17=4,BI4,0)","v":18557},{"$f":"IF('DA 1.2'!I17=4,BJ4,0)","v":1436},{"$f":"IF('DA 1.2'!I17=4,BK4,0)","v":19993},{"$f":"ROUND(AX6*G6*10%,0)","v":839},{"$f":"ROUND(AX6*G6*90%,0)","v":7552},{"$f":"ROUND(AX6*H6*10%,0)","v":699},{"$f":"ROUND(AX6*H6*90%,0)","v":6294},{"$f":"BL6-BN6","v":140},{"$f":"BM6-BO6","v":1258},{"$f":"BB6-BS6","v":0},{"$f":"ROUND(BB6*90%,0)+ROUND(BC6*90%,0)","v":0},{"$f":"ROUND(BE6*10%,0)+ROUND(BD6*10%,0)","v":0},{"$f":"ROUND(BE6*90%,0)+ROUND(BD6*90%,0)","v":0},{"$f":"SUM(BP6:BU6)","v":1398},{"$f":"BW4","v":0},{"$f":"IF('DA 1.2'!I17=4,BX4,0)","v":2004},{"$f":"IF('DA 1.2'!I17=4,BY4,0)","v":17986},{"$f":"IF('DA 1.2'!I17=4,BZ4,0)","v":19990}]
[null,"2016-07-02",{"$f":"O7+S7+W7+AA7+AE7+AI7+AM7","v":38130},{"$f":"MONTH(B7)","v":7},{"$f":"IF(D7=1,31,IF(D7=2,29,IF(D7=3,31,IF(D7=5,31,IF(D7=7,31,IF(D7=8,31,IF(D7=10,31,IF(D7=12,31,30))))))))","v":31},{"$f":"C7/E7","v":1230},{"$f":"G6","v":0.22008},{"$f":"H6","v":0.18340000000000001},{"$f":"F7*G7","v":270.69839999999999},225.58200000000002,{"$f":"I7-J7","v":45.11639999999997},{"$f":"L6","v":"2016-07-01"},{"$f":"M6","v":"2016-09-30"},{"$f":"N6","v":38130},{"$f":"IF(M7>=B7,N7,0)","v":38130},{"$f":"P6","v":"2016-10-01"},{"$f":"Q6","v":"2017-08-31"},{"$f":"R6","v":39160},{"$f":"IF(O7>0,0,IF(Q7>=B7,R7,0))","v":0},{"$f":"T6","v":"2017-08-31"},{"$f":"U6","v":"2017-08-31"},{"$f":"V6","v":39160},{"$f":"IF(T7>U7,0,IF(O7>0,0,IF(S7>0,0,IF(U7>=B7,V7,0))))","v":0},{"$f":"X6","v":"2017-08-31"},{"$f":"Y6","v":"2017-08-31"},{"$f":"Z6","v":39160},{"$f":"IF(X7>=Y7,0,IF(O7>0,0,IF(S7>0,0,IF(W7>0,0,IF(Y7>=B7,Z7,0)))))","v":0},{"$f":"AB6","v":"2017-08-31"},{"$f":"AC6","v":"2017-08-31"},{"$f":"AD6","v":39160},{"$f":"IF(O7>0,0,IF(AB7>=AC7,0,IF(S7>0,0,IF(W7>0,0,IF(AA7>0,0,IF(AC7>=B7,AD7,0))))))","v":0},{"$f":"AF6","v":"2017-08-31"},{"$f":"AG6","v":"2017-08-31"},{"$f":"AH6","v":39160},{"$f":"IF(O7>0,0,IF(S7>0,0,IF(AF7>=AG7,0,IF(W7>0,0,IF(AA7>0,0,IF(AE7>0,0,IF(AG7>=B7,AH7,0)))))))","v":0},{"$f":"AJ6","v":"2017-08-31"},{"$f":"AK6","v":"2017-08-31"},39160,{"$f":"IF(O7>0,0,IF(S7>0,0,IF(AJ7>=AK7,0,IF(W7>0,0,IF(AA7>0,0,IF(AE7>0,0,IF(AI7>0,0,IF(AK7>=B7,AL7,0))))))))","v":0},{"$f":"AN6","v":"2016-11-01"},{"$f":"AO6","v":"2016-11-30"},0,1,{"$f":"IF(SUM(AP7:AQ7)=2,1,0)","v":0},{"$f":"IF('DA 2.2'!B51=2,0,IF(AR7=1,I7-J7,0))","v":0},null,{"$f":"ROUND(K7*10%,6)","v":4.5116399999999999},{"$f":"ROUND(K7,6)","v":45.116399999999999},"2016-08-01",{"$f":"VLOOKUP(AW7,B6:C586,2)","v":38130},{"$f":"ROUND(AX7*G7,0)","v":8392},{"$f":"AX7*H7","v":6993.0420000000004},{"$f":"ROUND(AY7-AZ7,0)","v":1399},0,{"$f":"IF(AW7=BL34,BM34,0)","v":0},0,{"$f":"IF(AW7=BN34,BO34,0)","v":0},{"$f":"SUM(BA7:BE7)","v":1399},null,null,null,null,null,{"$f":"ROUND(AX7*G7*10%,0)","v":839},{"$f":"ROUND(AX7*G7*90%,0)","v":7552},{"$f":"ROUND(AX7*H7*10%,0)","v":699},{"$f":"ROUND(AX7*H7*90%,0)","v":6294},{"$f":"BL7-BN7","v":140},1258,{"$f":"BB7-BS7","v":0},{"$f":"ROUND(BB7*90%,0)+ROUND(BC7*90%,0)","v":0},{"$f":"ROUND(BE7*10%,0)+ROUND(BD7*10%,0)","v":0},{"$f":"ROUND(BE7*90%,0)+ROUND(BD7*90%,0)","v":0},{"$f":"SUM(BP7:BU7)","v":1398}]
[null,"2016-07-03",38130,7,31,1230,{"$f":"G7","v":0.22008},0.18340000000000001,270.69839999999999,225.58200000000002,45.11639999999997,{"$f":"L7","v":"2016-07-01"},"2016-09-30",38130,38130,{"$f":"P7","v":"2016-10-01"},"2017-08-31",39160,0,{"$f":"T7","v":"2017-08-31"},"2017-08-31",39160,0,{"$f":"X7","v":"2017-08-31"},"2017-08-31",39160,0,{"$f":"AB7","v":"2017-08-31"},"2017-08-31",39160,0,{"$f":"AF7","v":"2017-08-31"},{"$f":"AG7","v":"2017-08-31"},{"$f":"AH7","v":39160},0,{"$f":"AJ7","v":"2017-08-31"},{"$f":"AK7","v":"2017-08-31"},{"$f":"AL7","v":39160},{"$f":"IF(O8>0,0,IF(S8>0,0,IF(AJ8>=AK8,0,IF(W8>0,0,IF(AA8>0,0,IF(AE8>0,0,IF(AI8>0,0,IF(AK8>=B8,AL8,0))))))))","v":0},{"$f":"AN7","v":"2016-11-01"},"2016-11-30",0,1,0,{"$f":"IF('DA 2.2'!B52=2,0,IF(AR8=1,I8-J8,0))","v":0},null,4.5116399999999999,45.116399999999999,"2016-09-01",{"$f":"VLOOKUP(AW8,B6:C586,2)","v":38130},8392,6993.0420000000004,1399,0,0,0,0,1399,null,null,null,null,null,839,7552,699,6294,140,1258,0,0,0,0,{"$f":"SUM(BP8:BU8)","v":1398}]
[null,"2016-07-04",38130,7,31,1230,0.22008,0.18340000000000001,270.69839999999999,225.58200000000002,45.11639999999997,"2016-07-01","2016-09-30",38130,38130,"2016-10-01","2017-08-31",39160,0,"2017-08-31","2017-08-31",39160,0,"2017-08-31","2017-08-31",39160,0,"2017-08-31","2017-08-31",39160,0,"2017-08-31","2017-08-31",39160,0,"2017-08-31","2017-08-31",39160,0,"2016-11-01","2016-11-30",0,1,0,{"$f":"IF('DA 2.2'!B53=2,0,IF(AR9=1,I9-J9,0))","v":0},null,4.5116399999999999,45.116399999999999,"2016-10-01",{"$f":"VLOOKUP(AW9,B6:C586,2)","v":39160},8618,7181.9440000000004,1436,0,0,0,0,1436,null,null,null,null,null,862,7756,718,6464,144,1292,0,0,0,0,1436]
[null,"2016-07-05",38130,7,31,1230,0.22008,0.18340000000000001,270.69839999999999,225.58200000000002,45.11639999999997,"2016-07-01","2016-09-30",38130,38130,"2016-10-01","2017-08-31",39160,0,"2017-08-31","2017-08-31",39160,0,"2017-08-31","2017-08-31",39160,0,"2017-08-31","2017-08-31",39160,0,"2017-08-31","2017-08-31",39160,0,"2017-08-31","2017-08-31",39160,0,"2016-11-01","2016-11-30",0,1,0,{"$f":"IF('DA 2.2'!B54=2,0,IF(AR10=1,I10-J10,0))","v":0},null,4.5116399999999999,45.116399999999999,"2016-11-01",{"$f":"VLOOKUP(AW10,B6:C586,2)","v":39160},8618,7181.9440000000004,1436,0,0,0,0,1436,null,null,null,null,null,862,7756,718,6464,144,1292,0,0,0,0,1436]
[null,"2016-07-06",38130,7,31,1230,0.22008,0.18340000000000001,270.69839999999999,225.58200000000002,45.11639999999997,"2016-07-01","2016-09-30",38130,38130,"2016-10-01","2017-08-31",39160,0,"2017-08-31","2017-08-31",39160,0,"2017-08-31","2017-08-31",39160,0,"2017-08-31","2017-08-31",39160,0,"2017-08-31","2017-08-31",39160,0,"2017-08-31","2017-08-31",39160,0,"2016-11-01","2016-11-30",0,1,0,{"$f":"IF('DA 2.2'!B55=2,0,IF(AR11=1,I11-J11,0))","v":0},null,4.5116399999999999,45.116399999999999,"2016-12-01",{"$f":"VLOOKUP(AW11,B6:C586,2)","v":39160},8618,7181.9440000000004,1436,0,0,0,0,1436,null,null,null,null,null,862,7756,718,6464,144,1292,0,0,0,0,1436]
[null,"2016-07-07",38130,7,31,1230,0.22008,0.18340000000000001,270.69839999999999,225.58200000000002,45.11639999999997,"2016-07-01","2016-09-30",38130,38130,"2016-10-01","2017-08-31",39160,0,"2017-08-31","2017-08-31",39160,0,"2017-08-31","2017-08-31",39160,0,"2017-08-31","2017-08-31",39160,0,"2017-08-31","2017-08-31",39160,0,"2017-08-31","2017-08-31",39160,0,"2016-11-01","2016-11-30",0,1,0,{"$f":"IF('DA 2.2'!B56=2,0,IF(AR12=1,I12-J12,0))","v":0},null,4.5116399999999999,45.116399999999999,"2017-01-01",{"$f":"VLOOKUP(AW12,B6:C586,2)","v":39160},8618,7181.9440000000004,1436,0,0,0,0,1436,null,null,null,null,null,862,7756,718,6464,144,1292,0,0,0,0,1436]
[null,"2016-07-08",38130,7,31,1230,0.22008,0.18340000000000001,270.69839999999999,225.58200000000002,45.11639999999997,"2016-07-01","2016-09-30",38130,38130,"2016-10-01","2017-08-31",39160,0,"2017-08-31","2017-08-31",39160,0,"2017-08-31","2017-08-31",39160,0,"2017-08-31","2017-08-31",39160,0,"2017-08-31","2017-08-31",39160,0,"2017-08-31","2017-08-31",39160,0,"2016-11-01","2016-11-30",0,1,0,{"$f":"IF('DA 2.2'!B57=2,0,IF(AR13=1,I13-J13,0))","v":0},null,4.5116399999999999,45.116399999999999,"2017-02-01",{"$f":"VLOOKUP(AW13,B6:C586,2)","v":39160},8618,7181.9440000000004,1436,0,0,0,0,1436,null,null,null,null,null,862,7756,718,6464,144,1292,0,0,0,0,1436]
[null,"2016-07-09",38130,7,31,1230,0.22008,0.18340000000000001,270.69839999999999,225.58200000000002,45.11639999999997,"2016-07-01","2016-09-30",38130,38130,"2016-10-01","2017-08-31",39160,0,"2017-08-31","2017-08-31",39160,0,"2017-08-31","2017-08-31",39160,0,"2017-08-31","2017-08-31",39160,0,"2017-08-31","2017-08-31",39160,0,"2017-08-31","2017-08-31",39160,0,"2016-11-01","2016-11-30",0,1,0,{"$f":"IF('DA 2.2'!B58=2,0,IF(AR14=1,I14-J14,0))","v":0},null,4.5116399999999999,45.116399999999999,"2017-03-01",{"$f":"VLOOKUP(AW14,B6:C586,2)","v":39160},8618,7181.9440000000004,1436,0,0,0,0,1436,null,null,null,null,null,862,7756,718,6464,144,1292,0,0,0,0,1436]
[null,"2016-07-10",38130,7,31,1230,0.22008,0.18340000000000001,270.69839999999999,225.58200000000002,45.11639999999997,"2016-07-01","2016-09-30",38130,38130,"2016-10-01","2017-08-31",39160,0,"2017-08-31","2017-08-31",39160,0,"2017-08-31","2017-08-31",39160,0,"2017-08-31","2017-08-31",39160,0,"2017-08-31","2017-08-31",39160,0,"2017-08-31","2017-08-31",39160,0,"2016-11-01","2016-11-30",0,1,0,{"$f":"IF('DA 2.2'!B59=2,0,IF(AR15=1,I15-J15,0))","v":0},null,4.5116399999999999,45.116399999999999,"2017-04-01",{"$f":"VLOOKUP(AW15,B6:C586,2)","v":39160},8618,7181.9440000000004,1436,0,0,0,0,1436,null,null,null,null,null,862,7756,718,6464,{"$f":"BL15-BN15","v":144},1292,0,0,0,0,1436]
[null,"2016-07-11",38130,7,31,1230,0.22008,0.18340000000000001,270.69839999999999,225.58200000000002,45.11639999999997,"2016-07-01","2016-09-30",38130,38130,"2016-10-01","2017-08-31",39160,0,"2017-08-31","2017-08-31",39160,0,"2017-08-31","2017-08-31",39160,0,"2017-08-31","2017-08-31",39160,0,"2017-08-31","2017-08-31",39160,0,"2017-08-31","2017-08-31",39160,0,"2016-11-01","2016-11-30",0,1,0,{"$f":"IF('DA 2.2'!B60=2,0,IF(AR16=1,I16-J16,0))","v":0},null,4.5116399999999999,45.116399999999999,"2017-05-01",{"$f":"VLOOKUP(AW16,B6:C586,2)","v":39160},8618,7181.9440000000004,1436,0,0,0,0,1436,null,null,null,null,null,862,7756,718,6464,144,1292,0,0,0,0,1436]
[null,"2016-07-12",38130,7,31,1230,0.22008,0.18340000000000001,270.69839999999999,225.58200000000002,45.11639999999997,"2016-07-01","2016-09-30",38130,38130,"2016-10-01","2017-08-31",39160,0,"2017-08-31","2017-08-31",39160,0,"2017-08-31","2017-08-31",39160,0,"2017-08-31","2017-08-31",39160,0,"2017-08-31","2017-08-31",39160,0,"2017-08-31","2017-08-31",39160,0,"2016-11-01","2016-11-30",0,1,0,{"$f":"IF('DA 2.2'!B61=2,0,IF(AR17=1,I17-J17,0))","v":0},null,4.5116399999999999,45.116399999999999,"2017-06-01",{"$f":"VLOOKUP(AW17,B6:C586,2)","v":39160},8618,7181.9440000000004,1436,0,0,0,0,1436,null,null,null,null,null,862,7756,718,6464,144,1292,0,0,0,0,1436]
[null,"2016-07-13",38130,7,31,1230,0.22008,0.18340000000000001,270.69839999999999,225.58200000000002,45.11639999999997,"2016-07-01","2016-09-30",38130,38130,"2016-10-01","2017-08-31",39160,0,"2017-08-31","2017-08-31",39160,0,"2017-08-31","2017-08-31",39160,0,"2017-08-31","2017-08-31",39160,0,"2017-08-31","2017-08-31",39160,0,"2017-08-31","2017-08-31",39160,0,"2016-11-01","2016-11-30",0,1,0,{"$f":"IF('DA 2.2'!B62=2,0,IF(AR18=1,I18-J18,0))","v":0},null,4.5116399999999999,45.116399999999999,"2017-07-01",{"$f":"VLOOKUP(AW18,B6:C586,2)","v":39160},8618,7181.9440000000004,1436,0,0,0,0,1436,null,null,null,null,null,862,7756,718,6464,144,1292,0,0,0,0,1436]
[null,"2016-07-14",38130,7,31,1230,0.22008,0.18340000000000001,270.69839999999999,225.58200000000002,45.11639999999997,"2016-07-01","2016-09-30",38130,38130,"2016-10-01","2017-08-31",39160,0,"2017-08-31","2017-08-31",39160,0,"2017-08-31","2017-08-31",39160,0,"2017-08-31","2017-08-31",39160,0,"2017-08-31","2017-08-31",39160,0,"2017-08-31","2017-08-31",39160,0,"2016-11-01","2016-11-30",0,1,0,{"$f":"IF('DA 2.2'!B63=2,0,IF(AR19=1,I19-J19,0))","v":0},null,4.5116399999999999,45.116399999999999,"2017-08-01",{"$f":"VLOOKUP(AW19,B6:C586,2)","v":39160},8618,7181.9440000000004,1436,0,0,{"$f":"ROUND(IF(AW19=BJ46,BK46,0),0)","v":0},0,1436,null,null,null,null,null,862,7756,718,6464,144,1292,0,0,0,0,1436]
[null,"2016-07-15",38130,7,31,1230,0.22008,0.18340000000000001,270.69839999999999,225.58200000000002,45.11639999999997,"2016-07-01","2016-09-30",38130,38130,"2016-10-01","2017-08-31",39160,0,"2017-08-31","2017-08-31",39160,0,"2017-08-31","2017-08-31",39160,0,"2017-08-31","2017-08-31",39160,0,"2017-08-31","2017-08-31",39160,0,"2017-08-31","2017-08-31",39160,0,"2016-11-01","2016-11-30",0,1,0,{"$f":"IF('DA 2.2'!B64=2,0,IF(AR20=1,I20-J20,0))","v":0},null,4.5116399999999999,45.116399999999999,"2017-09-01",{"$f":"VLOOKUP(AW20,B6:C586,2)","v":0},0,0,0,0,0,0,0,0,null,null,null,null,null,0,0,0,0,0,0,0,0,0,0,0]
[null,"2016-07-16",38130,7,31,1230,0.22008,0.18340000000000001,270.69839999999999,225.58200000000002,45.11639999999997,"2016-07-01","2016-09-30",38130,38130,"2016-10-01","2017-08-31",39160,0,"2017-08-31","2017-08-31",39160,0,"2017-08-31","2017-08-31",39160,0,"2017-08-31","2017-08-31",39160,0,"2017-08-31","2017-08-31",39160,0,"2017-08-31","2017-08-31",39160,0,"2016-11-01","2016-11-30",0,1,0,{"$f":"IF('DA 2.2'!B65=2,0,IF(AR21=1,I21-J21,0))","v":0},null,4.5116399999999999,45.116399999999999,"2017-10-01",{"$f":"VLOOKUP(AW21,B6:C586,2)","v":0},0,0,0,0,0,0,0,0,null,null,null,null,null,0,0,0,0,0,0,0,0,0,0,0]
[null,"2016-07-17",38130,7,31,1230,0.22008,0.18340000000000001,270.69839999999999,225.58200000000002,45.11639999999997,"2016-07-01","2016-09-30",38130,38130,"2016-10-01","2017-08-31",39160,0,"2017-08-31","2017-08-31",39160,0,"2017-08-31","2017-08-31",39160,0,"2017-08-31","2017-08-31",39160,0,"2017-08-31","2017-08-31",39160,0,"2017-08-31","2017-08-31",39160,0,"2016-11-01","2016-11-30",0,1,0,{"$f":"IF('DA 2.2'!B66=2,0,IF(AR22=1,I22-J22,0))","v":0},null,4.5116399999999999,45.116399999999999,"2017-11-01",{"$f":"VLOOKUP(AW22,B6:C586,2)","v":0},0,0,0,0,0,0,0,0,null,null,null,null,null,0,0,0,0,0,0,0,0,0,0,0]
[null,"2016-07-18",38130,7,31,1230,0.22008,0.18340000000000001,270.69839999999999,225.58200000000002,45.11639999999997,"2016-07-01","2016-09-30",38130,38130,"2016-10-01","2017-08-31",39160,0,"2017-08-31","2017-08-31",39160,0,"2017-08-31","2017-08-31",39160,0,"2017-08-31","2017-08-31",39160,0,"2017-08-31","2017-08-31",39160,0,"2017-08-31","2017-08-31",39160,0,"2016-11-01","2016-11-30",0,1,0,{"$f":"IF('DA 2.2'!B67=2,0,IF(AR23=1,I23-J23,0))","v":0},null,4.5116399999999999,45.116399999999999,"2017-12-01",{"$f":"VLOOKUP(AW23,B6:C586,2)","v":0},0,0,0,0,0,0,0,0,null,null,null,null,null,0,0,0,0,0,0,0,0,0,0,0]
[null,"2016-07-19",38130,7,31,1230,{"$f":"G23","v":0.22008},0.18340000000000001,270.69839999999999,225.58200000000002,45.11639999999997,{"$f":"L23","v":"2016-07-01"},"2016-09-30",38130,38130,{"$f":"P23","v":"2016-10-01"},"2017-08-31",39160,0,{"$f":"T23","v":"2017-08-31"},"2017-08-31",39160,0,{"$f":"X23","v":"2017-08-31"},"2017-08-31",39160,0,"2017-08-31","2017-08-31",39160,0,"2017-08-31","2017-08-31",39160,0,"2017-08-31","2017-08-31",39160,0,{"$f":"AN23","v":"2016-11-01"},"2016-11-30",0,1,0,{"$f":"IF('DA 2.2'!B68=2,0,IF(AR24=1,I24-J24,0))","v":0},null,4.5116399999999999,45.116399999999999,"2018-01-01",{"$f":"VLOOKUP(AW24,B6:C586,2)","v":0},0,0,0,0,0,0,0,0,null,null,null,null,null,0,0,0,0,0,0,0,0,0,0,0]
[null,"2016-07-20",38130,7,31,1230,0.22008,0.18340000000000001,270.69839999999999,225.58200000000002,45.11639999999997,"2016-07-01","2016-09-30",38130,38130,"2016-10-01","2017-08-31",39160,0,"2017-08-31","2017-08-31",39160,0,"2017-08-31","2017-08-31",39160,0,"2017-08-31","2017-08-31",39160,0,"2017-08-31","2017-08-31",39160,0,"2017-08-31","2017-08-31",39160,0,"2016-11-01","2016-11-30",0,1,0,{"$f":"IF('DA 2.2'!B69=2,0,IF(AR25=1,I25-J25,0))","v":0},null,4.5116399999999999,45.116399999999999]
[null,"2016-07-21",38130,7,31,1230,0.22008,0.18340000000000001,270.69839999999999,225.58200000000002,45.11639999999997,"2016-07-01","2016-09-30",38130,38130,"2016-10-01","2017-08-31",39160,0,"2017-08-31","2017-08-31",39160,0,"2017-08-31","2017-08-31",39160,0,"2017-08-31","2017-08-31",39160,0,"2017-08-31","2017-08-31",39160,0,"2017-08-31","2017-08-31",39160,0,"2016-11-01","2016-11-30",0,1,0,{"$f":"IF('DA 2.2'!B70=2,0,IF(AR26=1,I26-J26,0))","v":0},null,4.5116399999999999,45.116399999999999]
[null,"2016-07-22",38130,7,31,1230,0.22008,0.18340000000000001,270.69839999999999,225.58200000000002,45.11639999999997,"2016-07-01","2016-09-30",38130,38130,"2016-10-01","2017-08-31",39160,0,"2017-08-31","2017-08-31",39160,0,"2017-08-31","2017-08-31",39160,0,"2017-08-31","2017-08-31",39160,0,"2017-08-31","2017-08-31",39160,0,"2017-08-31","2017-08-31",39160,0,"2016-11-01","2016-11-30",0,1,0,{"$f":"IF('DA 2.2'!B71=2,0,IF(AR27=1,I27-J27,0))","v":0},null,4.5116399999999999,45.116399999999999]
[null,"2016-07-23",38130,7,31,1230,0.22008,0.18340000000000001,270.69839999999999,225.58200000000002,45.11639999999997,"2016-07-01","2016-09-30",38130,38130,"2016-10-01","2017-08-31",39160,0,"2017-08-31","2017-08-31",39160,0,"2017-08-31","2017-08-31",39160,0,"2017-08-31","2017-08-31",39160,0,"2017-08-31","2017-08-31",39160,0,"2017-08-31","2017-08-31",39160,0,"2016-11-01","2016-11-30",0,1,0,{"$f":"IF('DA 2.2'!B72=2,0,IF(AR28=1,I28-J28,0))","v":0},null,4.5116399999999999,45.116399999999999]
[null,"2016-07-24",38130,7,31,1230,0.22008,0.18340000000000001,270.69839999999999,225.58200000000002,45.11639999999997,"2016-07-01","2016-09-30",38130,38130,"2016-10-01","2017-08-31",39160,0,"2017-08-31","2017-08-31",39160,0,"2017-08-31","2017-08-31",39160,0,"2017-08-31","2017-08-31",39160,0,"2017-08-31","2017-08-31",39160,0,"2017-08-31","2017-08-31",39160,0,"2016-11-01","2016-11-30",0,1,0,{"$f":"IF('DA 2.2'!B73=2,0,IF(AR29=1,I29-J29,0))","v":0},null,4.5116399999999999,45.116399999999999]
[null,"2016-07-25",38130,7,31,1230,0.22008,0.18340000000000001,270.69839999999999,225.58200000000002,45.11639999999997,"2016-07-01","2016-09-30",38130,38130,"2016-10-01","2017-08-31",39160,0,"2017-08-31","2017-08-31",39160,0,"2017-08-31","2017-08-31",39160,0,"2017-08-31","2017-08-31",39160,0,"2017-08-31","2017-08-31",39160,0,"2017-08-31","2017-08-31",39160,0,"2016-11-01","2016-11-30",0,1,0,{"$f":"IF('DA 2.2'!B74=2,0,IF(AR30=1,I30-J30,0))","v":0},null,4.5116399999999999,45.116399999999999]
[null,"2016-07-26",38130,7,31,1230,0.22008,0.18340000000000001,270.69839999999999,225.58200000000002,45.11639999999997,"2016-07-01","2016-09-30",38130,38130,"2016-10-01","2017-08-31",39160,0,"2017-08-31","2017-08-31",39160,0,"2017-08-31","2017-08-31",39160,0,"2017-08-31","2017-08-31",39160,0,"2017-08-31","2017-08-31",39160,0,"2017-08-31","2017-08-31",39160,0,"2016-11-01","2016-11-30",0,1,0,{"$f":"IF('DA 2.2'!B75=2,0,IF(AR31=1,I31-J31,0))","v":0},null,4.5116399999999999,45.116399999999999,{"$f":"'DA 2.2'!C10","v":"2016-11-01"},{"$f":"IF('DA 2.2'!B50=2,0,IF('DA 2.2'!D12=30,'DA 2.3'!AY3,ROUND('DA 2.3'!AY3/2,0)))","v":0},{"$f":"ROUND(AX31*G31,0)","v":0},{"$f":"ROUND(AX31*H31,0)","v":0},{"$f":"AY31-AZ31","v":0},"SL"]
[null,"2016-07-27",38130,7,31,1230,0.22008,0.18340000000000001,270.69839999999999,225.58200000000002,45.11639999999997,"2016-07-01","2016-09-30",38130,38130,"2016-10-01","2017-08-31",39160,0,"2017-08-31","2017-08-31",39160,0,"2017-08-31","2017-08-31",39160,0,"2017-08-31","2017-08-31",39160,0,"2017-08-31","2017-08-31",39160,0,"2017-08-31","2017-08-31",39160,0,"2016-11-01","2016-11-30",0,1,0,{"$f":"IF('DA 2.2'!B76=2,0,IF(AR32=1,I32-J32,0))","v":0},null,4.5116399999999999,45.116399999999999,null,null,null,null,null,null,null,null,null,null,null,"AAS",null,"PRO",null,"AAS 2",null,"PRO 2"]
[null,"2016-07-28",38130,7,31,1230,0.22008,0.18340000000000001,270.69839999999999,225.58200000000002,45.11639999999997,"2016-07-01","2016-09-30",38130,38130,"2016-10-01","2017-08-31",39160,0,"2017-08-31","2017-08-31",39160,0,"2017-08-31","2017-08-31",39160,0,"2017-08-31","2017-08-31",39160,0,"2017-08-31","2017-08-31",39160,0,"2017-08-31","2017-08-31",39160,0,"2016-11-01","2016-11-30",0,1,0,{"$f":"IF('DA 2.2'!B77=2,0,IF(AR33=1,I33-J33,0))","v":0},null,4.5116399999999999,45.116399999999999,{"$f":"'DA 2.2'!C4","v":"2017-08-31"},{"$f":"IF('DA 2.2'!C4<'DA 2.2'!C15,IF('DA 2.2'!F15=1,VLOOKUP(AW33,'DA 2.3'!B6:C586,2),0),0)","v":0},1,{"$f":"MONTH(AW33)","v":8},{"$f":"YEAR(AW33)","v":2017},"AAS",null,null,null,null,null,{"$f":"AY34","v":"2017-08-01"},{"$f":"BB48","v":0},{"$f":"AY40","v":"2017-08-01"},{"$f":"BA43","v":0},{"$f":"AY52","v":"2017-08-01"},{"$f":"BA55","v":0},{"$f":"AY59","v":"2017-08-01"},{"$f":"BA62","v":0}]
[null,"2016-07-29",38130,7,31,1230,0.22008,0.18340000000000001,270.69839999999999,225.58200000000002,45.11639999999997,"2016-07-01","2016-09-30",38130,38130,"2016-10-01","2017-08-31",39160,0,"2017-08-31","2017-08-31",39160,0,"2017-08-31","2017-08-31",39160,0,"2017-08-31","2017-08-31",39160,0,"2017-08-31","2017-08-31",39160,0,"2017-08-31","2017-08-31",39160,0,"2016-11-01","2016-11-30",0,1,0,{"$f":"IF('DA 2.2'!B78=2,0,IF(AR34=1,I34-J34,0))","v":0},null,4.5116399999999999,45.116399999999999,{"$f":"AW33-1","v":"2017-08-30"},{"$f":"IF('DA 2.2'!C4<'DA 2.2'!C15,IF('DA 2.2'!F15=1,VLOOKUP(AW34,'DA 2.3'!B6:C586,2),0),0)","v":0},{"$f":"DATE(BA33,AZ33,AY33)","v":"2017-08-01"},null,null,null,null,null,null,null,null,{"$f":"BH33","v":"2017-08-01"},0,"2017-08-01",0,"2017-08-01",0,"2017-08-01",0]
[null,"2016-07-30",38130,7,31,1230,0.22008,0.18340000000000001,270.69839999999999,225.58200000000002,45.11639999999997,"2016-07-01","2016-09-30",38130,38130,"2016-10-01","2017-08-31",39160,0,"2017-08-31","2017-08-31",39160,0,"2017-08-31","2017-08-31",39160,0,"2017-08-31","2017-08-31",39160,0,"2017-08-31","2017-08-31",39160,0,"2017-08-31","2017-08-31",39160,0,"2016-11-01","2016-11-30",0,1,0,{"$f":"IF('DA 2.2'!B79=2,0,IF(AR35=1,I35-J35,0))","v":0},null,4.5116399999999999,45.116399999999999,"PER MONTH",{"$f":"AX33-AX34","v":0},null,null,null,{"$f":"AX33*G37","v":0},null,null,null,null,null,{"$f":"BH34","v":"2017-08-01"},0,"2017-08-01",0,{"$f":"BL34","v":"2017-08-01"},{"$f":"BM34","v":0},{"$f":"BN34","v":"2017-08-01"},{"$f":"BO34","v":0}]
[null,"2016-07-31",38130,7,31,1230,0.22008,0.18340000000000001,270.69839999999999,225.58200000000002,45.11639999999997,"2016-07-01","2016-09-30",38130,38130,"2016-10-01","2017-08-31",39160,0,"2017-08-31","2017-08-31",39160,0,"2017-08-31","2017-08-31",39160,0,"2017-08-31","2017-08-31",39160,0,"2017-08-31","2017-08-31",39160,0,"2017-08-31","2017-08-31",39160,0,"2016-11-01","2016-11-30",0,1,0,{"$f":"IF('DA 2.2'!B80=2,0,IF(AR36=1,I36-J36,0))","v":0},null,4.5116399999999999,45.116399999999999,{"$f":"VLOOKUP(AW33,B6:E767,4)","v":31},{"$f":"AW36-AY36+1","v":1},{"$f":"DAY(AW33)","v":31},null,null,null,null,null,null,null,null,"2017-08-01",0,"2017-08-01",0,"2017-08-01",0,"2017-08-01",0]
[null,"2016-08-01",38130,8,31,1230,0.22008,0.18340000000000001,270.69839999999999,225.58200000000002,45.11639999999997,"2016-07-01","2016-09-30",38130,38130,"2016-10-01","2017-08-31",39160,0,"2017-08-31","2017-08-31",39160,0,"2017-08-31","2017-08-31",39160,0,"2017-08-31","2017-08-31",39160,0,"2017-08-31","2017-08-31",39160,0,"2017-08-31","2017-08-31",39160,0,"2016-11-01","2016-11-30",0,1,0,{"$f":"IF('DA 2.2'!B81=2,0,IF(AR37=1,I37-J37,0))","v":0},null,4.5116399999999999,45.116399999999999,null,{"$f":"ROUND((AX35/AW36)*AX36,0)","v":0},{"$f":"AX37*G37","v":0},{"$f":"(AX37*H37)","v":0},{"$f":"ROUND(AY37-AZ37,0)","v":0},null,null,null,null,null,null,"2017-08-01",0,"2017-08-01",0,"2017-08-01",0,"2017-08-01",0]
[null,"2016-08-02",38130,8,31,1230,0.22008,0.18340000000000001,270.69839999999999,225.58200000000002,45.11639999999997,"2016-07-01","2016-09-30",38130,38130,"2016-10-01","2017-08-31",39160,0,"2017-08-31","2017-08-31",39160,0,"2017-08-31","2017-08-31",39160,0,"2017-08-31","2017-08-31",39160,0,"2017-08-31","2017-08-31",39160,0,"2017-08-31","2017-08-31",39160,0,"2016-11-01","2016-11-30",0,1,0,{"$f":"IF('DA 2.2'!B82=2,0,IF(AR38=1,I38-J38,0))","v":0},null,4.5116399999999999,45.116399999999999,null,null,null,null,null,null,null,null,null,null,null,"2017-08-01",0,"2017-08-01",0,"2017-08-01",0,"2017-08-01",0]
[null,"2016-08-03",38130,8,31,1230,0.22008,0.18340000000000001,270.69839999999999,225.58200000000002,45.11639999999997,"2016-07-01","2016-09-30",38130,38130,"2016-10-01","2017-08-31",39160,0,"2017-08-31","2017-08-31",39160,0,"2017-08-31","2017-08-31",39160,0,"2017-08-31","2017-08-31",39160,0,"2017-08-31","2017-08-31",39160,0,"2017-08-31","2017-08-31",39160,0,"2016-11-01","2016-11-30",0,1,0,{"$f":"IF('DA 2.2'!B83=2,0,IF(AR39=1,I39-J39,0))","v":0},null,4.5116399999999999,45.116399999999999,{"$f":"'DA 2.2'!C5","v":"2017-08-31"},{"$f":"IF('DA 2.2'!C5>'DA 2.2'!C19,0,IF(AW39<B6,0,IF('DA 2.2'!F17=1,VLOOKUP('DA 2.2'!C5,'DA 2.3'!B6:C586,2),0)))","v":0},1,{"$f":"MONTH(AW39)","v":8},{"$f":"YEAR(AW39)","v":2017},"PROMO",null,null,null,null,null,"2017-08-01",0,"2017-08-01",0,"2017-08-01",0,"2017-08-01",0]
[null,"2016-08-04",38130,8,31,1230,{"$f":"G39","v":0.22008},0.18340000000000001,270.69839999999999,225.58200000000002,45.11639999999997,{"$f":"L39","v":"2016-07-01"},"2016-09-30",38130,38130,{"$f":"P39","v":"2016-10-01"},"2017-08-31",39160,0,{"$f":"T39","v":"2017-08-31"},"2017-08-31",39160,0,{"$f":"X39","v":"2017-08-31"},"2017-08-31",39160,0,"2017-08-31","2017-08-31",39160,0,"2017-08-31","2017-08-31",39160,0,"2017-08-31","2017-08-31",39160,0,{"$f":"AN39","v":"2016-11-01"},"2016-11-30",0,1,0,{"$f":"IF('DA 2.2'!B84=2,0,IF(AR40=1,I40-J40,0))","v":0},null,4.5116399999999999,45.116399999999999,{"$f":"AW39-1","v":"2017-08-30"},{"$f":"IF('DA 2.2'!I17=1,VLOOKUP(AW40,'DA 2.3'!B6:C586,2),0)","v":0},{"$f":"DATE(BA39,AZ39,AY39)","v":"2017-08-01"},null,null,null,null,null,null,null,null,"2017-08-01",0,"2017-08-01",0,"2017-08-01",0,"2017-08-01",0]
[null,"2016-08-05",38130,8,31,1230,0.22008,0.18340000000000001,270.69839999999999,225.58200000000002,45.11639999999997,"2016-07-01","2016-09-30",38130,38130,"2016-10-01","2017-08-31",39160,0,"2017-08-31","2017-08-31",39160,0,"2017-08-31","2017-08-31",39160,0,"2017-08-31","2017-08-31",39160,0,"2017-08-31","2017-08-31",39160,0,"2017-08-31","2017-08-31",39160,0,"2016-11-01","2016-11-30",0,1,0,{"$f":"IF('DA 2.2'!B85=2,0,IF(AR41=1,I41-J41,0))","v":0},null,4.5116399999999999,45.116399999999999,"PER MONTH",{"$f":"AX39-AX40","v":0},null,null,null,null,null,null,null,null,null,"2017-08-01",0,"2017-08-01",0,"2017-08-01",0,"2017-08-01",0]
[null,"2016-08-06",38130,8,31,1230,0.22008,0.18340000000000001,270.69839999999999,225.58200000000002,45.11639999999997,"2016-07-01","2016-09-30",38130,38130,"2016-10-01","2017-08-31",39160,0,"2017-08-31","2017-08-31",39160,0,"2017-08-31","2017-08-31",39160,0,"2017-08-31","2017-08-31",39160,0,"2017-08-31","2017-08-31",39160,0,"2017-08-31","2017-08-31",39160,0,"2016-11-01","2016-11-30",0,1,0,{"$f":"IF('DA 2.2'!B86=2,0,IF(AR42=1,I42-J42,0))","v":0},null,4.5116399999999999,45.116399999999999,{"$f":"VLOOKUP(AW39,B6:E767,4)","v":31},{"$f":"AW42-AY42+1","v":1},{"$f":"DAY(AW39)","v":31},null,null,null,null,null,null,null,null,"2017-08-01",0,"2017-08-01",0,"2017-08-01",0,"2017-08-01",0]
[null,"2016-08-07",38130,8,31,1230,0.22008,0.18340000000000001,270.69839999999999,225.58200000000002,45.11639999999997,"2016-07-01","2016-09-30",38130,38130,"2016-10-01","2017-08-31",39160,0,"2017-08-31","2017-08-31",39160,0,"2017-08-31","2017-08-31",39160,0,"2017-08-31","2017-08-31",39160,0,"2017-08-31","2017-08-31",39160,0,"2017-08-31","2017-08-31",39160,0,"2016-11-01","2016-11-30",0,1,0,{"$f":"IF('DA 2.2'!B87=2,0,IF(AR43=1,I43-J43,0))","v":0},null,4.5116399999999999,45.116399999999999,null,{"$f":"ROUND((AX41/AW42)*AX42,0)","v":0},{"$f":"AX43*G43","v":0},{"$f":"AX43*H43","v":0},{"$f":"ROUND(AY43-AZ43,0)","v":0},null,null,null,null,null,null,"2017-08-01",0,"2017-08-01",0,"2017-08-01",0,"2017-08-01",0]
[null,"2016-08-08",38130,8,31,1230,0.22008,0.18340000000000001,270.69839999999999,225.58200000000002,45.11639999999997,"2016-07-01","2016-09-30",38130,38130,"2016-10-01","2017-08-31",39160,0,"2017-08-31","2017-08-31",39160,0,"2017-08-31","2017-08-31",39160,0,"2017-08-31","2017-08-31",39160,0,"2017-08-31","2017-08-31",39160,0,"2017-08-31","2017-08-31",39160,0,"2016-11-01","2016-11-30",0,1,0,{"$f":"IF('DA 2.2'!B88=2,0,IF(AR44=1,I44-J44,0))","v":0},null,4.5116399999999999,45.116399999999999,null,null,null,null,null,null,null,null,null,null,null,"2017-08-01",0,"2017-08-01",0,"2017-08-01",0,"2017-08-01",0]
[null,"2016-08-09",38130,8,31,1230,0.22008,0.18340000000000001,270.69839999999999,225.58200000000002,45.11639999999997,"2016-07-01","2016-09-30",38130,38130,"2016-10-01","2017-08-31",39160,0,"2017-08-31","2017-08-31",39160,0,"2017-08-31","2017-08-31",39160,0,"2017-08-31","2017-08-31",39160,0,"2017-08-31","2017-08-31",39160,0,"2017-08-31","2017-08-31",39160,0,"2016-11-01","2016-11-30",0,1,0,{"$f":"IF('DA 2.2'!B89=2,0,IF(AR45=1,I45-J45,0))","v":0},null,4.5116399999999999,45.116399999999999,null,"AAS",{"$f":"AX33","v":0},{"$f":"ROUND(AY45*G37,0)","v":0},{"$f":"ROUND((AY45*H37),0)","v":0},{"$f":"AZ45-BA45","v":0},null,{"$f":"IF('DA 2.2'!C5<'DA 2.2'!B19,0,IF('DA 2.2'!F17=1,VLOOKUP('DA 2.2'!C5,'DA 2.3'!B6:C586,2)))","v":false},null,null,null,"2017-08-01",0,"2017-08-01",0,"2017-08-01",0,"2017-08-01",0]
[null,"2016-08-10",38130,8,31,1230,0.22008,0.18340000000000001,270.69839999999999,225.58200000000002,45.11639999999997,"2016-07-01","2016-09-30",38130,38130,"2016-10-01","2017-08-31",39160,0,"2017-08-31","2017-08-31",39160,0,"2017-08-31","2017-08-31",39160,0,"2017-08-31","2017-08-31",39160,0,"2017-08-31","2017-08-31",39160,0,"2017-08-31","2017-08-31",39160,0,"2016-11-01","2016-11-30",0,1,0,{"$f":"IF('DA 2.2'!B90=2,0,IF(AR46=1,I46-J46,0))","v":0},null,4.5116399999999999,45.116399999999999,null,null,{"$f":"AX34","v":0},{"$f":"ROUND(AY46*G38,0)","v":0},{"$f":"ROUND((AY46*H38),0)","v":0},{"$f":"AZ46-BA46","v":0},null,null,null,null,null,"2017-08-01",0,"2017-08-01",0,"2017-08-01",0,"2017-08-01",0]
[null,"2016-08-11",38130,8,31,1230,0.22008,0.18340000000000001,270.69839999999999,225.58200000000002,45.11639999999997,"2016-07-01","2016-09-30",38130,38130,"2016-10-01","2017-08-31",39160,0,"2017-08-31","2017-08-31",39160,0,"2017-08-31","2017-08-31",39160,0,"2017-08-31","2017-08-31",39160,0,"2017-08-31","2017-08-31",39160,0,"2017-08-31","2017-08-31",39160,0,"2016-11-01","2016-11-30",0,1,0,{"$f":"IF('DA 2.2'!B91=2,0,IF(AR47=1,I47-J47,0))","v":0},null,4.5116399999999999,45.116399999999999,null,null,null,null,null,{"$f":"BB45-BB46","v":0},null,null,null,null,null,"2017-08-01",0,"2017-08-01",0,"2017-08-01",0,"2017-08-01",0]
[null,"2016-08-12",38130,8,31,1230,0.22008,0.18340000000000001,270.69839999999999,225.58200000000002,45.11639999999997,"2016-07-01","2016-09-30",38130,38130,"2016-10-01","2017-08-31",39160,0,"2017-08-31","2017-08-31",39160,0,"2017-08-31","2017-08-31",39160,0,"2017-08-31","2017-08-31",39160,0,"2017-08-31","2017-08-31",39160,0,"2017-08-31","2017-08-31",39160,0,"2016-11-01","2016-11-30",0,1,0,{"$f":"IF('DA 2.2'!B92=2,0,IF(AR48=1,I48-J48,0))","v":0},null,4.5116399999999999,45.116399999999999,null,null,null,null,null,{"$f":"ROUND((BB47/AW36)*AX36,0)","v":0},null,null,null,null,null,"2017-08-01",0,"2017-08-01",0,"2017-08-01",0,"2017-08-01",0]
[null,"2016-08-13",38130,8,31,1230,0.22008,0.18340000000000001,270.69839999999999,225.58200000000002,45.11639999999997,"2016-07-01","2016-09-30",38130,38130,"2016-10-01","2017-08-31",39160,0,"2017-08-31","2017-08-31",39160,0,"2017-08-31","2017-08-31",39160,0,"2017-08-31","2017-08-31",39160,0,"2017-08-31","2017-08-31",39160,0,"2017-08-31","2017-08-31",39160,0,"2016-11-01","2016-11-30",0,1,0,{"$f":"IF('DA 2.2'!B93=2,0,IF(AR49=1,I49-J49,0))","v":0},null,4.5116399999999999,45.116399999999999,null,null,null,null,null,null,null,null,null,null,null,"2017-08-01",0,"2017-08-01",0,"2017-08-01",0,"2017-08-01",0]
[null,"2016-08-14",38130,8,31,1230,0.22008,0.18340000000000001,270.69839999999999,225.58200000000002,45.11639999999997,"2016-07-01","2016-09-30",38130,38130,"2016-10-01","2017-08-31",39160,0,"2017-08-31","2017-08-31",39160,0,"2017-08-31","2017-08-31",39160,0,"2017-08-31","2017-08-31",39160,0,"2017-08-31","2017-08-31",39160,0,"2017-08-31","2017-08-31",39160,0,"2016-11-01","2016-11-30",0,1,0,{"$f":"IF('DA 2.2'!B94=2,0,IF(AR50=1,I50-J50,0))","v":0},null,4.5116399999999999,45.116399999999999,null,null,null,null,null,null,null,null,null,null,null,"2017-08-01",0,"2017-08-01",0,"2017-08-01",0,"2017-08-01",0]
[null,"2016-08-15",38130,8,31,1230,0.22008,0.18340000000000001,270.69839999999999,225.58200000000002,45.11639999999997,"2016-07-01","2016-09-30",38130,38130,"2016-10-01","2017-08-31",39160,0,"2017-08-31","2017-08-31",39160,0,"2017-08-31","2017-08-31",39160,0,"2017-08-31","2017-08-31",39160,0,"2017-08-31","2017-08-31",39160,0,"2017-08-31","2017-08-31",39160,0,"2016-11-01","2016-11-30",0,1,0,{"$f":"IF('DA 2.2'!B95=2,0,IF(AR51=1,I51-J51,0))","v":0},null,4.5116399999999999,45.116399999999999,{"$f":"'DA 2.2'!C3","v":"2017-08-31"},{"$f":"IF('DA 2.2'!C3<'DA 2.2'!B16,VLOOKUP(AW51,'DA 2.3'!B6:C586,2),0)","v":0},1,{"$f":"MONTH(AW51)","v":8},{"$f":"YEAR(AW51)","v":2017},"AAS 2",null,null,null,null,null,"2017-08-01",0,"2017-08-01",0,"2017-08-01",0,"2017-08-01",0]
[null,"2016-08-16",38130,8,31,1230,0.22008,0.18340000000000001,270.69839999999999,225.58200000000002,45.11639999999997,"2016-07-01","2016-09-30",38130,38130,"2016-10-01","2017-08-31",39160,0,"2017-08-31","2017-08-31",39160,0,"2017-08-31","2017-08-31",39160,0,"2017-08-31","2017-08-31",39160,0,"2017-08-31","2017-08-31",39160,0,"2017-08-31","2017-08-31",39160,0,"2016-11-01","2016-11-30",0,1,0,{"$f":"IF('DA 2.2'!B96=2,0,IF(AR52=1,I52-J52,0))","v":0},null,4.5116399999999999,45.116399999999999,{"$f":"AW51-1","v":"2017-08-30"},{"$f":"IF('DA 2.2'!C3<'DA 2.2'!B16,VLOOKUP(AW52,'DA 2.3'!B6:C586,2),0)","v":0},{"$f":"DATE(BA51,AZ51,AY51)","v":"2017-08-01"},null,null,null,null,null,null,null,null,"2017-08-01",0,"2017-08-01",0,"2017-08-01",0,"2017-08-01",0]
[null,"2016-08-17",38130,8,31,1230,0.22008,0.18340000000000001,270.69839999999999,225.58200000000002,45.11639999999997,"2016-07-01","2016-09-30",38130,38130,"2016-10-01","2017-08-31",39160,0,"2017-08-31","2017-08-31",39160,0,"2017-08-31","2017-08-31",39160,0,"2017-08-31","2017-08-31",39160,0,"2017-08-31","2017-08-31",39160,0,"2017-08-31","2017-08-31",39160,0,"2016-11-01","2016-11-30",0,1,0,{"$f":"IF('DA 2.2'!B97=2,0,IF(AR53=1,I53-J53,0))","v":0},null,4.5116399999999999,45.116399999999999,"PER MONTH",{"$f":"AX51-AX52","v":0},null,null,null,{"$f":"AX51*G55","v":0},null,null,null,null,null,"2017-08-01",0,"2017-08-01",0,"2017-08-01",0,"2017-08-01",0]
[null,"2016-08-18",38130,8,31,1230,0.22008,0.18340000000000001,270.69839999999999,225.58200000000002,45.11639999999997,"2016-07-01","2016-09-30",38130,38130,"2016-10-01","2017-08-31",39160,0,"2017-08-31","2017-08-31",39160,0,"2017-08-31","2017-08-31",39160,0,"2017-08-31","2017-08-31",39160,0,"2017-08-31","2017-08-31",39160,0,"2017-08-31","2017-08-31",39160,0,"2016-11-01","2016-11-30",0,1,0,{"$f":"IF('DA 2.2'!B98=2,0,IF(AR54=1,I54-J54,0))","v":0},null,4.5116399999999999,45.116399999999999,{"$f":"VLOOKUP(AW51,B6:E568,4)","v":31},{"$f":"AW54-AY54","v":0},{"$f":"DAY(AW51)","v":31},null,null,null,null,null,null,null,null,"2017-08-01",0,"2017-08-01",0,"2017-08-01",0,"2017-08-01",0]
[null,"2016-08-19",38130,8,31,1230,0.22008,0.18340000000000001,270.69839999999999,225.58200000000002,45.11639999999997,"2016-07-01","2016-09-30",38130,38130,"2016-10-01","2017-08-31",39160,0,"2017-08-31","2017-08-31",39160,0,"2017-08-31","2017-08-31",39160,0,"2017-08-31","2017-08-31",39160,0,"2017-08-31","2017-08-31",39160,0,"2017-08-31","2017-08-31",39160,0,"2016-11-01","2016-11-30",0,1,0,{"$f":"IF('DA 2.2'!B99=2,0,IF(AR55=1,I55-J55,0))","v":0},null,4.5116399999999999,45.116399999999999,null,{"$f":"ROUND((AX53/AW54)*AX54,0)","v":0},{"$f":"AX55*G55","v":0},{"$f":"(AX55*H55)","v":0},{"$f":"ROUND((AY55-AZ55),0)","v":0},null,null,null,null,null,null,"2017-08-01",0,"2017-08-01",0,"2017-08-01",0,"2017-08-01",0]
[null,"2016-08-20",38130,8,31,1230,{"$f":"G55","v":0.22008},0.18340000000000001,270.69839999999999,225.58200000000002,45.11639999999997,{"$f":"L55","v":"2016-07-01"},"2016-09-30",38130,38130,{"$f":"P55","v":"2016-10-01"},"2017-08-31",39160,0,{"$f":"T55","v":"2017-08-31"},"2017-08-31",39160,0,{"$f":"X55","v":"2017-08-31"},"2017-08-31",39160,0,"2017-08-31","2017-08-31",39160,0,"2017-08-31","2017-08-31",39160,0,"2017-08-31","2017-08-31",39160,0,{"$f":"AN55","v":"2016-11-01"},"2016-11-30",0,1,0,{"$f":"IF('DA 2.2'!B100=2,0,IF(AR56=1,I56-J56,0))","v":0},null,4.5116399999999999,45.116399999999999,null,null,null,null,null,null,null,null,null,null,null,"2017-08-01",0,"2017-08-01",0,"2017-08-01",0,"2017-08-01",0]
[null,"2016-08-21",38130,8,31,1230,0.22008,0.18340000000000001,270.69839999999999,225.58200000000002,45.11639999999997,"2016-07-01","2016-09-30",38130,38130,"2016-10-01","2017-08-31",39160,0,"2017-08-31","2017-08-31",39160,0,"2017-08-31","2017-08-31",39160,0,"2017-08-31","2017-08-31",39160,0,"2017-08-31","2017-08-31",39160,0,"2017-08-31","2017-08-31",39160,0,"2016-11-01","2016-11-30",0,1,0,{"$f":"IF('DA 2.2'!B101=2,0,IF(AR57=1,I57-J57,0))","v":0},null,4.5116399999999999,45.116399999999999,null,null,null,null,null,null,null,null,null,null,null,"2017-08-01",0,"2017-08-01",0,"2017-08-01",0,"2017-08-01",0]
[null,"2016-08-22",38130,8,31,1230,0.22008,0.18340000000000001,270.69839999999999,225.58200000000002,45.11639999999997,"2016-07-01","2016-09-30",38130,38130,"2016-10-01","2017-08-31",39160,0,"2017-08-31","2017-08-31",39160,0,"2017-08-31","2017-08-31",39160,0,"2017-08-31","2017-08-31",39160,0,"2017-08-31","2017-08-31",39160,0,"2017-08-31","2017-08-31",39160,0,"2016-11-01","2016-11-30",0,1,0,{"$f":"IF('DA 2.2'!B102=2,0,IF(AR58=1,I58-J58,0))","v":0},null,4.5116399999999999,45.116399999999999,{"$f":"'DA 2.2'!C8","v":"2017-08-31"},{"$f":"IF('DA 2.2'!C8<'DA 2.2'!B16,IF(AW58<B6,0,VLOOKUP('DA 2.2'!C8,'DA 2.3'!B25:C605,2)))","v":false},1,{"$f":"MONTH(AW58)","v":8},{"$f":"YEAR(AW58)","v":2017},"PROMO 2",null,null,null,null,null,"2017-08-01",0,"2017-08-01",0,"2017-08-01",0,"2017-08-01",0]
[null,"2016-08-23",38130,8,31,1230,0.22008,0.18340000000000001,270.69839999999999,225.58200000000002,45.11639999999997,"2016-07-01","2016-09-30",38130,38130,"2016-10-01","2017-08-31",39160,0,"2017-08-31","2017-08-31",39160,0,"2017-08-31","2017-08-31",39160,0,"2017-08-31","2017-08-31",39160,0,"2017-08-31","2017-08-31",39160,0,"2017-08-31","2017-08-31",39160,0,"2016-11-01","2016-11-30",0,1,0,{"$f":"IF('DA 2.2'!B103=2,0,IF(AR59=1,I59-J59,0))","v":0},null,4.5116399999999999,45.116399999999999,{"$f":"AW58-1","v":"2017-08-30"},{"$f":"IF(AW58>'DA 2.2'!B16,0,VLOOKUP(AW59,'DA 2.3'!B6:C586,2))","v":39160},{"$f":"DATE(BA58,AZ58,AY58)","v":"2017-08-01"}]
[null,"2016-08-24",38130,8,31,1230,0.22008,0.18340000000000001,270.69839999999999,225.58200000000002,45.11639999999997,"2016-07-01","2016-09-30",38130,38130,"2016-10-01","2017-08-31",39160,0,"2017-08-31","2017-08-31",39160,0,"2017-08-31","2017-08-31",39160,0,"2017-08-31","2017-08-31",39160,0,"2017-08-31","2017-08-31",39160,0,"2017-08-31","2017-08-31",39160,0,"2016-11-01","2016-11-30",0,1,0,{"$f":"IF('DA 2.2'!B104=2,0,IF(AR60=1,I60-J60,0))","v":0},null,4.5116399999999999,45.116399999999999,"PER MONTH",{"$f":"AX58-AX59","v":-39160}]
[null,"2016-08-25",38130,8,31,1230,0.22008,0.18340000000000001,270.69839999999999,225.58200000000002,45.11639999999997,"2016-07-01","2016-09-30",38130,38130,"2016-10-01","2017-08-31",39160,0,"2017-08-31","2017-08-31",39160,0,"2017-08-31","2017-08-31",39160,0,"2017-08-31","2017-08-31",39160,0,"2017-08-31","2017-08-31",39160,0,"2017-08-31","2017-08-31",39160,0,"2016-11-01","2016-11-30",0,1,0,{"$f":"IF('DA 2.2'!B105=2,0,IF(AR61=1,I61-J61,0))","v":0},null,4.5116399999999999,45.116399999999999,{"$f":"VLOOKUP(AW58,B6:E586,4)","v":31},{"$f":"AW61-AY61","v":0},{"$f":"DAY(AW58)","v":31}]
[null,"2016-08-26",38130,8,31,1230,0.22008,0.18340000000000001,270.69839999999999,225.58200000000002,45.11639999999997,"2016-07-01","2016-09-30",38130,38130,"2016-10-01","2017-08-31",39160,0,"2017-08-31","2017-08-31",39160,0,"2017-08-31","2017-08-31",39160,0,"2017-08-31","2017-08-31",39160,0,"2017-08-31","2017-08-31",39160,0,"2017-08-31","2017-08-31",39160,0,"2016-11-01","2016-11-30",0,1,0,{"$f":"IF('DA 2.2'!B106=2,0,IF(AR62=1,I62-J62,0))","v":0},null,4.5116399999999999,45.116399999999999,null,{"$f":"ROUND((AX60/AW61)*AX61,0)","v":0},{"$f":"ROUND(AX62*G62,0)","v":0},{"$f":"ROUND(AX62*H62,0)","v":0},{"$f":"ROUND(AY62-AZ62,0)","v":0}]
[null,"2016-08-27",38130,8,31,1230,0.22008,0.18340000000000001,270.69839999999999,225.58200000000002,45.11639999999997,"2016-07-01","2016-09-30",38130,38130,"2016-10-01","2017-08-31",39160,0,"2017-08-31","2017-08-31",39160,0,"2017-08-31","2017-08-31",39160,0,"2017-08-31","2017-08-31",39160,0,"2017-08-31","2017-08-31",39160,0,"2017-08-31","2017-08-31",39160,0,"2016-11-01","2016-11-30",0,1,0,{"$f":"IF('DA 2.2'!B107=2,0,IF(AR63=1,I63-J63,0))","v":0},null,4.5116399999999999,45.116399999999999]
[null,"2016-08-28",38130,8,31,1230,0.22008,0.18340000000000001,270.69839999999999,225.58200000000002,45.11639999999997,"2016-07-01","2016-09-30",38130,38130,"2016-10-01","2017-08-31",39160,0,"2017-08-31","2017-08-31",39160,0,"2017-08-31","2017-08-31",39160,0,"2017-08-31","2017-08-31",39160,0,"2017-08-31","2017-08-31",39160,0,"2017-08-31","2017-08-31",39160,0,"2016-11-01","2016-11-30",0,1,0,{"$f":"IF('DA 2.2'!B108=2,0,IF(AR64=1,I64-J64,0))","v":0},null,4.5116399999999999,45.116399999999999]
[null,"2016-08-29",38130,8,31,1230,0.22008,0.18340000000000001,270.69839999999999,225.58200000000002,45.11639999999997,"2016-07-01","2016-09-30",38130,38130,"2016-10-01","2017-08-31",39160,0,"2017-08-31","2017-08-31",39160,0,"2017-08-31","2017-08-31",39160,0,"2017-08-31","2017-08-31",39160,0,"2017-08-31","2017-08-31",39160,0,"2017-08-31","2017-08-31",39160,0,"2016-11-01","2016-11-30",0,1,0,{"$f":"IF('DA 2.2'!B109=2,0,IF(AR65=1,I65-J65,0))","v":0},null,4.5116399999999999,45.116399999999999]
[null,"2016-08-30",38130,8,31,1230,0.22008,0.18340000000000001,270.69839999999999,225.58200000000002,45.11639999999997,"2016-07-01","2016-09-30",38130,38130,"2016-10-01","2017-08-31",39160,0,"2017-08-31","2017-08-31",39160,0,"2017-08-31","2017-08-31",39160,0,"2017-08-31","2017-08-31",39160,0,"2017-08-31","2017-08-31",39160,0,"2017-08-31","2017-08-31",39160,0,"2016-11-01","2016-11-30",0,1,0,{"$f":"IF('DA 2.2'!B110=2,0,IF(AR66=1,I66-J66,0))","v":0},null,4.5116399999999999,45.116399999999999]
[null,"2016-08-31",38130,8,31,1230,0.22008,0.18340000000000001,270.69839999999999,225.58200000000002,45.11639999999997,"2016-07-01","2016-09-30",38130,38130,"2016-10-01","2017-08-31",39160,0,"2017-08-31","2017-08-31",39160,0,"2017-08-31","2017-08-31",39160,0,"2017-08-31","2017-08-31",39160,0,"2017-08-31","2017-08-31",39160,0,"2017-08-31","2017-08-31",39160,0,"2016-11-01","2016-11-30",0,1,0,{"$f":"IF('DA 2.2'!B111=2,0,IF(AR67=1,I67-J67,0))","v":0},null,4.5116399999999999,45.116399999999999]
[null,"2016-09-01",38130,9,30,1271,0.22008,0.18340000000000001,279.72167999999999,233.10140000000001,46.62027999999998,"2016-07-01","2016-09-30",38130,38130,"2016-10-01","2017-08-31",39160,0,"2017-08-31","2017-08-31",39160,0,"2017-08-31","2017-08-31",39160,0,"2017-08-31","2017-08-31",39160,0,"2017-08-31","2017-08-31",39160,0,"2017-08-31","2017-08-31",39160,0,"2016-11-01","2016-11-30",0,1,0,{"$f":"IF('DA 2.2'!B112=2,0,IF(AR68=1,I68-J68,0))","v":0},null,4.6620280000000003,46.620280000000001]
[null,"2016-09-02",38130,9,30,1271,0.22008,0.18340000000000001,279.72167999999999,233.10140000000001,46.62027999999998,"2016-07-01","2016-09-30",38130,38130,"2016-10-01","2017-08-31",39160,0,"2017-08-31","2017-08-31",39160,0,"2017-08-31","2017-08-31",39160,0,"2017-08-31","2017-08-31",39160,0,"2017-08-31","2017-08-31",39160,0,"2017-08-31","2017-08-31",39160,0,"2016-11-01","2016-11-30",0,1,0,{"$f":"IF('DA 2.2'!B113=2,0,IF(AR69=1,I69-J69,0))","v":0},null,4.6620280000000003,46.620280000000001]
[null,"2016-09-03",38130,9,30,{"$f":"C70/E70","v":1271},0.22008,0.18340000000000001,{"$f":"F70*G70","v":279.72167999999999},{"$f":"F70*H70","v":233.10140000000001},46.62027999999998,"2016-07-01","2016-09-30",38130,38130,"2016-10-01","2017-08-31",39160,0,"2017-08-31","2017-08-31",39160,0,"2017-08-31","2017-08-31",39160,0,"2017-08-31","2017-08-31",39160,0,"2017-08-31","2017-08-31",39160,0,"2017-08-31","2017-08-31",39160,0,"2016-11-01","2016-11-30",{"$f":"IF(B70>=AN70,1,0)","v":0},{"$f":"IF(B70<=AO70,1,0)","v":1},0,{"$f":"IF('DA 2.2'!B114=2,0,IF(AR70=1,I70-J70,0))","v":0},null,4.6620280000000003,46.620280000000001]
[null,"2016-09-04",{"$f":"O71+S71+W71+AA71+AE71+AI71+AM71","v":38130},{"$f":"MONTH(B71)","v":9},{"$f":"IF(D71=1,31,IF(D71=2,29,IF(D71=3,31,IF(D71=5,31,IF(D71=7,31,IF(D71=8,31,IF(D71=10,31,IF(D71=12,31,30))))))))","v":30},1271,0.22008,0.18340000000000001,279.72167999999999,233.10140000000001,{"$f":"I71-J71","v":46.62027999999998},"2016-07-01","2016-09-30",38130,{"$f":"IF(M71>=B71,N71,0)","v":38130},"2016-10-01","2017-08-31",39160,{"$f":"IF(O71>0,0,IF(Q71>=B71,R71,0))","v":0},"2017-08-31","2017-08-31",39160,{"$f":"IF(T71>U71,0,IF(O71>0,0,IF(S71>0,0,IF(U71>=B71,V71,0))))","v":0},"2017-08-31","2017-08-31",39160,{"$f":"IF(X71>=Y71,0,IF(O71>0,0,IF(S71>0,0,IF(W71>0,0,IF(Y71>=B71,Z71,0)))))","v":0},"2017-08-31","2017-08-31",39160,{"$f":"IF(O71>0,0,IF(AB71>=AC71,0,IF(S71>0,0,IF(W71>0,0,IF(AA71>0,0,IF(AC71>=B71,AD71,0))))))","v":0},"2017-08-31","2017-08-31",39160,{"$f":"IF(O71>0,0,IF(S71>0,0,IF(AF71>=AG71,0,IF(W71>0,0,IF(AA71>0,0,IF(AE71>0,0,IF(AG71>=B71,AH71,0)))))))","v":0},"2017-08-31","2017-08-31",39160,0,"2016-11-01","2016-11-30",0,1,{"$f":"IF(SUM(AP71:AQ71)=2,1,0)","v":0},{"$f":"IF('DA 2.2'!B115=2,0,IF(AR71=1,I71-J71,0))","v":0},null,{"$f":"ROUND(K71*10%,6)","v":4.6620280000000003},{"$f":"ROUND(K71,6)","v":46.620280000000001}]
[null,"2016-09-05",38130,9,30,1271,{"$f":"G71","v":0.22008},0.18340000000000001,279.72167999999999,233.10140000000001,46.62027999999998,{"$f":"L71","v":"2016-07-01"},"2016-09-30",38130,38130,{"$f":"P71","v":"2016-10-01"},"2017-08-31",39160,0,{"$f":"T71","v":"2017-08-31"},"2017-08-31",39160,0,{"$f":"X71","v":"2017-08-31"},"2017-08-31",39160,0,{"$f":"AB71","v":"2017-08-31"},"2017-08-31",39160,0,{"$f":"AF71","v":"2017-08-31"},{"$f":"AG71","v":"2017-08-31"},{"$f":"AH71","v":39160},0,{"$f":"AJ71","v":"2017-08-31"},{"$f":"AK71","v":"2017-08-31"},{"$f":"AL71","v":39160},{"$f":"IF(O72>0,0,IF(S72>0,0,IF(AJ72>=AK72,0,IF(W72>0,0,IF(AA72>0,0,IF(AE72>0,0,IF(AI72>0,0,IF(AK72>=B72,AL72,0))))))))","v":0},{"$f":"AN71","v":"2016-11-01"},"2016-11-30",0,1,0,{"$f":"IF('DA 2.2'!B116=2,0,IF(AR72=1,I72-J72,0))","v":0},null,4.6620280000000003,46.620280000000001]
[null,"2016-09-06",38130,9,30,1271,0.22008,0.18340000000000001,279.72167999999999,233.10140000000001,46.62027999999998,"2016-07-01","2016-09-30",38130,38130,"2016-10-01","2017-08-31",39160,0,"2017-08-31","2017-08-31",39160,0,"2017-08-31","2017-08-31",39160,0,"2017-08-31","2017-08-31",39160,0,"2017-08-31","2017-08-31",39160,0,"2017-08-31","2017-08-31",39160,0,"2016-11-01","2016-11-30",0,1,0,{"$f":"IF('DA 2.2'!B117=2,0,IF(AR73=1,I73-J73,0))","v":0},null,4.6620280000000003,46.620280000000001]
[null,"2016-09-07",38130,9,30,1271,0.22008,0.18340000000000001,279.72167999999999,233.10140000000001,46.62027999999998,"2016-07-01","2016-09-30",38130,38130,"2016-10-01","2017-08-31",39160,0,"2017-08-31","2017-08-31",39160,0,"2017-08-31","2017-08-31",39160,0,"2017-08-31","2017-08-31",39160,0,"2017-08-31","2017-08-31",39160,0,"2017-08-31","2017-08-31",39160,0,"2016-11-01","2016-11-30",0,1,0,{"$f":"IF('DA 2.2'!B118=2,0,IF(AR74=1,I74-J74,0))","v":0},null,4.6620280000000003,46.620280000000001]
[null,"2016-09-08",38130,9,30,1271,0.22008,0.18340000000000001,279.72167999999999,233.10140000000001,46.62027999999998,"2016-07-01","2016-09-30",38130,38130,"2016-10-01","2017-08-31",39160,0,"2017-08-31","2017-08-31",39160,0,"2017-08-31","2017-08-31",39160,0,"2017-08-31","2017-08-31",39160,0,"2017-08-31","2017-08-31",39160,0,"2017-08-31","2017-08-31",39160,0,"2016-11-01","2016-11-30",0,1,0,{"$f":"IF('DA 2.2'!B119=2,0,IF(AR75=1,I75-J75,0))","v":0},null,4.6620280000000003,46.620280000000001]
[null,"2016-09-09",38130,9,30,1271,0.22008,0.18340000000000001,279.72167999999999,233.10140000000001,46.62027999999998,"2016-07-01","2016-09-30",38130,38130,"2016-10-01","2017-08-31",39160,0,"2017-08-31","2017-08-31",39160,0,"2017-08-31","2017-08-31",39160,0,"2017-08-31","2017-08-31",39160,0,"2017-08-31","2017-08-31",39160,0,"2017-08-31","2017-08-31",39160,0,"2016-11-01","2016-11-30",0,1,0,{"$f":"IF('DA 2.2'!B120=2,0,IF(AR76=1,I76-J76,0))","v":0},null,4.6620280000000003,46.620280000000001]
[null,"2016-09-10",38130,9,30,1271,0.22008,0.18340000000000001,279.72167999999999,233.10140000000001,46.62027999999998,"2016-07-01","2016-09-30",38130,38130,"2016-10-01","2017-08-31",39160,0,"2017-08-31","2017-08-31",39160,0,"2017-08-31","2017-08-31",39160,0,"2017-08-31","2017-08-31",39160,0,"2017-08-31","2017-08-31",39160,0,"2017-08-31","2017-08-31",39160,0,"2016-11-01","2016-11-30",0,1,0,{"$f":"IF('DA 2.2'!B121=2,0,IF(AR77=1,I77-J77,0))","v":0},null,4.6620280000000003,46.620280000000001]
[null,"2016-09-11",38130,9,30,1271,0.22008,0.18340000000000001,279.72167999999999,233.10140000000001,46.62027999999998,"2016-07-01","2016-09-30",38130,38130,"2016-10-01","2017-08-31",39160,0,"2017-08-31","2017-08-31",39160,0,"2017-08-31","2017-08-31",39160,0,"2017-08-31","2017-08-31",39160,0,"2017-08-31","2017-08-31",39160,0,"2017-08-31","2017-08-31",39160,0,"2016-11-01","2016-11-30",0,1,0,{"$f":"IF('DA 2.2'!B122=2,0,IF(AR78=1,I78-J78,0))","v":0},null,4.6620280000000003,46.620280000000001]
[null,"2016-09-12",38130,9,30,1271,0.22008,0.18340000000000001,279.72167999999999,233.10140000000001,46.62027999999998,"2016-07-01","2016-09-30",38130,38130,"2016-10-01","2017-08-31",39160,0,"2017-08-31","2017-08-31",39160,0,"2017-08-31","2017-08-31",39160,0,"2017-08-31","2017-08-31",39160,0,"2017-08-31","2017-08-31",39160,0,"2017-08-31","2017-08-31",39160,0,"2016-11-01","2016-11-30",0,1,0,{"$f":"IF('DA 2.2'!B123=2,0,IF(AR79=1,I79-J79,0))","v":0},null,4.6620280000000003,46.620280000000001]
[null,"2016-09-13",38130,9,30,1271,0.22008,0.18340000000000001,279.72167999999999,233.10140000000001,46.62027999999998,"2016-07-01","2016-09-30",38130,38130,"2016-10-01","2017-08-31",39160,0,"2017-08-31","2017-08-31",39160,0,"2017-08-31","2017-08-31",39160,0,"2017-08-31","2017-08-31",39160,0,"2017-08-31","2017-08-31",39160,0,"2017-08-31","2017-08-31",39160,0,"2016-11-01","2016-11-30",0,1,0,{"$f":"IF('DA 2.2'!B124=2,0,IF(AR80=1,I80-J80,0))","v":0},null,4.6620280000000003,46.620280000000001]
[null,"2016-09-14",38130,9,30,1271,0.22008,0.18340000000000001,279.72167999999999,233.10140000000001,46.62027999999998,"2016-07-01","2016-09-30",38130,38130,"2016-10-01","2017-08-31",39160,0,"2017-08-31","2017-08-31",39160,0,"2017-08-31","2017-08-31",39160,0,"2017-08-31","2017-08-31",39160,0,"2017-08-31","2017-08-31",39160,0,"2017-08-31","2017-08-31",39160,0,"2016-11-01","2016-11-30",0,1,0,{"$f":"IF('DA 2.2'!B125=2,0,IF(AR81=1,I81-J81,0))","v":0},null,4.6620280000000003,46.620280000000001]
[null,"2016-09-15",38130,9,30,1271,0.22008,0.18340000000000001,279.72167999999999,233.10140000000001,46.62027999999998,"2016-07-01","2016-09-30",38130,38130,"2016-10-01","2017-08-31",39160,0,"2017-08-31","2017-08-31",39160,0,"2017-08-31","2017-08-31",39160,0,"2017-08-31","2017-08-31",39160,0,"2017-08-31","2017-08-31",39160,0,"2017-08-31","2017-08-31",39160,0,"2016-11-01","2016-11-30",0,1,0,{"$f":"IF('DA 2.2'!B126=2,0,IF(AR82=1,I82-J82,0))","v":0},null,4.6620280000000003,46.620280000000001]
[null,"2016-09-16",38130,9,30,1271,0.22008,0.18340000000000001,279.72167999999999,233.10140000000001,46.62027999999998,"2016-07-01","2016-09-30",38130,38130,"2016-10-01","2017-08-31",39160,0,"2017-08-31","2017-08-31",39160,0,"2017-08-31","2017-08-31",39160,0,"2017-08-31","2017-08-31",39160,0,"2017-08-31","2017-08-31",39160,0,"2017-08-31","2017-08-31",39160,0,"2016-11-01","2016-11-30",0,1,0,{"$f":"IF('DA 2.2'!B127=2,0,IF(AR83=1,I83-J83,0))","v":0},null,4.6620280000000003,46.620280000000001]
[null,"2016-09-17",38130,9,30,1271,0.22008,0.18340000000000001,279.72167999999999,233.10140000000001,46.62027999999998,"2016-07-01","2016-09-30",38130,38130,"2016-10-01","2017-08-31",39160,0,"2017-08-31","2017-08-31",39160,0,"2017-08-31","2017-08-31",39160,0,"2017-08-31","2017-08-31",39160,0,"2017-08-31","2017-08-31",39160,0,"2017-08-31","2017-08-31",39160,0,"2016-11-01","2016-11-30",0,1,0,{"$f":"IF('DA 2.2'!B128=2,0,IF(AR84=1,I84-J84,0))","v":0},null,4.6620280000000003,46.620280000000001]
[null,"2016-09-18",38130,9,30,1271,0.22008,0.18340000000000001,279.72167999999999,233.10140000000001,46.62027999999998,"2016-07-01","2016-09-30",38130,38130,"2016-10-01","2017-08-31",39160,0,"2017-08-31","2017-08-31",39160,0,"2017-08-31","2017-08-31",39160,0,"2017-08-31","2017-08-31",39160,0,"2017-08-31","2017-08-31",39160,0,"2017-08-31","2017-08-31",39160,0,"2016-11-01","2016-11-30",0,1,0,{"$f":"IF('DA 2.2'!B129=2,0,IF(AR85=1,I85-J85,0))","v":0},null,4.6620280000000003,46.620280000000001]
[null,"2016-09-19",38130,9,30,1271,0.22008,0.18340000000000001,279.72167999999999,233.10140000000001,46.62027999999998,"2016-07-01","2016-09-30",38130,38130,"2016-10-01","2017-08-31",39160,0,"2017-08-31","2017-08-31",39160,0,"2017-08-31","2017-08-31",39160,0,"2017-08-31","2017-08-31",39160,0,"2017-08-31","2017-08-31",39160,0,"2017-08-31","2017-08-31",39160,0,"2016-11-01","2016-11-30",0,1,0,{"$f":"IF('DA 2.2'!B130=2,0,IF(AR86=1,I86-J86,0))","v":0},null,4.6620280000000003,46.620280000000001]
[null,"2016-09-20",38130,9,30,1271,0.22008,0.18340000000000001,279.72167999999999,233.10140000000001,46.62027999999998,"2016-07-01","2016-09-30",38130,38130,"2016-10-01","2017-08-31",39160,0,"2017-08-31","2017-08-31",39160,0,"2017-08-31","2017-08-31",39160,0,"2017-08-31","2017-08-31",39160,0,"2017-08-31","2017-08-31",39160,0,"2017-08-31","2017-08-31",39160,0,"2016-11-01","2016-11-30",0,1,0,{"$f":"IF('DA 2.2'!B131=2,0,IF(AR87=1,I87-J87,0))","v":0},null,4.6620280000000003,46.620280000000001]
[null,"2016-09-21",38130,9,30,1271,{"$f":"G87","v":0.22008},0.18340000000000001,279.72167999999999,233.10140000000001,46.62027999999998,{"$f":"L87","v":"2016-07-01"},"2016-09-30",38130,38130,{"$f":"P87","v":"2016-10-01"},"2017-08-31",39160,0,{"$f":"T87","v":"2017-08-31"},"2017-08-31",39160,0,{"$f":"X87","v":"2017-08-31"},"2017-08-31",39160,0,"2017-08-31","2017-08-31",39160,0,"2017-08-31","2017-08-31",39160,0,"2017-08-31","2017-08-31",39160,0,{"$f":"AN87","v":"2016-11-01"},"2016-11-30",0,1,0,{"$f":"IF('DA 2.2'!B132=2,0,IF(AR88=1,I88-J88,0))","v":0},null,4.6620280000000003,46.620280000000001]
[null,"2016-09-22",38130,9,30,1271,0.22008,0.18340000000000001,279.72167999999999,233.10140000000001,46.62027999999998,"2016-07-01","2016-09-30",38130,38130,"2016-10-01","2017-08-31",39160,0,"2017-08-31","2017-08-31",39160,0,"2017-08-31","2017-08-31",39160,0,"2017-08-31","2017-08-31",39160,0,"2017-08-31","2017-08-31",39160,0,"2017-08-31","2017-08-31",39160,0,"2016-11-01","2016-11-30",0,1,0,{"$f":"IF('DA 2.2'!B133=2,0,IF(AR89=1,I89-J89,0))","v":0},null,4.6620280000000003,46.620280000000001]
[null,"2016-09-23",38130,9,30,1271,0.22008,0.18340000000000001,279.72167999999999,233.10140000000001,46.62027999999998,"2016-07-01","2016-09-30",38130,38130,"2016-10-01","2017-08-31",39160,0,"2017-08-31","2017-08-31",39160,0,"2017-08-31","2017-08-31",39160,0,"2017-08-31","2017-08-31",39160,0,"2017-08-31","2017-08-31",39160,0,"2017-08-31","2017-08-31",39160,0,"2016-11-01","2016-11-30",0,1,0,{"$f":"IF('DA 2.2'!B134=2,0,IF(AR90=1,I90-J90,0))","v":0},null,4.6620280000000003,46.620280000000001]
[null,"2016-09-24",38130,9,30,1271,0.22008,0.18340000000000001,279.72167999999999,233.10140000000001,46.62027999999998,"2016-07-01","2016-09-30",38130,38130,"2016-10-01","2017-08-31",39160,0,"2017-08-31","2017-08-31",39160,0,"2017-08-31","2017-08-31",39160,0,"2017-08-31","2017-08-31",39160,0,"2017-08-31","2017-08-31",39160,0,"2017-08-31","2017-08-31",39160,0,"2016-11-01","2016-11-30",0,1,0,{"$f":"IF('DA 2.2'!B135=2,0,IF(AR91=1,I91-J91,0))","v":0},null,4.6620280000000003,46.620280000000001]
[null,"2016-09-25",38130,9,30,1271,0.22008,0.18340000000000001,279.72167999999999,233.10140000000001,46.62027999999998,"2016-07-01","2016-09-30",38130,38130,"2016-10-01","2017-08-31",39160,0,"2017-08-31","2017-08-31",39160,0,"2017-08-31","2017-08-31",39160,0,"2017-08-31","2017-08-31",39160,0,"2017-08-31","2017-08-31",39160,0,"2017-08-31","2017-08-31",39160,0,"2016-11-01","2016-11-30",0,1,0,{"$f":"IF('DA 2.2'!B136=2,0,IF(AR92=1,I92-J92,0))","v":0},null,4.6620280000000003,46.620280000000001]
[null,"2016-09-26",38130,9,30,1271,0.22008,0.18340000000000001,279.72167999999999,233.10140000000001,46.62027999999998,"2016-07-01","2016-09-30",38130,38130,"2016-10-01","2017-08-31",39160,0,"2017-08-31","2017-08-31",39160,0,"2017-08-31","2017-08-31",39160,0,"2017-08-31","2017-08-31",39160,0,"2017-08-31","2017-08-31",39160,0,"2017-08-31","2017-08-31",39160,0,"2016-11-01","2016-11-30",0,1,0,{"$f":"IF('DA 2.2'!B137=2,0,IF(AR93=1,I93-J93,0))","v":0},null,4.6620280000000003,46.620280000000001]
[null,"2016-09-27",38130,9,30,1271,0.22008,0.18340000000000001,279.72167999999999,233.10140000000001,46.62027999999998,"2016-07-01","2016-09-30",38130,38130,"2016-10-01","2017-08-31",39160,0,"2017-08-31","2017-08-31",39160,0,"2017-08-31","2017-08-31",39160,0,"2017-08-31","2017-08-31",39160,0,"2017-08-31","2017-08-31",39160,0,"2017-08-31","2017-08-31",39160,0,"2016-11-01","2016-11-30",0,1,0,{"$f":"IF('DA 2.2'!B138=2,0,IF(AR94=1,I94-J94,0))","v":0},null,4.6620280000000003,46.620280000000001]
[null,"2016-09-28",38130,9,30,1271,0.22008,0.18340000000000001,279.72167999999999,233.10140000000001,46.62027999999998,"2016-07-01","2016-09-30",38130,38130,"2016-10-01","2017-08-31",39160,0,"2017-08-31","2017-08-31",39160,0,"2017-08-31","2017-08-31",39160,0,"2017-08-31","2017-08-31",39160,0,"2017-08-31","2017-08-31",39160,0,"2017-08-31","2017-08-31",39160,0,"2016-11-01","2016-11-30",0,1,0,{"$f":"IF('DA 2.2'!B139=2,0,IF(AR95=1,I95-J95,0))","v":0},null,4.6620280000000003,46.620280000000001]
[null,"2016-09-29",38130,9,30,{"$f":"C96/E96","v":1271},0.22008,0.18340000000000001,279.72167999999999,233.10140000000001,46.62027999999998,"2016-07-01","2016-09-30",38130,38130,"2016-10-01","2017-08-31",39160,0,"2017-08-31","2017-08-31",39160,0,"2017-08-31","2017-08-31",39160,0,"2017-08-31","2017-08-31",39160,0,"2017-08-31","2017-08-31",39160,0,"2017-08-31","2017-08-31",39160,0,"2016-11-01","2016-11-30",0,1,0,{"$f":"IF('DA 2.2'!B140=2,0,IF(AR96=1,I96-J96,0))","v":0},null,4.6620280000000003,46.620280000000001]
[null,"2016-09-30",38130,9,30,1271,0.22008,0.18340000000000001,279.72167999999999,233.10140000000001,46.62027999999998,"2016-07-01","2016-09-30",38130,38130,"2016-10-01","2017-08-31",39160,0,"2017-08-31","2017-08-31",39160,0,"2017-08-31","2017-08-31",39160,0,"2017-08-31","2017-08-31",39160,0,"2017-08-31","2017-08-31",39160,0,"2017-08-31","2017-08-31",39160,0,"2016-11-01","2016-11-30",0,1,0,{"$f":"IF('DA 2.2'!B141=2,0,IF(AR97=1,I97-J97,0))","v":0},null,4.6620280000000003,46.620280000000001]
[null,"2016-10-01",39160,10,31,1263.2258064516129,0.22008,0.18340000000000001,278.01073548387097,231.67561290322581,46.335122580645162,"2016-07-01","2016-09-30",38130,0,"2016-10-01","2017-08-31",39160,39160,"2017-08-31","2017-08-31",39160,0,"2017-08-31","2017-08-31",39160,0,"2017-08-31","2017-08-31",39160,0,"2017-08-31","2017-08-31",39160,0,"2017-08-31","2017-08-31",39160,0,"2016-11-01","2016-11-30",0,1,0,{"$f":"IF('DA 2.2'!B142=2,0,IF(AR98=1,I98-J98,0))","v":0},null,4.6335119999999996,46.335123000000003]
[null,"2016-10-02",39160,10,31,1263.2258064516129,0.22008,0.18340000000000001,278.01073548387097,231.67561290322581,46.335122580645162,"2016-07-01","2016-09-30",38130,0,"2016-10-01","2017-08-31",39160,39160,"2017-08-31","2017-08-31",39160,0,"2017-08-31","2017-08-31",39160,0,"2017-08-31","2017-08-31",39160,0,"2017-08-31","2017-08-31",39160,0,"2017-08-31","2017-08-31",39160,0,"2016-11-01","2016-11-30",0,1,0,{"$f":"IF('DA 2.2'!B143=2,0,IF(AR99=1,I99-J99,0))","v":0},null,4.6335119999999996,46.335123000000003]
[null,"2016-10-03",39160,10,31,1263.2258064516129,0.22008,0.18340000000000001,278.01073548387097,231.67561290322581,46.335122580645162,"2016-07-01","2016-09-30",38130,0,"2016-10-01","2017-08-31",39160,39160,"2017-08-31","2017-08-31",39160,0,"2017-08-31","2017-08-31",39160,0,"2017-08-31","2017-08-31",39160,0,"2017-08-31","2017-08-31",39160,0,"2017-08-31","2017-08-31",39160,0,"2016-11-01","2016-11-30",0,1,0,{"$f":"IF('DA 2.2'!B144=2,0,IF(AR100=1,I100-J100,0))","v":0},null,4.6335119999999996,46.335123000000003]
[null,"2016-10-04",39160,10,31,1263.2258064516129,0.22008,0.18340000000000001,278.01073548387097,231.67561290322581,46.335122580645162,"2016-07-01","2016-09-30",38130,0,"2016-10-01","2017-08-31",39160,39160,"2017-08-31","2017-08-31",39160,0,"2017-08-31","2017-08-31",39160,0,"2017-08-31","2017-08-31",39160,0,"2017-08-31","2017-08-31",39160,0,"2017-08-31","2017-08-31",39160,0,"2016-11-01","2016-11-30",0,1,0,{"$f":"IF('DA 2.2'!B145=2,0,IF(AR101=1,I101-J101,0))","v":0},null,4.6335119999999996,46.335123000000003]
[null,"2016-10-05",39160,10,31,1263.2258064516129,0.22008,0.18340000000000001,278.01073548387097,231.67561290322581,46.335122580645162,"2016-07-01","2016-09-30",38130,0,"2016-10-01","2017-08-31",39160,39160,"2017-08-31","2017-08-31",39160,0,"2017-08-31","2017-08-31",39160,0,"2017-08-31","2017-08-31",39160,0,"2017-08-31","2017-08-31",39160,0,"2017-08-31","2017-08-31",39160,0,"2016-11-01","2016-11-30",0,1,0,{"$f":"IF('DA 2.2'!B146=2,0,IF(AR102=1,I102-J102,0))","v":0},null,4.6335119999999996,46.335123000000003]
[null,"2016-10-06",39160,10,31,1263.2258064516129,0.22008,0.18340000000000001,278.01073548387097,231.67561290322581,46.335122580645162,"2016-07-01","2016-09-30",38130,0,"2016-10-01","2017-08-31",39160,39160,"2017-08-31","2017-08-31",39160,0,"2017-08-31","2017-08-31",39160,0,"2017-08-31","2017-08-31",39160,0,"2017-08-31","2017-08-31",39160,0,"2017-08-31","2017-08-31",39160,0,"2016-11-01","2016-11-30",0,1,0,{"$f":"IF('DA 2.2'!B147=2,0,IF(AR103=1,I103-J103,0))","v":0},null,4.6335119999999996,46.335123000000003]
[null,"2016-10-07",39160,10,31,1263.2258064516129,{"$f":"G103","v":0.22008},0.18340000000000001,278.01073548387097,231.67561290322581,46.335122580645162,{"$f":"L103","v":"2016-07-01"},"2016-09-30",38130,0,{"$f":"P103","v":"2016-10-01"},"2017-08-31",39160,39160,{"$f":"T103","v":"2017-08-31"},"2017-08-31",39160,0,{"$f":"X103","v":"2017-08-31"},"2017-08-31",39160,0,"2017-08-31","2017-08-31",39160,0,"2017-08-31","2017-08-31",39160,0,"2017-08-31","2017-08-31",39160,0,{"$f":"AN103","v":"2016-11-01"},"2016-11-30",0,1,0,{"$f":"IF('DA 2.2'!B148=2,0,IF(AR104=1,I104-J104,0))","v":0},null,4.6335119999999996,46.335123000000003]
[null,"2016-10-08",39160,10,31,1263.2258064516129,0.22008,0.18340000000000001,278.01073548387097,231.67561290322581,46.335122580645162,"2016-07-01","2016-09-30",38130,0,"2016-10-01","2017-08-31",39160,39160,"2017-08-31","2017-08-31",39160,0,"2017-08-31","2017-08-31",39160,0,"2017-08-31","2017-08-31",39160,0,"2017-08-31","2017-08-31",39160,0,"2017-08-31","2017-08-31",39160,0,"2016-11-01","2016-11-30",0,1,0,{"$f":"IF('DA 2.2'!B149=2,0,IF(AR105=1,I105-J105,0))","v":0},null,4.6335119999999996,46.335123000000003]
[null,"2016-10-09",39160,10,31,1263.2258064516129,0.22008,0.18340000000000001,278.01073548387097,231.67561290322581,46.335122580645162,"2016-07-01","2016-09-30",38130,0,"2016-10-01","2017-08-31",39160,39160,"2017-08-31","2017-08-31",39160,0,"2017-08-31","2017-08-31",39160,0,"2017-08-31","2017-08-31",39160,0,"2017-08-31","2017-08-31",39160,0,"2017-08-31","2017-08-31",39160,0,"2016-11-01","2016-11-30",0,1,0,{"$f":"IF('DA 2.2'!B150=2,0,IF(AR106=1,I106-J106,0))","v":0},null,4.6335119999999996,46.335123000000003]
[null,"2016-10-10",39160,10,31,1263.2258064516129,0.22008,0.18340000000000001,278.01073548387097,231.67561290322581,46.335122580645162,"2016-07-01","2016-09-30",38130,0,"2016-10-01","2017-08-31",39160,39160,"2017-08-31","2017-08-31",39160,0,"2017-08-31","2017-08-31",39160,0,"2017-08-31","2017-08-31",39160,0,"2017-08-31","2017-08-31",39160,0,"2017-08-31","2017-08-31",39160,0,"2016-11-01","2016-11-30",0,1,0,{"$f":"IF('DA 2.2'!B151=2,0,IF(AR107=1,I107-J107,0))","v":0},null,4.6335119999999996,46.335123000000003]
[null,"2016-10-11",39160,10,31,1263.2258064516129,0.22008,0.18340000000000001,278.01073548387097,231.67561290322581,46.335122580645162,"2016-07-01","2016-09-30",38130,0,"2016-10-01","2017-08-31",39160,39160,"2017-08-31","2017-08-31",39160,0,"2017-08-31","2017-08-31",39160,0,"2017-08-31","2017-08-31",39160,0,"2017-08-31","2017-08-31",39160,0,"2017-08-31","2017-08-31",39160,0,"2016-11-01","2016-11-30",0,1,0,{"$f":"IF('DA 2.2'!B152=2,0,IF(AR108=1,I108-J108,0))","v":0},null,4.6335119999999996,46.335123000000003]
[null,"2016-10-12",39160,10,31,1263.2258064516129,0.22008,0.18340000000000001,278.01073548387097,231.67561290322581,46.335122580645162,"2016-07-01","2016-09-30",38130,0,"2016-10-01","2017-08-31",39160,39160,"2017-08-31","2017-08-31",39160,0,"2017-08-31","2017-08-31",39160,0,"2017-08-31","2017-08-31",39160,0,"2017-08-31","2017-08-31",39160,0,"2017-08-31","2017-08-31",39160,0,"2016-11-01","2016-11-30",0,1,0,{"$f":"IF('DA 2.2'!B153=2,0,IF(AR109=1,I109-J109,0))","v":0},null,4.6335119999999996,46.335123000000003]
[null,"2016-10-13",39160,10,31,1263.2258064516129,0.22008,0.18340000000000001,278.01073548387097,231.67561290322581,46.335122580645162,"2016-07-01","2016-09-30",38130,0,"2016-10-01","2017-08-31",39160,39160,"2017-08-31","2017-08-31",39160,0,"2017-08-31","2017-08-31",39160,0,"2017-08-31","2017-08-31",39160,0,"2017-08-31","2017-08-31",39160,0,"2017-08-31","2017-08-31",39160,0,"2016-11-01","2016-11-30",0,1,0,{"$f":"IF('DA 2.2'!B154=2,0,IF(AR110=1,I110-J110,0))","v":0},null,4.6335119999999996,46.335123000000003]
[null,"2016-10-14",39160,10,31,1263.2258064516129,0.22008,0.18340000000000001,278.01073548387097,231.67561290322581,46.335122580645162,"2016-07-01","2016-09-30",38130,0,"2016-10-01","2017-08-31",39160,39160,"2017-08-31","2017-08-31",39160,0,"2017-08-31","2017-08-31",39160,0,"2017-08-31","2017-08-31",39160,0,"2017-08-31","2017-08-31",39160,0,"2017-08-31","2017-08-31",39160,0,"2016-11-01","2016-11-30",0,1,0,{"$f":"IF('DA 2.2'!B155=2,0,IF(AR111=1,I111-J111,0))","v":0},null,4.6335119999999996,46.335123000000003]
[null,"2016-10-15",39160,10,31,1263.2258064516129,0.22008,0.18340000000000001,278.01073548387097,231.67561290322581,46.335122580645162,"2016-07-01","2016-09-30",38130,0,"2016-10-01","2017-08-31",39160,39160,"2017-08-31","2017-08-31",39160,0,"2017-08-31","2017-08-31",39160,0,"2017-08-31","2017-08-31",39160,0,"2017-08-31","2017-08-31",39160,0,"2017-08-31","2017-08-31",39160,0,"2016-11-01","2016-11-30",0,1,0,{"$f":"IF('DA 2.2'!B156=2,0,IF(AR112=1,I112-J112,0))","v":0},null,4.6335119999999996,46.335123000000003]
[null,"2016-10-16",39160,10,31,1263.2258064516129,0.22008,0.18340000000000001,278.01073548387097,231.67561290322581,46.335122580645162,"2016-07-01","2016-09-30",38130,0,"2016-10-01","2017-08-31",39160,39160,"2017-08-31","2017-08-31",39160,0,"2017-08-31","2017-08-31",39160,0,"2017-08-31","2017-08-31",39160,0,"2017-08-31","2017-08-31",39160,0,"2017-08-31","2017-08-31",39160,0,"2016-11-01","2016-11-30",0,1,0,{"$f":"IF('DA 2.2'!B157=2,0,IF(AR113=1,I113-J113,0))","v":0},null,4.6335119999999996,46.335123000000003]
[null,"2016-10-17",39160,10,31,1263.2258064516129,0.22008,0.18340000000000001,278.01073548387097,231.67561290322581,46.335122580645162,"2016-07-01","2016-09-30",38130,0,"2016-10-01","2017-08-31",39160,39160,"2017-08-31","2017-08-31",39160,0,"2017-08-31","2017-08-31",39160,0,"2017-08-31","2017-08-31",39160,0,"2017-08-31","2017-08-31",39160,0,"2017-08-31","2017-08-31",39160,0,"2016-11-01","2016-11-30",0,1,0,{"$f":"IF('DA 2.2'!B158=2,0,IF(AR114=1,I114-J114,0))","v":0},null,4.6335119999999996,46.335123000000003]
[null,"2016-10-18",39160,10,31,1263.2258064516129,0.22008,0.18340000000000001,278.01073548387097,231.67561290322581,46.335122580645162,"2016-07-01","2016-09-30",38130,0,"2016-10-01","2017-08-31",39160,39160,"2017-08-31","2017-08-31",39160,0,"2017-08-31","2017-08-31",39160,0,"2017-08-31","2017-08-31",39160,0,"2017-08-31","2017-08-31",39160,0,"2017-08-31","2017-08-31",39160,0,"2016-11-01","2016-11-30",0,1,0,{"$f":"IF('DA 2.2'!B159=2,0,IF(AR115=1,I115-J115,0))","v":0},null,4.6335119999999996,46.335123000000003]
[null,"2016-10-19",39160,10,31,1263.2258064516129,0.22008,0.18340000000000001,278.01073548387097,231.67561290322581,46.335122580645162,"2016-07-01","2016-09-30",38130,0,"2016-10-01","2017-08-31",39160,39160,"2017-08-31","2017-08-31",39160,0,"2017-08-31","2017-08-31",39160,0,"2017-08-31","2017-08-31",39160,0,"2017-08-31","2017-08-31",39160,0,"2017-08-31","2017-08-31",39160,0,"2016-11-01","2016-11-30",0,1,0,{"$f":"IF('DA 2.2'!B160=2,0,IF(AR116=1,I116-J116,0))","v":0},null,4.6335119999999996,46.335123000000003]
[null,"2016-10-20",39160,10,31,1263.2258064516129,0.22008,0.18340000000000001,278.01073548387097,231.67561290322581,46.335122580645162,"2016-07-01","2016-09-30",38130,0,"2016-10-01","2017-08-31",39160,39160,"2017-08-31","2017-08-31",39160,0,"2017-08-31","2017-08-31",39160,0,"2017-08-31","2017-08-31",39160,0,"2017-08-31","2017-08-31",39160,0,"2017-08-31","2017-08-31",39160,0,"2016-11-01","2016-11-30",0,1,0,{"$f":"IF('DA 2.2'!B161=2,0,IF(AR117=1,I117-J117,0))","v":0},null,4.6335119999999996,46.335123000000003]
[null,"2016-10-21",39160,10,31,1263.2258064516129,0.22008,0.18340000000000001,278.01073548387097,231.67561290322581,46.335122580645162,"2016-07-01","2016-09-30",38130,0,"2016-10-01","2017-08-31",39160,39160,"2017-08-31","2017-08-31",39160,0,"2017-08-31","2017-08-31",39160,0,"2017-08-31","2017-08-31",39160,0,"2017-08-31","2017-08-31",39160,0,"2017-08-31","2017-08-31",39160,0,"2016-11-01","2016-11-30",0,1,0,{"$f":"IF('DA 2.2'!B162=2,0,IF(AR118=1,I118-J118,0))","v":0},null,4.6335119999999996,46.335123000000003]
[null,"2016-10-22",39160,10,31,1263.2258064516129,0.22008,0.18340000000000001,278.01073548387097,231.67561290322581,46.335122580645162,"2016-07-01","2016-09-30",38130,0,"2016-10-01","2017-08-31",39160,39160,"2017-08-31","2017-08-31",39160,0,"2017-08-31","2017-08-31",39160,0,"2017-08-31","2017-08-31",39160,0,"2017-08-31","2017-08-31",39160,0,"2017-08-31","2017-08-31",39160,0,"2016-11-01","2016-11-30",0,1,0,{"$f":"IF('DA 2.2'!B163=2,0,IF(AR119=1,I119-J119,0))","v":0},null,4.6335119999999996,46.335123000000003]
[null,"2016-10-23",39160,10,31,1263.2258064516129,{"$f":"G119","v":0.22008},0.18340000000000001,278.01073548387097,231.67561290322581,46.335122580645162,{"$f":"L119","v":"2016-07-01"},"2016-09-30",38130,0,{"$f":"P119","v":"2016-10-01"},"2017-08-31",39160,39160,{"$f":"T119","v":"2017-08-31"},"2017-08-31",39160,0,{"$f":"X119","v":"2017-08-31"},"2017-08-31",39160,0,"2017-08-31","2017-08-31",39160,0,"2017-08-31","2017-08-31",39160,0,"2017-08-31","2017-08-31",39160,0,{"$f":"AN119","v":"2016-11-01"},"2016-11-30",0,1,0,{"$f":"IF('DA 2.2'!B164=2,0,IF(AR120=1,I120-J120,0))","v":0},null,4.6335119999999996,46.335123000000003]
[null,"2016-10-24",39160,10,31,1263.2258064516129,0.22008,0.18340000000000001,278.01073548387097,231.67561290322581,46.335122580645162,"2016-07-01","2016-09-30",38130,0,"2016-10-01","2017-08-31",39160,39160,"2017-08-31","2017-08-31",39160,0,"2017-08-31","2017-08-31",39160,0,"2017-08-31","2017-08-31",39160,0,"2017-08-31","2017-08-31",39160,0,"2017-08-31","2017-08-31",39160,0,"2016-11-01","2016-11-30",0,1,0,{"$f":"IF('DA 2.2'!B165=2,0,IF(AR121=1,I121-J121,0))","v":0},null,4.6335119999999996,46.335123000000003]
[null,"2016-10-25",39160,10,31,1263.2258064516129,0.22008,0.18340000000000001,278.01073548387097,231.67561290322581,46.335122580645162,"2016-07-01","2016-09-30",38130,0,"2016-10-01","2017-08-31",39160,39160,"2017-08-31","2017-08-31",39160,0,"2017-08-31","2017-08-31",39160,0,"2017-08-31","2017-08-31",39160,0,"2017-08-31","2017-08-31",39160,0,"2017-08-31","2017-08-31",39160,0,"2016-11-01","2016-11-30",0,1,0,{"$f":"IF('DA 2.2'!B166=2,0,IF(AR122=1,I122-J122,0))","v":0},null,4.6335119999999996,46.335123000000003]
[null,"2016-10-26",39160,10,31,1263.2258064516129,0.22008,0.18340000000000001,278.01073548387097,231.67561290322581,46.335122580645162,"2016-07-01","2016-09-30",38130,0,"2016-10-01","2017-08-31",39160,39160,"2017-08-31","2017-08-31",39160,0,"2017-08-31","2017-08-31",39160,0,"2017-08-31","2017-08-31",39160,0,"2017-08-31","2017-08-31",39160,0,"2017-08-31","2017-08-31",39160,0,"2016-11-01","2016-11-30",0,1,0,{"$f":"IF('DA 2.2'!B167=2,0,IF(AR123=1,I123-J123,0))","v":0},null,4.6335119999999996,46.335123000000003]
[null,"2016-10-27",39160,10,31,1263.2258064516129,0.22008,0.18340000000000001,278.01073548387097,231.67561290322581,46.335122580645162,"2016-07-01","2016-09-30",38130,0,"2016-10-01","2017-08-31",39160,39160,"2017-08-31","2017-08-31",39160,0,"2017-08-31","2017-08-31",39160,0,"2017-08-31","2017-08-31",39160,0,"2017-08-31","2017-08-31",39160,0,"2017-08-31","2017-08-31",39160,0,"2016-11-01","2016-11-30",0,1,0,{"$f":"IF('DA 2.2'!B168=2,0,IF(AR124=1,I124-J124,0))","v":0},null,4.6335119999999996,46.335123000000003]
[null,"2016-10-28",39160,10,31,1263.2258064516129,0.22008,0.18340000000000001,278.01073548387097,231.67561290322581,46.335122580645162,"2016-07-01","2016-09-30",38130,0,"2016-10-01","2017-08-31",39160,39160,"2017-08-31","2017-08-31",39160,0,"2017-08-31","2017-08-31",39160,0,"2017-08-31","2017-08-31",39160,0,"2017-08-31","2017-08-31",39160,0,"2017-08-31","2017-08-31",39160,0,"2016-11-01","2016-11-30",0,1,0,{"$f":"IF('DA 2.2'!B169=2,0,IF(AR125=1,I125-J125,0))","v":0},null,4.6335119999999996,46.335123000000003]
[null,"2016-10-29",39160,10,31,1263.2258064516129,0.22008,0.18340000000000001,278.01073548387097,231.67561290322581,46.335122580645162,"2016-07-01","2016-09-30",38130,0,"2016-10-01","2017-08-31",39160,39160,"2017-08-31","2017-08-31",39160,0,"2017-08-31","2017-08-31",39160,0,"2017-08-31","2017-08-31",39160,0,"2017-08-31","2017-08-31",39160,0,"2017-08-31","2017-08-31",39160,0,"2016-11-01","2016-11-30",0,1,0,{"$f":"IF('DA 2.2'!B170=2,0,IF(AR126=1,I126-J126,0))","v":0},null,4.6335119999999996,46.335123000000003]
[null,"2016-10-30",39160,10,31,1263.2258064516129,0.22008,0.18340000000000001,278.01073548387097,231.67561290322581,46.335122580645162,"2016-07-01","2016-09-30",38130,0,"2016-10-01","2017-08-31",39160,39160,"2017-08-31","2017-08-31",39160,0,"2017-08-31","2017-08-31",39160,0,"2017-08-31","2017-08-31",39160,0,"2017-08-31","2017-08-31",39160,0,"2017-08-31","2017-08-31",39160,0,"2016-11-01","2016-11-30",0,1,0,{"$f":"IF('DA 2.2'!B171=2,0,IF(AR127=1,I127-J127,0))","v":0},null,4.6335119999999996,46.335123000000003]
[null,"2016-10-31",39160,10,31,1263.2258064516129,0.22008,0.18340000000000001,278.01073548387097,231.67561290322581,46.335122580645162,"2016-07-01","2016-09-30",38130,0,"2016-10-01","2017-08-31",39160,39160,"2017-08-31","2017-08-31",39160,0,"2017-08-31","2017-08-31",39160,0,"2017-08-31","2017-08-31",39160,0,"2017-08-31","2017-08-31",39160,0,"2017-08-31","2017-08-31",39160,0,"2016-11-01","2016-11-30",0,1,0,{"$f":"IF('DA 2.2'!B172=2,0,IF(AR128=1,I128-J128,0))","v":0},null,4.6335119999999996,46.335123000000003]
[null,"2016-11-01",39160,11,30,1305.3333333333333,0.22008,0.18340000000000001,287.27776,239.39813333333333,47.879626666666667,"2016-07-01","2016-09-30",38130,0,"2016-10-01","2017-08-31",39160,39160,"2017-08-31","2017-08-31",39160,0,"2017-08-31","2017-08-31",39160,0,"2017-08-31","2017-08-31",39160,0,"2017-08-31","2017-08-31",39160,0,"2017-08-31","2017-08-31",39160,0,"2016-11-01","2016-11-30",1,1,1,{"$f":"IF('DA 2.2'!B173=2,0,IF(AR129=1,I129-J129,0))","v":0},null,4.7879630000000004,47.879626999999999]
[null,"2016-11-02",39160,11,30,1305.3333333333333,0.22008,0.18340000000000001,287.27776,239.39813333333333,47.879626666666667,"2016-07-01","2016-09-30",38130,0,"2016-10-01","2017-08-31",39160,39160,"2017-08-31","2017-08-31",39160,0,"2017-08-31","2017-08-31",39160,0,"2017-08-31","2017-08-31",39160,0,"2017-08-31","2017-08-31",39160,0,"2017-08-31","2017-08-31",39160,0,"2016-11-01","2016-11-30",1,1,1,{"$f":"IF('DA 2.2'!B174=2,0,IF(AR130=1,I130-J130,0))","v":0},null,4.7879630000000004,47.879626999999999]
[null,"2016-11-03",39160,11,30,1305.3333333333333,0.22008,0.18340000000000001,287.27776,239.39813333333333,47.879626666666667,"2016-07-01","2016-09-30",38130,0,"2016-10-01","2017-08-31",39160,39160,"2017-08-31","2017-08-31",39160,0,"2017-08-31","2017-08-31",39160,0,"2017-08-31","2017-08-31",39160,0,"2017-08-31","2017-08-31",39160,0,"2017-08-31","2017-08-31",39160,0,"2016-11-01","2016-11-30",1,1,1,{"$f":"IF('DA 2.2'!B175=2,0,IF(AR131=1,I131-J131,0))","v":0},null,4.7879630000000004,47.879626999999999]
[null,"2016-11-04",39160,11,30,1305.3333333333333,0.22008,0.18340000000000001,287.27776,239.39813333333333,47.879626666666667,"2016-07-01","2016-09-30",38130,0,"2016-10-01","2017-08-31",39160,39160,"2017-08-31","2017-08-31",39160,0,"2017-08-31","2017-08-31",39160,0,"2017-08-31","2017-08-31",39160,0,"2017-08-31","2017-08-31",39160,0,"2017-08-31","2017-08-31",39160,0,"2016-11-01","2016-11-30",1,1,1,{"$f":"IF('DA 2.2'!B176=2,0,IF(AR132=1,I132-J132,0))","v":0},null,4.7879630000000004,47.879626999999999]
[null,"2016-11-05",39160,11,30,1305.3333333333333,0.22008,0.18340000000000001,287.27776,239.39813333333333,47.879626666666667,"2016-07-01","2016-09-30",38130,0,"2016-10-01","2017-08-31",39160,39160,"2017-08-31","2017-08-31",39160,0,"2017-08-31","2017-08-31",39160,0,"2017-08-31","2017-08-31",39160,0,"2017-08-31","2017-08-31",39160,0,"2017-08-31","2017-08-31",39160,0,"2016-11-01","2016-11-30",1,1,1,{"$f":"IF('DA 2.2'!B177=2,0,IF(AR133=1,I133-J133,0))","v":0},null,4.7879630000000004,47.879626999999999]
[null,"2016-11-06",39160,11,30,{"$f":"C134/E134","v":1305.3333333333333},0.22008,0.18340000000000001,{"$f":"F134*G134","v":287.27776},{"$f":"F134*H134","v":239.39813333333333},47.879626666666667,"2016-07-01","2016-09-30",38130,0,"2016-10-01","2017-08-31",39160,39160,"2017-08-31","2017-08-31",39160,0,"2017-08-31","2017-08-31",39160,0,"2017-08-31","2017-08-31",39160,0,"2017-08-31","2017-08-31",39160,0,"2017-08-31","2017-08-31",39160,0,"2016-11-01","2016-11-30",{"$f":"IF(B134>=AN134,1,0)","v":1},{"$f":"IF(B134<=AO134,1,0)","v":1},1,{"$f":"IF('DA 2.2'!B178=2,0,IF(AR134=1,I134-J134,0))","v":0},null,4.7879630000000004,47.879626999999999]
[null,"2016-11-07",{"$f":"O135+S135+W135+AA135+AE135+AI135+AM135","v":39160},{"$f":"MONTH(B135)","v":11},{"$f":"IF(D135=1,31,IF(D135=2,29,IF(D135=3,31,IF(D135=5,31,IF(D135=7,31,IF(D135=8,31,IF(D135=10,31,IF(D135=12,31,30))))))))","v":30},1305.3333333333333,0.22008,0.18340000000000001,287.27776,239.39813333333333,{"$f":"I135-J135","v":47.879626666666667},"2016-07-01","2016-09-30",38130,{"$f":"IF(M135>=B135,N135,0)","v":0},"2016-10-01","2017-08-31",39160,{"$f":"IF(O135>0,0,IF(Q135>=B135,R135,0))","v":39160},"2017-08-31","2017-08-31",39160,{"$f":"IF(T135>U135,0,IF(O135>0,0,IF(S135>0,0,IF(U135>=B135,V135,0))))","v":0},"2017-08-31","2017-08-31",39160,{"$f":"IF(X135>=Y135,0,IF(O135>0,0,IF(S135>0,0,IF(W135>0,0,IF(Y135>=B135,Z135,0)))))","v":0},"2017-08-31","2017-08-31",39160,{"$f":"IF(O135>0,0,IF(AB135>=AC135,0,IF(S135>0,0,IF(W135>0,0,IF(AA135>0,0,IF(AC135>=B135,AD135,0))))))","v":0},"2017-08-31","2017-08-31",39160,{"$f":"IF(O135>0,0,IF(S135>0,0,IF(AF135>=AG135,0,IF(W135>0,0,IF(AA135>0,0,IF(AE135>0,0,IF(AG135>=B135,AH135,0)))))))","v":0},"2017-08-31","2017-08-31",39160,0,"2016-11-01","2016-11-30",1,1,{"$f":"IF(SUM(AP135:AQ135)=2,1,0)","v":1},{"$f":"IF('DA 2.2'!B179=2,0,IF(AR135=1,I135-J135,0))","v":0},null,{"$f":"ROUND(K135*10%,6)","v":4.7879630000000004},{"$f":"ROUND(K135,6)","v":47.879626999999999}]
[null,"2016-11-08",39160,11,30,1305.3333333333333,{"$f":"G135","v":0.22008},0.18340000000000001,287.27776,239.39813333333333,47.879626666666667,{"$f":"L135","v":"2016-07-01"},"2016-09-30",38130,0,{"$f":"P135","v":"2016-10-01"},"2017-08-31",39160,39160,{"$f":"T135","v":"2017-08-31"},"2017-08-31",39160,0,{"$f":"X135","v":"2017-08-31"},"2017-08-31",39160,0,{"$f":"AB135","v":"2017-08-31"},"2017-08-31",39160,0,{"$f":"AF135","v":"2017-08-31"},{"$f":"AG135","v":"2017-08-31"},{"$f":"AH135","v":39160},0,{"$f":"AJ135","v":"2017-08-31"},{"$f":"AK135","v":"2017-08-31"},{"$f":"AL135","v":39160},{"$f":"IF(O136>0,0,IF(S136>0,0,IF(AJ136>=AK136,0,IF(W136>0,0,IF(AA136>0,0,IF(AE136>0,0,IF(AI136>0,0,IF(AK136>=B136,AL136,0))))))))","v":0},{"$f":"AN135","v":"2016-11-01"},"2016-11-30",1,1,1,{"$f":"IF('DA 2.2'!B180=2,0,IF(AR136=1,I136-J136,0))","v":0},null,4.7879630000000004,47.879626999999999]
[null,"2016-11-09",39160,11,30,1305.3333333333333,0.22008,0.18340000000000001,287.27776,239.39813333333333,47.879626666666667,"2016-07-01","2016-09-30",38130,0,"2016-10-01","2017-08-31",39160,39160,"2017-08-31","2017-08-31",39160,0,"2017-08-31","2017-08-31",39160,0,"2017-08-31","2017-08-31",39160,0,"2017-08-31","2017-08-31",39160,0,"2017-08-31","2017-08-31",39160,0,"2016-11-01","2016-11-30",1,1,1,{"$f":"IF('DA 2.2'!B181=2,0,IF(AR137=1,I137-J137,0))","v":0},null,4.7879630000000004,47.879626999999999]
[null,"2016-11-10",39160,11,30,1305.3333333333333,0.22008,0.18340000000000001,287.27776,239.39813333333333,47.879626666666667,"2016-07-01","2016-09-30",38130,0,"2016-10-01","2017-08-31",39160,39160,"2017-08-31","2017-08-31",39160,0,"2017-08-31","2017-08-31",39160,0,"2017-08-31","2017-08-31",39160,0,"2017-08-31","2017-08-31",39160,0,"2017-08-31","2017-08-31",39160,0,"2016-11-01","2016-11-30",1,1,1,{"$f":"IF('DA 2.2'!B182=2,0,IF(AR138=1,I138-J138,0))","v":0},null,4.7879630000000004,47.879626999999999]
[null,"2016-11-11",39160,11,30,1305.3333333333333,0.22008,0.18340000000000001,287.27776,239.39813333333333,47.879626666666667,"2016-07-01","2016-09-30",38130,0,"2016-10-01","2017-08-31",39160,39160,"2017-08-31","2017-08-31",39160,0,"2017-08-31","2017-08-31",39160,0,"2017-08-31","2017-08-31",39160,0,"2017-08-31","2017-08-31",39160,0,"2017-08-31","2017-08-31",39160,0,"2016-11-01","2016-11-30",1,1,1,{"$f":"IF('DA 2.2'!B183=2,0,IF(AR139=1,I139-J139,0))","v":0},null,4.7879630000000004,47.879626999999999]
[null,"2016-11-12",39160,11,30,1305.3333333333333,0.22008,0.18340000000000001,287.27776,239.39813333333333,47.879626666666667,"2016-07-01","2016-09-30",38130,0,"2016-10-01","2017-08-31",39160,39160,"2017-08-31","2017-08-31",39160,0,"2017-08-31","2017-08-31",39160,0,"2017-08-31","2017-08-31",39160,0,"2017-08-31","2017-08-31",39160,0,"2017-08-31","2017-08-31",39160,0,"2016-11-01","2016-11-30",1,1,1,{"$f":"IF('DA 2.2'!B184=2,0,IF(AR140=1,I140-J140,0))","v":0},null,4.7879630000000004,47.879626999999999]
[null,"2016-11-13",39160,11,30,1305.3333333333333,0.22008,0.18340000000000001,287.27776,239.39813333333333,47.879626666666667,"2016-07-01","2016-09-30",38130,0,"2016-10-01","2017-08-31",39160,39160,"2017-08-31","2017-08-31",39160,0,"2017-08-31","2017-08-31",39160,0,"2017-08-31","2017-08-31",39160,0,"2017-08-31","2017-08-31",39160,0,"2017-08-31","2017-08-31",39160,0,"2016-11-01","2016-11-30",1,1,1,{"$f":"IF('DA 2.2'!B185=2,0,IF(AR141=1,I141-J141,0))","v":0},null,4.7879630000000004,47.879626999999999]
[null,"2016-11-14",39160,11,30,1305.3333333333333,0.22008,0.18340000000000001,287.27776,239.39813333333333,47.879626666666667,"2016-07-01","2016-09-30",38130,0,"2016-10-01","2017-08-31",39160,39160,"2017-08-31","2017-08-31",39160,0,"2017-08-31","2017-08-31",39160,0,"2017-08-31","2017-08-31",39160,0,"2017-08-31","2017-08-31",39160,0,"2017-08-31","2017-08-31",39160,0,"2016-11-01","2016-11-30",1,1,1,{"$f":"IF('DA 2.2'!B186=2,0,IF(AR142=1,I142-J142,0))","v":0},null,4.7879630000000004,47.879626999999999]
[null,"2016-11-15",39160,11,30,1305.3333333333333,0.22008,0.18340000000000001,287.27776,239.39813333333333,47.879626666666667,"2016-07-01","2016-09-30",38130,0,"2016-10-01","2017-08-31",39160,39160,"2017-08-31","2017-08-31",39160,0,"2017-08-31","2017-08-31",39160,0,"2017-08-31","2017-08-31",39160,0,"2017-08-31","2017-08-31",39160,0,"2017-08-31","2017-08-31",39160,0,"2016-11-01","2016-11-30",1,1,1,{"$f":"IF('DA 2.2'!B187=2,0,IF(AR143=1,I143-J143,0))","v":0},null,4.7879630000000004,47.879626999999999]
[null,"2016-11-16",39160,11,30,1305.3333333333333,0.22008,0.18340000000000001,287.27776,239.39813333333333,47.879626666666667,"2016-07-01","2016-09-30",38130,0,"2016-10-01","2017-08-31",39160,39160,"2017-08-31","2017-08-31",39160,0,"2017-08-31","2017-08-31",39160,0,"2017-08-31","2017-08-31",39160,0,"2017-08-31","2017-08-31",39160,0,"2017-08-31","2017-08-31",39160,0,"2016-11-01","2016-11-30",1,1,1,{"$f":"IF('DA 2.2'!B188=2,0,IF(AR144=1,I144-J144,0))","v":0},null,4.7879630000000004,47.879626999999999]
[null,"2016-11-17",39160,11,30,1305.3333333333333,0.22008,0.18340000000000001,287.27776,239.39813333333333,47.879626666666667,"2016-07-01","2016-09-30",38130,0,"2016-10-01","2017-08-31",39160,39160,"2017-08-31","2017-08-31",39160,0,"2017-08-31","2017-08-31",39160,0,"2017-08-31","2017-08-31",39160,0,"2017-08-31","2017-08-31",39160,0,"2017-08-31","2017-08-31",39160,0,"2016-11-01","2016-11-30",1,1,1,{"$f":"IF('DA 2.2'!B189=2,0,IF(AR145=1,I145-J145,0))","v":0},null,4.7879630000000004,47.879626999999999]
[null,"2016-11-18",39160,11,30,1305.3333333333333,0.22008,0.18340000000000001,287.27776,239.39813333333333,47.879626666666667,"2016-07-01","2016-09-30",38130,0,"2016-10-01","2017-08-31",39160,39160,"2017-08-31","2017-08-31",39160,0,"2017-08-31","2017-08-31",39160,0,"2017-08-31","2017-08-31",39160,0,"2017-08-31","2017-08-31",39160,0,"2017-08-31","2017-08-31",39160,0,"2016-11-01","2016-11-30",1,1,1,{"$f":"IF('DA 2.2'!B190=2,0,IF(AR146=1,I146-J146,0))","v":0},null,4.7879630000000004,47.879626999999999]
[null,"2016-11-19",39160,11,30,1305.3333333333333,0.22008,0.18340000000000001,287.27776,239.39813333333333,47.879626666666667,"2016-07-01","2016-09-30",38130,0,"2016-10-01","2017-08-31",39160,39160,"2017-08-31","2017-08-31",39160,0,"2017-08-31","2017-08-31",39160,0,"2017-08-31","2017-08-31",39160,0,"2017-08-31","2017-08-31",39160,0,"2017-08-31","2017-08-31",39160,0,"2016-11-01","2016-11-30",1,1,1,{"$f":"IF('DA 2.2'!B191=2,0,IF(AR147=1,I147-J147,0))","v":0},null,4.7879630000000004,47.879626999999999]
[null,"2016-11-20",39160,11,30,1305.3333333333333,0.22008,0.18340000000000001,287.27776,239.39813333333333,47.879626666666667,"2016-07-01","2016-09-30",38130,0,"2016-10-01","2017-08-31",39160,39160,"2017-08-31","2017-08-31",39160,0,"2017-08-31","2017-08-31",39160,0,"2017-08-31","2017-08-31",39160,0,"2017-08-31","2017-08-31",39160,0,"2017-08-31","2017-08-31",39160,0,"2016-11-01","2016-11-30",1,1,1,{"$f":"IF('DA 2.2'!B192=2,0,IF(AR148=1,I148-J148,0))","v":0},null,4.7879630000000004,47.879626999999999]
[null,"2016-11-21",39160,11,30,1305.3333333333333,0.22008,0.18340000000000001,287.27776,239.39813333333333,47.879626666666667,"2016-07-01","2016-09-30",38130,0,"2016-10-01","2017-08-31",39160,39160,"2017-08-31","2017-08-31",39160,0,"2017-08-31","2017-08-31",39160,0,"2017-08-31","2017-08-31",39160,0,"2017-08-31","2017-08-31",39160,0,"2017-08-31","2017-08-31",39160,0,"2016-11-01","2016-11-30",1,1,1,{"$f":"IF('DA 2.2'!B193=2,0,IF(AR149=1,I149-J149,0))","v":0},null,4.7879630000000004,47.879626999999999]
[null,"2016-11-22",39160,11,30,1305.3333333333333,0.22008,0.18340000000000001,287.27776,239.39813333333333,47.879626666666667,"2016-07-01","2016-09-30",38130,0,"2016-10-01","2017-08-31",39160,39160,"2017-08-31","2017-08-31",39160,0,"2017-08-31","2017-08-31",39160,0,"2017-08-31","2017-08-31",39160,0,"2017-08-31","2017-08-31",39160,0,"2017-08-31","2017-08-31",39160,0,"2016-11-01","2016-11-30",1,1,1,{"$f":"IF('DA 2.2'!B194=2,0,IF(AR150=1,I150-J150,0))","v":0},null,4.7879630000000004,47.879626999999999]
[null,"2016-11-23",39160,11,30,1305.3333333333333,0.22008,0.18340000000000001,287.27776,239.39813333333333,47.879626666666667,"2016-07-01","2016-09-30",38130,0,"2016-10-01","2017-08-31",39160,39160,"2017-08-31","2017-08-31",39160,0,"2017-08-31","2017-08-31",39160,0,"2017-08-31","2017-08-31",39160,0,"2017-08-31","2017-08-31",39160,0,"2017-08-31","2017-08-31",39160,0,"2016-11-01","2016-11-30",1,1,1,{"$f":"IF('DA 2.2'!B195=2,0,IF(AR151=1,I151-J151,0))","v":0},null,4.7879630000000004,47.879626999999999]
[null,"2016-11-24",39160,11,30,1305.3333333333333,{"$f":"G151","v":0.22008},0.18340000000000001,287.27776,239.39813333333333,47.879626666666667,{"$f":"L151","v":"2016-07-01"},"2016-09-30",38130,0,{"$f":"P151","v":"2016-10-01"},"2017-08-31",39160,39160,{"$f":"T151","v":"2017-08-31"},"2017-08-31",39160,0,{"$f":"X151","v":"2017-08-31"},"2017-08-31",39160,0,"2017-08-31","2017-08-31",39160,0,"2017-08-31","2017-08-31",39160,0,"2017-08-31","2017-08-31",39160,0,{"$f":"AN151","v":"2016-11-01"},"2016-11-30",1,1,1,{"$f":"IF('DA 2.2'!B196=2,0,IF(AR152=1,I152-J152,0))","v":0},null,4.7879630000000004,47.879626999999999]
[null,"2016-11-25",39160,11,30,1305.3333333333333,0.22008,0.18340000000000001,287.27776,239.39813333333333,47.879626666666667,"2016-07-01","2016-09-30",38130,0,"2016-10-01","2017-08-31",39160,39160,"2017-08-31","2017-08-31",39160,0,"2017-08-31","2017-08-31",39160,0,"2017-08-31","2017-08-31",39160,0,"2017-08-31","2017-08-31",39160,0,"2017-08-31","2017-08-31",39160,0,"2016-11-01","2016-11-30",1,1,1,{"$f":"IF('DA 2.2'!B197=2,0,IF(AR153=1,I153-J153,0))","v":0},null,4.7879630000000004,47.879626999999999]
[null,"2016-11-26",39160,11,30,1305.3333333333333,0.22008,0.18340000000000001,287.27776,239.39813333333333,47.879626666666667,"2016-07-01","2016-09-30",38130,0,"2016-10-01","2017-08-31",39160,39160,"2017-08-31","2017-08-31",39160,0,"2017-08-31","2017-08-31",39160,0,"2017-08-31","2017-08-31",39160,0,"2017-08-31","2017-08-31",39160,0,"2017-08-31","2017-08-31",39160,0,"2016-11-01","2016-11-30",1,1,1,{"$f":"IF('DA 2.2'!B198=2,0,IF(AR154=1,I154-J154,0))","v":0},null,4.7879630000000004,47.879626999999999]
[null,"2016-11-27",39160,11,30,1305.3333333333333,0.22008,0.18340000000000001,287.27776,239.39813333333333,47.879626666666667,"2016-07-01","2016-09-30",38130,0,"2016-10-01","2017-08-31",39160,39160,"2017-08-31","2017-08-31",39160,0,"2017-08-31","2017-08-31",39160,0,"2017-08-31","2017-08-31",39160,0,"2017-08-31","2017-08-31",39160,0,"2017-08-31","2017-08-31",39160,0,"2016-11-01","2016-11-30",1,1,1,{"$f":"IF('DA 2.2'!B199=2,0,IF(AR155=1,I155-J155,0))","v":0},null,4.7879630000000004,47.879626999999999]
[null,"2016-11-28",39160,11,30,1305.3333333333333,0.22008,0.18340000000000001,{"$f":"F156*G156","v":287.27776},239.39813333333333,47.879626666666667,"2016-07-01","2016-09-30",38130,0,"2016-10-01","2017-08-31",39160,39160,"2017-08-31","2017-08-31",39160,0,"2017-08-31","2017-08-31",39160,0,"2017-08-31","2017-08-31",39160,0,"2017-08-31","2017-08-31",39160,0,"2017-08-31","2017-08-31",39160,0,"2016-11-01","2016-11-30",1,1,1,{"$f":"IF('DA 2.2'!B200=2,0,IF(AR156=1,I156-J156,0))","v":0},null,4.7879630000000004,47.879626999999999]
[null,"2016-11-29",39160,11,30,{"$f":"C157/E157","v":1305.3333333333333},0.22008,0.18340000000000001,287.27776,239.39813333333333,47.879626666666667,"2016-07-01","2016-09-30",38130,0,"2016-10-01","2017-08-31",39160,39160,"2017-08-31","2017-08-31",39160,0,"2017-08-31","2017-08-31",39160,0,"2017-08-31","2017-08-31",39160,0,"2017-08-31","2017-08-31",39160,0,"2017-08-31","2017-08-31",39160,0,"2016-11-01","2016-11-30",1,1,1,{"$f":"IF('DA 2.2'!B201=2,0,IF(AR157=1,I157-J157,0))","v":0},null,4.7879630000000004,47.879626999999999]
[null,"2016-11-30",39160,11,30,1305.3333333333333,0.22008,0.18340000000000001,287.27776,239.39813333333333,47.879626666666667,"2016-07-01","2016-09-30",38130,0,"2016-10-01","2017-08-31",39160,39160,"2017-08-31","2017-08-31",39160,0,"2017-08-31","2017-08-31",39160,0,"2017-08-31","2017-08-31",39160,0,"2017-08-31","2017-08-31",39160,0,"2017-08-31","2017-08-31",39160,0,"2016-11-01","2016-11-30",1,1,1,{"$f":"IF('DA 2.2'!B202=2,0,IF(AR158=1,I158-J158,0))","v":0},null,4.7879630000000004,47.879626999999999]
[null,"2016-12-01",39160,12,31,1263.2258064516129,0.22008,0.18340000000000001,278.01073548387097,231.67561290322581,46.335122580645162,"2016-07-01","2016-09-30",38130,0,"2016-10-01","2017-08-31",39160,39160,"2017-08-31","2017-08-31",39160,0,"2017-08-31","2017-08-31",39160,0,"2017-08-31","2017-08-31",39160,0,"2017-08-31","2017-08-31",39160,0,"2017-08-31","2017-08-31",39160,0,"2016-11-01","2016-11-30",1,0,0,{"$f":"IF('DA 2.2'!B203=2,0,IF(AR159=1,I159-J159,0))","v":0},null,4.6335119999999996,46.335123000000003]
[null,"2016-12-02",39160,12,31,1263.2258064516129,0.22008,0.18340000000000001,278.01073548387097,231.67561290322581,46.335122580645162,"2016-07-01","2016-09-30",38130,0,"2016-10-01","2017-08-31",39160,39160,"2017-08-31","2017-08-31",39160,0,"2017-08-31","2017-08-31",39160,0,"2017-08-31","2017-08-31",39160,0,"2017-08-31","2017-08-31",39160,0,"2017-08-31","2017-08-31",39160,0,"2016-11-01","2016-11-30",1,0,0,{"$f":"IF('DA 2.2'!B204=2,0,IF(AR160=1,I160-J160,0))","v":0},null,4.6335119999999996,46.335123000000003]
[null,"2016-12-03",39160,12,31,1263.2258064516129,0.22008,0.18340000000000001,278.01073548387097,231.67561290322581,46.335122580645162,"2016-07-01","2016-09-30",38130,0,"2016-10-01","2017-08-31",39160,39160,"2017-08-31","2017-08-31",39160,0,"2017-08-31","2017-08-31",39160,0,"2017-08-31","2017-08-31",39160,0,"2017-08-31","2017-08-31",39160,0,"2017-08-31","2017-08-31",39160,0,"2016-11-01","2016-11-30",1,0,0,{"$f":"IF('DA 2.2'!B205=2,0,IF(AR161=1,I161-J161,0))","v":0},null,4.6335119999999996,46.335123000000003]
[null,"2016-12-04",39160,12,31,1263.2258064516129,0.22008,0.18340000000000001,278.01073548387097,231.67561290322581,46.335122580645162,"2016-07-01","2016-09-30",38130,0,"2016-10-01","2017-08-31",39160,39160,"2017-08-31","2017-08-31",39160,0,"2017-08-31","2017-08-31",39160,0,"2017-08-31","2017-08-31",39160,0,"2017-08-31","2017-08-31",39160,0,"2017-08-31","2017-08-31",39160,0,"2016-11-01","2016-11-30",1,0,0,{"$f":"IF('DA 2.2'!B206=2,0,IF(AR162=1,I162-J162,0))","v":0},null,4.6335119999999996,46.335123000000003]
[null,"2016-12-05",39160,12,31,1263.2258064516129,0.22008,0.18340000000000001,278.01073548387097,231.67561290322581,46.335122580645162,"2016-07-01","2016-09-30",38130,0,"2016-10-01","2017-08-31",39160,39160,"2017-08-31","2017-08-31",39160,0,"2017-08-31","2017-08-31",39160,0,"2017-08-31","2017-08-31",39160,0,"2017-08-31","2017-08-31",39160,0,"2017-08-31","2017-08-31",39160,0,"2016-11-01","2016-11-30",1,0,0,{"$f":"IF('DA 2.2'!B207=2,0,IF(AR163=1,I163-J163,0))","v":0},null,4.6335119999999996,46.335123000000003]
[null,"2016-12-06",39160,12,31,1263.2258064516129,0.22008,0.18340000000000001,278.01073548387097,231.67561290322581,46.335122580645162,"2016-07-01","2016-09-30",38130,0,"2016-10-01","2017-08-31",39160,39160,"2017-08-31","2017-08-31",39160,0,"2017-08-31","2017-08-31",39160,0,"2017-08-31","2017-08-31",39160,0,"2017-08-31","2017-08-31",39160,0,"2017-08-31","2017-08-31",39160,0,"2016-11-01","2016-11-30",1,0,0,{"$f":"IF('DA 2.2'!B208=2,0,IF(AR164=1,I164-J164,0))","v":0},null,4.6335119999999996,46.335123000000003]
[null,"2016-12-07",39160,12,31,1263.2258064516129,0.22008,0.18340000000000001,278.01073548387097,231.67561290322581,46.335122580645162,"2016-07-01","2016-09-30",38130,0,"2016-10-01","2017-08-31",39160,39160,"2017-08-31","2017-08-31",39160,0,"2017-08-31","2017-08-31",39160,0,"2017-08-31","2017-08-31",39160,0,"2017-08-31","2017-08-31",39160,0,"2017-08-31","2017-08-31",39160,0,"2016-11-01","2016-11-30",1,0,0,{"$f":"IF('DA 2.2'!B209=2,0,IF(AR165=1,I165-J165,0))","v":0},null,4.6335119999999996,46.335123000000003]
[null,"2016-12-08",39160,12,31,1263.2258064516129,0.22008,0.18340000000000001,278.01073548387097,231.67561290322581,46.335122580645162,"2016-07-01","2016-09-30",38130,0,"2016-10-01","2017-08-31",39160,39160,"2017-08-31","2017-08-31",39160,0,"2017-08-31","2017-08-31",39160,0,"2017-08-31","2017-08-31",39160,0,"2017-08-31","2017-08-31",39160,0,"2017-08-31","2017-08-31",39160,0,"2016-11-01","2016-11-30",1,0,0,{"$f":"IF('DA 2.2'!B210=2,0,IF(AR166=1,I166-J166,0))","v":0},null,4.6335119999999996,46.335123000000003]
[null,"2016-12-09",39160,12,31,1263.2258064516129,0.22008,0.18340000000000001,278.01073548387097,231.67561290322581,46.335122580645162,"2016-07-01","2016-09-30",38130,0,"2016-10-01","2017-08-31",39160,39160,"2017-08-31","2017-08-31",39160,0,"2017-08-31","2017-08-31",39160,0,"2017-08-31","2017-08-31",39160,0,"2017-08-31","2017-08-31",39160,0,"2017-08-31","2017-08-31",39160,0,"2016-11-01","2016-11-30",1,0,0,{"$f":"IF('DA 2.2'!B211=2,0,IF(AR167=1,I167-J167,0))","v":0},null,4.6335119999999996,46.335123000000003]
[null,"2016-12-10",39160,12,31,1263.2258064516129,{"$f":"G167","v":0.22008},0.18340000000000001,278.01073548387097,231.67561290322581,46.335122580645162,{"$f":"L167","v":"2016-07-01"},"2016-09-30",38130,0,{"$f":"P167","v":"2016-10-01"},"2017-08-31",39160,39160,{"$f":"T167","v":"2017-08-31"},"2017-08-31",39160,0,{"$f":"X167","v":"2017-08-31"},"2017-08-31",39160,0,"2017-08-31","2017-08-31",39160,0,"2017-08-31","2017-08-31",39160,0,"2017-08-31","2017-08-31",39160,0,{"$f":"AN167","v":"2016-11-01"},"2016-11-30",1,0,0,{"$f":"IF('DA 2.2'!B212=2,0,IF(AR168=1,I168-J168,0))","v":0},null,4.6335119999999996,46.335123000000003]
[null,"2016-12-11",39160,12,31,1263.2258064516129,0.22008,0.18340000000000001,278.01073548387097,231.67561290322581,46.335122580645162,"2016-07-01","2016-09-30",38130,0,"2016-10-01","2017-08-31",39160,39160,"2017-08-31","2017-08-31",39160,0,"2017-08-31","2017-08-31",39160,0,"2017-08-31","2017-08-31",39160,0,"2017-08-31","2017-08-31",39160,0,"2017-08-31","2017-08-31",39160,0,"2016-11-01","2016-11-30",1,0,0,{"$f":"IF('DA 2.2'!B213=2,0,IF(AR169=1,I169-J169,0))","v":0},null,4.6335119999999996,46.335123000000003]
[null,"2016-12-12",39160,12,31,1263.2258064516129,0.22008,0.18340000000000001,278.01073548387097,231.67561290322581,46.335122580645162,"2016-07-01","2016-09-30",38130,0,"2016-10-01","2017-08-31",39160,39160,"2017-08-31","2017-08-31",39160,0,"2017-08-31","2017-08-31",39160,0,"2017-08-31","2017-08-31",39160,0,"2017-08-31","2017-08-31",39160,0,"2017-08-31","2017-08-31",39160,0,"2016-11-01","2016-11-30",1,0,0,{"$f":"IF('DA 2.2'!B214=2,0,IF(AR170=1,I170-J170,0))","v":0},null,4.6335119999999996,46.335123000000003]
[null,"2016-12-13",39160,12,31,1263.2258064516129,0.22008,0.18340000000000001,278.01073548387097,231.67561290322581,46.335122580645162,"2016-07-01","2016-09-30",38130,0,"2016-10-01","2017-08-31",39160,39160,"2017-08-31","2017-08-31",39160,0,"2017-08-31","2017-08-31",39160,0,"2017-08-31","2017-08-31",39160,0,"2017-08-31","2017-08-31",39160,0,"2017-08-31","2017-08-31",39160,0,"2016-11-01","2016-11-30",1,0,0,{"$f":"IF('DA 2.2'!B215=2,0,IF(AR171=1,I171-J171,0))","v":0},null,4.6335119999999996,46.335123000000003]
[null,"2016-12-14",39160,12,31,1263.2258064516129,0.22008,0.18340000000000001,278.01073548387097,231.67561290322581,46.335122580645162,"2016-07-01","2016-09-30",38130,0,"2016-10-01","2017-08-31",39160,39160,"2017-08-31","2017-08-31",39160,0,"2017-08-31","2017-08-31",39160,0,"2017-08-31","2017-08-31",39160,0,"2017-08-31","2017-08-31",39160,0,"2017-08-31","2017-08-31",39160,0,"2016-11-01","2016-11-30",1,0,0,{"$f":"IF('DA 2.2'!B216=2,0,IF(AR172=1,I172-J172,0))","v":0},null,4.6335119999999996,46.335123000000003]
[null,"2016-12-15",39160,12,31,1263.2258064516129,0.22008,0.18340000000000001,278.01073548387097,231.67561290322581,46.335122580645162,"2016-07-01","2016-09-30",38130,0,"2016-10-01","2017-08-31",39160,39160,"2017-08-31","2017-08-31",39160,0,"2017-08-31","2017-08-31",39160,0,"2017-08-31","2017-08-31",39160,0,"2017-08-31","2017-08-31",39160,0,"2017-08-31","2017-08-31",39160,0,"2016-11-01","2016-11-30",1,0,0,{"$f":"IF('DA 2.2'!B217=2,0,IF(AR173=1,I173-J173,0))","v":0},null,4.6335119999999996,46.335123000000003]
[null,"2016-12-16",39160,12,31,1263.2258064516129,0.22008,0.18340000000000001,278.01073548387097,231.67561290322581,46.335122580645162,"2016-07-01","2016-09-30",38130,0,"2016-10-01","2017-08-31",39160,39160,"2017-08-31","2017-08-31",39160,0,"2017-08-31","2017-08-31",39160,0,"2017-08-31","2017-08-31",39160,0,"2017-08-31","2017-08-31",39160,0,"2017-08-31","2017-08-31",39160,0,"2016-11-01","2016-11-30",1,0,0,{"$f":"IF('DA 2.2'!B218=2,0,IF(AR174=1,I174-J174,0))","v":0},null,4.6335119999999996,46.335123000000003]
[null,"2016-12-17",39160,12,31,1263.2258064516129,0.22008,0.18340000000000001,278.01073548387097,231.67561290322581,46.335122580645162,"2016-07-01","2016-09-30",38130,0,"2016-10-01","2017-08-31",39160,39160,"2017-08-31","2017-08-31",39160,0,"2017-08-31","2017-08-31",39160,0,"2017-08-31","2017-08-31",39160,0,"2017-08-31","2017-08-31",39160,0,"2017-08-31","2017-08-31",39160,0,"2016-11-01","2016-11-30",1,0,0,{"$f":"IF('DA 2.2'!B219=2,0,IF(AR175=1,I175-J175,0))","v":0},null,4.6335119999999996,46.335123000000003]
[null,"2016-12-18",39160,12,31,1263.2258064516129,0.22008,0.18340000000000001,278.01073548387097,231.67561290322581,46.335122580645162,"2016-07-01","2016-09-30",38130,0,"2016-10-01","2017-08-31",39160,39160,"2017-08-31","2017-08-31",39160,0,"2017-08-31","2017-08-31",39160,0,"2017-08-31","2017-08-31",39160,0,"2017-08-31","2017-08-31",39160,0,"2017-08-31","2017-08-31",39160,0,"2016-11-01","2016-11-30",1,0,0,{"$f":"IF('DA 2.2'!B220=2,0,IF(AR176=1,I176-J176,0))","v":0},null,4.6335119999999996,46.335123000000003]
[null,"2016-12-19",39160,12,31,1263.2258064516129,0.22008,0.18340000000000001,278.01073548387097,231.67561290322581,46.335122580645162,"2016-07-01","2016-09-30",38130,0,"2016-10-01","2017-08-31",39160,39160,"2017-08-31","2017-08-31",39160,0,"2017-08-31","2017-08-31",39160,0,"2017-08-31","2017-08-31",39160,0,"2017-08-31","2017-08-31",39160,0,"2017-08-31","2017-08-31",39160,0,"2016-11-01","2016-11-30",1,0,0,{"$f":"IF('DA 2.2'!B221=2,0,IF(AR177=1,I177-J177,0))","v":0},null,4.6335119999999996,46.335123000000003]
[null,"2016-12-20",39160,12,31,1263.2258064516129,0.22008,0.18340000000000001,278.01073548387097,231.67561290322581,46.335122580645162,"2016-07-01","2016-09-30",38130,0,"2016-10-01","2017-08-31",39160,39160,"2017-08-31","2017-08-31",39160,0,"2017-08-31","2017-08-31",39160,0,"2017-08-31","2017-08-31",39160,0,"2017-08-31","2017-08-31",39160,0,"2017-08-31","2017-08-31",39160,0,"2016-11-01","2016-11-30",1,0,0,{"$f":"IF('DA 2.2'!B222=2,0,IF(AR178=1,I178-J178,0))","v":0},null,4.6335119999999996,46.335123000000003]
[null,"2016-12-21",39160,12,31,1263.2258064516129,0.22008,0.18340000000000001,278.01073548387097,231.67561290322581,46.335122580645162,"2016-07-01","2016-09-30",38130,0,"2016-10-01","2017-08-31",39160,39160,"2017-08-31","2017-08-31",39160,0,"2017-08-31","2017-08-31",39160,0,"2017-08-31","2017-08-31",39160,0,"2017-08-31","2017-08-31",39160,0,"2017-08-31","2017-08-31",39160,0,"2016-11-01","2016-11-30",1,0,0,{"$f":"IF('DA 2.2'!B223=2,0,IF(AR179=1,I179-J179,0))","v":0},null,4.6335119999999996,46.335123000000003]
[null,"2016-12-22",39160,12,31,1263.2258064516129,0.22008,0.18340000000000001,278.01073548387097,231.67561290322581,46.335122580645162,"2016-07-01","2016-09-30",38130,0,"2016-10-01","2017-08-31",39160,39160,"2017-08-31","2017-08-31",39160,0,"2017-08-31","2017-08-31",39160,0,"2017-08-31","2017-08-31",39160,0,"2017-08-31","2017-08-31",39160,0,"2017-08-31","2017-08-31",39160,0,"2016-11-01","2016-11-30",1,0,0,{"$f":"IF('DA 2.2'!B224=2,0,IF(AR180=1,I180-J180,0))","v":0},null,4.6335119999999996,46.335123000000003]
[null,"2016-12-23",39160,12,31,1263.2258064516129,0.22008,0.18340000000000001,278.01073548387097,231.67561290322581,46.335122580645162,"2016-07-01","2016-09-30",38130,0,"2016-10-01","2017-08-31",39160,39160,"2017-08-31","2017-08-31",39160,0,"2017-08-31","2017-08-31",39160,0,"2017-08-31","2017-08-31",39160,0,"2017-08-31","2017-08-31",39160,0,"2017-08-31","2017-08-31",39160,0,"2016-11-01","2016-11-30",1,0,0,{"$f":"IF('DA 2.2'!B225=2,0,IF(AR181=1,I181-J181,0))","v":0},null,4.6335119999999996,46.335123000000003]
[null,"2016-12-24",39160,12,31,1263.2258064516129,0.22008,0.18340000000000001,278.01073548387097,231.67561290322581,46.335122580645162,"2016-07-01","2016-09-30",38130,0,"2016-10-01","2017-08-31",39160,39160,"2017-08-31","2017-08-31",39160,0,"2017-08-31","2017-08-31",39160,0,"2017-08-31","2017-08-31",39160,0,"2017-08-31","2017-08-31",39160,0,"2017-08-31","2017-08-31",39160,0,"2016-11-01","2016-11-30",1,0,0,{"$f":"IF('DA 2.2'!B226=2,0,IF(AR182=1,I182-J182,0))","v":0},null,4.6335119999999996,46.335123000000003]
[null,"2016-12-25",39160,12,31,1263.2258064516129,0.22008,0.18340000000000001,278.01073548387097,231.67561290322581,46.335122580645162,"2016-07-01","2016-09-30",38130,0,"2016-10-01","2017-08-31",39160,39160,"2017-08-31","2017-08-31",39160,0,"2017-08-31","2017-08-31",39160,0,"2017-08-31","2017-08-31",39160,0,"2017-08-31","2017-08-31",39160,0,"2017-08-31","2017-08-31",39160,0,"2016-11-01","2016-11-30",1,0,0,{"$f":"IF('DA 2.2'!B227=2,0,IF(AR183=1,I183-J183,0))","v":0},null,4.6335119999999996,46.335123000000003]
[null,"2016-12-26",39160,12,31,1263.2258064516129,{"$f":"G183","v":0.22008},0.18340000000000001,278.01073548387097,231.67561290322581,46.335122580645162,{"$f":"L183","v":"2016-07-01"},"2016-09-30",38130,0,{"$f":"P183","v":"2016-10-01"},"2017-08-31",39160,39160,{"$f":"T183","v":"2017-08-31"},"2017-08-31",39160,0,{"$f":"X183","v":"2017-08-31"},"2017-08-31",39160,0,"2017-08-31","2017-08-31",39160,0,"2017-08-31","2017-08-31",39160,0,"2017-08-31","2017-08-31",39160,0,{"$f":"AN183","v":"2016-11-01"},"2016-11-30",1,0,0,{"$f":"IF('DA 2.2'!B228=2,0,IF(AR184=1,I184-J184,0))","v":0},null,4.6335119999999996,46.335123000000003]
[null,"2016-12-27",39160,12,31,1263.2258064516129,0.22008,0.18340000000000001,278.01073548387097,231.67561290322581,46.335122580645162,"2016-07-01","2016-09-30",38130,0,"2016-10-01","2017-08-31",39160,39160,"2017-08-31","2017-08-31",39160,0,"2017-08-31","2017-08-31",39160,0,"2017-08-31","2017-08-31",39160,0,"2017-08-31","2017-08-31",39160,0,"2017-08-31","2017-08-31",39160,0,"2016-11-01","2016-11-30",1,0,0,{"$f":"IF('DA 2.2'!B229=2,0,IF(AR185=1,I185-J185,0))","v":0},null,4.6335119999999996,46.335123000000003]
[null,"2016-12-28",39160,12,31,1263.2258064516129,0.22008,0.18340000000000001,278.01073548387097,231.67561290322581,46.335122580645162,"2016-07-01","2016-09-30",38130,0,"2016-10-01","2017-08-31",39160,39160,"2017-08-31","2017-08-31",39160,0,"2017-08-31","2017-08-31",39160,0,"2017-08-31","2017-08-31",39160,0,"2017-08-31","2017-08-31",39160,0,"2017-08-31","2017-08-31",39160,0,"2016-11-01","2016-11-30",1,0,0,{"$f":"IF('DA 2.2'!B230=2,0,IF(AR186=1,I186-J186,0))","v":0},null,4.6335119999999996,46.335123000000003]
[null,"2016-12-29",39160,12,31,1263.2258064516129,0.22008,0.18340000000000001,278.01073548387097,231.67561290322581,46.335122580645162,"2016-07-01","2016-09-30",38130,0,"2016-10-01","2017-08-31",39160,39160,"2017-08-31","2017-08-31",39160,0,"2017-08-31","2017-08-31",39160,0,"2017-08-31","2017-08-31",39160,0,"2017-08-31","2017-08-31",39160,0,"2017-08-31","2017-08-31",39160,0,"2016-11-01","2016-11-30",1,0,0,{"$f":"IF('DA 2.2'!B231=2,0,IF(AR187=1,I187-J187,0))","v":0},null,4.6335119999999996,46.335123000000003]
[null,"2016-12-30",39160,12,31,1263.2258064516129,0.22008,0.18340000000000001,278.01073548387097,231.67561290322581,46.335122580645162,"2016-07-01","2016-09-30",38130,0,"2016-10-01","2017-08-31",39160,39160,"2017-08-31","2017-08-31",39160,0,"2017-08-31","2017-08-31",39160,0,"2017-08-31","2017-08-31",39160,0,"2017-08-31","2017-08-31",39160,0,"2017-08-31","2017-08-31",39160,0,"2016-11-01","2016-11-30",1,0,0,{"$f":"IF('DA 2.2'!B232=2,0,IF(AR188=1,I188-J188,0))","v":0},null,4.6335119999999996,46.335123000000003]
[null,"2016-12-31",39160,12,31,1263.2258064516129,0.22008,0.18340000000000001,278.01073548387097,231.67561290322581,46.335122580645162,"2016-07-01","2016-09-30",38130,0,"2016-10-01","2017-08-31",39160,39160,"2017-08-31","2017-08-31",39160,0,"2017-08-31","2017-08-31",39160,0,"2017-08-31","2017-08-31",39160,0,"2017-08-31","2017-08-31",39160,0,"2017-08-31","2017-08-31",39160,0,"2016-11-01","2016-11-30",1,0,0,{"$f":"IF('DA 2.2'!B233=2,0,IF(AR189=1,I189-J189,0))","v":0},null,4.6335119999999996,46.335123000000003]
[null,"2017-01-01",39160,1,31,1263.2258064516129,0.22008,0.18340000000000001,278.01073548387097,231.67561290322581,46.335122580645162,"2016-07-01","2016-09-30",38130,0,"2016-10-01","2017-08-31",39160,39160,"2017-08-31","2017-08-31",39160,0,"2017-08-31","2017-08-31",39160,0,"2017-08-31","2017-08-31",39160,0,"2017-08-31","2017-08-31",39160,0,"2017-08-31","2017-08-31",39160,0,"2016-11-01","2016-11-30",1,0,0,{"$f":"IF('DA 2.2'!B234=2,0,IF(AR190=1,I190-J190,0))","v":0},null,4.6335119999999996,46.335123000000003]
[null,"2017-01-02",39160,1,31,1263.2258064516129,0.22008,0.18340000000000001,278.01073548387097,231.67561290322581,46.335122580645162,"2016-07-01","2016-09-30",38130,0,"2016-10-01","2017-08-31",39160,39160,"2017-08-31","2017-08-31",39160,0,"2017-08-31","2017-08-31",39160,0,"2017-08-31","2017-08-31",39160,0,"2017-08-31","2017-08-31",39160,0,"2017-08-31","2017-08-31",39160,0,"2016-11-01","2016-11-30",1,0,0,{"$f":"IF('DA 2.2'!B235=2,0,IF(AR191=1,I191-J191,0))","v":0},null,4.6335119999999996,46.335123000000003]
[null,"2017-01-03",39160,1,31,1263.2258064516129,0.22008,0.18340000000000001,278.01073548387097,231.67561290322581,46.335122580645162,"2016-07-01","2016-09-30",38130,0,"2016-10-01","2017-08-31",39160,39160,"2017-08-31","2017-08-31",39160,0,"2017-08-31","2017-08-31",39160,0,"2017-08-31","2017-08-31",39160,0,"2017-08-31","2017-08-31",39160,0,"2017-08-31","2017-08-31",39160,0,"2016-11-01","2016-11-30",1,0,0,{"$f":"IF('DA 2.2'!B236=2,0,IF(AR192=1,I192-J192,0))","v":0},null,4.6335119999999996,46.335123000000003]
[null,"2017-01-04",39160,1,31,1263.2258064516129,0.22008,0.18340000000000001,278.01073548387097,231.67561290322581,46.335122580645162,"2016-07-01","2016-09-30",38130,0,"2016-10-01","2017-08-31",39160,39160,"2017-08-31","2017-08-31",39160,0,"2017-08-31","2017-08-31",39160,0,"2017-08-31","2017-08-31",39160,0,"2017-08-31","2017-08-31",39160,0,"2017-08-31","2017-08-31",39160,0,"2016-11-01","2016-11-30",1,0,0,{"$f":"IF('DA 2.2'!B237=2,0,IF(AR193=1,I193-J193,0))","v":0},null,4.6335119999999996,46.335123000000003]
[null,"2017-01-05",39160,1,31,1263.2258064516129,0.22008,0.18340000000000001,278.01073548387097,231.67561290322581,46.335122580645162,"2016-07-01","2016-09-30",38130,0,"2016-10-01","2017-08-31",39160,39160,"2017-08-31","2017-08-31",39160,0,"2017-08-31","2017-08-31",39160,0,"2017-08-31","2017-08-31",39160,0,"2017-08-31","2017-08-31",39160,0,"2017-08-31","2017-08-31",39160,0,"2016-11-01","2016-11-30",1,0,0,{"$f":"IF('DA 2.2'!B238=2,0,IF(AR194=1,I194-J194,0))","v":0},null,4.6335119999999996,46.335123000000003]
[null,"2017-01-06",39160,1,31,1263.2258064516129,0.22008,0.18340000000000001,278.01073548387097,231.67561290322581,46.335122580645162,"2016-07-01","2016-09-30",38130,0,"2016-10-01","2017-08-31",39160,39160,"2017-08-31","2017-08-31",39160,0,"2017-08-31","2017-08-31",39160,0,"2017-08-31","2017-08-31",39160,0,"2017-08-31","2017-08-31",39160,0,"2017-08-31","2017-08-31",39160,0,"2016-11-01","2016-11-30",1,0,0,{"$f":"IF('DA 2.2'!B239=2,0,IF(AR195=1,I195-J195,0))","v":0},null,4.6335119999999996,46.335123000000003]
[null,"2017-01-07",39160,1,31,1263.2258064516129,0.22008,0.18340000000000001,278.01073548387097,231.67561290322581,46.335122580645162,"2016-07-01","2016-09-30",38130,0,"2016-10-01","2017-08-31",39160,39160,"2017-08-31","2017-08-31",39160,0,"2017-08-31","2017-08-31",39160,0,"2017-08-31","2017-08-31",39160,0,"2017-08-31","2017-08-31",39160,0,"2017-08-31","2017-08-31",39160,0,"2016-11-01","2016-11-30",1,0,0,{"$f":"IF('DA 2.2'!B240=2,0,IF(AR196=1,I196-J196,0))","v":0},null,4.6335119999999996,46.335123000000003]
[null,"2017-01-08",39160,1,31,1263.2258064516129,0.22008,0.18340000000000001,278.01073548387097,231.67561290322581,46.335122580645162,"2016-07-01","2016-09-30",38130,0,"2016-10-01","2017-08-31",39160,39160,"2017-08-31","2017-08-31",39160,0,"2017-08-31","2017-08-31",39160,0,"2017-08-31","2017-08-31",39160,0,"2017-08-31","2017-08-31",39160,0,"2017-08-31","2017-08-31",39160,0,"2016-11-01","2016-11-30",1,0,0,{"$f":"IF('DA 2.2'!B241=2,0,IF(AR197=1,I197-J197,0))","v":0},null,4.6335119999999996,46.335123000000003]
[null,"2017-01-09",39160,1,31,{"$f":"C198/E198","v":1263.2258064516129},0.22008,0.18340000000000001,{"$f":"F198*G198","v":278.01073548387097},{"$f":"F198*H198","v":231.67561290322581},46.335122580645162,"2016-07-01","2016-09-30",38130,0,"2016-10-01","2017-08-31",39160,39160,"2017-08-31","2017-08-31",39160,0,"2017-08-31","2017-08-31",39160,0,"2017-08-31","2017-08-31",39160,0,"2017-08-31","2017-08-31",39160,0,"2017-08-31","2017-08-31",39160,0,"2016-11-01","2016-11-30",{"$f":"IF(B198>=AN198,1,0)","v":1},{"$f":"IF(B198<=AO198,1,0)","v":0},0,{"$f":"IF('DA 2.2'!B242=2,0,IF(AR198=1,I198-J198,0))","v":0},null,4.6335119999999996,46.335123000000003]
[null,"2017-01-10",{"$f":"O199+S199+W199+AA199+AE199+AI199+AM199","v":39160},{"$f":"MONTH(B199)","v":1},{"$f":"IF(D199=1,31,IF(D199=2,29,IF(D199=3,31,IF(D199=5,31,IF(D199=7,31,IF(D199=8,31,IF(D199=10,31,IF(D199=12,31,30))))))))","v":31},1263.2258064516129,0.22008,0.18340000000000001,278.01073548387097,231.67561290322581,{"$f":"I199-J199","v":46.335122580645162},"2016-07-01","2016-09-30",38130,{"$f":"IF(M199>=B199,N199,0)","v":0},"2016-10-01","2017-08-31",39160,{"$f":"IF(O199>0,0,IF(Q199>=B199,R199,0))","v":39160},"2017-08-31","2017-08-31",39160,{"$f":"IF(T199>U199,0,IF(O199>0,0,IF(S199>0,0,IF(U199>=B199,V199,0))))","v":0},"2017-08-31","2017-08-31",39160,{"$f":"IF(X199>=Y199,0,IF(O199>0,0,IF(S199>0,0,IF(W199>0,0,IF(Y199>=B199,Z199,0)))))","v":0},"2017-08-31","2017-08-31",39160,{"$f":"IF(O199>0,0,IF(AB199>=AC199,0,IF(S199>0,0,IF(W199>0,0,IF(AA199>0,0,IF(AC199>=B199,AD199,0))))))","v":0},"2017-08-31","2017-08-31",39160,{"$f":"IF(O199>0,0,IF(S199>0,0,IF(AF199>=AG199,0,IF(W199>0,0,IF(AA199>0,0,IF(AE199>0,0,IF(AG199>=B199,AH199,0)))))))","v":0},"2017-08-31","2017-08-31",39160,0,"2016-11-01","2016-11-30",1,0,{"$f":"IF(SUM(AP199:AQ199)=2,1,0)","v":0},{"$f":"IF('DA 2.2'!B243=2,0,IF(AR199=1,I199-J199,0))","v":0},null,{"$f":"ROUND(K199*10%,6)","v":4.6335119999999996},{"$f":"ROUND(K199,6)","v":46.335123000000003}]
[null,"2017-01-11",39160,1,31,1263.2258064516129,{"$f":"G199","v":0.22008},0.18340000000000001,278.01073548387097,231.67561290322581,46.335122580645162,{"$f":"L199","v":"2016-07-01"},"2016-09-30",38130,0,{"$f":"P199","v":"2016-10-01"},"2017-08-31",39160,39160,{"$f":"T199","v":"2017-08-31"},"2017-08-31",39160,0,{"$f":"X199","v":"2017-08-31"},"2017-08-31",39160,0,{"$f":"AB199","v":"2017-08-31"},"2017-08-31",39160,0,{"$f":"AF199","v":"2017-08-31"},{"$f":"AG199","v":"2017-08-31"},{"$f":"AH199","v":39160},0,{"$f":"AJ199","v":"2017-08-31"},{"$f":"AK199","v":"2017-08-31"},{"$f":"AL199","v":39160},{"$f":"IF(O200>0,0,IF(S200>0,0,IF(AJ200>=AK200,0,IF(W200>0,0,IF(AA200>0,0,IF(AE200>0,0,IF(AI200>0,0,IF(AK200>=B200,AL200,0))))))))","v":0},{"$f":"AN199","v":"2016-11-01"},"2016-11-30",1,0,0,{"$f":"IF('DA 2.2'!B244=2,0,IF(AR200=1,I200-J200,0))","v":0},null,4.6335119999999996,46.335123000000003]
[null,"2017-01-12",39160,1,31,1263.2258064516129,0.22008,0.18340000000000001,278.01073548387097,231.67561290322581,46.335122580645162,"2016-07-01","2016-09-30",38130,0,"2016-10-01","2017-08-31",39160,39160,"2017-08-31","2017-08-31",39160,0,"2017-08-31","2017-08-31",39160,0,"2017-08-31","2017-08-31",39160,0,"2017-08-31","2017-08-31",39160,0,"2017-08-31","2017-08-31",39160,0,"2016-11-01","2016-11-30",1,0,0,{"$f":"IF('DA 2.2'!B245=2,0,IF(AR201=1,I201-J201,0))","v":0},null,4.6335119999999996,46.335123000000003]
[null,"2017-01-13",39160,1,31,1263.2258064516129,0.22008,0.18340000000000001,278.01073548387097,231.67561290322581,46.335122580645162,"2016-07-01","2016-09-30",38130,0,"2016-10-01","2017-08-31",39160,39160,"2017-08-31","2017-08-31",39160,0,"2017-08-31","2017-08-31",39160,0,"2017-08-31","2017-08-31",39160,0,"2017-08-31","2017-08-31",39160,0,"2017-08-31","2017-08-31",39160,0,"2016-11-01","2016-11-30",1,0,0,{"$f":"IF('DA 2.2'!B246=2,0,IF(AR202=1,I202-J202,0))","v":0},null,4.6335119999999996,46.335123000000003]
[null,"2017-01-14",39160,1,31,1263.2258064516129,0.22008,0.18340000000000001,278.01073548387097,231.67561290322581,46.335122580645162,"2016-07-01","2016-09-30",38130,0,"2016-10-01","2017-08-31",39160,39160,"2017-08-31","2017-08-31",39160,0,"2017-08-31","2017-08-31",39160,0,"2017-08-31","2017-08-31",39160,0,"2017-08-31","2017-08-31",39160,0,"2017-08-31","2017-08-31",39160,0,"2016-11-01","2016-11-30",1,0,0,{"$f":"IF('DA 2.2'!B247=2,0,IF(AR203=1,I203-J203,0))","v":0},null,4.6335119999999996,46.335123000000003]
[null,"2017-01-15",39160,1,31,1263.2258064516129,0.22008,0.18340000000000001,278.01073548387097,231.67561290322581,46.335122580645162,"2016-07-01","2016-09-30",38130,0,"2016-10-01","2017-08-31",39160,39160,"2017-08-31","2017-08-31",39160,0,"2017-08-31","2017-08-31",39160,0,"2017-08-31","2017-08-31",39160,0,"2017-08-31","2017-08-31",39160,0,"2017-08-31","2017-08-31",39160,0,"2016-11-01","2016-11-30",1,0,0,{"$f":"IF('DA 2.2'!B248=2,0,IF(AR204=1,I204-J204,0))","v":0},null,4.6335119999999996,46.335123000000003]
[null,"2017-01-16",39160,1,31,1263.2258064516129,0.22008,0.18340000000000001,278.01073548387097,231.67561290322581,46.335122580645162,"2016-07-01","2016-09-30",38130,0,"2016-10-01","2017-08-31",39160,39160,"2017-08-31","2017-08-31",39160,0,"2017-08-31","2017-08-31",39160,0,"2017-08-31","2017-08-31",39160,0,"2017-08-31","2017-08-31",39160,0,"2017-08-31","2017-08-31",39160,0,"2016-11-01","2016-11-30",1,0,0,{"$f":"IF('DA 2.2'!B249=2,0,IF(AR205=1,I205-J205,0))","v":0},null,4.6335119999999996,46.335123000000003]
[null,"2017-01-17",39160,1,31,1263.2258064516129,0.22008,0.18340000000000001,278.01073548387097,231.67561290322581,46.335122580645162,"2016-07-01","2016-09-30",38130,0,"2016-10-01","2017-08-31",39160,39160,"2017-08-31","2017-08-31",39160,0,"2017-08-31","2017-08-31",39160,0,"2017-08-31","2017-08-31",39160,0,"2017-08-31","2017-08-31",39160,0,"2017-08-31","2017-08-31",39160,0,"2016-11-01","2016-11-30",1,0,0,{"$f":"IF('DA 2.2'!B250=2,0,IF(AR206=1,I206-J206,0))","v":0},null,4.6335119999999996,46.335123000000003]
[null,"2017-01-18",39160,1,31,1263.2258064516129,0.22008,0.18340000000000001,278.01073548387097,231.67561290322581,46.335122580645162,"2016-07-01","2016-09-30",38130,0,"2016-10-01","2017-08-31",39160,39160,"2017-08-31","2017-08-31",39160,0,"2017-08-31","2017-08-31",39160,0,"2017-08-31","2017-08-31",39160,0,"2017-08-31","2017-08-31",39160,0,"2017-08-31","2017-08-31",39160,0,"2016-11-01","2016-11-30",1,0,0,{"$f":"IF('DA 2.2'!B251=2,0,IF(AR207=1,I207-J207,0))","v":0},null,4.6335119999999996,46.335123000000003]
[null,"2017-01-19",39160,1,31,1263.2258064516129,0.22008,0.18340000000000001,278.01073548387097,231.67561290322581,46.335122580645162,"2016-07-01","2016-09-30",38130,0,"2016-10-01","2017-08-31",39160,39160,"2017-08-31","2017-08-31",39160,0,"2017-08-31","2017-08-31",39160,0,"2017-08-31","2017-08-31",39160,0,"2017-08-31","2017-08-31",39160,0,"2017-08-31","2017-08-31",39160,0,"2016-11-01","2016-11-30",1,0,0,{"$f":"IF('DA 2.2'!B252=2,0,IF(AR208=1,I208-J208,0))","v":0},null,4.6335119999999996,46.335123000000003]
[null,"2017-01-20",39160,1,31,1263.2258064516129,0.22008,0.18340000000000001,278.01073548387097,231.67561290322581,46.335122580645162,"2016-07-01","2016-09-30",38130,0,"2016-10-01","2017-08-31",39160,39160,"2017-08-31","2017-08-31",39160,0,"2017-08-31","2017-08-31",39160,0,"2017-08-31","2017-08-31",39160,0,"2017-08-31","2017-08-31",39160,0,"2017-08-31","2017-08-31",39160,0,"2016-11-01","2016-11-30",1,0,0,{"$f":"IF('DA 2.2'!B253=2,0,IF(AR209=1,I209-J209,0))","v":0},null,4.6335119999999996,46.335123000000003]
[null,"2017-01-21",39160,1,31,1263.2258064516129,0.22008,0.18340000000000001,278.01073548387097,231.67561290322581,46.335122580645162,"2016-07-01","2016-09-30",38130,0,"2016-10-01","2017-08-31",39160,39160,"2017-08-31","2017-08-31",39160,0,"2017-08-31","2017-08-31",39160,0,"2017-08-31","2017-08-31",39160,0,"2017-08-31","2017-08-31",39160,0,"2017-08-31","2017-08-31",39160,0,"2016-11-01","2016-11-30",1,0,0,{"$f":"IF('DA 2.2'!B254=2,0,IF(AR210=1,I210-J210,0))","v":0},null,4.6335119999999996,46.335123000000003]
[null,"2017-01-22",39160,1,31,1263.2258064516129,0.22008,0.18340000000000001,278.01073548387097,231.67561290322581,46.335122580645162,"2016-07-01","2016-09-30",38130,0,"2016-10-01","2017-08-31",39160,39160,"2017-08-31","2017-08-31",39160,0,"2017-08-31","2017-08-31",39160,0,"2017-08-31","2017-08-31",39160,0,"2017-08-31","2017-08-31",39160,0,"2017-08-31","2017-08-31",39160,0,"2016-11-01","2016-11-30",1,0,0,{"$f":"IF('DA 2.2'!B255=2,0,IF(AR211=1,I211-J211,0))","v":0},null,4.6335119999999996,46.335123000000003]
[null,"2017-01-23",39160,1,31,1263.2258064516129,0.22008,0.18340000000000001,278.01073548387097,231.67561290322581,46.335122580645162,"2016-07-01","2016-09-30",38130,0,"2016-10-01","2017-08-31",39160,39160,"2017-08-31","2017-08-31",39160,0,"2017-08-31","2017-08-31",39160,0,"2017-08-31","2017-08-31",39160,0,"2017-08-31","2017-08-31",39160,0,"2017-08-31","2017-08-31",39160,0,"2016-11-01","2016-11-30",1,0,0,{"$f":"IF('DA 2.2'!B256=2,0,IF(AR212=1,I212-J212,0))","v":0},null,4.6335119999999996,46.335123000000003]
[null,"2017-01-24",39160,1,31,1263.2258064516129,0.22008,0.18340000000000001,278.01073548387097,231.67561290322581,46.335122580645162,"2016-07-01","2016-09-30",38130,0,"2016-10-01","2017-08-31",39160,39160,"2017-08-31","2017-08-31",39160,0,"2017-08-31","2017-08-31",39160,0,"2017-08-31","2017-08-31",39160,0,"2017-08-31","2017-08-31",39160,0,"2017-08-31","2017-08-31",39160,0,"2016-11-01","2016-11-30",1,0,0,{"$f":"IF('DA 2.2'!B257=2,0,IF(AR213=1,I213-J213,0))","v":0},null,4.6335119999999996,46.335123000000003]
[null,"2017-01-25",39160,1,31,1263.2258064516129,0.22008,0.18340000000000001,278.01073548387097,231.67561290322581,46.335122580645162,"2016-07-01","2016-09-30",38130,0,"2016-10-01","2017-08-31",39160,39160,"2017-08-31","2017-08-31",39160,0,"2017-08-31","2017-08-31",39160,0,"2017-08-31","2017-08-31",39160,0,"2017-08-31","2017-08-31",39160,0,"2017-08-31","2017-08-31",39160,0,"2016-11-01","2016-11-30",1,0,0,{"$f":"IF('DA 2.2'!B258=2,0,IF(AR214=1,I214-J214,0))","v":0},null,4.6335119999999996,46.335123000000003]
[null,"2017-01-26",39160,1,31,1263.2258064516129,0.22008,0.18340000000000001,278.01073548387097,231.67561290322581,46.335122580645162,"2016-07-01","2016-09-30",38130,0,"2016-10-01","2017-08-31",39160,39160,"2017-08-31","2017-08-31",39160,0,"2017-08-31","2017-08-31",39160,0,"2017-08-31","2017-08-31",39160,0,"2017-08-31","2017-08-31",39160,0,"2017-08-31","2017-08-31",39160,0,"2016-11-01","2016-11-30",1,0,0,{"$f":"IF('DA 2.2'!B259=2,0,IF(AR215=1,I215-J215,0))","v":0},null,4.6335119999999996,46.335123000000003]
[null,"2017-01-27",39160,1,31,1263.2258064516129,{"$f":"G215","v":0.22008},0.18340000000000001,278.01073548387097,231.67561290322581,46.335122580645162,{"$f":"L215","v":"2016-07-01"},"2016-09-30",38130,0,{"$f":"P215","v":"2016-10-01"},"2017-08-31",39160,39160,{"$f":"T215","v":"2017-08-31"},"2017-08-31",39160,0,{"$f":"X215","v":"2017-08-31"},"2017-08-31",39160,0,"2017-08-31","2017-08-31",39160,0,"2017-08-31","2017-08-31",39160,0,"2017-08-31","2017-08-31",39160,0,{"$f":"AN215","v":"2016-11-01"},"2016-11-30",1,0,0,{"$f":"IF('DA 2.2'!B260=2,0,IF(AR216=1,I216-J216,0))","v":0},null,4.6335119999999996,46.335123000000003]
[null,"2017-01-28",39160,1,31,1263.2258064516129,0.22008,0.18340000000000001,278.01073548387097,231.67561290322581,46.335122580645162,"2016-07-01","2016-09-30",38130,0,"2016-10-01","2017-08-31",39160,39160,"2017-08-31","2017-08-31",39160,0,"2017-08-31","2017-08-31",39160,0,"2017-08-31","2017-08-31",39160,0,"2017-08-31","2017-08-31",39160,0,"2017-08-31","2017-08-31",39160,0,"2016-11-01","2016-11-30",1,0,0,{"$f":"IF('DA 2.2'!B261=2,0,IF(AR217=1,I217-J217,0))","v":0},null,4.6335119999999996,46.335123000000003]
[null,"2017-01-29",39160,1,31,1263.2258064516129,0.22008,0.18340000000000001,278.01073548387097,231.67561290322581,46.335122580645162,"2016-07-01","2016-09-30",38130,0,"2016-10-01","2017-08-31",39160,39160,"2017-08-31","2017-08-31",39160,0,"2017-08-31","2017-08-31",39160,0,"2017-08-31","2017-08-31",39160,0,"2017-08-31","2017-08-31",39160,0,"2017-08-31","2017-08-31",39160,0,"2016-11-01","2016-11-30",1,0,0,{"$f":"IF('DA 2.2'!B262=2,0,IF(AR218=1,I218-J218,0))","v":0},null,4.6335119999999996,46.335123000000003]
[null,"2017-01-30",39160,1,31,1263.2258064516129,0.22008,0.18340000000000001,278.01073548387097,231.67561290322581,46.335122580645162,"2016-07-01","2016-09-30",38130,0,"2016-10-01","2017-08-31",39160,39160,"2017-08-31","2017-08-31",39160,0,"2017-08-31","2017-08-31",39160,0,"2017-08-31","2017-08-31",39160,0,"2017-08-31","2017-08-31",39160,0,"2017-08-31","2017-08-31",39160,0,"2016-11-01","2016-11-30",1,0,0,{"$f":"IF('DA 2.2'!B263=2,0,IF(AR219=1,I219-J219,0))","v":0},null,4.6335119999999996,46.335123000000003]
[null,"2017-01-31",39160,1,31,1263.2258064516129,0.22008,0.18340000000000001,278.01073548387097,231.67561290322581,46.335122580645162,"2016-07-01","2016-09-30",38130,0,"2016-10-01","2017-08-31",39160,39160,"2017-08-31","2017-08-31",39160,0,"2017-08-31","2017-08-31",39160,0,"2017-08-31","2017-08-31",39160,0,"2017-08-31","2017-08-31",39160,0,"2017-08-31","2017-08-31",39160,0,"2016-11-01","2016-11-30",1,0,0,{"$f":"IF('DA 2.2'!B264=2,0,IF(AR220=1,I220-J220,0))","v":0},null,4.6335119999999996,46.335123000000003]
[null,"2017-02-01",39160,2,{"$f":"IF(D221=1,31,IF(D221=2,28,IF(D221=3,31,IF(D221=5,31,IF(D221=7,31,IF(D221=8,31,IF(D221=10,31,IF(D221=12,31,30))))))))","v":28},1398.5714285714287,0.22008,0.18340000000000001,307.79760000000005,256.49800000000005,51.299599999999998,"2016-07-01","2016-09-30",38130,0,"2016-10-01","2017-08-31",39160,39160,"2017-08-31","2017-08-31",39160,0,"2017-08-31","2017-08-31",39160,0,"2017-08-31","2017-08-31",39160,0,"2017-08-31","2017-08-31",39160,0,"2017-08-31","2017-08-31",39160,0,"2016-11-01","2016-11-30",1,0,0,{"$f":"IF('DA 2.2'!B265=2,0,IF(AR221=1,I221-J221,0))","v":0},null,5.1299599999999996,51.299599999999998]
[null,"2017-02-02",39160,2,{"$f":"IF(D222=1,31,IF(D222=2,28,IF(D222=3,31,IF(D222=5,31,IF(D222=7,31,IF(D222=8,31,IF(D222=10,31,IF(D222=12,31,30))))))))","v":28},1398.5714285714287,0.22008,0.18340000000000001,307.79760000000005,256.49800000000005,51.299599999999998,"2016-07-01","2016-09-30",38130,0,"2016-10-01","2017-08-31",39160,39160,"2017-08-31","2017-08-31",39160,0,"2017-08-31","2017-08-31",39160,0,"2017-08-31","2017-08-31",39160,0,"2017-08-31","2017-08-31",39160,0,"2017-08-31","2017-08-31",39160,0,"2016-11-01","2016-11-30",1,0,0,{"$f":"IF('DA 2.2'!B266=2,0,IF(AR222=1,I222-J222,0))","v":0},null,5.1299599999999996,51.299599999999998]
[null,"2017-02-03",39160,2,28,1398.5714285714287,0.22008,0.18340000000000001,307.79760000000005,256.49800000000005,51.299599999999998,"2016-07-01","2016-09-30",38130,0,"2016-10-01","2017-08-31",39160,39160,"2017-08-31","2017-08-31",39160,0,"2017-08-31","2017-08-31",39160,0,"2017-08-31","2017-08-31",39160,0,"2017-08-31","2017-08-31",39160,0,"2017-08-31","2017-08-31",39160,0,"2016-11-01","2016-11-30",1,0,0,{"$f":"IF('DA 2.2'!B267=2,0,IF(AR223=1,I223-J223,0))","v":0},null,5.1299599999999996,51.299599999999998]
[null,"2017-02-04",39160,2,28,1398.5714285714287,0.22008,0.18340000000000001,307.79760000000005,256.49800000000005,51.299599999999998,"2016-07-01","2016-09-30",38130,0,"2016-10-01","2017-08-31",39160,39160,"2017-08-31","2017-08-31",39160,0,"2017-08-31","2017-08-31",39160,0,"2017-08-31","2017-08-31",39160,0,"2017-08-31","2017-08-31",39160,0,"2017-08-31","2017-08-31",39160,0,"2016-11-01","2016-11-30",1,0,0,{"$f":"IF('DA 2.2'!B268=2,0,IF(AR224=1,I224-J224,0))","v":0},null,5.1299599999999996,51.299599999999998]
[null,"2017-02-05",39160,2,28,1398.5714285714287,0.22008,0.18340000000000001,307.79760000000005,256.49800000000005,51.299599999999998,"2016-07-01","2016-09-30",38130,0,"2016-10-01","2017-08-31",39160,39160,"2017-08-31","2017-08-31",39160,0,"2017-08-31","2017-08-31",39160,0,"2017-08-31","2017-08-31",39160,0,"2017-08-31","2017-08-31",39160,0,"2017-08-31","2017-08-31",39160,0,"2016-11-01","2016-11-30",1,0,0,{"$f":"IF('DA 2.2'!B269=2,0,IF(AR225=1,I225-J225,0))","v":0},null,5.1299599999999996,51.299599999999998]
[null,"2017-02-06",39160,2,28,1398.5714285714287,0.22008,0.18340000000000001,307.79760000000005,256.49800000000005,51.299599999999998,"2016-07-01","2016-09-30",38130,0,"2016-10-01","2017-08-31",39160,39160,"2017-08-31","2017-08-31",39160,0,"2017-08-31","2017-08-31",39160,0,"2017-08-31","2017-08-31",39160,0,"2017-08-31","2017-08-31",39160,0,"2017-08-31","2017-08-31",39160,0,"2016-11-01","2016-11-30",1,0,0,{"$f":"IF('DA 2.2'!B270=2,0,IF(AR226=1,I226-J226,0))","v":0},null,5.1299599999999996,51.299599999999998]
[null,"2017-02-07",39160,2,28,1398.5714285714287,0.22008,0.18340000000000001,307.79760000000005,256.49800000000005,51.299599999999998,"2016-07-01","2016-09-30",38130,0,"2016-10-01","2017-08-31",39160,39160,"2017-08-31","2017-08-31",39160,0,"2017-08-31","2017-08-31",39160,0,"2017-08-31","2017-08-31",39160,0,"2017-08-31","2017-08-31",39160,0,"2017-08-31","2017-08-31",39160,0,"2016-11-01","2016-11-30",1,0,0,{"$f":"IF('DA 2.2'!B271=2,0,IF(AR227=1,I227-J227,0))","v":0},null,5.1299599999999996,51.299599999999998]
[null,"2017-02-08",39160,2,28,1398.5714285714287,0.22008,0.18340000000000001,307.79760000000005,256.49800000000005,51.299599999999998,"2016-07-01","2016-09-30",38130,0,"2016-10-01","2017-08-31",39160,39160,"2017-08-31","2017-08-31",39160,0,"2017-08-31","2017-08-31",39160,0,"2017-08-31","2017-08-31",39160,0,"2017-08-31","2017-08-31",39160,0,"2017-08-31","2017-08-31",39160,0,"2016-11-01","2016-11-30",1,0,0,{"$f":"IF('DA 2.2'!B272=2,0,IF(AR228=1,I228-J228,0))","v":0},null,5.1299599999999996,51.299599999999998]
[null,"2017-02-09",39160,2,28,1398.5714285714287,0.22008,0.18340000000000001,307.79760000000005,256.49800000000005,51.299599999999998,"2016-07-01","2016-09-30",38130,0,"2016-10-01","2017-08-31",39160,39160,"2017-08-31","2017-08-31",39160,0,"2017-08-31","2017-08-31",39160,0,"2017-08-31","2017-08-31",39160,0,"2017-08-31","2017-08-31",39160,0,"2017-08-31","2017-08-31",39160,0,"2016-11-01","2016-11-30",1,0,0,{"$f":"IF('DA 2.2'!B273=2,0,IF(AR229=1,I229-J229,0))","v":0},null,5.1299599999999996,51.299599999999998]
[null,"2017-02-10",39160,2,28,1398.5714285714287,0.22008,0.18340000000000001,307.79760000000005,256.49800000000005,51.299599999999998,"2016-07-01","2016-09-30",38130,0,"2016-10-01","2017-08-31",39160,39160,"2017-08-31","2017-08-31",39160,0,"2017-08-31","2017-08-31",39160,0,"2017-08-31","2017-08-31",39160,0,"2017-08-31","2017-08-31",39160,0,"2017-08-31","2017-08-31",39160,0,"2016-11-01","2016-11-30",1,0,0,{"$f":"IF('DA 2.2'!B274=2,0,IF(AR230=1,I230-J230,0))","v":0},null,5.1299599999999996,51.299599999999998]
[null,"2017-02-11",39160,2,28,1398.5714285714287,0.22008,0.18340000000000001,307.79760000000005,256.49800000000005,51.299599999999998,"2016-07-01","2016-09-30",38130,0,"2016-10-01","2017-08-31",39160,39160,"2017-08-31","2017-08-31",39160,0,"2017-08-31","2017-08-31",39160,0,"2017-08-31","2017-08-31",39160,0,"2017-08-31","2017-08-31",39160,0,"2017-08-31","2017-08-31",39160,0,"2016-11-01","2016-11-30",1,0,0,{"$f":"IF('DA 2.2'!B275=2,0,IF(AR231=1,I231-J231,0))","v":0},null,5.1299599999999996,51.299599999999998]
[null,"2017-02-12",39160,2,28,1398.5714285714287,{"$f":"G231","v":0.22008},0.18340000000000001,307.79760000000005,256.49800000000005,51.299599999999998,{"$f":"L231","v":"2016-07-01"},"2016-09-30",38130,0,{"$f":"P231","v":"2016-10-01"},"2017-08-31",39160,39160,{"$f":"T231","v":"2017-08-31"},"2017-08-31",39160,0,{"$f":"X231","v":"2017-08-31"},"2017-08-31",39160,0,"2017-08-31","2017-08-31",39160,0,"2017-08-31","2017-08-31",39160,0,"2017-08-31","2017-08-31",39160,0,{"$f":"AN231","v":"2016-11-01"},"2016-11-30",1,0,0,{"$f":"IF('DA 2.2'!B276=2,0,IF(AR232=1,I232-J232,0))","v":0},null,5.1299599999999996,51.299599999999998]
[null,"2017-02-13",39160,2,28,1398.5714285714287,0.22008,0.18340000000000001,307.79760000000005,256.49800000000005,51.299599999999998,"2016-07-01","2016-09-30",38130,0,"2016-10-01","2017-08-31",39160,39160,"2017-08-31","2017-08-31",39160,0,"2017-08-31","2017-08-31",39160,0,"2017-08-31","2017-08-31",39160,0,"2017-08-31","2017-08-31",39160,0,"2017-08-31","2017-08-31",39160,0,"2016-11-01","2016-11-30",1,0,0,{"$f":"IF('DA 2.2'!B277=2,0,IF(AR233=1,I233-J233,0))","v":0},null,5.1299599999999996,51.299599999999998]
[null,"2017-02-14",39160,2,28,1398.5714285714287,0.22008,0.18340000000000001,307.79760000000005,256.49800000000005,51.299599999999998,"2016-07-01","2016-09-30",38130,0,"2016-10-01","2017-08-31",39160,39160,"2017-08-31","2017-08-31",39160,0,"2017-08-31","2017-08-31",39160,0,"2017-08-31","2017-08-31",39160,0,"2017-08-31","2017-08-31",39160,0,"2017-08-31","2017-08-31",39160,0,"2016-11-01","2016-11-30",1,0,0,{"$f":"IF('DA 2.2'!B278=2,0,IF(AR234=1,I234-J234,0))","v":0},null,5.1299599999999996,51.299599999999998]
[null,"2017-02-15",39160,2,28,1398.5714285714287,0.22008,0.18340000000000001,307.79760000000005,256.49800000000005,51.299599999999998,"2016-07-01","2016-09-30",38130,0,"2016-10-01","2017-08-31",39160,39160,"2017-08-31","2017-08-31",39160,0,"2017-08-31","2017-08-31",39160,0,"2017-08-31","2017-08-31",39160,0,"2017-08-31","2017-08-31",39160,0,"2017-08-31","2017-08-31",39160,0,"2016-11-01","2016-11-30",1,0,0,{"$f":"IF('DA 2.2'!B279=2,0,IF(AR235=1,I235-J235,0))","v":0},null,5.1299599999999996,51.299599999999998]
[null,"2017-02-16",39160,2,28,1398.5714285714287,0.22008,0.18340000000000001,307.79760000000005,256.49800000000005,51.299599999999998,"2016-07-01","2016-09-30",38130,0,"2016-10-01","2017-08-31",39160,39160,"2017-08-31","2017-08-31",39160,0,"2017-08-31","2017-08-31",39160,0,"2017-08-31","2017-08-31",39160,0,"2017-08-31","2017-08-31",39160,0,"2017-08-31","2017-08-31",39160,0,"2016-11-01","2016-11-30",1,0,0,{"$f":"IF('DA 2.2'!B280=2,0,IF(AR236=1,I236-J236,0))","v":0},null,5.1299599999999996,51.299599999999998]
[null,"2017-02-17",39160,2,28,1398.5714285714287,0.22008,0.18340000000000001,307.79760000000005,256.49800000000005,51.299599999999998,"2016-07-01","2016-09-30",38130,0,"2016-10-01","2017-08-31",39160,39160,"2017-08-31","2017-08-31",39160,0,"2017-08-31","2017-08-31",39160,0,"2017-08-31","2017-08-31",39160,0,"2017-08-31","2017-08-31",39160,0,"2017-08-31","2017-08-31",39160,0,"2016-11-01","2016-11-30",1,0,0,{"$f":"IF('DA 2.2'!B281=2,0,IF(AR237=1,I237-J237,0))","v":0},null,5.1299599999999996,51.299599999999998]
[null,"2017-02-18",39160,2,28,1398.5714285714287,0.22008,0.18340000000000001,307.79760000000005,256.49800000000005,51.299599999999998,"2016-07-01","2016-09-30",38130,0,"2016-10-01","2017-08-31",39160,39160,"2017-08-31","2017-08-31",39160,0,"2017-08-31","2017-08-31",39160,0,"2017-08-31","2017-08-31",39160,0,"2017-08-31","2017-08-31",39160,0,"2017-08-31","2017-08-31",39160,0,"2016-11-01","2016-11-30",1,0,0,{"$f":"IF('DA 2.2'!B282=2,0,IF(AR238=1,I238-J238,0))","v":0},null,5.1299599999999996,51.299599999999998]
[null,"2017-02-19",39160,2,28,1398.5714285714287,0.22008,0.18340000000000001,307.79760000000005,256.49800000000005,51.299599999999998,"2016-07-01","2016-09-30",38130,0,"2016-10-01","2017-08-31",39160,39160,"2017-08-31","2017-08-31",39160,0,"2017-08-31","2017-08-31",39160,0,"2017-08-31","2017-08-31",39160,0,"2017-08-31","2017-08-31",39160,0,"2017-08-31","2017-08-31",39160,0,"2016-11-01","2016-11-30",1,0,0,{"$f":"IF('DA 2.2'!B283=2,0,IF(AR239=1,I239-J239,0))","v":0},null,5.1299599999999996,51.299599999999998]
[null,"2017-02-20",39160,2,28,1398.5714285714287,0.22008,0.18340000000000001,307.79760000000005,256.49800000000005,51.299599999999998,"2016-07-01","2016-09-30",38130,0,"2016-10-01","2017-08-31",39160,39160,"2017-08-31","2017-08-31",39160,0,"2017-08-31","2017-08-31",39160,0,"2017-08-31","2017-08-31",39160,0,"2017-08-31","2017-08-31",39160,0,"2017-08-31","2017-08-31",39160,0,"2016-11-01","2016-11-30",1,0,0,{"$f":"IF('DA 2.2'!B284=2,0,IF(AR240=1,I240-J240,0))","v":0},null,5.1299599999999996,51.299599999999998]
[null,"2017-02-21",39160,2,28,1398.5714285714287,0.22008,0.18340000000000001,307.79760000000005,256.49800000000005,51.299599999999998,"2016-07-01","2016-09-30",38130,0,"2016-10-01","2017-08-31",39160,39160,"2017-08-31","2017-08-31",39160,0,"2017-08-31","2017-08-31",39160,0,"2017-08-31","2017-08-31",39160,0,"2017-08-31","2017-08-31",39160,0,"2017-08-31","2017-08-31",39160,0,"2016-11-01","2016-11-30",1,0,0,{"$f":"IF('DA 2.2'!B285=2,0,IF(AR241=1,I241-J241,0))","v":0},null,5.1299599999999996,51.299599999999998]
[null,"2017-02-22",39160,2,28,1398.5714285714287,0.22008,0.18340000000000001,307.79760000000005,256.49800000000005,51.299599999999998,"2016-07-01","2016-09-30",38130,0,"2016-10-01","2017-08-31",39160,39160,"2017-08-31","2017-08-31",39160,0,"2017-08-31","2017-08-31",39160,0,"2017-08-31","2017-08-31",39160,0,"2017-08-31","2017-08-31",39160,0,"2017-08-31","2017-08-31",39160,0,"2016-11-01","2016-11-30",1,0,0,{"$f":"IF('DA 2.2'!B286=2,0,IF(AR242=1,I242-J242,0))","v":0},null,5.1299599999999996,51.299599999999998]
[null,"2017-02-23",39160,2,28,1398.5714285714287,0.22008,0.18340000000000001,307.79760000000005,256.49800000000005,51.299599999999998,"2016-07-01","2016-09-30",38130,0,"2016-10-01","2017-08-31",39160,39160,"2017-08-31","2017-08-31",39160,0,"2017-08-31","2017-08-31",39160,0,"2017-08-31","2017-08-31",39160,0,"2017-08-31","2017-08-31",39160,0,"2017-08-31","2017-08-31",39160,0,"2016-11-01","2016-11-30",1,0,0,{"$f":"IF('DA 2.2'!B287=2,0,IF(AR243=1,I243-J243,0))","v":0},null,5.1299599999999996,51.299599999999998]
[null,"2017-02-24",39160,2,28,1398.5714285714287,0.22008,0.18340000000000001,307.79760000000005,256.49800000000005,51.299599999999998,"2016-07-01","2016-09-30",38130,0,"2016-10-01","2017-08-31",39160,39160,"2017-08-31","2017-08-31",39160,0,"2017-08-31","2017-08-31",39160,0,"2017-08-31","2017-08-31",39160,0,"2017-08-31","2017-08-31",39160,0,"2017-08-31","2017-08-31",39160,0,"2016-11-01","2016-11-30",1,0,0,{"$f":"IF('DA 2.2'!B288=2,0,IF(AR244=1,I244-J244,0))","v":0},null,5.1299599999999996,51.299599999999998]
[null,"2017-02-25",39160,2,28,1398.5714285714287,0.22008,0.18340000000000001,307.79760000000005,256.49800000000005,51.299599999999998,"2016-07-01","2016-09-30",38130,0,"2016-10-01","2017-08-31",39160,39160,"2017-08-31","2017-08-31",39160,0,"2017-08-31","2017-08-31",39160,0,"2017-08-31","2017-08-31",39160,0,"2017-08-31","2017-08-31",39160,0,"2017-08-31","2017-08-31",39160,0,"2016-11-01","2016-11-30",1,0,0,{"$f":"IF('DA 2.2'!B289=2,0,IF(AR245=1,I245-J245,0))","v":0},null,5.1299599999999996,51.299599999999998]
[null,"2017-02-26",39160,2,28,1398.5714285714287,0.22008,0.18340000000000001,307.79760000000005,256.49800000000005,51.299599999999998,"2016-07-01","2016-09-30",38130,0,"2016-10-01","2017-08-31",39160,39160,"2017-08-31","2017-08-31",39160,0,"2017-08-31","2017-08-31",39160,0,"2017-08-31","2017-08-31",39160,0,"2017-08-31","2017-08-31",39160,0,"2017-08-31","2017-08-31",39160,0,"2016-11-01","2016-11-30",1,0,0,{"$f":"IF('DA 2.2'!B290=2,0,IF(AR246=1,I246-J246,0))","v":0},null,5.1299599999999996,51.299599999999998]
[null,"2017-02-27",39160,2,28,1398.5714285714287,0.22008,0.18340000000000001,307.79760000000005,256.49800000000005,51.299599999999998,"2016-07-01","2016-09-30",38130,0,"2016-10-01","2017-08-31",39160,39160,"2017-08-31","2017-08-31",39160,0,"2017-08-31","2017-08-31",39160,0,"2017-08-31","2017-08-31",39160,0,"2017-08-31","2017-08-31",39160,0,"2017-08-31","2017-08-31",39160,0,"2016-11-01","2016-11-30",1,0,0,{"$f":"IF('DA 2.2'!B291=2,0,IF(AR247=1,I247-J247,0))","v":0},null,5.1299599999999996,51.299599999999998]
[null,"2017-02-28",39160,2,28,1398.5714285714287,{"$f":"G247","v":0.22008},0.18340000000000001,307.79760000000005,256.49800000000005,51.299599999999998,{"$f":"L247","v":"2016-07-01"},"2016-09-30",38130,0,{"$f":"P247","v":"2016-10-01"},"2017-08-31",39160,39160,{"$f":"T247","v":"2017-08-31"},"2017-08-31",39160,0,{"$f":"X247","v":"2017-08-31"},"2017-08-31",39160,0,"2017-08-31","2017-08-31",39160,0,"2017-08-31","2017-08-31",39160,0,"2017-08-31","2017-08-31",39160,0,{"$f":"AN247","v":"2016-11-01"},"2016-11-30",1,0,0,{"$f":"IF('DA 2.2'!B292=2,0,IF(AR248=1,I248-J248,0))","v":0},null,5.1299599999999996,51.299599999999998]
[null,"2017-03-01",39160,3,31,1263.2258064516129,0.22008,0.18340000000000001,278.01073548387097,231.67561290322581,46.335122580645162,"2016-07-01","2016-09-30",38130,0,"2016-10-01","2017-08-31",39160,39160,"2017-08-31","2017-08-31",39160,0,"2017-08-31","2017-08-31",39160,0,"2017-08-31","2017-08-31",39160,0,"2017-08-31","2017-08-31",39160,0,"2017-08-31","2017-08-31",39160,0,"2016-11-01","2016-11-30",1,0,0,{"$f":"IF('DA 2.2'!B293=2,0,IF(AR249=1,I249-J249,0))","v":0},null,4.6335119999999996,46.335123000000003]
[null,"2017-03-02",39160,3,31,1263.2258064516129,0.22008,0.18340000000000001,278.01073548387097,231.67561290322581,46.335122580645162,"2016-07-01","2016-09-30",38130,0,"2016-10-01","2017-08-31",39160,39160,"2017-08-31","2017-08-31",39160,0,"2017-08-31","2017-08-31",39160,0,"2017-08-31","2017-08-31",39160,0,"2017-08-31","2017-08-31",39160,0,"2017-08-31","2017-08-31",39160,0,"2016-11-01","2016-11-30",1,0,0,{"$f":"IF('DA 2.2'!B294=2,0,IF(AR250=1,I250-J250,0))","v":0},null,4.6335119999999996,46.335123000000003]
[null,"2017-03-03",39160,3,31,1263.2258064516129,0.22008,0.18340000000000001,278.01073548387097,231.67561290322581,46.335122580645162,"2016-07-01","2016-09-30",38130,0,"2016-10-01","2017-08-31",39160,39160,"2017-08-31","2017-08-31",39160,0,"2017-08-31","2017-08-31",39160,0,"2017-08-31","2017-08-31",39160,0,"2017-08-31","2017-08-31",39160,0,"2017-08-31","2017-08-31",39160,0,"2016-11-01","2016-11-30",1,0,0,{"$f":"IF('DA 2.2'!B295=2,0,IF(AR251=1,I251-J251,0))","v":0},null,4.6335119999999996,46.335123000000003]
[null,"2017-03-04",39160,3,31,1263.2258064516129,0.22008,0.18340000000000001,278.01073548387097,231.67561290322581,46.335122580645162,"2016-07-01","2016-09-30",38130,0,"2016-10-01","2017-08-31",39160,39160,"2017-08-31","2017-08-31",39160,0,"2017-08-31","2017-08-31",39160,0,"2017-08-31","2017-08-31",39160,0,"2017-08-31","2017-08-31",39160,0,"2017-08-31","2017-08-31",39160,0,"2016-11-01","2016-11-30",1,0,0,{"$f":"IF('DA 2.2'!B296=2,0,IF(AR252=1,I252-J252,0))","v":0},null,4.6335119999999996,46.335123000000003]
[null,"2017-03-05",39160,3,31,1263.2258064516129,0.22008,0.18340000000000001,278.01073548387097,231.67561290322581,46.335122580645162,"2016-07-01","2016-09-30",38130,0,"2016-10-01","2017-08-31",39160,39160,"2017-08-31","2017-08-31",39160,0,"2017-08-31","2017-08-31",39160,0,"2017-08-31","2017-08-31",39160,0,"2017-08-31","2017-08-31",39160,0,"2017-08-31","2017-08-31",39160,0,"2016-11-01","2016-11-30",1,0,0,{"$f":"IF('DA 2.2'!B297=2,0,IF(AR253=1,I253-J253,0))","v":0},null,4.6335119999999996,46.335123000000003]
[null,"2017-03-06",39160,3,31,1263.2258064516129,0.22008,0.18340000000000001,278.01073548387097,231.67561290322581,46.335122580645162,"2016-07-01","2016-09-30",38130,0,"2016-10-01","2017-08-31",39160,39160,"2017-08-31","2017-08-31",39160,0,"2017-08-31","2017-08-31",39160,0,"2017-08-31","2017-08-31",39160,0,"2017-08-31","2017-08-31",39160,0,"2017-08-31","2017-08-31",39160,0,"2016-11-01","2016-11-30",1,0,0,{"$f":"IF('DA 2.2'!B298=2,0,IF(AR254=1,I254-J254,0))","v":0},null,4.6335119999999996,46.335123000000003]
[null,"2017-03-07",39160,3,31,1263.2258064516129,0.22008,0.18340000000000001,278.01073548387097,231.67561290322581,46.335122580645162,"2016-07-01","2016-09-30",38130,0,"2016-10-01","2017-08-31",39160,39160,"2017-08-31","2017-08-31",39160,0,"2017-08-31","2017-08-31",39160,0,"2017-08-31","2017-08-31",39160,0,"2017-08-31","2017-08-31",39160,0,"2017-08-31","2017-08-31",39160,0,"2016-11-01","2016-11-30",1,0,0,{"$f":"IF('DA 2.2'!B299=2,0,IF(AR255=1,I255-J255,0))","v":0},null,4.6335119999999996,46.335123000000003]
[null,"2017-03-08",39160,3,31,1263.2258064516129,0.22008,0.18340000000000001,278.01073548387097,231.67561290322581,46.335122580645162,"2016-07-01","2016-09-30",38130,0,"2016-10-01","2017-08-31",39160,39160,"2017-08-31","2017-08-31",39160,0,"2017-08-31","2017-08-31",39160,0,"2017-08-31","2017-08-31",39160,0,"2017-08-31","2017-08-31",39160,0,"2017-08-31","2017-08-31",39160,0,"2016-11-01","2016-11-30",1,0,0,{"$f":"IF('DA 2.2'!B300=2,0,IF(AR256=1,I256-J256,0))","v":0},null,4.6335119999999996,46.335123000000003]
[null,"2017-03-09",39160,3,31,1263.2258064516129,0.22008,0.18340000000000001,278.01073548387097,231.67561290322581,46.335122580645162,"2016-07-01","2016-09-30",38130,0,"2016-10-01","2017-08-31",39160,39160,"2017-08-31","2017-08-31",39160,0,"2017-08-31","2017-08-31",39160,0,"2017-08-31","2017-08-31",39160,0,"2017-08-31","2017-08-31",39160,0,"2017-08-31","2017-08-31",39160,0,"2016-11-01","2016-11-30",1,0,0,{"$f":"IF('DA 2.2'!B301=2,0,IF(AR257=1,I257-J257,0))","v":0},null,4.6335119999999996,46.335123000000003]
[null,"2017-03-10",39160,3,31,1263.2258064516129,0.22008,0.18340000000000001,278.01073548387097,231.67561290322581,46.335122580645162,"2016-07-01","2016-09-30",38130,0,"2016-10-01","2017-08-31",39160,39160,"2017-08-31","2017-08-31",39160,0,"2017-08-31","2017-08-31",39160,0,"2017-08-31","2017-08-31",39160,0,"2017-08-31","2017-08-31",39160,0,"2017-08-31","2017-08-31",39160,0,"2016-11-01","2016-11-30",1,0,0,{"$f":"IF('DA 2.2'!B302=2,0,IF(AR258=1,I258-J258,0))","v":0},null,4.6335119999999996,46.335123000000003]
[null,"2017-03-11",39160,3,31,1263.2258064516129,0.22008,0.18340000000000001,278.01073548387097,231.67561290322581,46.335122580645162,"2016-07-01","2016-09-30",38130,0,"2016-10-01","2017-08-31",39160,39160,"2017-08-31","2017-08-31",39160,0,"2017-08-31","2017-08-31",39160,0,"2017-08-31","2017-08-31",39160,0,"2017-08-31","2017-08-31",39160,0,"2017-08-31","2017-08-31",39160,0,"2016-11-01","2016-11-30",1,0,0,{"$f":"IF('DA 2.2'!B303=2,0,IF(AR259=1,I259-J259,0))","v":0},null,4.6335119999999996,46.335123000000003]
[null,"2017-03-12",39160,3,31,1263.2258064516129,0.22008,0.18340000000000001,278.01073548387097,231.67561290322581,46.335122580645162,"2016-07-01","2016-09-30",38130,0,"2016-10-01","2017-08-31",39160,39160,"2017-08-31","2017-08-31",39160,0,"2017-08-31","2017-08-31",39160,0,"2017-08-31","2017-08-31",39160,0,"2017-08-31","2017-08-31",39160,0,"2017-08-31","2017-08-31",39160,0,"2016-11-01","2016-11-30",1,0,0,{"$f":"IF('DA 2.2'!B304=2,0,IF(AR260=1,I260-J260,0))","v":0},null,4.6335119999999996,46.335123000000003]
[null,"2017-03-13",39160,3,31,1263.2258064516129,0.22008,0.18340000000000001,278.01073548387097,231.67561290322581,46.335122580645162,"2016-07-01","2016-09-30",38130,0,"2016-10-01","2017-08-31",39160,39160,"2017-08-31","2017-08-31",39160,0,"2017-08-31","2017-08-31",39160,0,"2017-08-31","2017-08-31",39160,0,"2017-08-31","2017-08-31",39160,0,"2017-08-31","2017-08-31",39160,0,"2016-11-01","2016-11-30",1,0,0,{"$f":"IF('DA 2.2'!B305=2,0,IF(AR261=1,I261-J261,0))","v":0},null,4.6335119999999996,46.335123000000003]
[null,"2017-03-14",39160,3,31,{"$f":"C262/E262","v":1263.2258064516129},0.22008,0.18340000000000001,{"$f":"F262*G262","v":278.01073548387097},{"$f":"F262*H262","v":231.67561290322581},46.335122580645162,"2016-07-01","2016-09-30",38130,0,"2016-10-01","2017-08-31",39160,39160,"2017-08-31","2017-08-31",39160,0,"2017-08-31","2017-08-31",39160,0,"2017-08-31","2017-08-31",39160,0,"2017-08-31","2017-08-31",39160,0,"2017-08-31","2017-08-31",39160,0,"2016-11-01","2016-11-30",{"$f":"IF(B262>=AN262,1,0)","v":1},{"$f":"IF(B262<=AO262,1,0)","v":0},0,{"$f":"IF('DA 2.2'!B306=2,0,IF(AR262=1,I262-J262,0))","v":0},null,4.6335119999999996,46.335123000000003]
[null,"2017-03-15",{"$f":"O263+S263+W263+AA263+AE263+AI263+AM263","v":39160},{"$f":"MONTH(B263)","v":3},{"$f":"IF(D263=1,31,IF(D263=2,29,IF(D263=3,31,IF(D263=5,31,IF(D263=7,31,IF(D263=8,31,IF(D263=10,31,IF(D263=12,31,30))))))))","v":31},1263.2258064516129,0.22008,0.18340000000000001,278.01073548387097,231.67561290322581,{"$f":"I263-J263","v":46.335122580645162},"2016-07-01","2016-09-30",38130,{"$f":"IF(M263>=B263,N263,0)","v":0},"2016-10-01","2017-08-31",39160,{"$f":"IF(O263>0,0,IF(Q263>=B263,R263,0))","v":39160},"2017-08-31","2017-08-31",39160,{"$f":"IF(T263>U263,0,IF(O263>0,0,IF(S263>0,0,IF(U263>=B263,V263,0))))","v":0},"2017-08-31","2017-08-31",39160,{"$f":"IF(X263>=Y263,0,IF(O263>0,0,IF(S263>0,0,IF(W263>0,0,IF(Y263>=B263,Z263,0)))))","v":0},"2017-08-31","2017-08-31",39160,{"$f":"IF(O263>0,0,IF(AB263>=AC263,0,IF(S263>0,0,IF(W263>0,0,IF(AA263>0,0,IF(AC263>=B263,AD263,0))))))","v":0},"2017-08-31","2017-08-31",39160,{"$f":"IF(O263>0,0,IF(S263>0,0,IF(AF263>=AG263,0,IF(W263>0,0,IF(AA263>0,0,IF(AE263>0,0,IF(AG263>=B263,AH263,0)))))))","v":0},"2017-08-31","2017-08-31",39160,0,"2016-11-01","2016-11-30",1,0,{"$f":"IF(SUM(AP263:AQ263)=2,1,0)","v":0},{"$f":"IF('DA 2.2'!B307=2,0,IF(AR263=1,I263-J263,0))","v":0},null,{"$f":"ROUND(K263*10%,6)","v":4.6335119999999996},{"$f":"ROUND(K263,6)","v":46.335123000000003}]
[null,"2017-03-16",39160,3,31,1263.2258064516129,{"$f":"G263","v":0.22008},0.18340000000000001,278.01073548387097,231.67561290322581,46.335122580645162,{"$f":"L263","v":"2016-07-01"},"2016-09-30",38130,0,{"$f":"P263","v":"2016-10-01"},"2017-08-31",39160,39160,{"$f":"T263","v":"2017-08-31"},"2017-08-31",39160,0,{"$f":"X263","v":"2017-08-31"},"2017-08-31",39160,0,{"$f":"AB263","v":"2017-08-31"},"2017-08-31",39160,0,{"$f":"AF263","v":"2017-08-31"},{"$f":"AG263","v":"2017-08-31"},{"$f":"AH263","v":39160},0,{"$f":"AJ263","v":"2017-08-31"},{"$f":"AK263","v":"2017-08-31"},{"$f":"AL263","v":39160},{"$f":"IF(O264>0,0,IF(S264>0,0,IF(AJ264>=AK264,0,IF(W264>0,0,IF(AA264>0,0,IF(AE264>0,0,IF(AI264>0,0,IF(AK264>=B264,AL264,0))))))))","v":0},{"$f":"AN263","v":"2016-11-01"},"2016-11-30",1,0,0,{"$f":"IF('DA 2.2'!B308=2,0,IF(AR264=1,I264-J264,0))","v":0},null,4.6335119999999996,46.335123000000003]
[null,"2017-03-17",39160,3,31,1263.2258064516129,0.22008,0.18340000000000001,278.01073548387097,231.67561290322581,46.335122580645162,"2016-07-01","2016-09-30",38130,0,"2016-10-01","2017-08-31",39160,39160,"2017-08-31","2017-08-31",39160,0,"2017-08-31","2017-08-31",39160,0,"2017-08-31","2017-08-31",39160,0,"2017-08-31","2017-08-31",39160,0,"2017-08-31","2017-08-31",39160,0,"2016-11-01","2016-11-30",1,0,0,{"$f":"IF('DA 2.2'!B309=2,0,IF(AR265=1,I265-J265,0))","v":0},null,4.6335119999999996,46.335123000000003]
[null,"2017-03-18",39160,3,31,1263.2258064516129,0.22008,0.18340000000000001,278.01073548387097,231.67561290322581,46.335122580645162,"2016-07-01","2016-09-30",38130,0,"2016-10-01","2017-08-31",39160,39160,"2017-08-31","2017-08-31",39160,0,"2017-08-31","2017-08-31",39160,0,"2017-08-31","2017-08-31",39160,0,"2017-08-31","2017-08-31",39160,0,"2017-08-31","2017-08-31",39160,0,"2016-11-01","2016-11-30",1,0,0,{"$f":"IF('DA 2.2'!B310=2,0,IF(AR266=1,I266-J266,0))","v":0},null,4.6335119999999996,46.335123000000003]
[null,"2017-03-19",39160,3,31,1263.2258064516129,0.22008,0.18340000000000001,278.01073548387097,231.67561290322581,46.335122580645162,"2016-07-01","2016-09-30",38130,0,"2016-10-01","2017-08-31",39160,39160,"2017-08-31","2017-08-31",39160,0,"2017-08-31","2017-08-31",39160,0,"2017-08-31","2017-08-31",39160,0,"2017-08-31","2017-08-31",39160,0,"2017-08-31","2017-08-31",39160,0,"2016-11-01","2016-11-30",1,0,0,{"$f":"IF('DA 2.2'!B311=2,0,IF(AR267=1,I267-J267,0))","v":0},null,4.6335119999999996,46.335123000000003]
[null,"2017-03-20",39160,3,31,1263.2258064516129,0.22008,0.18340000000000001,278.01073548387097,231.67561290322581,46.335122580645162,"2016-07-01","2016-09-30",38130,0,"2016-10-01","2017-08-31",39160,39160,"2017-08-31","2017-08-31",39160,0,"2017-08-31","2017-08-31",39160,0,"2017-08-31","2017-08-31",39160,0,"2017-08-31","2017-08-31",39160,0,"2017-08-31","2017-08-31",39160,0,"2016-11-01","2016-11-30",1,0,0,{"$f":"IF('DA 2.2'!B312=2,0,IF(AR268=1,I268-J268,0))","v":0},null,4.6335119999999996,46.335123000000003]
[null,"2017-03-21",39160,3,31,1263.2258064516129,0.22008,0.18340000000000001,278.01073548387097,231.67561290322581,46.335122580645162,"2016-07-01","2016-09-30",38130,0,"2016-10-01","2017-08-31",39160,39160,"2017-08-31","2017-08-31",39160,0,"2017-08-31","2017-08-31",39160,0,"2017-08-31","2017-08-31",39160,0,"2017-08-31","2017-08-31",39160,0,"2017-08-31","2017-08-31",39160,0,"2016-11-01","2016-11-30",1,0,0,{"$f":"IF('DA 2.2'!B313=2,0,IF(AR269=1,I269-J269,0))","v":0},null,4.6335119999999996,46.335123000000003]
[null,"2017-03-22",39160,3,31,1263.2258064516129,0.22008,0.18340000000000001,278.01073548387097,231.67561290322581,46.335122580645162,"2016-07-01","2016-09-30",38130,0,"2016-10-01","2017-08-31",39160,39160,"2017-08-31","2017-08-31",39160,0,"2017-08-31","2017-08-31",39160,0,"2017-08-31","2017-08-31",39160,0,"2017-08-31","2017-08-31",39160,0,"2017-08-31","2017-08-31",39160,0,"2016-11-01","2016-11-30",1,0,0,{"$f":"IF('DA 2.2'!B314=2,0,IF(AR270=1,I270-J270,0))","v":0},null,4.6335119999999996,46.335123000000003]
[null,"2017-03-23",39160,3,31,1263.2258064516129,0.22008,0.18340000000000001,278.01073548387097,231.67561290322581,46.335122580645162,"2016-07-01","2016-09-30",38130,0,"2016-10-01","2017-08-31",39160,39160,"2017-08-31","2017-08-31",39160,0,"2017-08-31","2017-08-31",39160,0,"2017-08-31","2017-08-31",39160,0,"2017-08-31","2017-08-31",39160,0,"2017-08-31","2017-08-31",39160,0,"2016-11-01","2016-11-30",1,0,0,{"$f":"IF('DA 2.2'!B315=2,0,IF(AR271=1,I271-J271,0))","v":0},null,4.6335119999999996,46.335123000000003]
[null,"2017-03-24",39160,3,31,1263.2258064516129,0.22008,0.18340000000000001,278.01073548387097,231.67561290322581,46.335122580645162,"2016-07-01","2016-09-30",38130,0,"2016-10-01","2017-08-31",39160,39160,"2017-08-31","2017-08-31",39160,0,"2017-08-31","2017-08-31",39160,0,"2017-08-31","2017-08-31",39160,0,"2017-08-31","2017-08-31",39160,0,"2017-08-31","2017-08-31",39160,0,"2016-11-01","2016-11-30",1,0,0,{"$f":"IF('DA 2.2'!B316=2,0,IF(AR272=1,I272-J272,0))","v":0},null,4.6335119999999996,46.335123000000003]
[null,"2017-03-25",39160,3,31,1263.2258064516129,0.22008,0.18340000000000001,278.01073548387097,231.67561290322581,46.335122580645162,"2016-07-01","2016-09-30",38130,0,"2016-10-01","2017-08-31",39160,39160,"2017-08-31","2017-08-31",39160,0,"2017-08-31","2017-08-31",39160,0,"2017-08-31","2017-08-31",39160,0,"2017-08-31","2017-08-31",39160,0,"2017-08-31","2017-08-31",39160,0,"2016-11-01","2016-11-30",1,0,0,{"$f":"IF('DA 2.2'!B317=2,0,IF(AR273=1,I273-J273,0))","v":0},null,4.6335119999999996,46.335123000000003]
[null,"2017-03-26",39160,3,31,1263.2258064516129,0.22008,0.18340000000000001,278.01073548387097,231.67561290322581,46.335122580645162,"2016-07-01","2016-09-30",38130,0,"2016-10-01","2017-08-31",39160,39160,"2017-08-31","2017-08-31",39160,0,"2017-08-31","2017-08-31",39160,0,"2017-08-31","2017-08-31",39160,0,"2017-08-31","2017-08-31",39160,0,"2017-08-31","2017-08-31",39160,0,"2016-11-01","2016-11-30",1,0,0,{"$f":"IF('DA 2.2'!B318=2,0,IF(AR274=1,I274-J274,0))","v":0},null,4.6335119999999996,46.335123000000003]
[null,"2017-03-27",39160,3,31,1263.2258064516129,0.22008,0.18340000000000001,278.01073548387097,231.67561290322581,46.335122580645162,"2016-07-01","2016-09-30",38130,0,"2016-10-01","2017-08-31",39160,39160,"2017-08-31","2017-08-31",39160,0,"2017-08-31","2017-08-31",39160,0,"2017-08-31","2017-08-31",39160,0,"2017-08-31","2017-08-31",39160,0,"2017-08-31","2017-08-31",39160,0,"2016-11-01","2016-11-30",1,0,0,{"$f":"IF('DA 2.2'!B319=2,0,IF(AR275=1,I275-J275,0))","v":0},null,4.6335119999999996,46.335123000000003]
[null,"2017-03-28",39160,3,31,1263.2258064516129,0.22008,0.18340000000000001,278.01073548387097,231.67561290322581,46.335122580645162,"2016-07-01","2016-09-30",38130,0,"2016-10-01","2017-08-31",39160,39160,"2017-08-31","2017-08-31",39160,0,"2017-08-31","2017-08-31",39160,0,"2017-08-31","2017-08-31",39160,0,"2017-08-31","2017-08-31",39160,0,"2017-08-31","2017-08-31",39160,0,"2016-11-01","2016-11-30",1,0,0,{"$f":"IF('DA 2.2'!B320=2,0,IF(AR276=1,I276-J276,0))","v":0},null,4.6335119999999996,46.335123000000003]
[null,"2017-03-29",39160,3,31,1263.2258064516129,0.22008,0.18340000000000001,278.01073548387097,231.67561290322581,46.335122580645162,"2016-07-01","2016-09-30",38130,0,"2016-10-01","2017-08-31",39160,39160,"2017-08-31","2017-08-31",39160,0,"2017-08-31","2017-08-31",39160,0,"2017-08-31","2017-08-31",39160,0,"2017-08-31","2017-08-31",39160,0,"2017-08-31","2017-08-31",39160,0,"2016-11-01","2016-11-30",1,0,0,{"$f":"IF('DA 2.2'!B321=2,0,IF(AR277=1,I277-J277,0))","v":0},null,4.6335119999999996,46.335123000000003]
[null,"2017-03-30",39160,3,31,1263.2258064516129,0.22008,0.18340000000000001,278.01073548387097,231.67561290322581,46.335122580645162,"2016-07-01","2016-09-30",38130,0,"2016-10-01","2017-08-31",39160,39160,"2017-08-31","2017-08-31",39160,0,"2017-08-31","2017-08-31",39160,0,"2017-08-31","2017-08-31",39160,0,"2017-08-31","2017-08-31",39160,0,"2017-08-31","2017-08-31",39160,0,"2016-11-01","2016-11-30",1,0,0,{"$f":"IF('DA 2.2'!B322=2,0,IF(AR278=1,I278-J278,0))","v":0},null,4.6335119999999996,46.335123000000003]
[null,"2017-03-31",39160,3,31,1263.2258064516129,0.22008,0.18340000000000001,278.01073548387097,231.67561290322581,46.335122580645162,"2016-07-01","2016-09-30",38130,0,"2016-10-01","2017-08-31",39160,39160,"2017-08-31","2017-08-31",39160,0,"2017-08-31","2017-08-31",39160,0,"2017-08-31","2017-08-31",39160,0,"2017-08-31","2017-08-31",39160,0,"2017-08-31","2017-08-31",39160,0,"2016-11-01","2016-11-30",1,0,0,{"$f":"IF('DA 2.2'!B323=2,0,IF(AR279=1,I279-J279,0))","v":0},null,4.6335119999999996,46.335123000000003]
[null,"2017-04-01",39160,4,30,1305.3333333333333,{"$f":"G279","v":0.22008},0.18340000000000001,287.27776,239.39813333333333,47.879626666666667,{"$f":"L279","v":"2016-07-01"},"2016-09-30",38130,0,{"$f":"P279","v":"2016-10-01"},"2017-08-31",39160,39160,{"$f":"T279","v":"2017-08-31"},"2017-08-31",39160,0,{"$f":"X279","v":"2017-08-31"},"2017-08-31",39160,0,"2017-08-31","2017-08-31",39160,0,"2017-08-31","2017-08-31",39160,0,"2017-08-31","2017-08-31",39160,0,{"$f":"AN279","v":"2016-11-01"},"2016-11-30",1,0,0,{"$f":"IF('DA 2.2'!B324=2,0,IF(AR280=1,I280-J280,0))","v":0},null,4.7879630000000004,47.879626999999999]
[null,"2017-04-02",39160,4,30,1305.3333333333333,0.22008,0.18340000000000001,287.27776,239.39813333333333,47.879626666666667,"2016-07-01","2016-09-30",38130,0,"2016-10-01","2017-08-31",39160,39160,"2017-08-31","2017-08-31",39160,0,"2017-08-31","2017-08-31",39160,0,"2017-08-31","2017-08-31",39160,0,"2017-08-31","2017-08-31",39160,0,"2017-08-31","2017-08-31",39160,0,"2016-11-01","2016-11-30",1,0,0,{"$f":"IF('DA 2.2'!B325=2,0,IF(AR281=1,I281-J281,0))","v":0},null,4.7879630000000004,47.879626999999999]
[null,"2017-04-03",39160,4,30,1305.3333333333333,0.22008,0.18340000000000001,287.27776,239.39813333333333,47.879626666666667,"2016-07-01","2016-09-30",38130,0,"2016-10-01","2017-08-31",39160,39160,"2017-08-31","2017-08-31",39160,0,"2017-08-31","2017-08-31",39160,0,"2017-08-31","2017-08-31",39160,0,"2017-08-31","2017-08-31",39160,0,"2017-08-31","2017-08-31",39160,0,"2016-11-01","2016-11-30",1,0,0,{"$f":"IF('DA 2.2'!B326=2,0,IF(AR282=1,I282-J282,0))","v":0},null,4.7879630000000004,47.879626999999999]
[null,"2017-04-04",39160,4,30,1305.3333333333333,0.22008,0.18340000000000001,287.27776,239.39813333333333,47.879626666666667,"2016-07-01","2016-09-30",38130,0,"2016-10-01","2017-08-31",39160,39160,"2017-08-31","2017-08-31",39160,0,"2017-08-31","2017-08-31",39160,0,"2017-08-31","2017-08-31",39160,0,"2017-08-31","2017-08-31",39160,0,"2017-08-31","2017-08-31",39160,0,"2016-11-01","2016-11-30",1,0,0,{"$f":"IF('DA 2.2'!B327=2,0,IF(AR283=1,I283-J283,0))","v":0},null,4.7879630000000004,47.879626999999999]
[null,"2017-04-05",39160,4,30,1305.3333333333333,0.22008,0.18340000000000001,287.27776,239.39813333333333,47.879626666666667,"2016-07-01","2016-09-30",38130,0,"2016-10-01","2017-08-31",39160,39160,"2017-08-31","2017-08-31",39160,0,"2017-08-31","2017-08-31",39160,0,"2017-08-31","2017-08-31",39160,0,"2017-08-31","2017-08-31",39160,0,"2017-08-31","2017-08-31",39160,0,"2016-11-01","2016-11-30",1,0,0,{"$f":"IF('DA 2.2'!B328=2,0,IF(AR284=1,I284-J284,0))","v":0},null,4.7879630000000004,47.879626999999999]
[null,"2017-04-06",39160,4,30,1305.3333333333333,0.22008,0.18340000000000001,287.27776,239.39813333333333,47.879626666666667,"2016-07-01","2016-09-30",38130,0,"2016-10-01","2017-08-31",39160,39160,"2017-08-31","2017-08-31",39160,0,"2017-08-31","2017-08-31",39160,0,"2017-08-31","2017-08-31",39160,0,"2017-08-31","2017-08-31",39160,0,"2017-08-31","2017-08-31",39160,0,"2016-11-01","2016-11-30",1,0,0,{"$f":"IF('DA 2.2'!B329=2,0,IF(AR285=1,I285-J285,0))","v":0},null,4.7879630000000004,47.879626999999999]
[null,"2017-04-07",39160,4,30,1305.3333333333333,0.22008,0.18340000000000001,287.27776,239.39813333333333,47.879626666666667,"2016-07-01","2016-09-30",38130,0,"2016-10-01","2017-08-31",39160,39160,"2017-08-31","2017-08-31",39160,0,"2017-08-31","2017-08-31",39160,0,"2017-08-31","2017-08-31",39160,0,"2017-08-31","2017-08-31",39160,0,"2017-08-31","2017-08-31",39160,0,"2016-11-01","2016-11-30",1,0,0,{"$f":"IF('DA 2.2'!B330=2,0,IF(AR286=1,I286-J286,0))","v":0},null,4.7879630000000004,47.879626999999999]
[null,"2017-04-08",39160,4,30,1305.3333333333333,0.22008,0.18340000000000001,287.27776,239.39813333333333,47.879626666666667,"2016-07-01","2016-09-30",38130,0,"2016-10-01","2017-08-31",39160,39160,"2017-08-31","2017-08-31",39160,0,"2017-08-31","2017-08-31",39160,0,"2017-08-31","2017-08-31",39160,0,"2017-08-31","2017-08-31",39160,0,"2017-08-31","2017-08-31",39160,0,"2016-11-01","2016-11-30",1,0,0,{"$f":"IF('DA 2.2'!B331=2,0,IF(AR287=1,I287-J287,0))","v":0},null,4.7879630000000004,47.879626999999999]
[null,"2017-04-09",39160,4,30,1305.3333333333333,0.22008,0.18340000000000001,287.27776,239.39813333333333,47.879626666666667,"2016-07-01","2016-09-30",38130,0,"2016-10-01","2017-08-31",39160,39160,"2017-08-31","2017-08-31",39160,0,"2017-08-31","2017-08-31",39160,0,"2017-08-31","2017-08-31",39160,0,"2017-08-31","2017-08-31",39160,0,"2017-08-31","2017-08-31",39160,0,"2016-11-01","2016-11-30",1,0,0,{"$f":"IF('DA 2.2'!B332=2,0,IF(AR288=1,I288-J288,0))","v":0},null,4.7879630000000004,47.879626999999999]
[null,"2017-04-10",39160,4,30,1305.3333333333333,0.22008,0.18340000000000001,287.27776,239.39813333333333,47.879626666666667,"2016-07-01","2016-09-30",38130,0,"2016-10-01","2017-08-31",39160,39160,"2017-08-31","2017-08-31",39160,0,"2017-08-31","2017-08-31",39160,0,"2017-08-31","2017-08-31",39160,0,"2017-08-31","2017-08-31",39160,0,"2017-08-31","2017-08-31",39160,0,"2016-11-01","2016-11-30",1,0,0,{"$f":"IF('DA 2.2'!B333=2,0,IF(AR289=1,I289-J289,0))","v":0},null,4.7879630000000004,47.879626999999999]
[null,"2017-04-11",39160,4,30,1305.3333333333333,0.22008,0.18340000000000001,287.27776,239.39813333333333,47.879626666666667,"2016-07-01","2016-09-30",38130,0,"2016-10-01","2017-08-31",39160,39160,"2017-08-31","2017-08-31",39160,0,"2017-08-31","2017-08-31",39160,0,"2017-08-31","2017-08-31",39160,0,"2017-08-31","2017-08-31",39160,0,"2017-08-31","2017-08-31",39160,0,"2016-11-01","2016-11-30",1,0,0,{"$f":"IF('DA 2.2'!B334=2,0,IF(AR290=1,I290-J290,0))","v":0},null,4.7879630000000004,47.879626999999999]
[null,"2017-04-12",39160,4,30,1305.3333333333333,0.22008,0.18340000000000001,287.27776,239.39813333333333,47.879626666666667,"2016-07-01","2016-09-30",38130,0,"2016-10-01","2017-08-31",39160,39160,"2017-08-31","2017-08-31",39160,0,"2017-08-31","2017-08-31",39160,0,"2017-08-31","2017-08-31",39160,0,"2017-08-31","2017-08-31",39160,0,"2017-08-31","2017-08-31",39160,0,"2016-11-01","2016-11-30",1,0,0,{"$f":"IF('DA 2.2'!B335=2,0,IF(AR291=1,I291-J291,0))","v":0},null,4.7879630000000004,47.879626999999999]
[null,"2017-04-13",39160,4,30,1305.3333333333333,0.22008,0.18340000000000001,287.27776,239.39813333333333,47.879626666666667,"2016-07-01","2016-09-30",38130,0,"2016-10-01","2017-08-31",39160,39160,"2017-08-31","2017-08-31",39160,0,"2017-08-31","2017-08-31",39160,0,"2017-08-31","2017-08-31",39160,0,"2017-08-31","2017-08-31",39160,0,"2017-08-31","2017-08-31",39160,0,"2016-11-01","2016-11-30",1,0,0,{"$f":"IF('DA 2.2'!B336=2,0,IF(AR292=1,I292-J292,0))","v":0},null,4.7879630000000004,47.879626999999999]
[null,"2017-04-14",39160,4,30,1305.3333333333333,0.22008,0.18340000000000001,287.27776,239.39813333333333,47.879626666666667,"2016-07-01","2016-09-30",38130,0,"2016-10-01","2017-08-31",39160,39160,"2017-08-31","2017-08-31",39160,0,"2017-08-31","2017-08-31",39160,0,"2017-08-31","2017-08-31",39160,0,"2017-08-31","2017-08-31",39160,0,"2017-08-31","2017-08-31",39160,0,"2016-11-01","2016-11-30",1,0,0,{"$f":"IF('DA 2.2'!B337=2,0,IF(AR293=1,I293-J293,0))","v":0},null,4.7879630000000004,47.879626999999999]
[null,"2017-04-15",39160,4,30,1305.3333333333333,0.22008,0.18340000000000001,287.27776,239.39813333333333,47.879626666666667,"2016-07-01","2016-09-30",38130,0,"2016-10-01","2017-08-31",39160,39160,"2017-08-31","2017-08-31",39160,0,"2017-08-31","2017-08-31",39160,0,"2017-08-31","2017-08-31",39160,0,"2017-08-31","2017-08-31",39160,0,"2017-08-31","2017-08-31",39160,0,"2016-11-01","2016-11-30",1,0,0,{"$f":"IF('DA 2.2'!B338=2,0,IF(AR294=1,I294-J294,0))","v":0},null,4.7879630000000004,47.879626999999999]
[null,"2017-04-16",39160,4,30,1305.3333333333333,0.22008,0.18340000000000001,287.27776,239.39813333333333,47.879626666666667,"2016-07-01","2016-09-30",38130,0,"2016-10-01","2017-08-31",39160,39160,"2017-08-31","2017-08-31",39160,0,"2017-08-31","2017-08-31",39160,0,"2017-08-31","2017-08-31",39160,0,"2017-08-31","2017-08-31",39160,0,"2017-08-31","2017-08-31",39160,0,"2016-11-01","2016-11-30",1,0,0,{"$f":"IF('DA 2.2'!B339=2,0,IF(AR295=1,I295-J295,0))","v":0},null,4.7879630000000004,47.879626999999999]
[null,"2017-04-17",39160,4,30,1305.3333333333333,{"$f":"G295","v":0.22008},0.18340000000000001,287.27776,239.39813333333333,47.879626666666667,{"$f":"L295","v":"2016-07-01"},"2016-09-30",38130,0,{"$f":"P295","v":"2016-10-01"},"2017-08-31",39160,39160,{"$f":"T295","v":"2017-08-31"},"2017-08-31",39160,0,{"$f":"X295","v":"2017-08-31"},"2017-08-31",39160,0,"2017-08-31","2017-08-31",39160,0,"2017-08-31","2017-08-31",39160,0,"2017-08-31","2017-08-31",39160,0,{"$f":"AN295","v":"2016-11-01"},"2016-11-30",1,0,0,{"$f":"IF('DA 2.2'!B340=2,0,IF(AR296=1,I296-J296,0))","v":0},null,4.7879630000000004,47.879626999999999]
[null,"2017-04-18",39160,4,30,1305.3333333333333,0.22008,0.18340000000000001,287.27776,239.39813333333333,47.879626666666667,"2016-07-01","2016-09-30",38130,0,"2016-10-01","2017-08-31",39160,39160,"2017-08-31","2017-08-31",39160,0,"2017-08-31","2017-08-31",39160,0,"2017-08-31","2017-08-31",39160,0,"2017-08-31","2017-08-31",39160,0,"2017-08-31","2017-08-31",39160,0,"2016-11-01","2016-11-30",1,0,0,{"$f":"IF('DA 2.2'!B341=2,0,IF(AR297=1,I297-J297,0))","v":0},null,4.7879630000000004,47.879626999999999]
[null,"2017-04-19",39160,4,30,1305.3333333333333,0.22008,0.18340000000000001,287.27776,239.39813333333333,47.879626666666667,"2016-07-01","2016-09-30",38130,0,"2016-10-01","2017-08-31",39160,39160,"2017-08-31","2017-08-31",39160,0,"2017-08-31","2017-08-31",39160,0,"2017-08-31","2017-08-31",39160,0,"2017-08-31","2017-08-31",39160,0,"2017-08-31","2017-08-31",39160,0,"2016-11-01","2016-11-30",1,0,0,{"$f":"IF('DA 2.2'!B342=2,0,IF(AR298=1,I298-J298,0))","v":0},null,4.7879630000000004,47.879626999999999]
[null,"2017-04-20",39160,4,30,1305.3333333333333,0.22008,0.18340000000000001,287.27776,239.39813333333333,47.879626666666667,"2016-07-01","2016-09-30",38130,0,"2016-10-01","2017-08-31",39160,39160,"2017-08-31","2017-08-31",39160,0,"2017-08-31","2017-08-31",39160,0,"2017-08-31","2017-08-31",39160,0,"2017-08-31","2017-08-31",39160,0,"2017-08-31","2017-08-31",39160,0,"2016-11-01","2016-11-30",1,0,0,{"$f":"IF('DA 2.2'!B343=2,0,IF(AR299=1,I299-J299,0))","v":0},null,4.7879630000000004,47.879626999999999]
[null,"2017-04-21",39160,4,30,1305.3333333333333,0.22008,0.18340000000000001,287.27776,239.39813333333333,47.879626666666667,"2016-07-01","2016-09-30",38130,0,"2016-10-01","2017-08-31",39160,39160,"2017-08-31","2017-08-31",39160,0,"2017-08-31","2017-08-31",39160,0,"2017-08-31","2017-08-31",39160,0,"2017-08-31","2017-08-31",39160,0,"2017-08-31","2017-08-31",39160,0,"2016-11-01","2016-11-30",1,0,0,{"$f":"IF('DA 2.2'!B344=2,0,IF(AR300=1,I300-J300,0))","v":0},null,4.7879630000000004,47.879626999999999]
[null,"2017-04-22",39160,4,30,1305.3333333333333,0.22008,0.18340000000000001,287.27776,239.39813333333333,47.879626666666667,"2016-07-01","2016-09-30",38130,0,"2016-10-01","2017-08-31",39160,39160,"2017-08-31","2017-08-31",39160,0,"2017-08-31","2017-08-31",39160,0,"2017-08-31","2017-08-31",39160,0,"2017-08-31","2017-08-31",39160,0,"2017-08-31","2017-08-31",39160,0,"2016-11-01","2016-11-30",1,0,0,{"$f":"IF('DA 2.2'!B345=2,0,IF(AR301=1,I301-J301,0))","v":0},null,4.7879630000000004,47.879626999999999]
[null,"2017-04-23",39160,4,30,1305.3333333333333,0.22008,0.18340000000000001,287.27776,239.39813333333333,47.879626666666667,"2016-07-01","2016-09-30",38130,0,"2016-10-01","2017-08-31",39160,39160,"2017-08-31","2017-08-31",39160,0,"2017-08-31","2017-08-31",39160,0,"2017-08-31","2017-08-31",39160,0,"2017-08-31","2017-08-31",39160,0,"2017-08-31","2017-08-31",39160,0,"2016-11-01","2016-11-30",1,0,0,{"$f":"IF('DA 2.2'!B346=2,0,IF(AR302=1,I302-J302,0))","v":0},null,4.7879630000000004,47.879626999999999]
[null,"2017-04-24",39160,4,30,1305.3333333333333,0.22008,0.18340000000000001,287.27776,239.39813333333333,47.879626666666667,"2016-07-01","2016-09-30",38130,0,"2016-10-01","2017-08-31",39160,39160,"2017-08-31","2017-08-31",39160,0,"2017-08-31","2017-08-31",39160,0,"2017-08-31","2017-08-31",39160,0,"2017-08-31","2017-08-31",39160,0,"2017-08-31","2017-08-31",39160,0,"2016-11-01","2016-11-30",1,0,0,{"$f":"IF('DA 2.2'!B347=2,0,IF(AR303=1,I303-J303,0))","v":0},null,4.7879630000000004,47.879626999999999]
[null,"2017-04-25",39160,4,30,1305.3333333333333,0.22008,0.18340000000000001,287.27776,239.39813333333333,47.879626666666667,"2016-07-01","2016-09-30",38130,0,"2016-10-01","2017-08-31",39160,39160,"2017-08-31","2017-08-31",39160,0,"2017-08-31","2017-08-31",39160,0,"2017-08-31","2017-08-31",39160,0,"2017-08-31","2017-08-31",39160,0,"2017-08-31","2017-08-31",39160,0,"2016-11-01","2016-11-30",1,0,0,{"$f":"IF('DA 2.2'!B348=2,0,IF(AR304=1,I304-J304,0))","v":0},null,4.7879630000000004,47.879626999999999]
[null,"2017-04-26",39160,4,30,1305.3333333333333,0.22008,0.18340000000000001,287.27776,239.39813333333333,47.879626666666667,"2016-07-01","2016-09-30",38130,0,"2016-10-01","2017-08-31",39160,39160,"2017-08-31","2017-08-31",39160,0,"2017-08-31","2017-08-31",39160,0,"2017-08-31","2017-08-31",39160,0,"2017-08-31","2017-08-31",39160,0,"2017-08-31","2017-08-31",39160,0,"2016-11-01","2016-11-30",1,0,0,{"$f":"IF('DA 2.2'!B349=2,0,IF(AR305=1,I305-J305,0))","v":0},null,4.7879630000000004,47.879626999999999]
[null,"2017-04-27",39160,4,30,1305.3333333333333,0.22008,0.18340000000000001,287.27776,239.39813333333333,47.879626666666667,"2016-07-01","2016-09-30",38130,0,"2016-10-01","2017-08-31",39160,39160,"2017-08-31","2017-08-31",39160,0,"2017-08-31","2017-08-31",39160,0,"2017-08-31","2017-08-31",39160,0,"2017-08-31","2017-08-31",39160,0,"2017-08-31","2017-08-31",39160,0,"2016-11-01","2016-11-30",1,0,0,{"$f":"IF('DA 2.2'!B350=2,0,IF(AR306=1,I306-J306,0))","v":0},null,4.7879630000000004,47.879626999999999]
[null,"2017-04-28",39160,4,30,1305.3333333333333,0.22008,0.18340000000000001,287.27776,239.39813333333333,47.879626666666667,"2016-07-01","2016-09-30",38130,0,"2016-10-01","2017-08-31",39160,39160,"2017-08-31","2017-08-31",39160,0,"2017-08-31","2017-08-31",39160,0,"2017-08-31","2017-08-31",39160,0,"2017-08-31","2017-08-31",39160,0,"2017-08-31","2017-08-31",39160,0,"2016-11-01","2016-11-30",1,0,0,{"$f":"IF('DA 2.2'!B351=2,0,IF(AR307=1,I307-J307,0))","v":0},null,4.7879630000000004,47.879626999999999]
[null,"2017-04-29",39160,4,30,1305.3333333333333,0.22008,0.18340000000000001,287.27776,239.39813333333333,47.879626666666667,"2016-07-01","2016-09-30",38130,0,"2016-10-01","2017-08-31",39160,39160,"2017-08-31","2017-08-31",39160,0,"2017-08-31","2017-08-31",39160,0,"2017-08-31","2017-08-31",39160,0,"2017-08-31","2017-08-31",39160,0,"2017-08-31","2017-08-31",39160,0,"2016-11-01","2016-11-30",1,0,0,{"$f":"IF('DA 2.2'!B352=2,0,IF(AR308=1,I308-J308,0))","v":0},null,4.7879630000000004,47.879626999999999]
[null,"2017-04-30",39160,4,30,1305.3333333333333,0.22008,0.18340000000000001,287.27776,239.39813333333333,47.879626666666667,"2016-07-01","2016-09-30",38130,0,"2016-10-01","2017-08-31",39160,39160,"2017-08-31","2017-08-31",39160,0,"2017-08-31","2017-08-31",39160,0,"2017-08-31","2017-08-31",39160,0,"2017-08-31","2017-08-31",39160,0,"2017-08-31","2017-08-31",39160,0,"2016-11-01","2016-11-30",1,0,0,{"$f":"IF('DA 2.2'!B353=2,0,IF(AR309=1,I309-J309,0))","v":0},null,4.7879630000000004,47.879626999999999]
[null,"2017-05-01",39160,5,31,1263.2258064516129,0.22008,0.18340000000000001,278.01073548387097,231.67561290322581,46.335122580645162,"2016-07-01","2016-09-30",38130,0,"2016-10-01","2017-08-31",39160,39160,"2017-08-31","2017-08-31",39160,0,"2017-08-31","2017-08-31",39160,0,"2017-08-31","2017-08-31",39160,0,"2017-08-31","2017-08-31",39160,0,"2017-08-31","2017-08-31",39160,0,"2016-11-01","2016-11-30",1,0,0,{"$f":"IF('DA 2.2'!B354=2,0,IF(AR310=1,I310-J310,0))","v":0},null,4.6335119999999996,46.335123000000003]
[null,"2017-05-02",39160,5,31,1263.2258064516129,0.22008,0.18340000000000001,278.01073548387097,231.67561290322581,46.335122580645162,"2016-07-01","2016-09-30",38130,0,"2016-10-01","2017-08-31",39160,39160,"2017-08-31","2017-08-31",39160,0,"2017-08-31","2017-08-31",39160,0,"2017-08-31","2017-08-31",39160,0,"2017-08-31","2017-08-31",39160,0,"2017-08-31","2017-08-31",39160,0,"2016-11-01","2016-11-30",1,0,0,{"$f":"IF('DA 2.2'!B355=2,0,IF(AR311=1,I311-J311,0))","v":0},null,4.6335119999999996,46.335123000000003]
[null,"2017-05-03",39160,5,31,1263.2258064516129,{"$f":"G311","v":0.22008},0.18340000000000001,278.01073548387097,231.67561290322581,46.335122580645162,{"$f":"L311","v":"2016-07-01"},"2016-09-30",38130,0,{"$f":"P311","v":"2016-10-01"},"2017-08-31",39160,39160,{"$f":"T311","v":"2017-08-31"},"2017-08-31",39160,0,{"$f":"X311","v":"2017-08-31"},"2017-08-31",39160,0,"2017-08-31","2017-08-31",39160,0,"2017-08-31","2017-08-31",39160,0,"2017-08-31","2017-08-31",39160,0,{"$f":"AN311","v":"2016-11-01"},"2016-11-30",1,0,0,{"$f":"IF('DA 2.2'!B356=2,0,IF(AR312=1,I312-J312,0))","v":0},null,4.6335119999999996,46.335123000000003]
[null,"2017-05-04",39160,5,31,1263.2258064516129,0.22008,0.18340000000000001,278.01073548387097,231.67561290322581,46.335122580645162,"2016-07-01","2016-09-30",38130,0,"2016-10-01","2017-08-31",39160,39160,"2017-08-31","2017-08-31",39160,0,"2017-08-31","2017-08-31",39160,0,"2017-08-31","2017-08-31",39160,0,"2017-08-31","2017-08-31",39160,0,"2017-08-31","2017-08-31",39160,0,"2016-11-01","2016-11-30",1,0,0,{"$f":"IF('DA 2.2'!B357=2,0,IF(AR313=1,I313-J313,0))","v":0},null,4.6335119999999996,46.335123000000003]
[null,"2017-05-05",39160,5,31,1263.2258064516129,0.22008,0.18340000000000001,278.01073548387097,231.67561290322581,46.335122580645162,"2016-07-01","2016-09-30",38130,0,"2016-10-01","2017-08-31",39160,39160,"2017-08-31","2017-08-31",39160,0,"2017-08-31","2017-08-31",39160,0,"2017-08-31","2017-08-31",39160,0,"2017-08-31","2017-08-31",39160,0,"2017-08-31","2017-08-31",39160,0,"2016-11-01","2016-11-30",1,0,0,{"$f":"IF('DA 2.2'!B358=2,0,IF(AR314=1,I314-J314,0))","v":0},null,4.6335119999999996,46.335123000000003]
[null,"2017-05-06",39160,5,31,1263.2258064516129,0.22008,0.18340000000000001,278.01073548387097,231.67561290322581,46.335122580645162,"2016-07-01","2016-09-30",38130,0,"2016-10-01","2017-08-31",39160,39160,"2017-08-31","2017-08-31",39160,0,"2017-08-31","2017-08-31",39160,0,"2017-08-31","2017-08-31",39160,0,"2017-08-31","2017-08-31",39160,0,"2017-08-31","2017-08-31",39160,0,"2016-11-01","2016-11-30",1,0,0,{"$f":"IF('DA 2.2'!B359=2,0,IF(AR315=1,I315-J315,0))","v":0},null,4.6335119999999996,46.335123000000003]
[null,"2017-05-07",39160,5,31,1263.2258064516129,0.22008,0.18340000000000001,278.01073548387097,231.67561290322581,46.335122580645162,"2016-07-01","2016-09-30",38130,0,"2016-10-01","2017-08-31",39160,39160,"2017-08-31","2017-08-31",39160,0,"2017-08-31","2017-08-31",39160,0,"2017-08-31","2017-08-31",39160,0,"2017-08-31","2017-08-31",39160,0,"2017-08-31","2017-08-31",39160,0,"2016-11-01","2016-11-30",1,0,0,{"$f":"IF('DA 2.2'!B360=2,0,IF(AR316=1,I316-J316,0))","v":0},null,4.6335119999999996,46.335123000000003]
[null,"2017-05-08",39160,5,31,1263.2258064516129,0.22008,0.18340000000000001,278.01073548387097,231.67561290322581,46.335122580645162,"2016-07-01","2016-09-30",38130,0,"2016-10-01","2017-08-31",39160,39160,"2017-08-31","2017-08-31",39160,0,"2017-08-31","2017-08-31",39160,0,"2017-08-31","2017-08-31",39160,0,"2017-08-31","2017-08-31",39160,0,"2017-08-31","2017-08-31",39160,0,"2016-11-01","2016-11-30",1,0,0,{"$f":"IF('DA 2.2'!B361=2,0,IF(AR317=1,I317-J317,0))","v":0},null,4.6335119999999996,46.335123000000003]
[null,"2017-05-09",39160,5,31,1263.2258064516129,0.22008,0.18340000000000001,278.01073548387097,231.67561290322581,46.335122580645162,"2016-07-01","2016-09-30",38130,0,"2016-10-01","2017-08-31",39160,39160,"2017-08-31","2017-08-31",39160,0,"2017-08-31","2017-08-31",39160,0,"2017-08-31","2017-08-31",39160,0,"2017-08-31","2017-08-31",39160,0,"2017-08-31","2017-08-31",39160,0,"2016-11-01","2016-11-30",1,0,0,{"$f":"IF('DA 2.2'!B362=2,0,IF(AR318=1,I318-J318,0))","v":0},null,4.6335119999999996,46.335123000000003]
[null,"2017-05-10",39160,5,31,1263.2258064516129,0.22008,0.18340000000000001,278.01073548387097,231.67561290322581,46.335122580645162,"2016-07-01","2016-09-30",38130,0,"2016-10-01","2017-08-31",39160,39160,"2017-08-31","2017-08-31",39160,0,"2017-08-31","2017-08-31",39160,0,"2017-08-31","2017-08-31",39160,0,"2017-08-31","2017-08-31",39160,0,"2017-08-31","2017-08-31",39160,0,"2016-11-01","2016-11-30",1,0,0,{"$f":"IF('DA 2.2'!B363=2,0,IF(AR319=1,I319-J319,0))","v":0},null,4.6335119999999996,46.335123000000003]
[null,"2017-05-11",39160,5,31,1263.2258064516129,0.22008,0.18340000000000001,278.01073548387097,231.67561290322581,46.335122580645162,"2016-07-01","2016-09-30",38130,0,"2016-10-01","2017-08-31",39160,39160,"2017-08-31","2017-08-31",39160,0,"2017-08-31","2017-08-31",39160,0,"2017-08-31","2017-08-31",39160,0,"2017-08-31","2017-08-31",39160,0,"2017-08-31","2017-08-31",39160,0,"2016-11-01","2016-11-30",1,0,0,{"$f":"IF('DA 2.2'!B364=2,0,IF(AR320=1,I320-J320,0))","v":0},null,4.6335119999999996,46.335123000000003]
[null,"2017-05-12",39160,5,31,1263.2258064516129,0.22008,0.18340000000000001,278.01073548387097,231.67561290322581,46.335122580645162,"2016-07-01","2016-09-30",38130,0,"2016-10-01","2017-08-31",39160,39160,"2017-08-31","2017-08-31",39160,0,"2017-08-31","2017-08-31",39160,0,"2017-08-31","2017-08-31",39160,0,"2017-08-31","2017-08-31",39160,0,"2017-08-31","2017-08-31",39160,0,"2016-11-01","2016-11-30",1,0,0,{"$f":"IF('DA 2.2'!B365=2,0,IF(AR321=1,I321-J321,0))","v":0},null,4.6335119999999996,46.335123000000003]
[null,"2017-05-13",39160,5,31,1263.2258064516129,0.22008,0.18340000000000001,278.01073548387097,231.67561290322581,46.335122580645162,"2016-07-01","2016-09-30",38130,0,"2016-10-01","2017-08-31",39160,39160,"2017-08-31","2017-08-31",39160,0,"2017-08-31","2017-08-31",39160,0,"2017-08-31","2017-08-31",39160,0,"2017-08-31","2017-08-31",39160,0,"2017-08-31","2017-08-31",39160,0,"2016-11-01","2016-11-30",1,0,0,{"$f":"IF('DA 2.2'!B366=2,0,IF(AR322=1,I322-J322,0))","v":0},null,4.6335119999999996,46.335123000000003]
[null,"2017-05-14",39160,5,31,1263.2258064516129,0.22008,0.18340000000000001,278.01073548387097,231.67561290322581,46.335122580645162,"2016-07-01","2016-09-30",38130,0,"2016-10-01","2017-08-31",39160,39160,"2017-08-31","2017-08-31",39160,0,"2017-08-31","2017-08-31",39160,0,"2017-08-31","2017-08-31",39160,0,"2017-08-31","2017-08-31",39160,0,"2017-08-31","2017-08-31",39160,0,"2016-11-01","2016-11-30",1,0,0,{"$f":"IF('DA 2.2'!B367=2,0,IF(AR323=1,I323-J323,0))","v":0},null,4.6335119999999996,46.335123000000003]
[null,"2017-05-15",39160,5,31,1263.2258064516129,0.22008,0.18340000000000001,278.01073548387097,231.67561290322581,46.335122580645162,"2016-07-01","2016-09-30",38130,0,"2016-10-01","2017-08-31",39160,39160,"2017-08-31","2017-08-31",39160,0,"2017-08-31","2017-08-31",39160,0,"2017-08-31","2017-08-31",39160,0,"2017-08-31","2017-08-31",39160,0,"2017-08-31","2017-08-31",39160,0,"2016-11-01","2016-11-30",1,0,0,{"$f":"IF('DA 2.2'!B368=2,0,IF(AR324=1,I324-J324,0))","v":0},null,4.6335119999999996,46.335123000000003]
[null,"2017-05-16",39160,5,31,1263.2258064516129,0.22008,0.18340000000000001,278.01073548387097,231.67561290322581,46.335122580645162,"2016-07-01","2016-09-30",38130,0,"2016-10-01","2017-08-31",39160,39160,"2017-08-31","2017-08-31",39160,0,"2017-08-31","2017-08-31",39160,0,"2017-08-31","2017-08-31",39160,0,"2017-08-31","2017-08-31",39160,0,"2017-08-31","2017-08-31",39160,0,"2016-11-01","2016-11-30",1,0,0,{"$f":"IF('DA 2.2'!B369=2,0,IF(AR325=1,I325-J325,0))","v":0},null,4.6335119999999996,46.335123000000003]
[null,"2017-05-17",39160,5,31,{"$f":"C326/E326","v":1263.2258064516129},0.22008,0.18340000000000001,{"$f":"F326*G326","v":278.01073548387097},{"$f":"F326*H326","v":231.67561290322581},46.335122580645162,"2016-07-01","2016-09-30",38130,0,"2016-10-01","2017-08-31",39160,39160,"2017-08-31","2017-08-31",39160,0,"2017-08-31","2017-08-31",39160,0,"2017-08-31","2017-08-31",39160,0,"2017-08-31","2017-08-31",39160,0,"2017-08-31","2017-08-31",39160,0,"2016-11-01","2016-11-30",{"$f":"IF(B326>=AN326,1,0)","v":1},{"$f":"IF(B326<=AO326,1,0)","v":0},0,{"$f":"IF('DA 2.2'!B370=2,0,IF(AR326=1,I326-J326,0))","v":0},null,4.6335119999999996,46.335123000000003]
[null,"2017-05-18",{"$f":"O327+S327+W327+AA327+AE327+AI327+AM327","v":39160},{"$f":"MONTH(B327)","v":5},{"$f":"IF(D327=1,31,IF(D327=2,29,IF(D327=3,31,IF(D327=5,31,IF(D327=7,31,IF(D327=8,31,IF(D327=10,31,IF(D327=12,31,30))))))))","v":31},1263.2258064516129,0.22008,0.18340000000000001,278.01073548387097,231.67561290322581,{"$f":"I327-J327","v":46.335122580645162},"2016-07-01","2016-09-30",38130,{"$f":"IF(M327>=B327,N327,0)","v":0},"2016-10-01","2017-08-31",39160,{"$f":"IF(O327>0,0,IF(Q327>=B327,R327,0))","v":39160},"2017-08-31","2017-08-31",39160,{"$f":"IF(T327>U327,0,IF(O327>0,0,IF(S327>0,0,IF(U327>=B327,V327,0))))","v":0},"2017-08-31","2017-08-31",39160,{"$f":"IF(X327>=Y327,0,IF(O327>0,0,IF(S327>0,0,IF(W327>0,0,IF(Y327>=B327,Z327,0)))))","v":0},"2017-08-31","2017-08-31",39160,{"$f":"IF(O327>0,0,IF(AB327>=AC327,0,IF(S327>0,0,IF(W327>0,0,IF(AA327>0,0,IF(AC327>=B327,AD327,0))))))","v":0},"2017-08-31","2017-08-31",39160,{"$f":"IF(O327>0,0,IF(S327>0,0,IF(AF327>=AG327,0,IF(W327>0,0,IF(AA327>0,0,IF(AE327>0,0,IF(AG327>=B327,AH327,0)))))))","v":0},"2017-08-31","2017-08-31",39160,0,"2016-11-01","2016-11-30",1,0,{"$f":"IF(SUM(AP327:AQ327)=2,1,0)","v":0},{"$f":"IF('DA 2.2'!B371=2,0,IF(AR327=1,I327-J327,0))","v":0},null,{"$f":"ROUND(K327*10%,6)","v":4.6335119999999996},{"$f":"ROUND(K327,6)","v":46.335123000000003}]
[null,"2017-05-19",39160,5,31,1263.2258064516129,{"$f":"G327","v":0.22008},0.18340000000000001,278.01073548387097,231.67561290322581,46.335122580645162,{"$f":"L327","v":"2016-07-01"},"2016-09-30",38130,0,{"$f":"P327","v":"2016-10-01"},"2017-08-31",39160,39160,{"$f":"T327","v":"2017-08-31"},"2017-08-31",39160,0,{"$f":"X327","v":"2017-08-31"},"2017-08-31",39160,0,{"$f":"AB327","v":"2017-08-31"},"2017-08-31",39160,0,{"$f":"AF327","v":"2017-08-31"},{"$f":"AG327","v":"2017-08-31"},{"$f":"AH327","v":39160},0,{"$f":"AJ327","v":"2017-08-31"},{"$f":"AK327","v":"2017-08-31"},{"$f":"AL327","v":39160},{"$f":"IF(O328>0,0,IF(S328>0,0,IF(AJ328>=AK328,0,IF(W328>0,0,IF(AA328>0,0,IF(AE328>0,0,IF(AI328>0,0,IF(AK328>=B328,AL328,0))))))))","v":0},{"$f":"AN327","v":"2016-11-01"},"2016-11-30",1,0,0,{"$f":"IF('DA 2.2'!B372=2,0,IF(AR328=1,I328-J328,0))","v":0},null,4.6335119999999996,46.335123000000003]
[null,"2017-05-20",39160,5,31,1263.2258064516129,0.22008,0.18340000000000001,278.01073548387097,231.67561290322581,46.335122580645162,"2016-07-01","2016-09-30",38130,0,"2016-10-01","2017-08-31",39160,39160,"2017-08-31","2017-08-31",39160,0,"2017-08-31","2017-08-31",39160,0,"2017-08-31","2017-08-31",39160,0,"2017-08-31","2017-08-31",39160,0,"2017-08-31","2017-08-31",39160,0,"2016-11-01","2016-11-30",1,0,0,{"$f":"IF('DA 2.2'!B373=2,0,IF(AR329=1,I329-J329,0))","v":0},null,4.6335119999999996,46.335123000000003]
[null,"2017-05-21",39160,5,31,1263.2258064516129,0.22008,0.18340000000000001,278.01073548387097,231.67561290322581,46.335122580645162,"2016-07-01","2016-09-30",38130,0,"2016-10-01","2017-08-31",39160,39160,"2017-08-31","2017-08-31",39160,0,"2017-08-31","2017-08-31",39160,0,"2017-08-31","2017-08-31",39160,0,"2017-08-31","2017-08-31",39160,0,"2017-08-31","2017-08-31",39160,0,"2016-11-01","2016-11-30",1,0,0,{"$f":"IF('DA 2.2'!B374=2,0,IF(AR330=1,I330-J330,0))","v":0},null,4.6335119999999996,46.335123000000003]
[null,"2017-05-22",39160,5,31,1263.2258064516129,0.22008,0.18340000000000001,278.01073548387097,231.67561290322581,46.335122580645162,"2016-07-01","2016-09-30",38130,0,"2016-10-01","2017-08-31",39160,39160,"2017-08-31","2017-08-31",39160,0,"2017-08-31","2017-08-31",39160,0,"2017-08-31","2017-08-31",39160,0,"2017-08-31","2017-08-31",39160,0,"2017-08-31","2017-08-31",39160,0,"2016-11-01","2016-11-30",1,0,0,{"$f":"IF('DA 2.2'!B375=2,0,IF(AR331=1,I331-J331,0))","v":0},null,4.6335119999999996,46.335123000000003]
[null,"2017-05-23",39160,5,31,1263.2258064516129,0.22008,0.18340000000000001,278.01073548387097,231.67561290322581,46.335122580645162,"2016-07-01","2016-09-30",38130,0,"2016-10-01","2017-08-31",39160,39160,"2017-08-31","2017-08-31",39160,0,"2017-08-31","2017-08-31",39160,0,"2017-08-31","2017-08-31",39160,0,"2017-08-31","2017-08-31",39160,0,"2017-08-31","2017-08-31",39160,0,"2016-11-01","2016-11-30",1,0,0,{"$f":"IF('DA 2.2'!B376=2,0,IF(AR332=1,I332-J332,0))","v":0},null,4.6335119999999996,46.335123000000003]
[null,"2017-05-24",39160,5,31,1263.2258064516129,0.22008,0.18340000000000001,278.01073548387097,231.67561290322581,46.335122580645162,"2016-07-01","2016-09-30",38130,0,"2016-10-01","2017-08-31",39160,39160,"2017-08-31","2017-08-31",39160,0,"2017-08-31","2017-08-31",39160,0,"2017-08-31","2017-08-31",39160,0,"2017-08-31","2017-08-31",39160,0,"2017-08-31","2017-08-31",39160,0,"2016-11-01","2016-11-30",1,0,0,{"$f":"IF('DA 2.2'!B377=2,0,IF(AR333=1,I333-J333,0))","v":0},null,4.6335119999999996,46.335123000000003]
[null,"2017-05-25",39160,5,31,1263.2258064516129,0.22008,0.18340000000000001,278.01073548387097,231.67561290322581,46.335122580645162,"2016-07-01","2016-09-30",38130,0,"2016-10-01","2017-08-31",39160,39160,"2017-08-31","2017-08-31",39160,0,"2017-08-31","2017-08-31",39160,0,"2017-08-31","2017-08-31",39160,0,"2017-08-31","2017-08-31",39160,0,"2017-08-31","2017-08-31",39160,0,"2016-11-01","2016-11-30",1,0,0,{"$f":"IF('DA 2.2'!B378=2,0,IF(AR334=1,I334-J334,0))","v":0},null,4.6335119999999996,46.335123000000003]
[null,"2017-05-26",39160,5,31,1263.2258064516129,0.22008,0.18340000000000001,278.01073548387097,231.67561290322581,46.335122580645162,"2016-07-01","2016-09-30",38130,0,"2016-10-01","2017-08-31",39160,39160,"2017-08-31","2017-08-31",39160,0,"2017-08-31","2017-08-31",39160,0,"2017-08-31","2017-08-31",39160,0,"2017-08-31","2017-08-31",39160,0,"2017-08-31","2017-08-31",39160,0,"2016-11-01","2016-11-30",1,0,0,{"$f":"IF('DA 2.2'!B379=2,0,IF(AR335=1,I335-J335,0))","v":0},null,4.6335119999999996,46.335123000000003]
[null,"2017-05-27",39160,5,31,1263.2258064516129,0.22008,0.18340000000000001,278.01073548387097,231.67561290322581,46.335122580645162,"2016-07-01","2016-09-30",38130,0,"2016-10-01","2017-08-31",39160,39160,"2017-08-31","2017-08-31",39160,0,"2017-08-31","2017-08-31",39160,0,"2017-08-31","2017-08-31",39160,0,"2017-08-31","2017-08-31",39160,0,"2017-08-31","2017-08-31",39160,0,"2016-11-01","2016-11-30",1,0,0,{"$f":"IF('DA 2.2'!B380=2,0,IF(AR336=1,I336-J336,0))","v":0},null,4.6335119999999996,46.335123000000003]
[null,"2017-05-28",39160,5,31,1263.2258064516129,0.22008,0.18340000000000001,278.01073548387097,231.67561290322581,46.335122580645162,"2016-07-01","2016-09-30",38130,0,"2016-10-01","2017-08-31",39160,39160,"2017-08-31","2017-08-31",39160,0,"2017-08-31","2017-08-31",39160,0,"2017-08-31","2017-08-31",39160,0,"2017-08-31","2017-08-31",39160,0,"2017-08-31","2017-08-31",39160,0,"2016-11-01","2016-11-30",1,0,0,{"$f":"IF('DA 2.2'!B381=2,0,IF(AR337=1,I337-J337,0))","v":0},null,4.6335119999999996,46.335123000000003]
[null,"2017-05-29",39160,5,31,1263.2258064516129,0.22008,0.18340000000000001,278.01073548387097,231.67561290322581,46.335122580645162,"2016-07-01","2016-09-30",38130,0,"2016-10-01","2017-08-31",39160,39160,"2017-08-31","2017-08-31",39160,0,"2017-08-31","2017-08-31",39160,0,"2017-08-31","2017-08-31",39160,0,"2017-08-31","2017-08-31",39160,0,"2017-08-31","2017-08-31",39160,0,"2016-11-01","2016-11-30",1,0,0,{"$f":"IF('DA 2.2'!B382=2,0,IF(AR338=1,I338-J338,0))","v":0},null,4.6335119999999996,46.335123000000003]
[null,"2017-05-30",39160,5,31,1263.2258064516129,0.22008,0.18340000000000001,278.01073548387097,231.67561290322581,46.335122580645162,"2016-07-01","2016-09-30",38130,0,"2016-10-01","2017-08-31",39160,39160,"2017-08-31","2017-08-31",39160,0,"2017-08-31","2017-08-31",39160,0,"2017-08-31","2017-08-31",39160,0,"2017-08-31","2017-08-31",39160,0,"2017-08-31","2017-08-31",39160,0,"2016-11-01","2016-11-30",1,0,0,{"$f":"IF('DA 2.2'!B383=2,0,IF(AR339=1,I339-J339,0))","v":0},null,4.6335119999999996,46.335123000000003]
[null,"2017-05-31",39160,5,31,1263.2258064516129,0.22008,0.18340000000000001,278.01073548387097,231.67561290322581,46.335122580645162,"2016-07-01","2016-09-30",38130,0,"2016-10-01","2017-08-31",39160,39160,"2017-08-31","2017-08-31",39160,0,"2017-08-31","2017-08-31",39160,0,"2017-08-31","2017-08-31",39160,0,"2017-08-31","2017-08-31",39160,0,"2017-08-31","2017-08-31",39160,0,"2016-11-01","2016-11-30",1,0,0,{"$f":"IF('DA 2.2'!B384=2,0,IF(AR340=1,I340-J340,0))","v":0},null,4.6335119999999996,46.335123000000003]
[null,"2017-06-01",39160,6,30,1305.3333333333333,0.22008,0.18340000000000001,287.27776,239.39813333333333,47.879626666666667,"2016-07-01","2016-09-30",38130,0,"2016-10-01","2017-08-31",39160,39160,"2017-08-31","2017-08-31",39160,0,"2017-08-31","2017-08-31",39160,0,"2017-08-31","2017-08-31",39160,0,"2017-08-31","2017-08-31",39160,0,"2017-08-31","2017-08-31",39160,0,"2016-11-01","2016-11-30",1,0,0,{"$f":"IF('DA 2.2'!B385=2,0,IF(AR341=1,I341-J341,0))","v":0},null,4.7879630000000004,47.879626999999999]
[null,"2017-06-02",39160,6,30,1305.3333333333333,0.22008,0.18340000000000001,287.27776,239.39813333333333,47.879626666666667,"2016-07-01","2016-09-30",38130,0,"2016-10-01","2017-08-31",39160,39160,"2017-08-31","2017-08-31",39160,0,"2017-08-31","2017-08-31",39160,0,"2017-08-31","2017-08-31",39160,0,"2017-08-31","2017-08-31",39160,0,"2017-08-31","2017-08-31",39160,0,"2016-11-01","2016-11-30",1,0,0,{"$f":"IF('DA 2.2'!B386=2,0,IF(AR342=1,I342-J342,0))","v":0},null,4.7879630000000004,47.879626999999999]
[null,"2017-06-03",39160,6,30,1305.3333333333333,0.22008,0.18340000000000001,287.27776,239.39813333333333,47.879626666666667,"2016-07-01","2016-09-30",38130,0,"2016-10-01","2017-08-31",39160,39160,"2017-08-31","2017-08-31",39160,0,"2017-08-31","2017-08-31",39160,0,"2017-08-31","2017-08-31",39160,0,"2017-08-31","2017-08-31",39160,0,"2017-08-31","2017-08-31",39160,0,"2016-11-01","2016-11-30",1,0,0,{"$f":"IF('DA 2.2'!B387=2,0,IF(AR343=1,I343-J343,0))","v":0},null,4.7879630000000004,47.879626999999999]
[null,"2017-06-04",39160,6,30,1305.3333333333333,{"$f":"G343","v":0.22008},0.18340000000000001,287.27776,239.39813333333333,47.879626666666667,{"$f":"L343","v":"2016-07-01"},"2016-09-30",38130,0,{"$f":"P343","v":"2016-10-01"},"2017-08-31",39160,39160,{"$f":"T343","v":"2017-08-31"},"2017-08-31",39160,0,{"$f":"X343","v":"2017-08-31"},"2017-08-31",39160,0,"2017-08-31","2017-08-31",39160,0,"2017-08-31","2017-08-31",39160,0,"2017-08-31","2017-08-31",39160,0,{"$f":"AN343","v":"2016-11-01"},"2016-11-30",1,0,0,{"$f":"IF('DA 2.2'!B388=2,0,IF(AR344=1,I344-J344,0))","v":0},null,4.7879630000000004,47.879626999999999]
[null,"2017-06-05",39160,6,30,1305.3333333333333,0.22008,0.18340000000000001,287.27776,239.39813333333333,47.879626666666667,"2016-07-01","2016-09-30",38130,0,"2016-10-01","2017-08-31",39160,39160,"2017-08-31","2017-08-31",39160,0,"2017-08-31","2017-08-31",39160,0,"2017-08-31","2017-08-31",39160,0,"2017-08-31","2017-08-31",39160,0,"2017-08-31","2017-08-31",39160,0,"2016-11-01","2016-11-30",1,0,0,{"$f":"IF('DA 2.2'!B389=2,0,IF(AR345=1,I345-J345,0))","v":0},null,4.7879630000000004,47.879626999999999]
[null,"2017-06-06",39160,6,30,1305.3333333333333,0.22008,0.18340000000000001,287.27776,239.39813333333333,47.879626666666667,"2016-07-01","2016-09-30",38130,0,"2016-10-01","2017-08-31",39160,39160,"2017-08-31","2017-08-31",39160,0,"2017-08-31","2017-08-31",39160,0,"2017-08-31","2017-08-31",39160,0,"2017-08-31","2017-08-31",39160,0,"2017-08-31","2017-08-31",39160,0,"2016-11-01","2016-11-30",1,0,0,{"$f":"IF('DA 2.2'!B390=2,0,IF(AR346=1,I346-J346,0))","v":0},null,4.7879630000000004,47.879626999999999]
[null,"2017-06-07",39160,6,30,1305.3333333333333,0.22008,0.18340000000000001,287.27776,239.39813333333333,47.879626666666667,"2016-07-01","2016-09-30",38130,0,"2016-10-01","2017-08-31",39160,39160,"2017-08-31","2017-08-31",39160,0,"2017-08-31","2017-08-31",39160,0,"2017-08-31","2017-08-31",39160,0,"2017-08-31","2017-08-31",39160,0,"2017-08-31","2017-08-31",39160,0,"2016-11-01","2016-11-30",1,0,0,{"$f":"IF('DA 2.2'!B391=2,0,IF(AR347=1,I347-J347,0))","v":0},null,4.7879630000000004,47.879626999999999]
[null,"2017-06-08",39160,6,30,1305.3333333333333,0.22008,0.18340000000000001,287.27776,239.39813333333333,47.879626666666667,"2016-07-01","2016-09-30",38130,0,"2016-10-01","2017-08-31",39160,39160,"2017-08-31","2017-08-31",39160,0,"2017-08-31","2017-08-31",39160,0,"2017-08-31","2017-08-31",39160,0,"2017-08-31","2017-08-31",39160,0,"2017-08-31","2017-08-31",39160,0,"2016-11-01","2016-11-30",1,0,0,{"$f":"IF('DA 2.2'!B392=2,0,IF(AR348=1,I348-J348,0))","v":0},null,4.7879630000000004,47.879626999999999]
[null,"2017-06-09",39160,6,30,1305.3333333333333,0.22008,0.18340000000000001,287.27776,239.39813333333333,47.879626666666667,"2016-07-01","2016-09-30",38130,0,"2016-10-01","2017-08-31",39160,39160,"2017-08-31","2017-08-31",39160,0,"2017-08-31","2017-08-31",39160,0,"2017-08-31","2017-08-31",39160,0,"2017-08-31","2017-08-31",39160,0,"2017-08-31","2017-08-31",39160,0,"2016-11-01","2016-11-30",1,0,0,{"$f":"IF('DA 2.2'!B393=2,0,IF(AR349=1,I349-J349,0))","v":0},null,4.7879630000000004,47.879626999999999]
[null,"2017-06-10",39160,6,30,1305.3333333333333,0.22008,0.18340000000000001,287.27776,239.39813333333333,47.879626666666667,"2016-07-01","2016-09-30",38130,0,"2016-10-01","2017-08-31",39160,39160,"2017-08-31","2017-08-31",39160,0,"2017-08-31","2017-08-31",39160,0,"2017-08-31","2017-08-31",39160,0,"2017-08-31","2017-08-31",39160,0,"2017-08-31","2017-08-31",39160,0,"2016-11-01","2016-11-30",1,0,0,{"$f":"IF('DA 2.2'!B394=2,0,IF(AR350=1,I350-J350,0))","v":0},null,4.7879630000000004,47.879626999999999]
[null,"2017-06-11",39160,6,30,1305.3333333333333,0.22008,0.18340000000000001,287.27776,239.39813333333333,47.879626666666667,"2016-07-01","2016-09-30",38130,0,"2016-10-01","2017-08-31",39160,39160,"2017-08-31","2017-08-31",39160,0,"2017-08-31","2017-08-31",39160,0,"2017-08-31","2017-08-31",39160,0,"2017-08-31","2017-08-31",39160,0,"2017-08-31","2017-08-31",39160,0,"2016-11-01","2016-11-30",1,0,0,{"$f":"IF('DA 2.2'!B395=2,0,IF(AR351=1,I351-J351,0))","v":0},null,4.7879630000000004,47.879626999999999]
[null,"2017-06-12",39160,6,30,1305.3333333333333,0.22008,0.18340000000000001,287.27776,239.39813333333333,47.879626666666667,"2016-07-01","2016-09-30",38130,0,"2016-10-01","2017-08-31",39160,39160,"2017-08-31","2017-08-31",39160,0,"2017-08-31","2017-08-31",39160,0,"2017-08-31","2017-08-31",39160,0,"2017-08-31","2017-08-31",39160,0,"2017-08-31","2017-08-31",39160,0,"2016-11-01","2016-11-30",1,0,0,{"$f":"IF('DA 2.2'!B396=2,0,IF(AR352=1,I352-J352,0))","v":0},null,4.7879630000000004,47.879626999999999]
[null,"2017-06-13",39160,6,30,1305.3333333333333,0.22008,0.18340000000000001,287.27776,239.39813333333333,47.879626666666667,"2016-07-01","2016-09-30",38130,0,"2016-10-01","2017-08-31",39160,39160,"2017-08-31","2017-08-31",39160,0,"2017-08-31","2017-08-31",39160,0,"2017-08-31","2017-08-31",39160,0,"2017-08-31","2017-08-31",39160,0,"2017-08-31","2017-08-31",39160,0,"2016-11-01","2016-11-30",1,0,0,{"$f":"IF('DA 2.2'!B397=2,0,IF(AR353=1,I353-J353,0))","v":0},null,4.7879630000000004,47.879626999999999]
[null,"2017-06-14",39160,6,30,1305.3333333333333,0.22008,0.18340000000000001,287.27776,239.39813333333333,47.879626666666667,"2016-07-01","2016-09-30",38130,0,"2016-10-01","2017-08-31",39160,39160,"2017-08-31","2017-08-31",39160,0,"2017-08-31","2017-08-31",39160,0,"2017-08-31","2017-08-31",39160,0,"2017-08-31","2017-08-31",39160,0,"2017-08-31","2017-08-31",39160,0,"2016-11-01","2016-11-30",1,0,0,{"$f":"IF('DA 2.2'!B398=2,0,IF(AR354=1,I354-J354,0))","v":0},null,4.7879630000000004,47.879626999999999]
[null,"2017-06-15",39160,6,30,1305.3333333333333,0.22008,0.18340000000000001,287.27776,239.39813333333333,47.879626666666667,"2016-07-01","2016-09-30",38130,0,"2016-10-01","2017-08-31",39160,39160,"2017-08-31","2017-08-31",39160,0,"2017-08-31","2017-08-31",39160,0,"2017-08-31","2017-08-31",39160,0,"2017-08-31","2017-08-31",39160,0,"2017-08-31","2017-08-31",39160,0,"2016-11-01","2016-11-30",1,0,0,{"$f":"IF('DA 2.2'!B399=2,0,IF(AR355=1,I355-J355,0))","v":0},null,4.7879630000000004,47.879626999999999]
[null,"2017-06-16",39160,6,30,1305.3333333333333,0.22008,0.18340000000000001,287.27776,239.39813333333333,47.879626666666667,"2016-07-01","2016-09-30",38130,0,"2016-10-01","2017-08-31",39160,39160,"2017-08-31","2017-08-31",39160,0,"2017-08-31","2017-08-31",39160,0,"2017-08-31","2017-08-31",39160,0,"2017-08-31","2017-08-31",39160,0,"2017-08-31","2017-08-31",39160,0,"2016-11-01","2016-11-30",1,0,0,{"$f":"IF('DA 2.2'!B400=2,0,IF(AR356=1,I356-J356,0))","v":0},null,4.7879630000000004,47.879626999999999]
[null,"2017-06-17",39160,6,30,1305.3333333333333,0.22008,0.18340000000000001,287.27776,239.39813333333333,47.879626666666667,"2016-07-01","2016-09-30",38130,0,"2016-10-01","2017-08-31",39160,39160,"2017-08-31","2017-08-31",39160,0,"2017-08-31","2017-08-31",39160,0,"2017-08-31","2017-08-31",39160,0,"2017-08-31","2017-08-31",39160,0,"2017-08-31","2017-08-31",39160,0,"2016-11-01","2016-11-30",1,0,0,{"$f":"IF('DA 2.2'!B401=2,0,IF(AR357=1,I357-J357,0))","v":0},null,4.7879630000000004,47.879626999999999]
[null,"2017-06-18",39160,6,30,1305.3333333333333,0.22008,0.18340000000000001,287.27776,239.39813333333333,47.879626666666667,"2016-07-01","2016-09-30",38130,0,"2016-10-01","2017-08-31",39160,39160,"2017-08-31","2017-08-31",39160,0,"2017-08-31","2017-08-31",39160,0,"2017-08-31","2017-08-31",39160,0,"2017-08-31","2017-08-31",39160,0,"2017-08-31","2017-08-31",39160,0,"2016-11-01","2016-11-30",1,0,0,{"$f":"IF('DA 2.2'!B402=2,0,IF(AR358=1,I358-J358,0))","v":0},null,4.7879630000000004,47.879626999999999]
[null,"2017-06-19",39160,6,30,1305.3333333333333,0.22008,0.18340000000000001,287.27776,239.39813333333333,47.879626666666667,"2016-07-01","2016-09-30",38130,0,"2016-10-01","2017-08-31",39160,39160,"2017-08-31","2017-08-31",39160,0,"2017-08-31","2017-08-31",39160,0,"2017-08-31","2017-08-31",39160,0,"2017-08-31","2017-08-31",39160,0,"2017-08-31","2017-08-31",39160,0,"2016-11-01","2016-11-30",1,0,0,{"$f":"IF('DA 2.2'!B403=2,0,IF(AR359=1,I359-J359,0))","v":0},null,4.7879630000000004,47.879626999999999]
[null,"2017-06-20",39160,6,30,1305.3333333333333,{"$f":"G359","v":0.22008},0.18340000000000001,287.27776,239.39813333333333,47.879626666666667,{"$f":"L359","v":"2016-07-01"},"2016-09-30",38130,0,{"$f":"P359","v":"2016-10-01"},"2017-08-31",39160,39160,{"$f":"T359","v":"2017-08-31"},"2017-08-31",39160,0,{"$f":"X359","v":"2017-08-31"},"2017-08-31",39160,0,"2017-08-31","2017-08-31",39160,0,"2017-08-31","2017-08-31",39160,0,"2017-08-31","2017-08-31",39160,0,{"$f":"AN359","v":"2016-11-01"},"2016-11-30",1,0,0,{"$f":"IF('DA 2.2'!B404=2,0,IF(AR360=1,I360-J360,0))","v":0},null,4.7879630000000004,47.879626999999999]
[null,"2017-06-21",39160,6,30,1305.3333333333333,0.22008,0.18340000000000001,287.27776,239.39813333333333,47.879626666666667,"2016-07-01","2016-09-30",38130,0,"2016-10-01","2017-08-31",39160,39160,"2017-08-31","2017-08-31",39160,0,"2017-08-31","2017-08-31",39160,0,"2017-08-31","2017-08-31",39160,0,"2017-08-31","2017-08-31",39160,0,"2017-08-31","2017-08-31",39160,0,"2016-11-01","2016-11-30",1,0,0,{"$f":"IF('DA 2.2'!B405=2,0,IF(AR361=1,I361-J361,0))","v":0},null,4.7879630000000004,47.879626999999999]
[null,"2017-06-22",39160,6,30,1305.3333333333333,0.22008,0.18340000000000001,287.27776,239.39813333333333,47.879626666666667,"2016-07-01","2016-09-30",38130,0,"2016-10-01","2017-08-31",39160,39160,"2017-08-31","2017-08-31",39160,0,"2017-08-31","2017-08-31",39160,0,"2017-08-31","2017-08-31",39160,0,"2017-08-31","2017-08-31",39160,0,"2017-08-31","2017-08-31",39160,0,"2016-11-01","2016-11-30",1,0,0,{"$f":"IF('DA 2.2'!B406=2,0,IF(AR362=1,I362-J362,0))","v":0},null,4.7879630000000004,47.879626999999999]
[null,"2017-06-23",39160,6,30,1305.3333333333333,0.22008,0.18340000000000001,287.27776,239.39813333333333,47.879626666666667,"2016-07-01","2016-09-30",38130,0,"2016-10-01","2017-08-31",39160,39160,"2017-08-31","2017-08-31",39160,0,"2017-08-31","2017-08-31",39160,0,"2017-08-31","2017-08-31",39160,0,"2017-08-31","2017-08-31",39160,0,"2017-08-31","2017-08-31",39160,0,"2016-11-01","2016-11-30",1,0,0,{"$f":"IF('DA 2.2'!B407=2,0,IF(AR363=1,I363-J363,0))","v":0},null,4.7879630000000004,47.879626999999999]
[null,"2017-06-24",39160,6,30,1305.3333333333333,0.22008,0.18340000000000001,287.27776,239.39813333333333,47.879626666666667,"2016-07-01","2016-09-30",38130,0,"2016-10-01","2017-08-31",39160,39160,"2017-08-31","2017-08-31",39160,0,"2017-08-31","2017-08-31",39160,0,"2017-08-31","2017-08-31",39160,0,"2017-08-31","2017-08-31",39160,0,"2017-08-31","2017-08-31",39160,0,"2016-11-01","2016-11-30",1,0,0,{"$f":"IF('DA 2.2'!B408=2,0,IF(AR364=1,I364-J364,0))","v":0},null,4.7879630000000004,47.879626999999999]
[null,"2017-06-25",39160,6,30,1305.3333333333333,0.22008,0.18340000000000001,287.27776,239.39813333333333,47.879626666666667,"2016-07-01","2016-09-30",38130,0,"2016-10-01","2017-08-31",39160,39160,"2017-08-31","2017-08-31",39160,0,"2017-08-31","2017-08-31",39160,0,"2017-08-31","2017-08-31",39160,0,"2017-08-31","2017-08-31",39160,0,"2017-08-31","2017-08-31",39160,0,"2016-11-01","2016-11-30",1,0,0,{"$f":"IF('DA 2.2'!B409=2,0,IF(AR365=1,I365-J365,0))","v":0},null,4.7879630000000004,47.879626999999999]
[null,"2017-06-26",39160,6,30,1305.3333333333333,0.22008,0.18340000000000001,287.27776,239.39813333333333,47.879626666666667,"2016-07-01","2016-09-30",38130,0,"2016-10-01","2017-08-31",39160,39160,"2017-08-31","2017-08-31",39160,0,"2017-08-31","2017-08-31",39160,0,"2017-08-31","2017-08-31",39160,0,"2017-08-31","2017-08-31",39160,0,"2017-08-31","2017-08-31",39160,0,"2016-11-01","2016-11-30",1,0,0,{"$f":"IF('DA 2.2'!B410=2,0,IF(AR366=1,I366-J366,0))","v":0},null,4.7879630000000004,47.879626999999999]
[null,"2017-06-27",39160,6,30,1305.3333333333333,0.22008,0.18340000000000001,287.27776,239.39813333333333,47.879626666666667,"2016-07-01","2016-09-30",38130,0,"2016-10-01","2017-08-31",39160,39160,"2017-08-31","2017-08-31",39160,0,"2017-08-31","2017-08-31",39160,0,"2017-08-31","2017-08-31",39160,0,"2017-08-31","2017-08-31",39160,0,"2017-08-31","2017-08-31",39160,0,"2016-11-01","2016-11-30",1,0,0,{"$f":"IF('DA 2.2'!B411=2,0,IF(AR367=1,I367-J367,0))","v":0},null,4.7879630000000004,47.879626999999999]
[null,"2017-06-28",39160,6,30,1305.3333333333333,0.22008,0.18340000000000001,287.27776,239.39813333333333,47.879626666666667,"2016-07-01","2016-09-30",38130,0,"2016-10-01","2017-08-31",39160,39160,"2017-08-31","2017-08-31",39160,0,"2017-08-31","2017-08-31",39160,0,"2017-08-31","2017-08-31",39160,0,"2017-08-31","2017-08-31",39160,0,"2017-08-31","2017-08-31",39160,0,"2016-11-01","2016-11-30",1,0,0,{"$f":"IF('DA 2.2'!B412=2,0,IF(AR368=1,I368-J368,0))","v":0},null,4.7879630000000004,47.879626999999999]
[null,"2017-06-29",39160,6,30,1305.3333333333333,0.22008,0.18340000000000001,287.27776,239.39813333333333,47.879626666666667,"2016-07-01","2016-09-30",38130,0,"2016-10-01","2017-08-31",39160,39160,"2017-08-31","2017-08-31",39160,0,"2017-08-31","2017-08-31",39160,0,"2017-08-31","2017-08-31",39160,0,"2017-08-31","2017-08-31",39160,0,"2017-08-31","2017-08-31",39160,0,"2016-11-01","2016-11-30",1,0,0,{"$f":"IF('DA 2.2'!B413=2,0,IF(AR369=1,I369-J369,0))","v":0},null,4.7879630000000004,47.879626999999999]
[null,"2017-06-30",39160,6,30,1305.3333333333333,0.22008,0.18340000000000001,287.27776,239.39813333333333,47.879626666666667,"2016-07-01","2016-09-30",38130,0,"2016-10-01","2017-08-31",39160,39160,"2017-08-31","2017-08-31",39160,0,"2017-08-31","2017-08-31",39160,0,"2017-08-31","2017-08-31",39160,0,"2017-08-31","2017-08-31",39160,0,"2017-08-31","2017-08-31",39160,0,"2016-11-01","2016-11-30",1,0,0,{"$f":"IF('DA 2.2'!B414=2,0,IF(AR370=1,I370-J370,0))","v":0},null,4.7879630000000004,47.879626999999999]
[null,"2017-07-01",39160,7,31,1263.2258064516129,0.22008,0.18340000000000001,278.01073548387097,231.67561290322581,46.335122580645162,"2016-07-01","2016-09-30",38130,0,"2016-10-01","2017-08-31",39160,39160,"2017-08-31","2017-08-31",39160,0,"2017-08-31","2017-08-31",39160,0,"2017-08-31","2017-08-31",39160,0,"2017-08-31","2017-08-31",39160,0,"2017-08-31","2017-08-31",39160,0,"2016-11-01","2016-11-30",1,0,0,{"$f":"IF('DA 2.2'!B415=2,0,IF(AR371=1,I371-J371,0))","v":0},null,4.6335119999999996,46.335123000000003]
[null,"2017-07-02",39160,7,31,1263.2258064516129,0.22008,0.18340000000000001,278.01073548387097,231.67561290322581,46.335122580645162,"2016-07-01","2016-09-30",38130,0,"2016-10-01","2017-08-31",39160,39160,"2017-08-31","2017-08-31",39160,0,"2017-08-31","2017-08-31",39160,0,"2017-08-31","2017-08-31",39160,0,"2017-08-31","2017-08-31",39160,0,"2017-08-31","2017-08-31",39160,0,"2016-11-01","2016-11-30",1,0,0,{"$f":"IF('DA 2.2'!B416=2,0,IF(AR372=1,I372-J372,0))","v":0},null,4.6335119999999996,46.335123000000003]
[null,"2017-07-03",39160,7,31,1263.2258064516129,0.22008,0.18340000000000001,278.01073548387097,231.67561290322581,46.335122580645162,"2016-07-01","2016-09-30",38130,0,"2016-10-01","2017-08-31",39160,39160,"2017-08-31","2017-08-31",39160,0,"2017-08-31","2017-08-31",39160,0,"2017-08-31","2017-08-31",39160,0,"2017-08-31","2017-08-31",39160,0,"2017-08-31","2017-08-31",39160,0,"2016-11-01","2016-11-30",1,0,0,{"$f":"IF('DA 2.2'!B417=2,0,IF(AR373=1,I373-J373,0))","v":0},null,4.6335119999999996,46.335123000000003]
[null,"2017-07-04",39160,7,31,1263.2258064516129,0.22008,0.18340000000000001,278.01073548387097,231.67561290322581,46.335122580645162,"2016-07-01","2016-09-30",38130,0,"2016-10-01","2017-08-31",39160,39160,"2017-08-31","2017-08-31",39160,0,"2017-08-31","2017-08-31",39160,0,"2017-08-31","2017-08-31",39160,0,"2017-08-31","2017-08-31",39160,0,"2017-08-31","2017-08-31",39160,0,"2016-11-01","2016-11-30",1,0,0,{"$f":"IF('DA 2.2'!B418=2,0,IF(AR374=1,I374-J374,0))","v":0},null,4.6335119999999996,46.335123000000003]
[null,"2017-07-05",39160,7,31,1263.2258064516129,0.22008,0.18340000000000001,278.01073548387097,231.67561290322581,46.335122580645162,"2016-07-01","2016-09-30",38130,0,"2016-10-01","2017-08-31",39160,39160,"2017-08-31","2017-08-31",39160,0,"2017-08-31","2017-08-31",39160,0,"2017-08-31","2017-08-31",39160,0,"2017-08-31","2017-08-31",39160,0,"2017-08-31","2017-08-31",39160,0,"2016-11-01","2016-11-30",1,0,0,{"$f":"IF('DA 2.2'!B419=2,0,IF(AR375=1,I375-J375,0))","v":0},null,4.6335119999999996,46.335123000000003]
[null,"2017-07-06",39160,7,31,1263.2258064516129,{"$f":"G375","v":0.22008},0.18340000000000001,278.01073548387097,231.67561290322581,46.335122580645162,{"$f":"L375","v":"2016-07-01"},"2016-09-30",38130,0,{"$f":"P375","v":"2016-10-01"},"2017-08-31",39160,39160,{"$f":"T375","v":"2017-08-31"},"2017-08-31",39160,0,{"$f":"X375","v":"2017-08-31"},"2017-08-31",39160,0,"2017-08-31","2017-08-31",39160,0,"2017-08-31","2017-08-31",39160,0,"2017-08-31","2017-08-31",39160,0,{"$f":"AN375","v":"2016-11-01"},"2016-11-30",1,0,0,{"$f":"IF('DA 2.2'!B420=2,0,IF(AR376=1,I376-J376,0))","v":0},null,4.6335119999999996,46.335123000000003]
[null,"2017-07-07",39160,7,31,1263.2258064516129,0.22008,0.18340000000000001,278.01073548387097,231.67561290322581,46.335122580645162,"2016-07-01","2016-09-30",38130,0,"2016-10-01","2017-08-31",39160,39160,"2017-08-31","2017-08-31",39160,0,"2017-08-31","2017-08-31",39160,0,"2017-08-31","2017-08-31",39160,0,"2017-08-31","2017-08-31",39160,0,"2017-08-31","2017-08-31",39160,0,"2016-11-01","2016-11-30",1,0,0,{"$f":"IF('DA 2.2'!B421=2,0,IF(AR377=1,I377-J377,0))","v":0},null,4.6335119999999996,46.335123000000003]
[null,"2017-07-08",39160,7,31,1263.2258064516129,0.22008,0.18340000000000001,278.01073548387097,231.67561290322581,46.335122580645162,"2016-07-01","2016-09-30",38130,0,"2016-10-01","2017-08-31",39160,39160,"2017-08-31","2017-08-31",39160,0,"2017-08-31","2017-08-31",39160,0,"2017-08-31","2017-08-31",39160,0,"2017-08-31","2017-08-31",39160,0,"2017-08-31","2017-08-31",39160,0,"2016-11-01","2016-11-30",1,0,0,{"$f":"IF('DA 2.2'!B422=2,0,IF(AR378=1,I378-J378,0))","v":0},null,4.6335119999999996,46.335123000000003]
[null,"2017-07-09",39160,7,31,1263.2258064516129,0.22008,0.18340000000000001,278.01073548387097,231.67561290322581,46.335122580645162,"2016-07-01","2016-09-30",38130,0,"2016-10-01","2017-08-31",39160,39160,"2017-08-31","2017-08-31",39160,0,"2017-08-31","2017-08-31",39160,0,"2017-08-31","2017-08-31",39160,0,"2017-08-31","2017-08-31",39160,0,"2017-08-31","2017-08-31",39160,0,"2016-11-01","2016-11-30",1,0,0,{"$f":"IF('DA 2.2'!B423=2,0,IF(AR379=1,I379-J379,0))","v":0},null,4.6335119999999996,46.335123000000003]
[null,"2017-07-10",39160,7,31,1263.2258064516129,0.22008,0.18340000000000001,278.01073548387097,231.67561290322581,46.335122580645162,"2016-07-01","2016-09-30",38130,0,"2016-10-01","2017-08-31",39160,39160,"2017-08-31","2017-08-31",39160,0,"2017-08-31","2017-08-31",39160,0,"2017-08-31","2017-08-31",39160,0,"2017-08-31","2017-08-31",39160,0,"2017-08-31","2017-08-31",39160,0,"2016-11-01","2016-11-30",1,0,0,{"$f":"IF('DA 2.2'!B424=2,0,IF(AR380=1,I380-J380,0))","v":0},null,4.6335119999999996,46.335123000000003]
[null,"2017-07-11",39160,7,31,1263.2258064516129,0.22008,0.18340000000000001,278.01073548387097,231.67561290322581,46.335122580645162,"2016-07-01","2016-09-30",38130,0,"2016-10-01","2017-08-31",39160,39160,"2017-08-31","2017-08-31",39160,0,"2017-08-31","2017-08-31",39160,0,"2017-08-31","2017-08-31",39160,0,"2017-08-31","2017-08-31",39160,0,"2017-08-31","2017-08-31",39160,0,"2016-11-01","2016-11-30",1,0,0,{"$f":"IF('DA 2.2'!B425=2,0,IF(AR381=1,I381-J381,0))","v":0},null,4.6335119999999996,46.335123000000003]
[null,"2017-07-12",39160,7,31,1263.2258064516129,0.22008,0.18340000000000001,278.01073548387097,231.67561290322581,46.335122580645162,"2016-07-01","2016-09-30",38130,0,"2016-10-01","2017-08-31",39160,39160,"2017-08-31","2017-08-31",39160,0,"2017-08-31","2017-08-31",39160,0,"2017-08-31","2017-08-31",39160,0,"2017-08-31","2017-08-31",39160,0,"2017-08-31","2017-08-31",39160,0,"2016-11-01","2016-11-30",1,0,0,{"$f":"IF('DA 2.2'!B426=2,0,IF(AR382=1,I382-J382,0))","v":0},null,4.6335119999999996,46.335123000000003]
[null,"2017-07-13",39160,7,31,1263.2258064516129,0.22008,0.18340000000000001,278.01073548387097,231.67561290322581,46.335122580645162,"2016-07-01","2016-09-30",38130,0,"2016-10-01","2017-08-31",39160,39160,"2017-08-31","2017-08-31",39160,0,"2017-08-31","2017-08-31",39160,0,"2017-08-31","2017-08-31",39160,0,"2017-08-31","2017-08-31",39160,0,"2017-08-31","2017-08-31",39160,0,"2016-11-01","2016-11-30",1,0,0,{"$f":"IF('DA 2.2'!B427=2,0,IF(AR383=1,I383-J383,0))","v":0},null,4.6335119999999996,46.335123000000003]
[null,"2017-07-14",39160,7,31,1263.2258064516129,0.22008,0.18340000000000001,278.01073548387097,231.67561290322581,46.335122580645162,"2016-07-01","2016-09-30",38130,0,"2016-10-01","2017-08-31",39160,39160,"2017-08-31","2017-08-31",39160,0,"2017-08-31","2017-08-31",39160,0,"2017-08-31","2017-08-31",39160,0,"2017-08-31","2017-08-31",39160,0,"2017-08-31","2017-08-31",39160,0,"2016-11-01","2016-11-30",1,0,0,{"$f":"IF('DA 2.2'!B428=2,0,IF(AR384=1,I384-J384,0))","v":0},null,4.6335119999999996,46.335123000000003]
[null,"2017-07-15",39160,7,31,1263.2258064516129,0.22008,0.18340000000000001,278.01073548387097,231.67561290322581,46.335122580645162,"2016-07-01","2016-09-30",38130,0,"2016-10-01","2017-08-31",39160,39160,"2017-08-31","2017-08-31",39160,0,"2017-08-31","2017-08-31",39160,0,"2017-08-31","2017-08-31",39160,0,"2017-08-31","2017-08-31",39160,0,"2017-08-31","2017-08-31",39160,0,"2016-11-01","2016-11-30",1,0,0,{"$f":"IF('DA 2.2'!B429=2,0,IF(AR385=1,I385-J385,0))","v":0},null,4.6335119999999996,46.335123000000003]
[null,"2017-07-16",39160,7,31,1263.2258064516129,0.22008,0.18340000000000001,278.01073548387097,231.67561290322581,46.335122580645162,"2016-07-01","2016-09-30",38130,0,"2016-10-01","2017-08-31",39160,39160,"2017-08-31","2017-08-31",39160,0,"2017-08-31","2017-08-31",39160,0,"2017-08-31","2017-08-31",39160,0,"2017-08-31","2017-08-31",39160,0,"2017-08-31","2017-08-31",39160,0,"2016-11-01","2016-11-30",1,0,0,{"$f":"IF('DA 2.2'!B430=2,0,IF(AR386=1,I386-J386,0))","v":0},null,4.6335119999999996,46.335123000000003]
[null,"2017-07-17",39160,7,31,1263.2258064516129,0.22008,0.18340000000000001,278.01073548387097,231.67561290322581,46.335122580645162,"2016-07-01","2016-09-30",38130,0,"2016-10-01","2017-08-31",39160,39160,"2017-08-31","2017-08-31",39160,0,"2017-08-31","2017-08-31",39160,0,"2017-08-31","2017-08-31",39160,0,"2017-08-31","2017-08-31",39160,0,"2017-08-31","2017-08-31",39160,0,"2016-11-01","2016-11-30",1,0,0,{"$f":"IF('DA 2.2'!B431=2,0,IF(AR387=1,I387-J387,0))","v":0},null,4.6335119999999996,46.335123000000003]
[null,"2017-07-18",39160,7,31,1263.2258064516129,0.22008,0.18340000000000001,278.01073548387097,231.67561290322581,46.335122580645162,"2016-07-01","2016-09-30",38130,0,"2016-10-01","2017-08-31",39160,39160,"2017-08-31","2017-08-31",39160,0,"2017-08-31","2017-08-31",39160,0,"2017-08-31","2017-08-31",39160,0,"2017-08-31","2017-08-31",39160,0,"2017-08-31","2017-08-31",39160,0,"2016-11-01","2016-11-30",1,0,0,{"$f":"IF('DA 2.2'!B432=2,0,IF(AR388=1,I388-J388,0))","v":0},null,4.6335119999999996,46.335123000000003]
[null,"2017-07-19",39160,7,31,1263.2258064516129,0.22008,0.18340000000000001,278.01073548387097,231.67561290322581,46.335122580645162,"2016-07-01","2016-09-30",38130,0,"2016-10-01","2017-08-31",39160,39160,"2017-08-31","2017-08-31",39160,0,"2017-08-31","2017-08-31",39160,0,"2017-08-31","2017-08-31",39160,0,"2017-08-31","2017-08-31",39160,0,"2017-08-31","2017-08-31",39160,0,"2016-11-01","2016-11-30",1,0,0,{"$f":"IF('DA 2.2'!B433=2,0,IF(AR389=1,I389-J389,0))","v":0},null,4.6335119999999996,46.335123000000003]
[null,"2017-07-20",39160,7,31,{"$f":"C390/E390","v":1263.2258064516129},0.22008,0.18340000000000001,{"$f":"F390*G390","v":278.01073548387097},{"$f":"F390*H390","v":231.67561290322581},46.335122580645162,"2016-07-01","2016-09-30",38130,0,"2016-10-01","2017-08-31",39160,39160,"2017-08-31","2017-08-31",39160,0,"2017-08-31","2017-08-31",39160,0,"2017-08-31","2017-08-31",39160,0,"2017-08-31","2017-08-31",39160,0,"2017-08-31","2017-08-31",39160,0,"2016-11-01","2016-11-30",{"$f":"IF(B390>=AN390,1,0)","v":1},{"$f":"IF(B390<=AO390,1,0)","v":0},0,{"$f":"IF('DA 2.2'!B434=2,0,IF(AR390=1,I390-J390,0))","v":0},null,4.6335119999999996,46.335123000000003]
[null,"2017-07-21",{"$f":"O391+S391+W391+AA391+AE391+AI391+AM391","v":39160},{"$f":"MONTH(B391)","v":7},{"$f":"IF(D391=1,31,IF(D391=2,29,IF(D391=3,31,IF(D391=5,31,IF(D391=7,31,IF(D391=8,31,IF(D391=10,31,IF(D391=12,31,30))))))))","v":31},1263.2258064516129,0.22008,0.18340000000000001,278.01073548387097,231.67561290322581,{"$f":"I391-J391","v":46.335122580645162},"2016-07-01","2016-09-30",38130,{"$f":"IF(M391>=B391,N391,0)","v":0},"2016-10-01","2017-08-31",39160,{"$f":"IF(O391>0,0,IF(Q391>=B391,R391,0))","v":39160},"2017-08-31","2017-08-31",39160,{"$f":"IF(T391>U391,0,IF(O391>0,0,IF(S391>0,0,IF(U391>=B391,V391,0))))","v":0},"2017-08-31","2017-08-31",39160,{"$f":"IF(X391>=Y391,0,IF(O391>0,0,IF(S391>0,0,IF(W391>0,0,IF(Y391>=B391,Z391,0)))))","v":0},"2017-08-31","2017-08-31",39160,{"$f":"IF(O391>0,0,IF(AB391>=AC391,0,IF(S391>0,0,IF(W391>0,0,IF(AA391>0,0,IF(AC391>=B391,AD391,0))))))","v":0},"2017-08-31","2017-08-31",39160,{"$f":"IF(O391>0,0,IF(S391>0,0,IF(AF391>=AG391,0,IF(W391>0,0,IF(AA391>0,0,IF(AE391>0,0,IF(AG391>=B391,AH391,0)))))))","v":0},"2017-08-31","2017-08-31",39160,0,"2016-11-01","2016-11-30",1,0,{"$f":"IF(SUM(AP391:AQ391)=2,1,0)","v":0},{"$f":"IF('DA 2.2'!B435=2,0,IF(AR391=1,I391-J391,0))","v":0},null,{"$f":"ROUND(K391*10%,6)","v":4.6335119999999996},{"$f":"ROUND(K391,6)","v":46.335123000000003}]
[null,"2017-07-22",39160,7,31,1263.2258064516129,{"$f":"G391","v":0.22008},0.18340000000000001,278.01073548387097,231.67561290322581,46.335122580645162,{"$f":"L391","v":"2016-07-01"},"2016-09-30",38130,0,{"$f":"P391","v":"2016-10-01"},"2017-08-31",39160,39160,{"$f":"T391","v":"2017-08-31"},"2017-08-31",39160,0,{"$f":"X391","v":"2017-08-31"},"2017-08-31",39160,0,{"$f":"AB391","v":"2017-08-31"},"2017-08-31",39160,0,{"$f":"AF391","v":"2017-08-31"},{"$f":"AG391","v":"2017-08-31"},{"$f":"AH391","v":39160},0,{"$f":"AJ391","v":"2017-08-31"},{"$f":"AK391","v":"2017-08-31"},{"$f":"AL391","v":39160},{"$f":"IF(O392>0,0,IF(S392>0,0,IF(AJ392>=AK392,0,IF(W392>0,0,IF(AA392>0,0,IF(AE392>0,0,IF(AI392>0,0,IF(AK392>=B392,AL392,0))))))))","v":0},{"$f":"AN391","v":"2016-11-01"},"2016-11-30",1,0,0,{"$f":"IF('DA 2.2'!B436=2,0,IF(AR392=1,I392-J392,0))","v":0},null,4.6335119999999996,46.335123000000003]
[null,"2017-07-23",39160,7,31,1263.2258064516129,0.22008,0.18340000000000001,278.01073548387097,231.67561290322581,46.335122580645162,"2016-07-01","2016-09-30",38130,0,"2016-10-01","2017-08-31",39160,39160,"2017-08-31","2017-08-31",39160,0,"2017-08-31","2017-08-31",39160,0,"2017-08-31","2017-08-31",39160,0,"2017-08-31","2017-08-31",39160,0,"2017-08-31","2017-08-31",39160,0,"2016-11-01","2016-11-30",1,0,0,{"$f":"IF('DA 2.2'!B437=2,0,IF(AR393=1,I393-J393,0))","v":0},null,4.6335119999999996,46.335123000000003]
[null,"2017-07-24",39160,7,31,1263.2258064516129,0.22008,0.18340000000000001,278.01073548387097,231.67561290322581,46.335122580645162,"2016-07-01","2016-09-30",38130,0,"2016-10-01","2017-08-31",39160,39160,"2017-08-31","2017-08-31",39160,0,"2017-08-31","2017-08-31",39160,0,"2017-08-31","2017-08-31",39160,0,"2017-08-31","2017-08-31",39160,0,"2017-08-31","2017-08-31",39160,0,"2016-11-01","2016-11-30",1,0,0,{"$f":"IF('DA 2.2'!B438=2,0,IF(AR394=1,I394-J394,0))","v":0},null,4.6335119999999996,46.335123000000003]
[null,"2017-07-25",39160,7,31,1263.2258064516129,0.22008,0.18340000000000001,278.01073548387097,231.67561290322581,46.335122580645162,"2016-07-01","2016-09-30",38130,0,"2016-10-01","2017-08-31",39160,39160,"2017-08-31","2017-08-31",39160,0,"2017-08-31","2017-08-31",39160,0,"2017-08-31","2017-08-31",39160,0,"2017-08-31","2017-08-31",39160,0,"2017-08-31","2017-08-31",39160,0,"2016-11-01","2016-11-30",1,0,0,{"$f":"IF('DA 2.2'!B439=2,0,IF(AR395=1,I395-J395,0))","v":0},null,4.6335119999999996,46.335123000000003]
[null,"2017-07-26",39160,7,31,1263.2258064516129,0.22008,0.18340000000000001,278.01073548387097,231.67561290322581,46.335122580645162,"2016-07-01","2016-09-30",38130,0,"2016-10-01","2017-08-31",39160,39160,"2017-08-31","2017-08-31",39160,0,"2017-08-31","2017-08-31",39160,0,"2017-08-31","2017-08-31",39160,0,"2017-08-31","2017-08-31",39160,0,"2017-08-31","2017-08-31",39160,0,"2016-11-01","2016-11-30",1,0,0,{"$f":"IF('DA 2.2'!B440=2,0,IF(AR396=1,I396-J396,0))","v":0},null,4.6335119999999996,46.335123000000003]
[null,"2017-07-27",39160,7,31,1263.2258064516129,0.22008,0.18340000000000001,278.01073548387097,231.67561290322581,46.335122580645162,"2016-07-01","2016-09-30",38130,0,"2016-10-01","2017-08-31",39160,39160,"2017-08-31","2017-08-31",39160,0,"2017-08-31","2017-08-31",39160,0,"2017-08-31","2017-08-31",39160,0,"2017-08-31","2017-08-31",39160,0,"2017-08-31","2017-08-31",39160,0,"2016-11-01","2016-11-30",1,0,0,{"$f":"IF('DA 2.2'!B441=2,0,IF(AR397=1,I397-J397,0))","v":0},null,4.6335119999999996,46.335123000000003]
[null,"2017-07-28",39160,7,31,1263.2258064516129,0.22008,0.18340000000000001,278.01073548387097,231.67561290322581,46.335122580645162,"2016-07-01","2016-09-30",38130,0,"2016-10-01","2017-08-31",39160,39160,"2017-08-31","2017-08-31",39160,0,"2017-08-31","2017-08-31",39160,0,"2017-08-31","2017-08-31",39160,0,"2017-08-31","2017-08-31",39160,0,"2017-08-31","2017-08-31",39160,0,"2016-11-01","2016-11-30",1,0,0,{"$f":"IF('DA 2.2'!B442=2,0,IF(AR398=1,I398-J398,0))","v":0},null,4.6335119999999996,46.335123000000003]
[null,"2017-07-29",39160,7,31,1263.2258064516129,0.22008,0.18340000000000001,278.01073548387097,231.67561290322581,46.335122580645162,"2016-07-01","2016-09-30",38130,0,"2016-10-01","2017-08-31",39160,39160,"2017-08-31","2017-08-31",39160,0,"2017-08-31","2017-08-31",39160,0,"2017-08-31","2017-08-31",39160,0,"2017-08-31","2017-08-31",39160,0,"2017-08-31","2017-08-31",39160,0,"2016-11-01","2016-11-30",1,0,0,{"$f":"IF('DA 2.2'!B443=2,0,IF(AR399=1,I399-J399,0))","v":0},null,4.6335119999999996,46.335123000000003]
[null,"2017-07-30",39160,7,31,1263.2258064516129,0.22008,0.18340000000000001,278.01073548387097,231.67561290322581,46.335122580645162,"2016-07-01","2016-09-30",38130,0,"2016-10-01","2017-08-31",39160,39160,"2017-08-31","2017-08-31",39160,0,"2017-08-31","2017-08-31",39160,0,"2017-08-31","2017-08-31",39160,0,"2017-08-31","2017-08-31",39160,0,"2017-08-31","2017-08-31",39160,0,"2016-11-01","2016-11-30",1,0,0,{"$f":"IF('DA 2.2'!B444=2,0,IF(AR400=1,I400-J400,0))","v":0},null,4.6335119999999996,46.335123000000003]
[null,"2017-07-31",39160,7,31,1263.2258064516129,0.22008,0.18340000000000001,278.01073548387097,231.67561290322581,46.335122580645162,"2016-07-01","2016-09-30",38130,0,"2016-10-01","2017-08-31",39160,39160,"2017-08-31","2017-08-31",39160,0,"2017-08-31","2017-08-31",39160,0,"2017-08-31","2017-08-31",39160,0,"2017-08-31","2017-08-31",39160,0,"2017-08-31","2017-08-31",39160,0,"2016-11-01","2016-11-30",1,0,0,{"$f":"IF('DA 2.2'!B445=2,0,IF(AR401=1,I401-J401,0))","v":0},null,4.6335119999999996,46.335123000000003]
[null,"2017-08-01",39160,8,31,1263.2258064516129,0.22008,0.18340000000000001,278.01073548387097,231.67561290322581,46.335122580645162,"2016-07-01","2016-09-30",38130,0,"2016-10-01","2017-08-31",39160,39160,"2017-08-31","2017-08-31",39160,0,"2017-08-31","2017-08-31",39160,0,"2017-08-31","2017-08-31",39160,0,"2017-08-31","2017-08-31",39160,0,"2017-08-31","2017-08-31",39160,0,"2016-11-01","2016-11-30",1,0,0,{"$f":"IF('DA 2.2'!B446=2,0,IF(AR402=1,I402-J402,0))","v":0},null,4.6335119999999996,46.335123000000003]
[null,"2017-08-02",39160,8,31,1263.2258064516129,0.22008,0.18340000000000001,278.01073548387097,231.67561290322581,46.335122580645162,"2016-07-01","2016-09-30",38130,0,"2016-10-01","2017-08-31",39160,39160,"2017-08-31","2017-08-31",39160,0,"2017-08-31","2017-08-31",39160,0,"2017-08-31","2017-08-31",39160,0,"2017-08-31","2017-08-31",39160,0,"2017-08-31","2017-08-31",39160,0,"2016-11-01","2016-11-30",1,0,0,{"$f":"IF('DA 2.2'!B447=2,0,IF(AR403=1,I403-J403,0))","v":0},null,4.6335119999999996,46.335123000000003]
[null,"2017-08-03",39160,8,31,1263.2258064516129,0.22008,0.18340000000000001,278.01073548387097,231.67561290322581,46.335122580645162,"2016-07-01","2016-09-30",38130,0,"2016-10-01","2017-08-31",39160,39160,"2017-08-31","2017-08-31",39160,0,"2017-08-31","2017-08-31",39160,0,"2017-08-31","2017-08-31",39160,0,"2017-08-31","2017-08-31",39160,0,"2017-08-31","2017-08-31",39160,0,"2016-11-01","2016-11-30",1,0,0,{"$f":"IF('DA 2.2'!B448=2,0,IF(AR404=1,I404-J404,0))","v":0},null,4.6335119999999996,46.335123000000003]
[null,"2017-08-04",39160,8,31,1263.2258064516129,0.22008,0.18340000000000001,278.01073548387097,231.67561290322581,46.335122580645162,"2016-07-01","2016-09-30",38130,0,"2016-10-01","2017-08-31",39160,39160,"2017-08-31","2017-08-31",39160,0,"2017-08-31","2017-08-31",39160,0,"2017-08-31","2017-08-31",39160,0,"2017-08-31","2017-08-31",39160,0,"2017-08-31","2017-08-31",39160,0,"2016-11-01","2016-11-30",1,0,0,{"$f":"IF('DA 2.2'!B449=2,0,IF(AR405=1,I405-J405,0))","v":0},null,4.6335119999999996,46.335123000000003]
[null,"2017-08-05",39160,8,31,1263.2258064516129,0.22008,0.18340000000000001,278.01073548387097,231.67561290322581,46.335122580645162,"2016-07-01","2016-09-30",38130,0,"2016-10-01","2017-08-31",39160,39160,"2017-08-31","2017-08-31",39160,0,"2017-08-31","2017-08-31",39160,0,"2017-08-31","2017-08-31",39160,0,"2017-08-31","2017-08-31",39160,0,"2017-08-31","2017-08-31",39160,0,"2016-11-01","2016-11-30",1,0,0,{"$f":"IF('DA 2.2'!B450=2,0,IF(AR406=1,I406-J406,0))","v":0},null,4.6335119999999996,46.335123000000003]
[null,"2017-08-06",39160,8,31,1263.2258064516129,0.22008,0.18340000000000001,278.01073548387097,231.67561290322581,46.335122580645162,"2016-07-01","2016-09-30",38130,0,"2016-10-01","2017-08-31",39160,39160,"2017-08-31","2017-08-31",39160,0,"2017-08-31","2017-08-31",39160,0,"2017-08-31","2017-08-31",39160,0,"2017-08-31","2017-08-31",39160,0,"2017-08-31","2017-08-31",39160,0,"2016-11-01","2016-11-30",1,0,0,{"$f":"IF('DA 2.2'!B451=2,0,IF(AR407=1,I407-J407,0))","v":0},null,4.6335119999999996,46.335123000000003]
[null,"2017-08-07",39160,8,31,1263.2258064516129,{"$f":"G407","v":0.22008},0.18340000000000001,278.01073548387097,231.67561290322581,46.335122580645162,{"$f":"L407","v":"2016-07-01"},"2016-09-30",38130,0,{"$f":"P407","v":"2016-10-01"},"2017-08-31",39160,39160,{"$f":"T407","v":"2017-08-31"},"2017-08-31",39160,0,{"$f":"X407","v":"2017-08-31"},"2017-08-31",39160,0,"2017-08-31","2017-08-31",39160,0,"2017-08-31","2017-08-31",39160,0,"2017-08-31","2017-08-31",39160,0,{"$f":"AN407","v":"2016-11-01"},"2016-11-30",1,0,0,{"$f":"IF('DA 2.2'!B452=2,0,IF(AR408=1,I408-J408,0))","v":0},null,4.6335119999999996,46.335123000000003]
[null,"2017-08-08",39160,8,31,1263.2258064516129,0.22008,0.18340000000000001,278.01073548387097,231.67561290322581,46.335122580645162,"2016-07-01","2016-09-30",38130,0,"2016-10-01","2017-08-31",39160,39160,"2017-08-31","2017-08-31",39160,0,"2017-08-31","2017-08-31",39160,0,"2017-08-31","2017-08-31",39160,0,"2017-08-31","2017-08-31",39160,0,"2017-08-31","2017-08-31",39160,0,"2016-11-01","2016-11-30",1,0,0,{"$f":"IF('DA 2.2'!B453=2,0,IF(AR409=1,I409-J409,0))","v":0},null,4.6335119999999996,46.335123000000003]
[null,"2017-08-09",39160,8,31,1263.2258064516129,0.22008,0.18340000000000001,278.01073548387097,231.67561290322581,46.335122580645162,"2016-07-01","2016-09-30",38130,0,"2016-10-01","2017-08-31",39160,39160,"2017-08-31","2017-08-31",39160,0,"2017-08-31","2017-08-31",39160,0,"2017-08-31","2017-08-31",39160,0,"2017-08-31","2017-08-31",39160,0,"2017-08-31","2017-08-31",39160,0,"2016-11-01","2016-11-30",1,0,0,{"$f":"IF('DA 2.2'!B454=2,0,IF(AR410=1,I410-J410,0))","v":0},null,4.6335119999999996,46.335123000000003]
[null,"2017-08-10",39160,8,31,1263.2258064516129,0.22008,0.18340000000000001,278.01073548387097,231.67561290322581,46.335122580645162,"2016-07-01","2016-09-30",38130,0,"2016-10-01","2017-08-31",39160,39160,"2017-08-31","2017-08-31",39160,0,"2017-08-31","2017-08-31",39160,0,"2017-08-31","2017-08-31",39160,0,"2017-08-31","2017-08-31",39160,0,"2017-08-31","2017-08-31",39160,0,"2016-11-01","2016-11-30",1,0,0,{"$f":"IF('DA 2.2'!B455=2,0,IF(AR411=1,I411-J411,0))","v":0},null,4.6335119999999996,46.335123000000003]
[null,"2017-08-11",39160,8,31,1263.2258064516129,0.22008,0.18340000000000001,278.01073548387097,231.67561290322581,46.335122580645162,"2016-07-01","2016-09-30",38130,0,"2016-10-01","2017-08-31",39160,39160,"2017-08-31","2017-08-31",39160,0,"2017-08-31","2017-08-31",39160,0,"2017-08-31","2017-08-31",39160,0,"2017-08-31","2017-08-31",39160,0,"2017-08-31","2017-08-31",39160,0,"2016-11-01","2016-11-30",1,0,0,{"$f":"IF('DA 2.2'!B456=2,0,IF(AR412=1,I412-J412,0))","v":0},null,4.6335119999999996,46.335123000000003]
[null,"2017-08-12",39160,8,31,1263.2258064516129,0.22008,0.18340000000000001,278.01073548387097,231.67561290322581,46.335122580645162,"2016-07-01","2016-09-30",38130,0,"2016-10-01","2017-08-31",39160,39160,"2017-08-31","2017-08-31",39160,0,"2017-08-31","2017-08-31",39160,0,"2017-08-31","2017-08-31",39160,0,"2017-08-31","2017-08-31",39160,0,"2017-08-31","2017-08-31",39160,0,"2016-11-01","2016-11-30",1,0,0,{"$f":"IF('DA 2.2'!B457=2,0,IF(AR413=1,I413-J413,0))","v":0},null,4.6335119999999996,46.335123000000003]
[null,"2017-08-13",39160,8,31,1263.2258064516129,0.22008,0.18340000000000001,278.01073548387097,231.67561290322581,46.335122580645162,"2016-07-01","2016-09-30",38130,0,"2016-10-01","2017-08-31",39160,39160,"2017-08-31","2017-08-31",39160,0,"2017-08-31","2017-08-31",39160,0,"2017-08-31","2017-08-31",39160,0,"2017-08-31","2017-08-31",39160,0,"2017-08-31","2017-08-31",39160,0,"2016-11-01","2016-11-30",1,0,0,{"$f":"IF('DA 2.2'!B458=2,0,IF(AR414=1,I414-J414,0))","v":0},null,4.6335119999999996,46.335123000000003]
[null,"2017-08-14",39160,8,31,1263.2258064516129,0.22008,0.18340000000000001,278.01073548387097,231.67561290322581,46.335122580645162,"2016-07-01","2016-09-30",38130,0,"2016-10-01","2017-08-31",39160,39160,"2017-08-31","2017-08-31",39160,0,"2017-08-31","2017-08-31",39160,0,"2017-08-31","2017-08-31",39160,0,"2017-08-31","2017-08-31",39160,0,"2017-08-31","2017-08-31",39160,0,"2016-11-01","2016-11-30",1,0,0,{"$f":"IF('DA 2.2'!B459=2,0,IF(AR415=1,I415-J415,0))","v":0},null,4.6335119999999996,46.335123000000003]
[null,"2017-08-15",39160,8,31,1263.2258064516129,0.22008,0.18340000000000001,278.01073548387097,231.67561290322581,46.335122580645162,"2016-07-01","2016-09-30",38130,0,"2016-10-01","2017-08-31",39160,39160,"2017-08-31","2017-08-31",39160,0,"2017-08-31","2017-08-31",39160,0,"2017-08-31","2017-08-31",39160,0,"2017-08-31","2017-08-31",39160,0,"2017-08-31","2017-08-31",39160,0,"2016-11-01","2016-11-30",1,0,0,{"$f":"IF('DA 2.2'!B460=2,0,IF(AR416=1,I416-J416,0))","v":0},null,4.6335119999999996,46.335123000000003]
[null,"2017-08-16",39160,8,31,1263.2258064516129,0.22008,0.18340000000000001,278.01073548387097,231.67561290322581,46.335122580645162,"2016-07-01","2016-09-30",38130,0,"2016-10-01","2017-08-31",39160,39160,"2017-08-31","2017-08-31",39160,0,"2017-08-31","2017-08-31",39160,0,"2017-08-31","2017-08-31",39160,0,"2017-08-31","2017-08-31",39160,0,"2017-08-31","2017-08-31",39160,0,"2016-11-01","2016-11-30",1,0,0,{"$f":"IF('DA 2.2'!B461=2,0,IF(AR417=1,I417-J417,0))","v":0},null,4.6335119999999996,46.335123000000003]
[null,"2017-08-17",39160,8,31,1263.2258064516129,0.22008,0.18340000000000001,278.01073548387097,231.67561290322581,46.335122580645162,"2016-07-01","2016-09-30",38130,0,"2016-10-01","2017-08-31",39160,39160,"2017-08-31","2017-08-31",39160,0,"2017-08-31","2017-08-31",39160,0,"2017-08-31","2017-08-31",39160,0,"2017-08-31","2017-08-31",39160,0,"2017-08-31","2017-08-31",39160,0,"2016-11-01","2016-11-30",1,0,0,{"$f":"IF('DA 2.2'!B462=2,0,IF(AR418=1,I418-J418,0))","v":0},null,4.6335119999999996,46.335123000000003]
[null,"2017-08-18",39160,8,31,1263.2258064516129,0.22008,0.18340000000000001,278.01073548387097,231.67561290322581,46.335122580645162,"2016-07-01","2016-09-30",38130,0,"2016-10-01","2017-08-31",39160,39160,"2017-08-31","2017-08-31",39160,0,"2017-08-31","2017-08-31",39160,0,"2017-08-31","2017-08-31",39160,0,"2017-08-31","2017-08-31",39160,0,"2017-08-31","2017-08-31",39160,0,"2016-11-01","2016-11-30",1,0,0,{"$f":"IF('DA 2.2'!B463=2,0,IF(AR419=1,I419-J419,0))","v":0},null,4.6335119999999996,46.335123000000003]
[null,"2017-08-19",39160,8,31,1263.2258064516129,0.22008,0.18340000000000001,278.01073548387097,231.67561290322581,46.335122580645162,"2016-07-01","2016-09-30",38130,0,"2016-10-01","2017-08-31",39160,39160,"2017-08-31","2017-08-31",39160,0,"2017-08-31","2017-08-31",39160,0,"2017-08-31","2017-08-31",39160,0,"2017-08-31","2017-08-31",39160,0,"2017-08-31","2017-08-31",39160,0,"2016-11-01","2016-11-30",1,0,0,{"$f":"IF('DA 2.2'!B464=2,0,IF(AR420=1,I420-J420,0))","v":0},null,4.6335119999999996,46.335123000000003]
[null,"2017-08-20",39160,8,31,1263.2258064516129,0.22008,0.18340000000000001,278.01073548387097,231.67561290322581,46.335122580645162,"2016-07-01","2016-09-30",38130,0,"2016-10-01","2017-08-31",39160,39160,"2017-08-31","2017-08-31",39160,0,"2017-08-31","2017-08-31",39160,0,"2017-08-31","2017-08-31",39160,0,"2017-08-31","2017-08-31",39160,0,"2017-08-31","2017-08-31",39160,0,"2016-11-01","2016-11-30",1,0,0,{"$f":"IF('DA 2.2'!B465=2,0,IF(AR421=1,I421-J421,0))","v":0},null,4.6335119999999996,46.335123000000003]
[null,"2017-08-21",39160,8,31,1263.2258064516129,0.22008,0.18340000000000001,278.01073548387097,231.67561290322581,46.335122580645162,"2016-07-01","2016-09-30",38130,0,"2016-10-01","2017-08-31",39160,39160,"2017-08-31","2017-08-31",39160,0,"2017-08-31","2017-08-31",39160,0,"2017-08-31","2017-08-31",39160,0,"2017-08-31","2017-08-31",39160,0,"2017-08-31","2017-08-31",39160,0,"2016-11-01","2016-11-30",1,0,0,{"$f":"IF('DA 2.2'!B466=2,0,IF(AR422=1,I422-J422,0))","v":0},null,4.6335119999999996,46.335123000000003]
[null,"2017-08-22",39160,8,31,1263.2258064516129,0.22008,0.18340000000000001,278.01073548387097,231.67561290322581,46.335122580645162,"2016-07-01","2016-09-30",38130,0,"2016-10-01","2017-08-31",39160,39160,"2017-08-31","2017-08-31",39160,0,"2017-08-31","2017-08-31",39160,0,"2017-08-31","2017-08-31",39160,0,"2017-08-31","2017-08-31",39160,0,"2017-08-31","2017-08-31",39160,0,"2016-11-01","2016-11-30",1,0,0,{"$f":"IF('DA 2.2'!B467=2,0,IF(AR423=1,I423-J423,0))","v":0},null,4.6335119999999996,46.335123000000003]
[null,"2017-08-23",39160,8,31,1263.2258064516129,{"$f":"G423","v":0.22008},0.18340000000000001,278.01073548387097,231.67561290322581,46.335122580645162,{"$f":"L423","v":"2016-07-01"},"2016-09-30",38130,0,{"$f":"P423","v":"2016-10-01"},"2017-08-31",39160,39160,{"$f":"T423","v":"2017-08-31"},"2017-08-31",39160,0,{"$f":"X423","v":"2017-08-31"},"2017-08-31",39160,0,"2017-08-31","2017-08-31",39160,0,"2017-08-31","2017-08-31",39160,0,"2017-08-31","2017-08-31",39160,0,{"$f":"AN423","v":"2016-11-01"},"2016-11-30",1,0,0,{"$f":"IF('DA 2.2'!B468=2,0,IF(AR424=1,I424-J424,0))","v":0},null,4.6335119999999996,46.335123000000003]
[null,"2017-08-24",39160,8,31,1263.2258064516129,0.22008,0.18340000000000001,278.01073548387097,231.67561290322581,46.335122580645162,"2016-07-01","2016-09-30",38130,0,"2016-10-01","2017-08-31",39160,39160,"2017-08-31","2017-08-31",39160,0,"2017-08-31","2017-08-31",39160,0,"2017-08-31","2017-08-31",39160,0,"2017-08-31","2017-08-31",39160,0,"2017-08-31","2017-08-31",39160,0,"2016-11-01","2016-11-30",1,0,0,{"$f":"IF('DA 2.2'!B469=2,0,IF(AR425=1,I425-J425,0))","v":0},null,4.6335119999999996,46.335123000000003]
[null,"2017-08-25",39160,8,31,1263.2258064516129,0.22008,0.18340000000000001,278.01073548387097,231.67561290322581,46.335122580645162,"2016-07-01","2016-09-30",38130,0,"2016-10-01","2017-08-31",39160,39160,"2017-08-31","2017-08-31",39160,0,"2017-08-31","2017-08-31",39160,0,"2017-08-31","2017-08-31",39160,0,"2017-08-31","2017-08-31",39160,0,"2017-08-31","2017-08-31",39160,0,"2016-11-01","2016-11-30",1,0,0,{"$f":"IF('DA 2.2'!B470=2,0,IF(AR426=1,I426-J426,0))","v":0},null,4.6335119999999996,46.335123000000003]
[null,"2017-08-26",39160,8,31,1263.2258064516129,0.22008,0.18340000000000001,278.01073548387097,231.67561290322581,46.335122580645162,"2016-07-01","2016-09-30",38130,0,"2016-10-01","2017-08-31",39160,39160,"2017-08-31","2017-08-31",39160,0,"2017-08-31","2017-08-31",39160,0,"2017-08-31","2017-08-31",39160,0,"2017-08-31","2017-08-31",39160,0,"2017-08-31","2017-08-31",39160,0,"2016-11-01","2016-11-30",1,0,0,{"$f":"IF('DA 2.2'!B471=2,0,IF(AR427=1,I427-J427,0))","v":0},null,4.6335119999999996,46.335123000000003]
[null,"2017-08-27",39160,8,31,1263.2258064516129,0.22008,0.18340000000000001,278.01073548387097,231.67561290322581,46.335122580645162,"2016-07-01","2016-09-30",38130,0,"2016-10-01","2017-08-31",39160,39160,"2017-08-31","2017-08-31",39160,0,"2017-08-31","2017-08-31",39160,0,"2017-08-31","2017-08-31",39160,0,"2017-08-31","2017-08-31",39160,0,"2017-08-31","2017-08-31",39160,0,"2016-11-01","2016-11-30",1,0,0,{"$f":"IF('DA 2.2'!B472=2,0,IF(AR428=1,I428-J428,0))","v":0},null,4.6335119999999996,46.335123000000003]
[null,"2017-08-28",39160,8,31,1263.2258064516129,0.22008,0.18340000000000001,278.01073548387097,231.67561290322581,46.335122580645162,"2016-07-01","2016-09-30",38130,0,"2016-10-01","2017-08-31",39160,39160,"2017-08-31","2017-08-31",39160,0,"2017-08-31","2017-08-31",39160,0,"2017-08-31","2017-08-31",39160,0,"2017-08-31","2017-08-31",39160,0,"2017-08-31","2017-08-31",39160,0,"2016-11-01","2016-11-30",1,0,0,{"$f":"IF('DA 2.2'!B473=2,0,IF(AR429=1,I429-J429,0))","v":0},null,4.6335119999999996,46.335123000000003]
[null,"2017-08-29",39160,8,31,1263.2258064516129,0.22008,0.18340000000000001,278.01073548387097,231.67561290322581,46.335122580645162,"2016-07-01","2016-09-30",38130,0,"2016-10-01","2017-08-31",39160,39160,"2017-08-31","2017-08-31",39160,0,"2017-08-31","2017-08-31",39160,0,"2017-08-31","2017-08-31",39160,0,"2017-08-31","2017-08-31",39160,0,"2017-08-31","2017-08-31",39160,0,"2016-11-01","2016-11-30",1,0,0,{"$f":"IF('DA 2.2'!B474=2,0,IF(AR430=1,I430-J430,0))","v":0},null,4.6335119999999996,46.335123000000003]
[null,"2017-08-30",39160,8,31,1263.2258064516129,0.22008,0.18340000000000001,278.01073548387097,231.67561290322581,46.335122580645162,"2016-07-01","2016-09-30",38130,0,"2016-10-01","2017-08-31",39160,39160,"2017-08-31","2017-08-31",39160,0,"2017-08-31","2017-08-31",39160,0,"2017-08-31","2017-08-31",39160,0,"2017-08-31","2017-08-31",39160,0,"2017-08-31","2017-08-31",39160,0,"2016-11-01","2016-11-30",1,0,0,{"$f":"IF('DA 2.2'!B475=2,0,IF(AR431=1,I431-J431,0))","v":0},null,4.6335119999999996,46.335123000000003]
[null,"2017-08-31",39160,8,31,1263.2258064516129,0.22008,0.18340000000000001,278.01073548387097,231.67561290322581,46.335122580645162,"2016-07-01","2016-09-30",38130,0,"2016-10-01","2017-08-31",39160,39160,"2017-08-31","2017-08-31",39160,0,"2017-08-31","2017-08-31",39160,0,"2017-08-31","2017-08-31",39160,0,"2017-08-31","2017-08-31",39160,0,"2017-08-31","2017-08-31",39160,0,"2016-11-01","2016-11-30",1,0,0,{"$f":"IF('DA 2.2'!B476=2,0,IF(AR432=1,I432-J432,0))","v":0},null,4.6335119999999996,46.335123000000003]
[null,"2017-09-01",0,9,30,0,0.22008,0.18340000000000001,0,0,0,"2016-07-01","2016-09-30",38130,0,"2016-10-01","2017-08-31",39160,0,"2017-08-31","2017-08-31",39160,0,"2017-08-31","2017-08-31",39160,0,"2017-08-31","2017-08-31",39160,0,"2017-08-31","2017-08-31",39160,0,"2017-08-31","2017-08-31",39160,0,"2016-11-01","2016-11-30",1,0,0,{"$f":"IF('DA 2.2'!B477=2,0,IF(AR433=1,I433-J433,0))","v":0},null,0,0]
[null,"2017-09-02",0,9,30,0,0.22008,0.18340000000000001,0,0,0,"2016-07-01","2016-09-30",38130,0,"2016-10-01","2017-08-31",39160,0,"2017-08-31","2017-08-31",39160,0,"2017-08-31","2017-08-31",39160,0,"2017-08-31","2017-08-31",39160,0,"2017-08-31","2017-08-31",39160,0,"2017-08-31","2017-08-31",39160,0,"2016-11-01","2016-11-30",1,0,0,{"$f":"IF('DA 2.2'!B478=2,0,IF(AR434=1,I434-J434,0))","v":0},null,0,0]
[null,"2017-09-03",0,9,30,0,0.22008,0.18340000000000001,0,0,0,"2016-07-01","2016-09-30",38130,0,"2016-10-01","2017-08-31",39160,0,"2017-08-31","2017-08-31",39160,0,"2017-08-31","2017-08-31",39160,0,"2017-08-31","2017-08-31",39160,0,"2017-08-31","2017-08-31",39160,0,"2017-08-31","2017-08-31",39160,0,"2016-11-01","2016-11-30",1,0,0,{"$f":"IF('DA 2.2'!B479=2,0,IF(AR435=1,I435-J435,0))","v":0},null,0,0]
[null,"2017-09-04",0,9,30,0,0.22008,0.18340000000000001,0,0,0,"2016-07-01","2016-09-30",38130,0,"2016-10-01","2017-08-31",39160,0,"2017-08-31","2017-08-31",39160,0,"2017-08-31","2017-08-31",39160,0,"2017-08-31","2017-08-31",39160,0,"2017-08-31","2017-08-31",39160,0,"2017-08-31","2017-08-31",39160,0,"2016-11-01","2016-11-30",1,0,0,{"$f":"IF('DA 2.2'!B480=2,0,IF(AR436=1,I436-J436,0))","v":0},null,0,0]
[null,"2017-09-05",0,9,30,0,0.22008,0.18340000000000001,0,0,0,"2016-07-01","2016-09-30",38130,0,"2016-10-01","2017-08-31",39160,0,"2017-08-31","2017-08-31",39160,0,"2017-08-31","2017-08-31",39160,0,"2017-08-31","2017-08-31",39160,0,"2017-08-31","2017-08-31",39160,0,"2017-08-31","2017-08-31",39160,0,"2016-11-01","2016-11-30",1,0,0,{"$f":"IF('DA 2.2'!B481=2,0,IF(AR437=1,I437-J437,0))","v":0},null,0,0]
[null,"2017-09-06",0,9,30,0,0.22008,0.18340000000000001,0,0,0,"2016-07-01","2016-09-30",38130,0,"2016-10-01","2017-08-31",39160,0,"2017-08-31","2017-08-31",39160,0,"2017-08-31","2017-08-31",39160,0,"2017-08-31","2017-08-31",39160,0,"2017-08-31","2017-08-31",39160,0,"2017-08-31","2017-08-31",39160,0,"2016-11-01","2016-11-30",1,0,0,{"$f":"IF('DA 2.2'!B482=2,0,IF(AR438=1,I438-J438,0))","v":0},null,0,0]
[null,"2017-09-07",0,9,30,0,0.22008,0.18340000000000001,0,0,0,"2016-07-01","2016-09-30",38130,0,"2016-10-01","2017-08-31",39160,0,"2017-08-31","2017-08-31",39160,0,"2017-08-31","2017-08-31",39160,0,"2017-08-31","2017-08-31",39160,0,"2017-08-31","2017-08-31",39160,0,"2017-08-31","2017-08-31",39160,0,"2016-11-01","2016-11-30",1,0,0,{"$f":"IF('DA 2.2'!B483=2,0,IF(AR439=1,I439-J439,0))","v":0},null,0,0]
[null,"2017-09-08",0,9,30,0,{"$f":"G439","v":0.22008},0.18340000000000001,0,0,0,{"$f":"L439","v":"2016-07-01"},"2016-09-30",38130,0,{"$f":"P439","v":"2016-10-01"},"2017-08-31",39160,0,{"$f":"T439","v":"2017-08-31"},"2017-08-31",39160,0,{"$f":"X439","v":"2017-08-31"},"2017-08-31",39160,0,"2017-08-31","2017-08-31",39160,0,"2017-08-31","2017-08-31",39160,0,"2017-08-31","2017-08-31",39160,0,{"$f":"AN439","v":"2016-11-01"},"2016-11-30",1,0,0,{"$f":"IF('DA 2.2'!B484=2,0,IF(AR440=1,I440-J440,0))","v":0},null,0,0]
[null,"2017-09-09",0,9,30,0,0.22008,0.18340000000000001,0,0,0,"2016-07-01","2016-09-30",38130,0,"2016-10-01","2017-08-31",39160,0,"2017-08-31","2017-08-31",39160,0,"2017-08-31","2017-08-31",39160,0,"2017-08-31","2017-08-31",39160,0,"2017-08-31","2017-08-31",39160,0,"2017-08-31","2017-08-31",39160,0,"2016-11-01","2016-11-30",1,0,0,{"$f":"IF('DA 2.2'!B485=2,0,IF(AR441=1,I441-J441,0))","v":0},null,0,0]
[null,"2017-09-10",0,9,30,0,0.22008,0.18340000000000001,0,0,0,"2016-07-01","2016-09-30",38130,0,"2016-10-01","2017-08-31",39160,0,"2017-08-31","2017-08-31",39160,0,"2017-08-31","2017-08-31",39160,0,"2017-08-31","2017-08-31",39160,0,"2017-08-31","2017-08-31",39160,0,"2017-08-31","2017-08-31",39160,0,"2016-11-01","2016-11-30",1,0,0,{"$f":"IF('DA 2.2'!B486=2,0,IF(AR442=1,I442-J442,0))","v":0},null,0,0]
[null,"2017-09-11",0,9,30,0,0.22008,0.18340000000000001,0,0,0,"2016-07-01","2016-09-30",38130,0,"2016-10-01","2017-08-31",39160,0,"2017-08-31","2017-08-31",39160,0,"2017-08-31","2017-08-31",39160,0,"2017-08-31","2017-08-31",39160,0,"2017-08-31","2017-08-31",39160,0,"2017-08-31","2017-08-31",39160,0,"2016-11-01","2016-11-30",1,0,0,{"$f":"IF('DA 2.2'!B487=2,0,IF(AR443=1,I443-J443,0))","v":0},null,0,0]
[null,"2017-09-12",0,9,30,0,0.22008,0.18340000000000001,0,0,0,"2016-07-01","2016-09-30",38130,0,"2016-10-01","2017-08-31",39160,0,"2017-08-31","2017-08-31",39160,0,"2017-08-31","2017-08-31",39160,0,"2017-08-31","2017-08-31",39160,0,"2017-08-31","2017-08-31",39160,0,"2017-08-31","2017-08-31",39160,0,"2016-11-01","2016-11-30",1,0,0,{"$f":"IF('DA 2.2'!B488=2,0,IF(AR444=1,I444-J444,0))","v":0},null,0,0]
[null,"2017-09-13",0,9,30,0,0.22008,0.18340000000000001,0,0,0,"2016-07-01","2016-09-30",38130,0,"2016-10-01","2017-08-31",39160,0,"2017-08-31","2017-08-31",39160,0,"2017-08-31","2017-08-31",39160,0,"2017-08-31","2017-08-31",39160,0,"2017-08-31","2017-08-31",39160,0,"2017-08-31","2017-08-31",39160,0,"2016-11-01","2016-11-30",1,0,0,{"$f":"IF('DA 2.2'!B489=2,0,IF(AR445=1,I445-J445,0))","v":0},null,0,0]
[null,"2017-09-14",0,9,30,0,0.22008,0.18340000000000001,0,0,0,"2016-07-01","2016-09-30",38130,0,"2016-10-01","2017-08-31",39160,0,"2017-08-31","2017-08-31",39160,0,"2017-08-31","2017-08-31",39160,0,"2017-08-31","2017-08-31",39160,0,"2017-08-31","2017-08-31",39160,0,"2017-08-31","2017-08-31",39160,0,"2016-11-01","2016-11-30",1,0,0,{"$f":"IF('DA 2.2'!B490=2,0,IF(AR446=1,I446-J446,0))","v":0},null,0,0]
[null,"2017-09-15",0,9,30,0,0.22008,0.18340000000000001,0,0,0,"2016-07-01","2016-09-30",38130,0,"2016-10-01","2017-08-31",39160,0,"2017-08-31","2017-08-31",39160,0,"2017-08-31","2017-08-31",39160,0,"2017-08-31","2017-08-31",39160,0,"2017-08-31","2017-08-31",39160,0,"2017-08-31","2017-08-31",39160,0,"2016-11-01","2016-11-30",1,0,0,{"$f":"IF('DA 2.2'!B491=2,0,IF(AR447=1,I447-J447,0))","v":0},null,0,0]
[null,"2017-09-16",0,9,30,0,0.22008,0.18340000000000001,0,0,0,"2016-07-01","2016-09-30",38130,0,"2016-10-01","2017-08-31",39160,0,"2017-08-31","2017-08-31",39160,0,"2017-08-31","2017-08-31",39160,0,"2017-08-31","2017-08-31",39160,0,"2017-08-31","2017-08-31",39160,0,"2017-08-31","2017-08-31",39160,0,"2016-11-01","2016-11-30",1,0,0,{"$f":"IF('DA 2.2'!B492=2,0,IF(AR448=1,I448-J448,0))","v":0},null,0,0]
[null,"2017-09-17",0,9,30,0,0.22008,0.18340000000000001,0,0,0,"2016-07-01","2016-09-30",38130,0,"2016-10-01","2017-08-31",39160,0,"2017-08-31","2017-08-31",39160,0,"2017-08-31","2017-08-31",39160,0,"2017-08-31","2017-08-31",39160,0,"2017-08-31","2017-08-31",39160,0,"2017-08-31","2017-08-31",39160,0,"2016-11-01","2016-11-30",1,0,0,{"$f":"IF('DA 2.2'!B493=2,0,IF(AR449=1,I449-J449,0))","v":0},null,0,0]
[null,"2017-09-18",0,9,30,0,0.22008,0.18340000000000001,0,0,0,"2016-07-01","2016-09-30",38130,0,"2016-10-01","2017-08-31",39160,0,"2017-08-31","2017-08-31",39160,0,"2017-08-31","2017-08-31",39160,0,"2017-08-31","2017-08-31",39160,0,"2017-08-31","2017-08-31",39160,0,"2017-08-31","2017-08-31",39160,0,"2016-11-01","2016-11-30",1,0,0,{"$f":"IF('DA 2.2'!B494=2,0,IF(AR450=1,I450-J450,0))","v":0},null,0,0]
[null,"2017-09-19",0,9,30,0,0.22008,0.18340000000000001,0,0,0,"2016-07-01","2016-09-30",38130,0,"2016-10-01","2017-08-31",39160,0,"2017-08-31","2017-08-31",39160,0,"2017-08-31","2017-08-31",39160,0,"2017-08-31","2017-08-31",39160,0,"2017-08-31","2017-08-31",39160,0,"2017-08-31","2017-08-31",39160,0,"2016-11-01","2016-11-30",1,0,0,{"$f":"IF('DA 2.2'!B495=2,0,IF(AR451=1,I451-J451,0))","v":0},null,0,0]
[null,"2017-09-20",0,9,30,0,0.22008,0.18340000000000001,0,0,0,"2016-07-01","2016-09-30",38130,0,"2016-10-01","2017-08-31",39160,0,"2017-08-31","2017-08-31",39160,0,"2017-08-31","2017-08-31",39160,0,"2017-08-31","2017-08-31",39160,0,"2017-08-31","2017-08-31",39160,0,"2017-08-31","2017-08-31",39160,0,"2016-11-01","2016-11-30",1,0,0,{"$f":"IF('DA 2.2'!B496=2,0,IF(AR452=1,I452-J452,0))","v":0},null,0,0]
[null,"2017-09-21",0,9,30,0,0.22008,0.18340000000000001,0,0,0,"2016-07-01","2016-09-30",38130,0,"2016-10-01","2017-08-31",39160,0,"2017-08-31","2017-08-31",39160,0,"2017-08-31","2017-08-31",39160,0,"2017-08-31","2017-08-31",39160,0,"2017-08-31","2017-08-31",39160,0,"2017-08-31","2017-08-31",39160,0,"2016-11-01","2016-11-30",1,0,0,{"$f":"IF('DA 2.2'!B497=2,0,IF(AR453=1,I453-J453,0))","v":0},null,0,0]
[null,"2017-09-22",0,9,30,{"$f":"C454/E454","v":0},0.22008,0.18340000000000001,{"$f":"F454*G454","v":0},{"$f":"F454*H454","v":0},0,"2016-07-01","2016-09-30",38130,0,"2016-10-01","2017-08-31",39160,0,"2017-08-31","2017-08-31",39160,0,"2017-08-31","2017-08-31",39160,0,"2017-08-31","2017-08-31",39160,0,"2017-08-31","2017-08-31",39160,0,"2017-08-31","2017-08-31",39160,0,"2016-11-01","2016-11-30",{"$f":"IF(B454>=AN454,1,0)","v":1},{"$f":"IF(B454<=AO454,1,0)","v":0},0,{"$f":"IF('DA 2.2'!B498=2,0,IF(AR454=1,I454-J454,0))","v":0},null,0,0]
[null,"2017-09-23",{"$f":"O455+S455+W455+AA455+AE455+AI455+AM455","v":0},{"$f":"MONTH(B455)","v":9},{"$f":"IF(D455=1,31,IF(D455=2,29,IF(D455=3,31,IF(D455=5,31,IF(D455=7,31,IF(D455=8,31,IF(D455=10,31,IF(D455=12,31,30))))))))","v":30},0,0.22008,0.18340000000000001,0,0,{"$f":"I455-J455","v":0},"2016-07-01","2016-09-30",38130,{"$f":"IF(M455>=B455,N455,0)","v":0},"2016-10-01","2017-08-31",39160,{"$f":"IF(O455>0,0,IF(Q455>=B455,R455,0))","v":0},"2017-08-31","2017-08-31",39160,{"$f":"IF(T455>U455,0,IF(O455>0,0,IF(S455>0,0,IF(U455>=B455,V455,0))))","v":0},"2017-08-31","2017-08-31",39160,{"$f":"IF(X455>=Y455,0,IF(O455>0,0,IF(S455>0,0,IF(W455>0,0,IF(Y455>=B455,Z455,0)))))","v":0},"2017-08-31","2017-08-31",39160,{"$f":"IF(O455>0,0,IF(AB455>=AC455,0,IF(S455>0,0,IF(W455>0,0,IF(AA455>0,0,IF(AC455>=B455,AD455,0))))))","v":0},"2017-08-31","2017-08-31",39160,{"$f":"IF(O455>0,0,IF(S455>0,0,IF(AF455>=AG455,0,IF(W455>0,0,IF(AA455>0,0,IF(AE455>0,0,IF(AG455>=B455,AH455,0)))))))","v":0},"2017-08-31","2017-08-31",39160,0,"2016-11-01","2016-11-30",1,0,{"$f":"IF(SUM(AP455:AQ455)=2,1,0)","v":0},{"$f":"IF('DA 2.2'!B499=2,0,IF(AR455=1,I455-J455,0))","v":0},null,{"$f":"ROUND(K455*10%,6)","v":0},{"$f":"ROUND(K455,6)","v":0}]
[null,"2017-09-24",0,9,30,0,{"$f":"G455","v":0.22008},0.18340000000000001,0,0,0,{"$f":"L455","v":"2016-07-01"},"2016-09-30",38130,0,{"$f":"P455","v":"2016-10-01"},"2017-08-31",39160,0,{"$f":"T455","v":"2017-08-31"},"2017-08-31",39160,0,{"$f":"X455","v":"2017-08-31"},"2017-08-31",39160,0,{"$f":"AB455","v":"2017-08-31"},"2017-08-31",39160,0,{"$f":"AF455","v":"2017-08-31"},{"$f":"AG455","v":"2017-08-31"},{"$f":"AH455","v":39160},0,{"$f":"AJ455","v":"2017-08-31"},{"$f":"AK455","v":"2017-08-31"},{"$f":"AL455","v":39160},{"$f":"IF(O456>0,0,IF(S456>0,0,IF(AJ456>=AK456,0,IF(W456>0,0,IF(AA456>0,0,IF(AE456>0,0,IF(AI456>0,0,IF(AK456>=B456,AL456,0))))))))","v":0},{"$f":"AN455","v":"2016-11-01"},"2016-11-30",1,0,0,{"$f":"IF('DA 2.2'!B500=2,0,IF(AR456=1,I456-J456,0))","v":0},null,0,0]
[null,"2017-09-25",0,9,30,0,0.22008,0.18340000000000001,0,0,0,"2016-07-01","2016-09-30",38130,0,"2016-10-01","2017-08-31",39160,0,"2017-08-31","2017-08-31",39160,0,"2017-08-31","2017-08-31",39160,0,"2017-08-31","2017-08-31",39160,0,"2017-08-31","2017-08-31",39160,0,"2017-08-31","2017-08-31",39160,0,"2016-11-01","2016-11-30",1,0,0,{"$f":"IF('DA 2.2'!B501=2,0,IF(AR457=1,I457-J457,0))","v":0},null,0,0]
[null,"2017-09-26",0,9,30,0,0.22008,0.18340000000000001,0,0,0,"2016-07-01","2016-09-30",38130,0,"2016-10-01","2017-08-31",39160,0,"2017-08-31","2017-08-31",39160,0,"2017-08-31","2017-08-31",39160,0,"2017-08-31","2017-08-31",39160,0,"2017-08-31","2017-08-31",39160,0,"2017-08-31","2017-08-31",39160,0,"2016-11-01","2016-11-30",1,0,0,{"$f":"IF('DA 2.2'!B502=2,0,IF(AR458=1,I458-J458,0))","v":0},null,0,0]
[null,"2017-09-27",0,9,30,0,0.22008,0.18340000000000001,0,0,0,"2016-07-01","2016-09-30",38130,0,"2016-10-01","2017-08-31",39160,0,"2017-08-31","2017-08-31",39160,0,"2017-08-31","2017-08-31",39160,0,"2017-08-31","2017-08-31",39160,0,"2017-08-31","2017-08-31",39160,0,"2017-08-31","2017-08-31",39160,0,"2016-11-01","2016-11-30",1,0,0,{"$f":"IF('DA 2.2'!B503=2,0,IF(AR459=1,I459-J459,0))","v":0},null,0,0]
[null,"2017-09-28",0,9,30,0,0.22008,0.18340000000000001,0,0,0,"2016-07-01","2016-09-30",38130,0,"2016-10-01","2017-08-31",39160,0,"2017-08-31","2017-08-31",39160,0,"2017-08-31","2017-08-31",39160,0,"2017-08-31","2017-08-31",39160,0,"2017-08-31","2017-08-31",39160,0,"2017-08-31","2017-08-31",39160,0,"2016-11-01","2016-11-30",1,0,0,{"$f":"IF('DA 2.2'!B504=2,0,IF(AR460=1,I460-J460,0))","v":0},null,0,0]
[null,"2017-09-29",0,9,30,0,0.22008,0.18340000000000001,0,0,0,"2016-07-01","2016-09-30",38130,0,"2016-10-01","2017-08-31",39160,0,"2017-08-31","2017-08-31",39160,0,"2017-08-31","2017-08-31",39160,0,"2017-08-31","2017-08-31",39160,0,"2017-08-31","2017-08-31",39160,0,"2017-08-31","2017-08-31",39160,0,"2016-11-01","2016-11-30",1,0,0,{"$f":"IF('DA 2.2'!B505=2,0,IF(AR461=1,I461-J461,0))","v":0},null,0,0]
[null,"2017-09-30",0,9,30,0,0.22008,0.18340000000000001,0,0,0,"2016-07-01","2016-09-30",38130,0,"2016-10-01","2017-08-31",39160,0,"2017-08-31","2017-08-31",39160,0,"2017-08-31","2017-08-31",39160,0,"2017-08-31","2017-08-31",39160,0,"2017-08-31","2017-08-31",39160,0,"2017-08-31","2017-08-31",39160,0,"2016-11-01","2016-11-30",1,0,0,{"$f":"IF('DA 2.2'!B506=2,0,IF(AR462=1,I462-J462,0))","v":0},null,0,0]
[null,"2017-10-01",0,10,31,0,0.22008,0.18340000000000001,0,0,0,"2016-07-01","2016-09-30",38130,0,"2016-10-01","2017-08-31",39160,0,"2017-08-31","2017-08-31",39160,0,"2017-08-31","2017-08-31",39160,0,"2017-08-31","2017-08-31",39160,0,"2017-08-31","2017-08-31",39160,0,"2017-08-31","2017-08-31",39160,0,"2016-11-01","2016-11-30",1,0,0,{"$f":"IF('DA 2.2'!B507=2,0,IF(AR463=1,I463-J463,0))","v":0},null,0,0]
[null,"2017-10-02",0,10,31,0,0.22008,0.18340000000000001,0,0,0,"2016-07-01","2016-09-30",38130,0,"2016-10-01","2017-08-31",39160,0,"2017-08-31","2017-08-31",39160,0,"2017-08-31","2017-08-31",39160,0,"2017-08-31","2017-08-31",39160,0,"2017-08-31","2017-08-31",39160,0,"2017-08-31","2017-08-31",39160,0,"2016-11-01","2016-11-30",1,0,0,{"$f":"IF('DA 2.2'!B508=2,0,IF(AR464=1,I464-J464,0))","v":0},null,0,0]
[null,"2017-10-03",0,10,31,0,0.22008,0.18340000000000001,0,0,0,"2016-07-01","2016-09-30",38130,0,"2016-10-01","2017-08-31",39160,0,"2017-08-31","2017-08-31",39160,0,"2017-08-31","2017-08-31",39160,0,"2017-08-31","2017-08-31",39160,0,"2017-08-31","2017-08-31",39160,0,"2017-08-31","2017-08-31",39160,0,"2016-11-01","2016-11-30",1,0,0,{"$f":"IF('DA 2.2'!B509=2,0,IF(AR465=1,I465-J465,0))","v":0},null,0,0]
[null,"2017-10-04",0,10,31,0,0.22008,0.18340000000000001,0,0,0,"2016-07-01","2016-09-30",38130,0,"2016-10-01","2017-08-31",39160,0,"2017-08-31","2017-08-31",39160,0,"2017-08-31","2017-08-31",39160,0,"2017-08-31","2017-08-31",39160,0,"2017-08-31","2017-08-31",39160,0,"2017-08-31","2017-08-31",39160,0,"2016-11-01","2016-11-30",1,0,0,{"$f":"IF('DA 2.2'!B510=2,0,IF(AR466=1,I466-J466,0))","v":0},null,0,0]
[null,"2017-10-05",0,10,31,0,0.22008,0.18340000000000001,0,0,0,"2016-07-01","2016-09-30",38130,0,"2016-10-01","2017-08-31",39160,0,"2017-08-31","2017-08-31",39160,0,"2017-08-31","2017-08-31",39160,0,"2017-08-31","2017-08-31",39160,0,"2017-08-31","2017-08-31",39160,0,"2017-08-31","2017-08-31",39160,0,"2016-11-01","2016-11-30",1,0,0,{"$f":"IF('DA 2.2'!B511=2,0,IF(AR467=1,I467-J467,0))","v":0},null,0,0]
[null,"2017-10-06",0,10,31,0,0.22008,0.18340000000000001,0,0,0,"2016-07-01","2016-09-30",38130,0,"2016-10-01","2017-08-31",39160,0,"2017-08-31","2017-08-31",39160,0,"2017-08-31","2017-08-31",39160,0,"2017-08-31","2017-08-31",39160,0,"2017-08-31","2017-08-31",39160,0,"2017-08-31","2017-08-31",39160,0,"2016-11-01","2016-11-30",1,0,0,{"$f":"IF('DA 2.2'!B512=2,0,IF(AR468=1,I468-J468,0))","v":0},null,0,0]
[null,"2017-10-07",0,10,31,0,0.22008,0.18340000000000001,0,0,0,"2016-07-01","2016-09-30",38130,0,"2016-10-01","2017-08-31",39160,0,"2017-08-31","2017-08-31",39160,0,"2017-08-31","2017-08-31",39160,0,"2017-08-31","2017-08-31",39160,0,"2017-08-31","2017-08-31",39160,0,"2017-08-31","2017-08-31",39160,0,"2016-11-01","2016-11-30",1,0,0,{"$f":"IF('DA 2.2'!B513=2,0,IF(AR469=1,I469-J469,0))","v":0},null,0,0]
[null,"2017-10-08",0,10,31,0,0.22008,0.18340000000000001,0,0,0,"2016-07-01","2016-09-30",38130,0,"2016-10-01","2017-08-31",39160,0,"2017-08-31","2017-08-31",39160,0,"2017-08-31","2017-08-31",39160,0,"2017-08-31","2017-08-31",39160,0,"2017-08-31","2017-08-31",39160,0,"2017-08-31","2017-08-31",39160,0,"2016-11-01","2016-11-30",1,0,0,{"$f":"IF('DA 2.2'!B514=2,0,IF(AR470=1,I470-J470,0))","v":0},null,0,0]
[null,"2017-10-09",0,10,31,0,0.22008,0.18340000000000001,0,0,0,"2016-07-01","2016-09-30",38130,0,"2016-10-01","2017-08-31",39160,0,"2017-08-31","2017-08-31",39160,0,"2017-08-31","2017-08-31",39160,0,"2017-08-31","2017-08-31",39160,0,"2017-08-31","2017-08-31",39160,0,"2017-08-31","2017-08-31",39160,0,"2016-11-01","2016-11-30",1,0,0,{"$f":"IF('DA 2.2'!B515=2,0,IF(AR471=1,I471-J471,0))","v":0},null,0,0]
[null,"2017-10-10",0,10,31,0,{"$f":"G471","v":0.22008},0.18340000000000001,0,0,0,{"$f":"L471","v":"2016-07-01"},"2016-09-30",38130,0,{"$f":"P471","v":"2016-10-01"},"2017-08-31",39160,0,{"$f":"T471","v":"2017-08-31"},"2017-08-31",39160,0,{"$f":"X471","v":"2017-08-31"},"2017-08-31",39160,0,"2017-08-31","2017-08-31",39160,0,"2017-08-31","2017-08-31",39160,0,"2017-08-31","2017-08-31",39160,0,{"$f":"AN471","v":"2016-11-01"},"2016-11-30",1,0,0,{"$f":"IF('DA 2.2'!B516=2,0,IF(AR472=1,I472-J472,0))","v":0},null,0,0]
[null,"2017-10-11",0,10,31,0,0.22008,0.18340000000000001,0,0,0,"2016-07-01","2016-09-30",38130,0,"2016-10-01","2017-08-31",39160,0,"2017-08-31","2017-08-31",39160,0,"2017-08-31","2017-08-31",39160,0,"2017-08-31","2017-08-31",39160,0,"2017-08-31","2017-08-31",39160,0,"2017-08-31","2017-08-31",39160,0,"2016-11-01","2016-11-30",1,0,0,{"$f":"IF('DA 2.2'!B517=2,0,IF(AR473=1,I473-J473,0))","v":0},null,0,0]
[null,"2017-10-12",0,10,31,0,0.22008,0.18340000000000001,0,0,0,"2016-07-01","2016-09-30",38130,0,"2016-10-01","2017-08-31",39160,0,"2017-08-31","2017-08-31",39160,0,"2017-08-31","2017-08-31",39160,0,"2017-08-31","2017-08-31",39160,0,"2017-08-31","2017-08-31",39160,0,"2017-08-31","2017-08-31",39160,0,"2016-11-01","2016-11-30",1,0,0,{"$f":"IF('DA 2.2'!B518=2,0,IF(AR474=1,I474-J474,0))","v":0},null,0,0]
[null,"2017-10-13",0,10,31,0,0.22008,0.18340000000000001,0,0,0,"2016-07-01","2016-09-30",38130,0,"2016-10-01","2017-08-31",39160,0,"2017-08-31","2017-08-31",39160,0,"2017-08-31","2017-08-31",39160,0,"2017-08-31","2017-08-31",39160,0,"2017-08-31","2017-08-31",39160,0,"2017-08-31","2017-08-31",39160,0,"2016-11-01","2016-11-30",1,0,0,{"$f":"IF('DA 2.2'!B519=2,0,IF(AR475=1,I475-J475,0))","v":0},null,0,0]
[null,"2017-10-14",0,10,31,0,0.22008,0.18340000000000001,0,0,0,"2016-07-01","2016-09-30",38130,0,"2016-10-01","2017-08-31",39160,0,"2017-08-31","2017-08-31",39160,0,"2017-08-31","2017-08-31",39160,0,"2017-08-31","2017-08-31",39160,0,"2017-08-31","2017-08-31",39160,0,"2017-08-31","2017-08-31",39160,0,"2016-11-01","2016-11-30",1,0,0,{"$f":"IF('DA 2.2'!B520=2,0,IF(AR476=1,I476-J476,0))","v":0},null,0,0]
[null,"2017-10-15",0,10,31,0,0.22008,0.18340000000000001,0,0,0,"2016-07-01","2016-09-30",38130,0,"2016-10-01","2017-08-31",39160,0,"2017-08-31","2017-08-31",39160,0,"2017-08-31","2017-08-31",39160,0,"2017-08-31","2017-08-31",39160,0,"2017-08-31","2017-08-31",39160,0,"2017-08-31","2017-08-31",39160,0,"2016-11-01","2016-11-30",1,0,0,{"$f":"IF('DA 2.2'!B521=2,0,IF(AR477=1,I477-J477,0))","v":0},null,0,0]
[null,"2017-10-16",0,10,31,0,0.22008,0.18340000000000001,0,0,0,"2016-07-01","2016-09-30",38130,0,"2016-10-01","2017-08-31",39160,0,"2017-08-31","2017-08-31",39160,0,"2017-08-31","2017-08-31",39160,0,"2017-08-31","2017-08-31",39160,0,"2017-08-31","2017-08-31",39160,0,"2017-08-31","2017-08-31",39160,0,"2016-11-01","2016-11-30",1,0,0,{"$f":"IF('DA 2.2'!B522=2,0,IF(AR478=1,I478-J478,0))","v":0},null,0,0]
[null,"2017-10-17",0,10,31,0,0.22008,0.18340000000000001,0,0,0,"2016-07-01","2016-09-30",38130,0,"2016-10-01","2017-08-31",39160,0,"2017-08-31","2017-08-31",39160,0,"2017-08-31","2017-08-31",39160,0,"2017-08-31","2017-08-31",39160,0,"2017-08-31","2017-08-31",39160,0,"2017-08-31","2017-08-31",39160,0,"2016-11-01","2016-11-30",1,0,0,{"$f":"IF('DA 2.2'!B523=2,0,IF(AR479=1,I479-J479,0))","v":0},null,0,0]
[null,"2017-10-18",0,10,31,0,0.22008,0.18340000000000001,0,0,0,"2016-07-01","2016-09-30",38130,0,"2016-10-01","2017-08-31",39160,0,"2017-08-31","2017-08-31",39160,0,"2017-08-31","2017-08-31",39160,0,"2017-08-31","2017-08-31",39160,0,"2017-08-31","2017-08-31",39160,0,"2017-08-31","2017-08-31",39160,0,"2016-11-01","2016-11-30",1,0,0,{"$f":"IF('DA 2.2'!B524=2,0,IF(AR480=1,I480-J480,0))","v":0},null,0,0]
[null,"2017-10-19",0,10,31,0,0.22008,0.18340000000000001,0,0,0,"2016-07-01","2016-09-30",38130,0,"2016-10-01","2017-08-31",39160,0,"2017-08-31","2017-08-31",39160,0,"2017-08-31","2017-08-31",39160,0,"2017-08-31","2017-08-31",39160,0,"2017-08-31","2017-08-31",39160,0,"2017-08-31","2017-08-31",39160,0,"2016-11-01","2016-11-30",1,0,0,{"$f":"IF('DA 2.2'!B525=2,0,IF(AR481=1,I481-J481,0))","v":0},null,0,0]
[null,"2017-10-20",0,10,31,0,0.22008,0.18340000000000001,0,0,0,"2016-07-01","2016-09-30",38130,0,"2016-10-01","2017-08-31",39160,0,"2017-08-31","2017-08-31",39160,0,"2017-08-31","2017-08-31",39160,0,"2017-08-31","2017-08-31",39160,0,"2017-08-31","2017-08-31",39160,0,"2017-08-31","2017-08-31",39160,0,"2016-11-01","2016-11-30",1,0,0,{"$f":"IF('DA 2.2'!B526=2,0,IF(AR482=1,I482-J482,0))","v":0},null,0,0]
[null,"2017-10-21",0,10,31,0,0.22008,0.18340000000000001,0,0,0,"2016-07-01","2016-09-30",38130,0,"2016-10-01","2017-08-31",39160,0,"2017-08-31","2017-08-31",39160,0,"2017-08-31","2017-08-31",39160,0,"2017-08-31","2017-08-31",39160,0,"2017-08-31","2017-08-31",39160,0,"2017-08-31","2017-08-31",39160,0,"2016-11-01","2016-11-30",1,0,0,{"$f":"IF('DA 2.2'!B527=2,0,IF(AR483=1,I483-J483,0))","v":0},null,0,0]
[null,"2017-10-22",0,10,31,0,0.22008,0.18340000000000001,0,0,0,"2016-07-01","2016-09-30",38130,0,"2016-10-01","2017-08-31",39160,0,"2017-08-31","2017-08-31",39160,0,"2017-08-31","2017-08-31",39160,0,"2017-08-31","2017-08-31",39160,0,"2017-08-31","2017-08-31",39160,0,"2017-08-31","2017-08-31",39160,0,"2016-11-01","2016-11-30",1,0,0,{"$f":"IF('DA 2.2'!B528=2,0,IF(AR484=1,I484-J484,0))","v":0},null,0,0]
[null,"2017-10-23",0,10,31,0,0.22008,0.18340000000000001,0,0,0,"2016-07-01","2016-09-30",38130,0,"2016-10-01","2017-08-31",39160,0,"2017-08-31","2017-08-31",39160,0,"2017-08-31","2017-08-31",39160,0,"2017-08-31","2017-08-31",39160,0,"2017-08-31","2017-08-31",39160,0,"2017-08-31","2017-08-31",39160,0,"2016-11-01","2016-11-30",1,0,0,{"$f":"IF('DA 2.2'!B529=2,0,IF(AR485=1,I485-J485,0))","v":0},null,0,0]
[null,"2017-10-24",0,10,31,0,0.22008,0.18340000000000001,0,0,0,"2016-07-01","2016-09-30",38130,0,"2016-10-01","2017-08-31",39160,0,"2017-08-31","2017-08-31",39160,0,"2017-08-31","2017-08-31",39160,0,"2017-08-31","2017-08-31",39160,0,"2017-08-31","2017-08-31",39160,0,"2017-08-31","2017-08-31",39160,0,"2016-11-01","2016-11-30",1,0,0,{"$f":"IF('DA 2.2'!B530=2,0,IF(AR486=1,I486-J486,0))","v":0},null,0,0]
[null,"2017-10-25",0,10,31,0,0.22008,0.18340000000000001,0,0,0,"2016-07-01","2016-09-30",38130,0,"2016-10-01","2017-08-31",39160,0,"2017-08-31","2017-08-31",39160,0,"2017-08-31","2017-08-31",39160,0,"2017-08-31","2017-08-31",39160,0,"2017-08-31","2017-08-31",39160,0,"2017-08-31","2017-08-31",39160,0,"2016-11-01","2016-11-30",1,0,0,{"$f":"IF('DA 2.2'!B531=2,0,IF(AR487=1,I487-J487,0))","v":0},null,0,0]
[null,"2017-10-26",0,10,31,0,{"$f":"G487","v":0.22008},0.18340000000000001,0,0,0,{"$f":"L487","v":"2016-07-01"},"2016-09-30",38130,0,{"$f":"P487","v":"2016-10-01"},"2017-08-31",39160,0,{"$f":"T487","v":"2017-08-31"},"2017-08-31",39160,0,{"$f":"X487","v":"2017-08-31"},"2017-08-31",39160,0,"2017-08-31","2017-08-31",39160,0,"2017-08-31","2017-08-31",39160,0,"2017-08-31","2017-08-31",39160,0,{"$f":"AN487","v":"2016-11-01"},"2016-11-30",1,0,0,{"$f":"IF('DA 2.2'!B532=2,0,IF(AR488=1,I488-J488,0))","v":0},null,0,0]
[null,"2017-10-27",0,10,31,0,0.22008,0.18340000000000001,0,0,0,"2016-07-01","2016-09-30",38130,0,"2016-10-01","2017-08-31",39160,0,"2017-08-31","2017-08-31",39160,0,"2017-08-31","2017-08-31",39160,0,"2017-08-31","2017-08-31",39160,0,"2017-08-31","2017-08-31",39160,0,"2017-08-31","2017-08-31",39160,0,"2016-11-01","2016-11-30",1,0,0,{"$f":"IF('DA 2.2'!B533=2,0,IF(AR489=1,I489-J489,0))","v":0},null,0,0]
[null,"2017-10-28",0,10,31,0,0.22008,0.18340000000000001,0,0,0,"2016-07-01","2016-09-30",38130,0,"2016-10-01","2017-08-31",39160,0,"2017-08-31","2017-08-31",39160,0,"2017-08-31","2017-08-31",39160,0,"2017-08-31","2017-08-31",39160,0,"2017-08-31","2017-08-31",39160,0,"2017-08-31","2017-08-31",39160,0,"2016-11-01","2016-11-30",1,0,0,{"$f":"IF('DA 2.2'!B534=2,0,IF(AR490=1,I490-J490,0))","v":0},null,0,0]
[null,"2017-10-29",0,10,31,0,0.22008,0.18340000000000001,0,0,0,"2016-07-01","2016-09-30",38130,0,"2016-10-01","2017-08-31",39160,0,"2017-08-31","2017-08-31",39160,0,"2017-08-31","2017-08-31",39160,0,"2017-08-31","2017-08-31",39160,0,"2017-08-31","2017-08-31",39160,0,"2017-08-31","2017-08-31",39160,0,"2016-11-01","2016-11-30",1,0,0,{"$f":"IF('DA 2.2'!B535=2,0,IF(AR491=1,I491-J491,0))","v":0},null,0,0]
[null,"2017-10-30",0,10,31,0,0.22008,0.18340000000000001,0,0,0,"2016-07-01","2016-09-30",38130,0,"2016-10-01","2017-08-31",39160,0,"2017-08-31","2017-08-31",39160,0,"2017-08-31","2017-08-31",39160,0,"2017-08-31","2017-08-31",39160,0,"2017-08-31","2017-08-31",39160,0,"2017-08-31","2017-08-31",39160,0,"2016-11-01","2016-11-30",1,0,0,{"$f":"IF('DA 2.2'!B536=2,0,IF(AR492=1,I492-J492,0))","v":0},null,0,0]
[null,"2017-10-31",0,10,31,0,0.22008,0.18340000000000001,0,0,0,"2016-07-01","2016-09-30",38130,0,"2016-10-01","2017-08-31",39160,0,"2017-08-31","2017-08-31",39160,0,"2017-08-31","2017-08-31",39160,0,"2017-08-31","2017-08-31",39160,0,"2017-08-31","2017-08-31",39160,0,"2017-08-31","2017-08-31",39160,0,"2016-11-01","2016-11-30",1,0,0,{"$f":"IF('DA 2.2'!B537=2,0,IF(AR493=1,I493-J493,0))","v":0},null,0,0]
[null,"2017-11-01",0,11,30,0,0.22008,0.18340000000000001,0,0,0,"2016-07-01","2016-09-30",38130,0,"2016-10-01","2017-08-31",39160,0,"2017-08-31","2017-08-31",39160,0,"2017-08-31","2017-08-31",39160,0,"2017-08-31","2017-08-31",39160,0,"2017-08-31","2017-08-31",39160,0,"2017-08-31","2017-08-31",39160,0,"2016-11-01","2016-11-30",1,0,0,{"$f":"IF('DA 2.2'!B538=2,0,IF(AR494=1,I494-J494,0))","v":0},null,0,0]
[null,"2017-11-02",0,11,30,0,0.22008,0.18340000000000001,0,0,0,"2016-07-01","2016-09-30",38130,0,"2016-10-01","2017-08-31",39160,0,"2017-08-31","2017-08-31",39160,0,"2017-08-31","2017-08-31",39160,0,"2017-08-31","2017-08-31",39160,0,"2017-08-31","2017-08-31",39160,0,"2017-08-31","2017-08-31",39160,0,"2016-11-01","2016-11-30",1,0,0,{"$f":"IF('DA 2.2'!B539=2,0,IF(AR495=1,I495-J495,0))","v":0},null,0,0]
[null,"2017-11-03",0,11,30,0,0.22008,0.18340000000000001,0,0,0,"2016-07-01","2016-09-30",38130,0,"2016-10-01","2017-08-31",39160,0,"2017-08-31","2017-08-31",39160,0,"2017-08-31","2017-08-31",39160,0,"2017-08-31","2017-08-31",39160,0,"2017-08-31","2017-08-31",39160,0,"2017-08-31","2017-08-31",39160,0,"2016-11-01","2016-11-30",1,0,0,{"$f":"IF('DA 2.2'!B540=2,0,IF(AR496=1,I496-J496,0))","v":0},null,0,0]
[null,"2017-11-04",0,11,30,0,0.22008,0.18340000000000001,0,0,0,"2016-07-01","2016-09-30",38130,0,"2016-10-01","2017-08-31",39160,0,"2017-08-31","2017-08-31",39160,0,"2017-08-31","2017-08-31",39160,0,"2017-08-31","2017-08-31",39160,0,"2017-08-31","2017-08-31",39160,0,"2017-08-31","2017-08-31",39160,0,"2016-11-01","2016-11-30",1,0,0,{"$f":"IF('DA 2.2'!B541=2,0,IF(AR497=1,I497-J497,0))","v":0},null,0,0]
[null,"2017-11-05",0,11,30,0,0.22008,0.18340000000000001,0,0,0,"2016-07-01","2016-09-30",38130,0,"2016-10-01","2017-08-31",39160,0,"2017-08-31","2017-08-31",39160,0,"2017-08-31","2017-08-31",39160,0,"2017-08-31","2017-08-31",39160,0,"2017-08-31","2017-08-31",39160,0,"2017-08-31","2017-08-31",39160,0,"2016-11-01","2016-11-30",1,0,0,{"$f":"IF('DA 2.2'!B542=2,0,IF(AR498=1,I498-J498,0))","v":0},null,0,0]
[null,"2017-11-06",0,11,30,0,0.22008,0.18340000000000001,0,0,0,"2016-07-01","2016-09-30",38130,0,"2016-10-01","2017-08-31",39160,0,"2017-08-31","2017-08-31",39160,0,"2017-08-31","2017-08-31",39160,0,"2017-08-31","2017-08-31",39160,0,"2017-08-31","2017-08-31",39160,0,"2017-08-31","2017-08-31",39160,0,"2016-11-01","2016-11-30",1,0,0,{"$f":"IF('DA 2.2'!B543=2,0,IF(AR499=1,I499-J499,0))","v":0},null,0,0]
[null,"2017-11-07",0,11,30,0,0.22008,0.18340000000000001,0,0,0,"2016-07-01","2016-09-30",38130,0,"2016-10-01","2017-08-31",39160,0,"2017-08-31","2017-08-31",39160,0,"2017-08-31","2017-08-31",39160,0,"2017-08-31","2017-08-31",39160,0,"2017-08-31","2017-08-31",39160,0,"2017-08-31","2017-08-31",39160,0,"2016-11-01","2016-11-30",1,0,0,{"$f":"IF('DA 2.2'!B544=2,0,IF(AR500=1,I500-J500,0))","v":0},null,0,0]
[null,"2017-11-08",0,11,30,0,0.22008,0.18340000000000001,0,0,0,"2016-07-01","2016-09-30",38130,0,"2016-10-01","2017-08-31",39160,0,"2017-08-31","2017-08-31",39160,0,"2017-08-31","2017-08-31",39160,0,"2017-08-31","2017-08-31",39160,0,"2017-08-31","2017-08-31",39160,0,"2017-08-31","2017-08-31",39160,0,"2016-11-01","2016-11-30",1,0,0,{"$f":"IF('DA 2.2'!B545=2,0,IF(AR501=1,I501-J501,0))","v":0},null,0,0]
[null,"2017-11-09",0,11,30,0,0.22008,0.18340000000000001,0,0,0,"2016-07-01","2016-09-30",38130,0,"2016-10-01","2017-08-31",39160,0,"2017-08-31","2017-08-31",39160,0,"2017-08-31","2017-08-31",39160,0,"2017-08-31","2017-08-31",39160,0,"2017-08-31","2017-08-31",39160,0,"2017-08-31","2017-08-31",39160,0,"2016-11-01","2016-11-30",1,0,0,{"$f":"IF('DA 2.2'!B546=2,0,IF(AR502=1,I502-J502,0))","v":0},null,0,0]
[null,"2017-11-10",0,11,30,0,0.22008,0.18340000000000001,0,0,0,"2016-07-01","2016-09-30",38130,0,"2016-10-01","2017-08-31",39160,0,"2017-08-31","2017-08-31",39160,0,"2017-08-31","2017-08-31",39160,0,"2017-08-31","2017-08-31",39160,0,"2017-08-31","2017-08-31",39160,0,"2017-08-31","2017-08-31",39160,0,"2016-11-01","2016-11-30",1,0,0,{"$f":"IF('DA 2.2'!B547=2,0,IF(AR503=1,I503-J503,0))","v":0},null,0,0]
[null,"2017-11-11",0,11,30,0,{"$f":"G503","v":0.22008},0.18340000000000001,0,0,0,{"$f":"L503","v":"2016-07-01"},"2016-09-30",38130,0,{"$f":"P503","v":"2016-10-01"},"2017-08-31",39160,0,{"$f":"T503","v":"2017-08-31"},"2017-08-31",39160,0,{"$f":"X503","v":"2017-08-31"},"2017-08-31",39160,0,"2017-08-31","2017-08-31",39160,0,"2017-08-31","2017-08-31",39160,0,"2017-08-31","2017-08-31",39160,0,{"$f":"AN503","v":"2016-11-01"},"2016-11-30",1,0,0,{"$f":"IF('DA 2.2'!B548=2,0,IF(AR504=1,I504-J504,0))","v":0},null,0,0]
[null,"2017-11-12",0,11,30,0,0.22008,0.18340000000000001,0,0,0,"2016-07-01","2016-09-30",38130,0,"2016-10-01","2017-08-31",39160,0,"2017-08-31","2017-08-31",39160,0,"2017-08-31","2017-08-31",39160,0,"2017-08-31","2017-08-31",39160,0,"2017-08-31","2017-08-31",39160,0,"2017-08-31","2017-08-31",39160,0,"2016-11-01","2016-11-30",1,0,0,{"$f":"IF('DA 2.2'!B549=2,0,IF(AR505=1,I505-J505,0))","v":0},null,0,0]
[null,"2017-11-13",0,11,30,0,0.22008,0.18340000000000001,0,0,0,"2016-07-01","2016-09-30",38130,0,"2016-10-01","2017-08-31",39160,0,"2017-08-31","2017-08-31",39160,0,"2017-08-31","2017-08-31",39160,0,"2017-08-31","2017-08-31",39160,0,"2017-08-31","2017-08-31",39160,0,"2017-08-31","2017-08-31",39160,0,"2016-11-01","2016-11-30",1,0,0,{"$f":"IF('DA 2.2'!B550=2,0,IF(AR506=1,I506-J506,0))","v":0},null,0,0]
[null,"2017-11-14",0,11,30,0,0.22008,0.18340000000000001,0,0,0,"2016-07-01","2016-09-30",38130,0,"2016-10-01","2017-08-31",39160,0,"2017-08-31","2017-08-31",39160,0,"2017-08-31","2017-08-31",39160,0,"2017-08-31","2017-08-31",39160,0,"2017-08-31","2017-08-31",39160,0,"2017-08-31","2017-08-31",39160,0,"2016-11-01","2016-11-30",1,0,0,{"$f":"IF('DA 2.2'!B551=2,0,IF(AR507=1,I507-J507,0))","v":0},null,0,0]
[null,"2017-11-15",0,11,30,0,0.22008,0.18340000000000001,0,0,0,"2016-07-01","2016-09-30",38130,0,"2016-10-01","2017-08-31",39160,0,"2017-08-31","2017-08-31",39160,0,"2017-08-31","2017-08-31",39160,0,"2017-08-31","2017-08-31",39160,0,"2017-08-31","2017-08-31",39160,0,"2017-08-31","2017-08-31",39160,0,"2016-11-01","2016-11-30",1,0,0,{"$f":"IF('DA 2.2'!B552=2,0,IF(AR508=1,I508-J508,0))","v":0},null,0,0]
[null,"2017-11-16",0,11,30,0,0.22008,0.18340000000000001,0,0,0,"2016-07-01","2016-09-30",38130,0,"2016-10-01","2017-08-31",39160,0,"2017-08-31","2017-08-31",39160,0,"2017-08-31","2017-08-31",39160,0,"2017-08-31","2017-08-31",39160,0,"2017-08-31","2017-08-31",39160,0,"2017-08-31","2017-08-31",39160,0,"2016-11-01","2016-11-30",1,0,0,{"$f":"IF('DA 2.2'!B553=2,0,IF(AR509=1,I509-J509,0))","v":0},null,0,0]
[null,"2017-11-17",0,11,30,0,0.22008,0.18340000000000001,0,0,0,"2016-07-01","2016-09-30",38130,0,"2016-10-01","2017-08-31",39160,0,"2017-08-31","2017-08-31",39160,0,"2017-08-31","2017-08-31",39160,0,"2017-08-31","2017-08-31",39160,0,"2017-08-31","2017-08-31",39160,0,"2017-08-31","2017-08-31",39160,0,"2016-11-01","2016-11-30",1,0,0,{"$f":"IF('DA 2.2'!B554=2,0,IF(AR510=1,I510-J510,0))","v":0},null,0,0]
[null,"2017-11-18",0,11,30,0,0.22008,0.18340000000000001,0,0,0,"2016-07-01","2016-09-30",38130,0,"2016-10-01","2017-08-31",39160,0,"2017-08-31","2017-08-31",39160,0,"2017-08-31","2017-08-31",39160,0,"2017-08-31","2017-08-31",39160,0,"2017-08-31","2017-08-31",39160,0,"2017-08-31","2017-08-31",39160,0,"2016-11-01","2016-11-30",1,0,0,{"$f":"IF('DA 2.2'!B555=2,0,IF(AR511=1,I511-J511,0))","v":0},null,0,0]
[null,"2017-11-19",0,11,30,0,0.22008,0.18340000000000001,0,0,0,"2016-07-01","2016-09-30",38130,0,"2016-10-01","2017-08-31",39160,0,"2017-08-31","2017-08-31",39160,0,"2017-08-31","2017-08-31",39160,0,"2017-08-31","2017-08-31",39160,0,"2017-08-31","2017-08-31",39160,0,"2017-08-31","2017-08-31",39160,0,"2016-11-01","2016-11-30",1,0,0,{"$f":"IF('DA 2.2'!B556=2,0,IF(AR512=1,I512-J512,0))","v":0},null,0,0]
[null,"2017-11-20",0,11,30,0,0.22008,0.18340000000000001,0,0,0,"2016-07-01","2016-09-30",38130,0,"2016-10-01","2017-08-31",39160,0,"2017-08-31","2017-08-31",39160,0,"2017-08-31","2017-08-31",39160,0,"2017-08-31","2017-08-31",39160,0,"2017-08-31","2017-08-31",39160,0,"2017-08-31","2017-08-31",39160,0,"2016-11-01","2016-11-30",1,0,0,{"$f":"IF('DA 2.2'!B557=2,0,IF(AR513=1,I513-J513,0))","v":0},null,0,0]
[null,"2017-11-21",0,11,30,0,0.22008,0.18340000000000001,0,0,0,"2016-07-01","2016-09-30",38130,0,"2016-10-01","2017-08-31",39160,0,"2017-08-31","2017-08-31",39160,0,"2017-08-31","2017-08-31",39160,0,"2017-08-31","2017-08-31",39160,0,"2017-08-31","2017-08-31",39160,0,"2017-08-31","2017-08-31",39160,0,"2016-11-01","2016-11-30",1,0,0,{"$f":"IF('DA 2.2'!B558=2,0,IF(AR514=1,I514-J514,0))","v":0},null,0,0]
[null,"2017-11-22",0,11,30,0,0.22008,0.18340000000000001,0,0,0,"2016-07-01","2016-09-30",38130,0,"2016-10-01","2017-08-31",39160,0,"2017-08-31","2017-08-31",39160,0,"2017-08-31","2017-08-31",39160,0,"2017-08-31","2017-08-31",39160,0,"2017-08-31","2017-08-31",39160,0,"2017-08-31","2017-08-31",39160,0,"2016-11-01","2016-11-30",1,0,0,{"$f":"IF('DA 2.2'!B559=2,0,IF(AR515=1,I515-J515,0))","v":0},null,0,0]
[null,"2017-11-23",0,11,30,0,0.22008,0.18340000000000001,0,0,0,"2016-07-01","2016-09-30",38130,0,"2016-10-01","2017-08-31",39160,0,"2017-08-31","2017-08-31",39160,0,"2017-08-31","2017-08-31",39160,0,"2017-08-31","2017-08-31",39160,0,"2017-08-31","2017-08-31",39160,0,"2017-08-31","2017-08-31",39160,0,"2016-11-01","2016-11-30",1,0,0,{"$f":"IF('DA 2.2'!B560=2,0,IF(AR516=1,I516-J516,0))","v":0},null,0,0]
[null,"2017-11-24",0,11,30,0,0.22008,0.18340000000000001,0,0,0,"2016-07-01","2016-09-30",38130,0,"2016-10-01","2017-08-31",39160,0,"2017-08-31","2017-08-31",39160,0,"2017-08-31","2017-08-31",39160,0,"2017-08-31","2017-08-31",39160,0,"2017-08-31","2017-08-31",39160,0,"2017-08-31","2017-08-31",39160,0,"2016-11-01","2016-11-30",1,0,0,{"$f":"IF('DA 2.2'!B561=2,0,IF(AR517=1,I517-J517,0))","v":0},null,0,0]
[null,"2017-11-25",0,11,30,{"$f":"C518/E518","v":0},0.22008,0.18340000000000001,{"$f":"F518*G518","v":0},{"$f":"F518*H518","v":0},0,"2016-07-01","2016-09-30",38130,0,"2016-10-01","2017-08-31",39160,0,"2017-08-31","2017-08-31",39160,0,"2017-08-31","2017-08-31",39160,0,"2017-08-31","2017-08-31",39160,0,"2017-08-31","2017-08-31",39160,0,"2017-08-31","2017-08-31",39160,0,"2016-11-01","2016-11-30",{"$f":"IF(B518>=AN518,1,0)","v":1},{"$f":"IF(B518<=AO518,1,0)","v":0},0,{"$f":"IF('DA 2.2'!B562=2,0,IF(AR518=1,I518-J518,0))","v":0},null,0,0]
[null,"2017-11-26",{"$f":"O519+S519+W519+AA519+AE519+AI519+AM519","v":0},{"$f":"MONTH(B519)","v":11},{"$f":"IF(D519=1,31,IF(D519=2,29,IF(D519=3,31,IF(D519=5,31,IF(D519=7,31,IF(D519=8,31,IF(D519=10,31,IF(D519=12,31,30))))))))","v":30},0,0.22008,0.18340000000000001,0,0,{"$f":"I519-J519","v":0},"2016-07-01","2016-09-30",38130,{"$f":"IF(M519>=B519,N519,0)","v":0},"2016-10-01","2017-08-31",39160,{"$f":"IF(O519>0,0,IF(Q519>=B519,R519,0))","v":0},"2017-08-31","2017-08-31",39160,{"$f":"IF(T519>U519,0,IF(O519>0,0,IF(S519>0,0,IF(U519>=B519,V519,0))))","v":0},"2017-08-31","2017-08-31",39160,{"$f":"IF(X519>=Y519,0,IF(O519>0,0,IF(S519>0,0,IF(W519>0,0,IF(Y519>=B519,Z519,0)))))","v":0},"2017-08-31","2017-08-31",39160,{"$f":"IF(O519>0,0,IF(AB519>=AC519,0,IF(S519>0,0,IF(W519>0,0,IF(AA519>0,0,IF(AC519>=B519,AD519,0))))))","v":0},"2017-08-31","2017-08-31",39160,{"$f":"IF(O519>0,0,IF(S519>0,0,IF(AF519>=AG519,0,IF(W519>0,0,IF(AA519>0,0,IF(AE519>0,0,IF(AG519>=B519,AH519,0)))))))","v":0},"2017-08-31","2017-08-31",39160,0,"2016-11-01","2016-11-30",1,0,{"$f":"IF(SUM(AP519:AQ519)=2,1,0)","v":0},{"$f":"IF('DA 2.2'!B563=2,0,IF(AR519=1,I519-J519,0))","v":0},null,{"$f":"ROUND(K519*10%,6)","v":0},{"$f":"ROUND(K519,6)","v":0}]
[null,"2017-11-27",0,11,30,0,{"$f":"G519","v":0.22008},0.18340000000000001,0,0,0,{"$f":"L519","v":"2016-07-01"},"2016-09-30",38130,0,{"$f":"P519","v":"2016-10-01"},"2017-08-31",39160,0,{"$f":"T519","v":"2017-08-31"},"2017-08-31",39160,0,{"$f":"X519","v":"2017-08-31"},"2017-08-31",39160,0,{"$f":"AB519","v":"2017-08-31"},"2017-08-31",39160,0,{"$f":"AF519","v":"2017-08-31"},{"$f":"AG519","v":"2017-08-31"},{"$f":"AH519","v":39160},0,{"$f":"AJ519","v":"2017-08-31"},{"$f":"AK519","v":"2017-08-31"},{"$f":"AL519","v":39160},{"$f":"IF(O520>0,0,IF(S520>0,0,IF(AJ520>=AK520,0,IF(W520>0,0,IF(AA520>0,0,IF(AE520>0,0,IF(AI520>0,0,IF(AK520>=B520,AL520,0))))))))","v":0},{"$f":"AN519","v":"2016-11-01"},"2016-11-30",1,0,0,{"$f":"IF('DA 2.2'!B564=2,0,IF(AR520=1,I520-J520,0))","v":0},null,0,0]
[null,"2017-11-28",0,11,30,0,0.22008,0.18340000000000001,0,0,0,"2016-07-01","2016-09-30",38130,0,"2016-10-01","2017-08-31",39160,0,"2017-08-31","2017-08-31",39160,0,"2017-08-31","2017-08-31",39160,0,"2017-08-31","2017-08-31",39160,0,"2017-08-31","2017-08-31",39160,0,"2017-08-31","2017-08-31",39160,0,"2016-11-01","2016-11-30",1,0,0,{"$f":"IF('DA 2.2'!B565=2,0,IF(AR521=1,I521-J521,0))","v":0},null,0,0]
[null,"2017-11-29",0,11,30,0,0.22008,0.18340000000000001,0,0,0,"2016-07-01","2016-09-30",38130,0,"2016-10-01","2017-08-31",39160,0,"2017-08-31","2017-08-31",39160,0,"2017-08-31","2017-08-31",39160,0,"2017-08-31","2017-08-31",39160,0,"2017-08-31","2017-08-31",39160,0,"2017-08-31","2017-08-31",39160,0,"2016-11-01","2016-11-30",1,0,0,{"$f":"IF('DA 2.2'!B566=2,0,IF(AR522=1,I522-J522,0))","v":0},null,0,0]
[null,"2017-11-30",0,11,30,0,0.22008,0.18340000000000001,0,0,0,"2016-07-01","2016-09-30",38130,0,"2016-10-01","2017-08-31",39160,0,"2017-08-31","2017-08-31",39160,0,"2017-08-31","2017-08-31",39160,0,"2017-08-31","2017-08-31",39160,0,"2017-08-31","2017-08-31",39160,0,"2017-08-31","2017-08-31",39160,0,"2016-11-01","2016-11-30",1,0,0,{"$f":"IF('DA 2.2'!B567=2,0,IF(AR523=1,I523-J523,0))","v":0},null,0,0]
[null,"2017-12-01",0,12,31,0,0.22008,0.18340000000000001,0,0,0,"2016-07-01","2016-09-30",38130,0,"2016-10-01","2017-08-31",39160,0,"2017-08-31","2017-08-31",39160,0,"2017-08-31","2017-08-31",39160,0,"2017-08-31","2017-08-31",39160,0,"2017-08-31","2017-08-31",39160,0,"2017-08-31","2017-08-31",39160,0,"2016-11-01","2016-11-30",1,0,0,{"$f":"IF('DA 2.2'!B568=2,0,IF(AR524=1,I524-J524,0))","v":0},null,0,0]
[null,"2017-12-02",0,12,31,0,0.22008,0.18340000000000001,0,0,0,"2016-07-01","2016-09-30",38130,0,"2016-10-01","2017-08-31",39160,0,"2017-08-31","2017-08-31",39160,0,"2017-08-31","2017-08-31",39160,0,"2017-08-31","2017-08-31",39160,0,"2017-08-31","2017-08-31",39160,0,"2017-08-31","2017-08-31",39160,0,"2016-11-01","2016-11-30",1,0,0,{"$f":"IF('DA 2.2'!B569=2,0,IF(AR525=1,I525-J525,0))","v":0},null,0,0]
[null,"2017-12-03",0,12,31,0,0.22008,0.18340000000000001,0,0,0,"2016-07-01","2016-09-30",38130,0,"2016-10-01","2017-08-31",39160,0,"2017-08-31","2017-08-31",39160,0,"2017-08-31","2017-08-31",39160,0,"2017-08-31","2017-08-31",39160,0,"2017-08-31","2017-08-31",39160,0,"2017-08-31","2017-08-31",39160,0,"2016-11-01","2016-11-30",1,0,0,{"$f":"IF('DA 2.2'!B570=2,0,IF(AR526=1,I526-J526,0))","v":0},null,0,0]
[null,"2017-12-04",0,12,31,0,0.22008,0.18340000000000001,0,0,0,"2016-07-01","2016-09-30",38130,0,"2016-10-01","2017-08-31",39160,0,"2017-08-31","2017-08-31",39160,0,"2017-08-31","2017-08-31",39160,0,"2017-08-31","2017-08-31",39160,0,"2017-08-31","2017-08-31",39160,0,"2017-08-31","2017-08-31",39160,0,"2016-11-01","2016-11-30",1,0,0,{"$f":"IF('DA 2.2'!B571=2,0,IF(AR527=1,I527-J527,0))","v":0},null,0,0]
[null,"2017-12-05",0,12,31,0,0.22008,0.18340000000000001,0,0,0,"2016-07-01","2016-09-30",38130,0,"2016-10-01","2017-08-31",39160,0,"2017-08-31","2017-08-31",39160,0,"2017-08-31","2017-08-31",39160,0,"2017-08-31","2017-08-31",39160,0,"2017-08-31","2017-08-31",39160,0,"2017-08-31","2017-08-31",39160,0,"2016-11-01","2016-11-30",1,0,0,{"$f":"IF('DA 2.2'!B572=2,0,IF(AR528=1,I528-J528,0))","v":0},null,0,0]
[null,"2017-12-06",0,12,31,0,0.22008,0.18340000000000001,0,0,0,"2016-07-01","2016-09-30",38130,0,"2016-10-01","2017-08-31",39160,0,"2017-08-31","2017-08-31",39160,0,"2017-08-31","2017-08-31",39160,0,"2017-08-31","2017-08-31",39160,0,"2017-08-31","2017-08-31",39160,0,"2017-08-31","2017-08-31",39160,0,"2016-11-01","2016-11-30",1,0,0,{"$f":"IF('DA 2.2'!B573=2,0,IF(AR529=1,I529-J529,0))","v":0},null,0,0]
[null,"2017-12-07",0,12,31,0,0.22008,0.18340000000000001,0,0,0,"2016-07-01","2016-09-30",38130,0,"2016-10-01","2017-08-31",39160,0,"2017-08-31","2017-08-31",39160,0,"2017-08-31","2017-08-31",39160,0,"2017-08-31","2017-08-31",39160,0,"2017-08-31","2017-08-31",39160,0,"2017-08-31","2017-08-31",39160,0,"2016-11-01","2016-11-30",1,0,0,{"$f":"IF('DA 2.2'!B574=2,0,IF(AR530=1,I530-J530,0))","v":0},null,0,0]
[null,"2017-12-08",0,12,31,0,0.22008,0.18340000000000001,0,0,0,"2016-07-01","2016-09-30",38130,0,"2016-10-01","2017-08-31",39160,0,"2017-08-31","2017-08-31",39160,0,"2017-08-31","2017-08-31",39160,0,"2017-08-31","2017-08-31",39160,0,"2017-08-31","2017-08-31",39160,0,"2017-08-31","2017-08-31",39160,0,"2016-11-01","2016-11-30",1,0,0,{"$f":"IF('DA 2.2'!B575=2,0,IF(AR531=1,I531-J531,0))","v":0},null,0,0]
[null,"2017-12-09",0,12,31,0,0.22008,0.18340000000000001,0,0,0,"2016-07-01","2016-09-30",38130,0,"2016-10-01","2017-08-31",39160,0,"2017-08-31","2017-08-31",39160,0,"2017-08-31","2017-08-31",39160,0,"2017-08-31","2017-08-31",39160,0,"2017-08-31","2017-08-31",39160,0,"2017-08-31","2017-08-31",39160,0,"2016-11-01","2016-11-30",1,0,0,{"$f":"IF('DA 2.2'!B576=2,0,IF(AR532=1,I532-J532,0))","v":0},null,0,0]
[null,"2017-12-10",0,12,31,0,0.22008,0.18340000000000001,0,0,0,"2016-07-01","2016-09-30",38130,0,"2016-10-01","2017-08-31",39160,0,"2017-08-31","2017-08-31",39160,0,"2017-08-31","2017-08-31",39160,0,"2017-08-31","2017-08-31",39160,0,"2017-08-31","2017-08-31",39160,0,"2017-08-31","2017-08-31",39160,0,"2016-11-01","2016-11-30",1,0,0,{"$f":"IF('DA 2.2'!B577=2,0,IF(AR533=1,I533-J533,0))","v":0},null,0,0]
[null,"2017-12-11",0,12,31,0,0.22008,0.18340000000000001,0,0,0,"2016-07-01","2016-09-30",38130,0,"2016-10-01","2017-08-31",39160,0,"2017-08-31","2017-08-31",39160,0,"2017-08-31","2017-08-31",39160,0,"2017-08-31","2017-08-31",39160,0,"2017-08-31","2017-08-31",39160,0,"2017-08-31","2017-08-31",39160,0,"2016-11-01","2016-11-30",1,0,0,{"$f":"IF('DA 2.2'!B578=2,0,IF(AR534=1,I534-J534,0))","v":0},null,0,0]
[null,"2017-12-12",0,12,31,0,0.22008,0.18340000000000001,0,0,0,"2016-07-01","2016-09-30",38130,0,"2016-10-01","2017-08-31",39160,0,"2017-08-31","2017-08-31",39160,0,"2017-08-31","2017-08-31",39160,0,"2017-08-31","2017-08-31",39160,0,"2017-08-31","2017-08-31",39160,0,"2017-08-31","2017-08-31",39160,0,"2016-11-01","2016-11-30",1,0,0,{"$f":"IF('DA 2.2'!B579=2,0,IF(AR535=1,I535-J535,0))","v":0},null,0,0]
[null,"2017-12-13",0,12,31,0,{"$f":"G535","v":0.22008},0.18340000000000001,0,0,0,{"$f":"L535","v":"2016-07-01"},"2016-09-30",38130,0,{"$f":"P535","v":"2016-10-01"},"2017-08-31",39160,0,{"$f":"T535","v":"2017-08-31"},"2017-08-31",39160,0,{"$f":"X535","v":"2017-08-31"},"2017-08-31",39160,0,"2017-08-31","2017-08-31",39160,0,"2017-08-31","2017-08-31",39160,0,"2017-08-31","2017-08-31",39160,0,{"$f":"AN535","v":"2016-11-01"},"2016-11-30",1,0,0,{"$f":"IF('DA 2.2'!B580=2,0,IF(AR536=1,I536-J536,0))","v":0},null,0,0]
[null,"2017-12-14",0,12,31,0,0.22008,0.18340000000000001,0,0,0,"2016-07-01","2016-09-30",38130,0,"2016-10-01","2017-08-31",39160,0,"2017-08-31","2017-08-31",39160,0,"2017-08-31","2017-08-31",39160,0,"2017-08-31","2017-08-31",39160,0,"2017-08-31","2017-08-31",39160,0,"2017-08-31","2017-08-31",39160,0,"2016-11-01","2016-11-30",1,0,0,{"$f":"IF('DA 2.2'!B581=2,0,IF(AR537=1,I537-J537,0))","v":0},null,0,0]
[null,"2017-12-15",0,12,31,0,0.22008,0.18340000000000001,0,0,0,"2016-07-01","2016-09-30",38130,0,"2016-10-01","2017-08-31",39160,0,"2017-08-31","2017-08-31",39160,0,"2017-08-31","2017-08-31",39160,0,"2017-08-31","2017-08-31",39160,0,"2017-08-31","2017-08-31",39160,0,"2017-08-31","2017-08-31",39160,0,"2016-11-01","2016-11-30",1,0,0,{"$f":"IF('DA 2.2'!B582=2,0,IF(AR538=1,I538-J538,0))","v":0},null,0,0]
[null,"2017-12-16",0,12,31,0,0.22008,0.18340000000000001,0,0,0,"2016-07-01","2016-09-30",38130,0,"2016-10-01","2017-08-31",39160,0,"2017-08-31","2017-08-31",39160,0,"2017-08-31","2017-08-31",39160,0,"2017-08-31","2017-08-31",39160,0,"2017-08-31","2017-08-31",39160,0,"2017-08-31","2017-08-31",39160,0,"2016-11-01","2016-11-30",1,0,0,{"$f":"IF('DA 2.2'!B583=2,0,IF(AR539=1,I539-J539,0))","v":0},null,0,0]
[null,"2017-12-17",0,12,31,0,0.22008,0.18340000000000001,0,0,0,"2016-07-01","2016-09-30",38130,0,"2016-10-01","2017-08-31",39160,0,"2017-08-31","2017-08-31",39160,0,"2017-08-31","2017-08-31",39160,0,"2017-08-31","2017-08-31",39160,0,"2017-08-31","2017-08-31",39160,0,"2017-08-31","2017-08-31",39160,0,"2016-11-01","2016-11-30",1,0,0,{"$f":"IF('DA 2.2'!B584=2,0,IF(AR540=1,I540-J540,0))","v":0},null,0,0]
[null,"2017-12-18",0,12,31,0,0.22008,0.18340000000000001,0,0,0,"2016-07-01","2016-09-30",38130,0,"2016-10-01","2017-08-31",39160,0,"2017-08-31","2017-08-31",39160,0,"2017-08-31","2017-08-31",39160,0,"2017-08-31","2017-08-31",39160,0,"2017-08-31","2017-08-31",39160,0,"2017-08-31","2017-08-31",39160,0,"2016-11-01","2016-11-30",1,0,0,{"$f":"IF('DA 2.2'!B585=2,0,IF(AR541=1,I541-J541,0))","v":0},null,0,0]
[null,"2017-12-19",0,12,31,0,0.22008,0.18340000000000001,0,0,0,"2016-07-01","2016-09-30",38130,0,"2016-10-01","2017-08-31",39160,0,"2017-08-31","2017-08-31",39160,0,"2017-08-31","2017-08-31",39160,0,"2017-08-31","2017-08-31",39160,0,"2017-08-31","2017-08-31",39160,0,"2017-08-31","2017-08-31",39160,0,"2016-11-01","2016-11-30",1,0,0,{"$f":"IF('DA 2.2'!B586=2,0,IF(AR542=1,I542-J542,0))","v":0},null,0,0]
[null,"2017-12-20",0,12,31,0,0.22008,0.18340000000000001,0,0,0,"2016-07-01","2016-09-30",38130,0,"2016-10-01","2017-08-31",39160,0,"2017-08-31","2017-08-31",39160,0,"2017-08-31","2017-08-31",39160,0,"2017-08-31","2017-08-31",39160,0,"2017-08-31","2017-08-31",39160,0,"2017-08-31","2017-08-31",39160,0,"2016-11-01","2016-11-30",1,0,0,{"$f":"IF('DA 2.2'!B587=2,0,IF(AR543=1,I543-J543,0))","v":0},null,0,0]
[null,"2017-12-21",0,12,31,0,0.22008,0.18340000000000001,0,0,0,"2016-07-01","2016-09-30",38130,0,"2016-10-01","2017-08-31",39160,0,"2017-08-31","2017-08-31",39160,0,"2017-08-31","2017-08-31",39160,0,"2017-08-31","2017-08-31",39160,0,"2017-08-31","2017-08-31",39160,0,"2017-08-31","2017-08-31",39160,0,"2016-11-01","2016-11-30",1,0,0,{"$f":"IF('DA 2.2'!B588=2,0,IF(AR544=1,I544-J544,0))","v":0},null,0,0]
[null,"2017-12-22",0,12,31,0,0.22008,0.18340000000000001,0,0,0,"2016-07-01","2016-09-30",38130,0,"2016-10-01","2017-08-31",39160,0,"2017-08-31","2017-08-31",39160,0,"2017-08-31","2017-08-31",39160,0,"2017-08-31","2017-08-31",39160,0,"2017-08-31","2017-08-31",39160,0,"2017-08-31","2017-08-31",39160,0,"2016-11-01","2016-11-30",1,0,0,{"$f":"IF('DA 2.2'!B589=2,0,IF(AR545=1,I545-J545,0))","v":0},null,0,0]
[null,"2017-12-23",0,12,31,0,0.22008,0.18340000000000001,0,0,0,"2016-07-01","2016-09-30",38130,0,"2016-10-01","2017-08-31",39160,0,"2017-08-31","2017-08-31",39160,0,"2017-08-31","2017-08-31",39160,0,"2017-08-31","2017-08-31",39160,0,"2017-08-31","2017-08-31",39160,0,"2017-08-31","2017-08-31",39160,0,"2016-11-01","2016-11-30",1,0,0,{"$f":"IF('DA 2.2'!B590=2,0,IF(AR546=1,I546-J546,0))","v":0},null,0,0]
[null,"2017-12-24",0,12,31,0,0.22008,0.18340000000000001,0,0,0,"2016-07-01","2016-09-30",38130,0,"2016-10-01","2017-08-31",39160,0,"2017-08-31","2017-08-31",39160,0,"2017-08-31","2017-08-31",39160,0,"2017-08-31","2017-08-31",39160,0,"2017-08-31","2017-08-31",39160,0,"2017-08-31","2017-08-31",39160,0,"2016-11-01","2016-11-30",1,0,0,{"$f":"IF('DA 2.2'!B591=2,0,IF(AR547=1,I547-J547,0))","v":0},null,0,0]
[null,"2017-12-25",0,12,31,0,0.22008,0.18340000000000001,0,0,0,"2016-07-01","2016-09-30",38130,0,"2016-10-01","2017-08-31",39160,0,"2017-08-31","2017-08-31",39160,0,"2017-08-31","2017-08-31",39160,0,"2017-08-31","2017-08-31",39160,0,"2017-08-31","2017-08-31",39160,0,"2017-08-31","2017-08-31",39160,0,"2016-11-01","2016-11-30",1,0,0,{"$f":"IF('DA 2.2'!B592=2,0,IF(AR548=1,I548-J548,0))","v":0},null,0,0]
[null,"2017-12-26",0,12,31,0,0.22008,0.18340000000000001,0,0,0,"2016-07-01","2016-09-30",38130,0,"2016-10-01","2017-08-31",39160,0,"2017-08-31","2017-08-31",39160,0,"2017-08-31","2017-08-31",39160,0,"2017-08-31","2017-08-31",39160,0,"2017-08-31","2017-08-31",39160,0,"2017-08-31","2017-08-31",39160,0,"2016-11-01","2016-11-30",1,0,0,{"$f":"IF('DA 2.2'!B593=2,0,IF(AR549=1,I549-J549,0))","v":0},null,0,0]
[null,"2017-12-27",0,12,31,0,0.22008,0.18340000000000001,0,0,0,"2016-07-01","2016-09-30",38130,0,"2016-10-01","2017-08-31",39160,0,"2017-08-31","2017-08-31",39160,0,"2017-08-31","2017-08-31",39160,0,"2017-08-31","2017-08-31",39160,0,"2017-08-31","2017-08-31",39160,0,"2017-08-31","2017-08-31",39160,0,"2016-11-01","2016-11-30",1,0,0,{"$f":"IF('DA 2.2'!B594=2,0,IF(AR550=1,I550-J550,0))","v":0},null,0,0]
[null,"2017-12-28",0,12,31,0,0.22008,0.18340000000000001,0,0,0,"2016-07-01","2016-09-30",38130,0,"2016-10-01","2017-08-31",39160,0,"2017-08-31","2017-08-31",39160,0,"2017-08-31","2017-08-31",39160,0,"2017-08-31","2017-08-31",39160,0,"2017-08-31","2017-08-31",39160,0,"2017-08-31","2017-08-31",39160,0,"2016-11-01","2016-11-30",1,0,0,{"$f":"IF('DA 2.2'!B595=2,0,IF(AR551=1,I551-J551,0))","v":0},null,0,0]
[null,"2017-12-29",0,12,31,0,{"$f":"G551","v":0.22008},0.18340000000000001,0,0,0,{"$f":"L551","v":"2016-07-01"},"2016-09-30",38130,0,{"$f":"P551","v":"2016-10-01"},"2017-08-31",39160,0,{"$f":"T551","v":"2017-08-31"},"2017-08-31",39160,0,{"$f":"X551","v":"2017-08-31"},"2017-08-31",39160,0,"2017-08-31","2017-08-31",39160,0,"2017-08-31","2017-08-31",39160,0,"2017-08-31","2017-08-31",39160,0,{"$f":"AN551","v":"2016-11-01"},"2016-11-30",1,0,0,{"$f":"IF('DA 2.2'!B596=2,0,IF(AR552=1,I552-J552,0))","v":0},null,0,0]
[null,"2017-12-30",0,12,31,0,{"$f":"G552","v":0.22008},{"$f":"H552","v":0.18340000000000001},0,0,0,{"$f":"L552","v":"2016-07-01"},{"$f":"M552","v":"2016-09-30"},{"$f":"N552","v":38130},0,{"$f":"P552","v":"2016-10-01"},{"$f":"Q552","v":"2017-08-31"},{"$f":"R552","v":39160},0,{"$f":"T552","v":"2017-08-31"},{"$f":"U552","v":"2017-08-31"},{"$f":"V552","v":39160},0,{"$f":"X552","v":"2017-08-31"},{"$f":"Y552","v":"2017-08-31"},{"$f":"Z552","v":39160},0,{"$f":"AB552","v":"2017-08-31"},{"$f":"AC552","v":"2017-08-31"},{"$f":"AD552","v":39160},0,"2017-08-31","2017-08-31",39160,0,"2017-08-31","2017-08-31",39160,0,{"$f":"AN552","v":"2016-11-01"},{"$f":"AO552","v":"2016-11-30"},1,0,0,{"$f":"IF('DA 2.2'!B597=2,0,IF(AR553=1,I553-J553,0))","v":0},null,0,0]
[null,"2017-12-31",0,12,31,0,0.22008,0.18340000000000001,0,0,0,"2016-07-01","2016-09-30",38130,0,"2016-10-01","2017-08-31",39160,0,"2017-08-31","2017-08-31",39160,0,"2017-08-31","2017-08-31",39160,0,"2017-08-31","2017-08-31",39160,0,"2017-08-31","2017-08-31",39160,0,"2017-08-31","2017-08-31",39160,0,"2016-11-01","2016-11-30",1,0,0,{"$f":"IF('DA 2.2'!B598=2,0,IF(AR554=1,I554-J554,0))","v":0},null,0,0]
[null,"2018-01-01",0,1,31,0,0.22008,0.18340000000000001,0,0,0,"2016-07-01","2016-09-30",38130,0,"2016-10-01","2017-08-31",39160,0,"2017-08-31","2017-08-31",39160,0,"2017-08-31","2017-08-31",39160,0,"2017-08-31","2017-08-31",39160,0,"2017-08-31","2017-08-31",39160,0,"2017-08-31","2017-08-31",39160,0,"2016-11-01","2016-11-30",1,0,0,{"$f":"IF('DA 2.2'!B599=2,0,IF(AR555=1,I555-J555,0))","v":0},null,0,0]
[null,"2018-01-02",0,1,31,0,0.22008,0.18340000000000001,0,0,0,"2016-07-01","2016-09-30",38130,0,"2016-10-01","2017-08-31",39160,0,"2017-08-31","2017-08-31",39160,0,"2017-08-31","2017-08-31",39160,0,"2017-08-31","2017-08-31",39160,0,"2017-08-31","2017-08-31",39160,0,"2017-08-31","2017-08-31",39160,0,"2016-11-01","2016-11-30",1,0,0,{"$f":"IF('DA 2.2'!B600=2,0,IF(AR556=1,I556-J556,0))","v":0},null,0,0]
[null,"2018-01-03",0,1,31,0,0.22008,0.18340000000000001,0,0,0,"2016-07-01","2016-09-30",38130,0,"2016-10-01","2017-08-31",39160,0,"2017-08-31","2017-08-31",39160,0,"2017-08-31","2017-08-31",39160,0,"2017-08-31","2017-08-31",39160,0,"2017-08-31","2017-08-31",39160,0,"2017-08-31","2017-08-31",39160,0,"2016-11-01","2016-11-30",1,0,0,{"$f":"IF('DA 2.2'!B601=2,0,IF(AR557=1,I557-J557,0))","v":0},null,0,0]
[null,"2018-01-04",0,1,31,0,0.22008,0.18340000000000001,0,0,0,"2016-07-01","2016-09-30",38130,0,"2016-10-01","2017-08-31",39160,0,"2017-08-31","2017-08-31",39160,0,"2017-08-31","2017-08-31",39160,0,"2017-08-31","2017-08-31",39160,0,"2017-08-31","2017-08-31",39160,0,"2017-08-31","2017-08-31",39160,0,"2016-11-01","2016-11-30",1,0,0,{"$f":"IF('DA 2.2'!B602=2,0,IF(AR558=1,I558-J558,0))","v":0},null,0,0]
[null,"2018-01-05",0,1,31,0,0.22008,0.18340000000000001,0,0,0,"2016-07-01","2016-09-30",38130,0,"2016-10-01","2017-08-31",39160,0,"2017-08-31","2017-08-31",39160,0,"2017-08-31","2017-08-31",39160,0,"2017-08-31","2017-08-31",39160,0,"2017-08-31","2017-08-31",39160,0,"2017-08-31","2017-08-31",39160,0,"2016-11-01","2016-11-30",1,0,0,{"$f":"IF('DA 2.2'!B603=2,0,IF(AR559=1,I559-J559,0))","v":0},null,0,0]
[null,"2018-01-06",0,1,31,0,0.22008,0.18340000000000001,0,0,0,"2016-07-01","2016-09-30",38130,0,"2016-10-01","2017-08-31",39160,0,"2017-08-31","2017-08-31",39160,0,"2017-08-31","2017-08-31",39160,0,"2017-08-31","2017-08-31",39160,0,"2017-08-31","2017-08-31",39160,0,"2017-08-31","2017-08-31",39160,0,"2016-11-01","2016-11-30",1,0,0,{"$f":"IF('DA 2.2'!B604=2,0,IF(AR560=1,I560-J560,0))","v":0},null,0,0]
[null,"2018-01-07",0,1,31,0,0.22008,0.18340000000000001,0,0,0,"2016-07-01","2016-09-30",38130,0,"2016-10-01","2017-08-31",39160,0,"2017-08-31","2017-08-31",39160,0,"2017-08-31","2017-08-31",39160,0,"2017-08-31","2017-08-31",39160,0,"2017-08-31","2017-08-31",39160,0,"2017-08-31","2017-08-31",39160,0,"2016-11-01","2016-11-30",1,0,0,{"$f":"IF('DA 2.2'!B605=2,0,IF(AR561=1,I561-J561,0))","v":0},null,0,0]
[null,"2018-01-08",0,1,31,0,0.22008,0.18340000000000001,0,0,0,"2016-07-01","2016-09-30",38130,0,"2016-10-01","2017-08-31",39160,0,"2017-08-31","2017-08-31",39160,0,"2017-08-31","2017-08-31",39160,0,"2017-08-31","2017-08-31",39160,0,"2017-08-31","2017-08-31",39160,0,"2017-08-31","2017-08-31",39160,0,"2016-11-01","2016-11-30",1,0,0,{"$f":"IF('DA 2.2'!B606=2,0,IF(AR562=1,I562-J562,0))","v":0},null,0,0]
[null,"2018-01-09",0,1,31,0,0.22008,0.18340000000000001,0,0,0,"2016-07-01","2016-09-30",38130,0,"2016-10-01","2017-08-31",39160,0,"2017-08-31","2017-08-31",39160,0,"2017-08-31","2017-08-31",39160,0,"2017-08-31","2017-08-31",39160,0,"2017-08-31","2017-08-31",39160,0,"2017-08-31","2017-08-31",39160,0,"2016-11-01","2016-11-30",1,0,0,{"$f":"IF('DA 2.2'!B607=2,0,IF(AR563=1,I563-J563,0))","v":0},null,0,0]
[null,"2018-01-10",0,1,31,0,0.22008,0.18340000000000001,0,0,0,"2016-07-01","2016-09-30",38130,0,"2016-10-01","2017-08-31",39160,0,"2017-08-31","2017-08-31",39160,0,"2017-08-31","2017-08-31",39160,0,"2017-08-31","2017-08-31",39160,0,"2017-08-31","2017-08-31",39160,0,"2017-08-31","2017-08-31",39160,0,"2016-11-01","2016-11-30",1,0,0,{"$f":"IF('DA 2.2'!B608=2,0,IF(AR564=1,I564-J564,0))","v":0},null,0,0]
[null,"2018-01-11",0,1,31,0,0.22008,0.18340000000000001,0,0,0,"2016-07-01","2016-09-30",38130,0,"2016-10-01","2017-08-31",39160,0,"2017-08-31","2017-08-31",39160,0,"2017-08-31","2017-08-31",39160,0,"2017-08-31","2017-08-31",39160,0,"2017-08-31","2017-08-31",39160,0,"2017-08-31","2017-08-31",39160,0,"2016-11-01","2016-11-30",1,0,0,{"$f":"IF('DA 2.2'!B609=2,0,IF(AR565=1,I565-J565,0))","v":0},null,0,0]
[null,"2018-01-12",0,1,31,0,0.22008,0.18340000000000001,0,0,0,"2016-07-01","2016-09-30",38130,0,"2016-10-01","2017-08-31",39160,0,"2017-08-31","2017-08-31",39160,0,"2017-08-31","2017-08-31",39160,0,"2017-08-31","2017-08-31",39160,0,"2017-08-31","2017-08-31",39160,0,"2017-08-31","2017-08-31",39160,0,"2016-11-01","2016-11-30",1,0,0,{"$f":"IF('DA 2.2'!B610=2,0,IF(AR566=1,I566-J566,0))","v":0},null,0,0]
[null,"2018-01-13",0,1,31,0,0.22008,0.18340000000000001,0,0,0,"2016-07-01","2016-09-30",38130,0,"2016-10-01","2017-08-31",39160,0,"2017-08-31","2017-08-31",39160,0,"2017-08-31","2017-08-31",39160,0,"2017-08-31","2017-08-31",39160,0,"2017-08-31","2017-08-31",39160,0,"2017-08-31","2017-08-31",39160,0,"2016-11-01","2016-11-30",1,0,0,{"$f":"IF('DA 2.2'!B611=2,0,IF(AR567=1,I567-J567,0))","v":0},null,0,0]
[null,"2018-01-14",0,1,31,0,{"$f":"G567","v":0.22008},0.18340000000000001,0,0,0,{"$f":"L567","v":"2016-07-01"},"2016-09-30",38130,0,{"$f":"P567","v":"2016-10-01"},"2017-08-31",39160,0,{"$f":"T567","v":"2017-08-31"},"2017-08-31",39160,0,{"$f":"X567","v":"2017-08-31"},"2017-08-31",39160,0,"2017-08-31","2017-08-31",39160,0,"2017-08-31","2017-08-31",39160,0,"2017-08-31","2017-08-31",39160,0,{"$f":"AN567","v":"2016-11-01"},"2016-11-30",1,0,0,{"$f":"IF('DA 2.2'!B612=2,0,IF(AR568=1,I568-J568,0))","v":0},null,0,0]
[null,"2018-01-15",0,1,31,0,0.22008,0.18340000000000001,0,0,0,"2016-07-01","2016-09-30",38130,0,"2016-10-01","2017-08-31",39160,0,"2017-08-31","2017-08-31",39160,0,"2017-08-31","2017-08-31",39160,0,"2017-08-31","2017-08-31",39160,0,"2017-08-31","2017-08-31",39160,0,"2017-08-31","2017-08-31",39160,0,"2016-11-01","2016-11-30",1,0,0,{"$f":"IF('DA 2.2'!B613=2,0,IF(AR569=1,I569-J569,0))","v":0},null,0,0]
[null,"2018-01-16",0,1,31,0,0.22008,0.18340000000000001,0,0,0,"2016-07-01","2016-09-30",38130,0,"2016-10-01","2017-08-31",39160,0,"2017-08-31","2017-08-31",39160,0,"2017-08-31","2017-08-31",39160,0,"2017-08-31","2017-08-31",39160,0,"2017-08-31","2017-08-31",39160,0,"2017-08-31","2017-08-31",39160,0,"2016-11-01","2016-11-30",1,0,0,{"$f":"IF('DA 2.2'!B614=2,0,IF(AR570=1,I570-J570,0))","v":0},null,0,0]
[null,"2018-01-17",0,1,31,0,0.22008,0.18340000000000001,0,0,0,"2016-07-01","2016-09-30",38130,0,"2016-10-01","2017-08-31",39160,0,"2017-08-31","2017-08-31",39160,0,"2017-08-31","2017-08-31",39160,0,"2017-08-31","2017-08-31",39160,0,"2017-08-31","2017-08-31",39160,0,"2017-08-31","2017-08-31",39160,0,"2016-11-01","2016-11-30",1,0,0,{"$f":"IF('DA 2.2'!B615=2,0,IF(AR571=1,I571-J571,0))","v":0},null,0,0]
[null,"2018-01-18",0,1,31,0,0.22008,0.18340000000000001,0,0,0,"2016-07-01","2016-09-30",38130,0,"2016-10-01","2017-08-31",39160,0,"2017-08-31","2017-08-31",39160,0,"2017-08-31","2017-08-31",39160,0,"2017-08-31","2017-08-31",39160,0,"2017-08-31","2017-08-31",39160,0,"2017-08-31","2017-08-31",39160,0,"2016-11-01","2016-11-30",1,0,0,{"$f":"IF('DA 2.2'!B616=2,0,IF(AR572=1,I572-J572,0))","v":0},null,0,0]
[null,"2018-01-19",0,1,31,0,0.22008,0.18340000000000001,0,0,0,"2016-07-01","2016-09-30",38130,0,"2016-10-01","2017-08-31",39160,0,"2017-08-31","2017-08-31",39160,0,"2017-08-31","2017-08-31",39160,0,"2017-08-31","2017-08-31",39160,0,"2017-08-31","2017-08-31",39160,0,"2017-08-31","2017-08-31",39160,0,"2016-11-01","2016-11-30",1,0,0,{"$f":"IF('DA 2.2'!B617=2,0,IF(AR573=1,I573-J573,0))","v":0},null,0,0]
[null,"2018-01-20",0,1,31,0,0.22008,0.18340000000000001,0,0,0,"2016-07-01","2016-09-30",38130,0,"2016-10-01","2017-08-31",39160,0,"2017-08-31","2017-08-31",39160,0,"2017-08-31","2017-08-31",39160,0,"2017-08-31","2017-08-31",39160,0,"2017-08-31","2017-08-31",39160,0,"2017-08-31","2017-08-31",39160,0,"2016-11-01","2016-11-30",1,0,0,{"$f":"IF('DA 2.2'!B618=2,0,IF(AR574=1,I574-J574,0))","v":0},null,0,0]
[null,"2018-01-21",0,1,31,0,0.22008,0.18340000000000001,0,0,0,"2016-07-01","2016-09-30",38130,0,"2016-10-01","2017-08-31",39160,0,"2017-08-31","2017-08-31",39160,0,"2017-08-31","2017-08-31",39160,0,"2017-08-31","2017-08-31",39160,0,"2017-08-31","2017-08-31",39160,0,"2017-08-31","2017-08-31",39160,0,"2016-11-01","2016-11-30",1,0,0,{"$f":"IF('DA 2.2'!B619=2,0,IF(AR575=1,I575-J575,0))","v":0},null,0,0]
[null,"2018-01-22",0,1,31,0,0.22008,0.18340000000000001,0,0,0,"2016-07-01","2016-09-30",38130,0,"2016-10-01","2017-08-31",39160,0,"2017-08-31","2017-08-31",39160,0,"2017-08-31","2017-08-31",39160,0,"2017-08-31","2017-08-31",39160,0,"2017-08-31","2017-08-31",39160,0,"2017-08-31","2017-08-31",39160,0,"2016-11-01","2016-11-30",1,0,0,{"$f":"IF('DA 2.2'!B620=2,0,IF(AR576=1,I576-J576,0))","v":0},null,0,0]
[null,"2018-01-23",0,1,31,0,0.22008,0.18340000000000001,0,0,0,"2016-07-01","2016-09-30",38130,0,"2016-10-01","2017-08-31",39160,0,"2017-08-31","2017-08-31",39160,0,"2017-08-31","2017-08-31",39160,0,"2017-08-31","2017-08-31",39160,0,"2017-08-31","2017-08-31",39160,0,"2017-08-31","2017-08-31",39160,0,"2016-11-01","2016-11-30",1,0,0,{"$f":"IF('DA 2.2'!B621=2,0,IF(AR577=1,I577-J577,0))","v":0},null,0,0]
[null,"2018-01-24",0,1,31,0,0.22008,0.18340000000000001,0,0,0,"2016-07-01","2016-09-30",38130,0,"2016-10-01","2017-08-31",39160,0,"2017-08-31","2017-08-31",39160,0,"2017-08-31","2017-08-31",39160,0,"2017-08-31","2017-08-31",39160,0,"2017-08-31","2017-08-31",39160,0,"2017-08-31","2017-08-31",39160,0,"2016-11-01","2016-11-30",1,0,0,{"$f":"IF('DA 2.2'!B622=2,0,IF(AR578=1,I578-J578,0))","v":0},null,0,0]
[null,"2018-01-25",0,1,31,0,0.22008,0.18340000000000001,0,0,0,"2016-07-01","2016-09-30",38130,0,"2016-10-01","2017-08-31",39160,0,"2017-08-31","2017-08-31",39160,0,"2017-08-31","2017-08-31",39160,0,"2017-08-31","2017-08-31",39160,0,"2017-08-31","2017-08-31",39160,0,"2017-08-31","2017-08-31",39160,0,"2016-11-01","2016-11-30",1,0,0,{"$f":"IF('DA 2.2'!B623=2,0,IF(AR579=1,I579-J579,0))","v":0},null,0,0]
[null,"2018-01-26",0,1,31,0,0.22008,0.18340000000000001,0,0,0,"2016-07-01","2016-09-30",38130,0,"2016-10-01","2017-08-31",39160,0,"2017-08-31","2017-08-31",39160,0,"2017-08-31","2017-08-31",39160,0,"2017-08-31","2017-08-31",39160,0,"2017-08-31","2017-08-31",39160,0,"2017-08-31","2017-08-31",39160,0,"2016-11-01","2016-11-30",1,0,0,{"$f":"IF('DA 2.2'!B624=2,0,IF(AR580=1,I580-J580,0))","v":0},null,0,0]
[null,"2018-01-27",0,1,31,0,0.22008,0.18340000000000001,0,0,0,"2016-07-01","2016-09-30",38130,0,"2016-10-01","2017-08-31",39160,0,"2017-08-31","2017-08-31",39160,0,"2017-08-31","2017-08-31",39160,0,"2017-08-31","2017-08-31",39160,0,"2017-08-31","2017-08-31",39160,0,"2017-08-31","2017-08-31",39160,0,"2016-11-01","2016-11-30",1,0,0,{"$f":"IF('DA 2.2'!B625=2,0,IF(AR581=1,I581-J581,0))","v":0},null,0,0]
[null,"2018-01-28",0,1,31,{"$f":"C582/E582","v":0},0.22008,0.18340000000000001,{"$f":"F582*G582","v":0},{"$f":"F582*H582","v":0},0,"2016-07-01","2016-09-30",38130,0,"2016-10-01","2017-08-31",39160,0,"2017-08-31","2017-08-31",39160,0,"2017-08-31","2017-08-31",39160,0,"2017-08-31","2017-08-31",39160,0,"2017-08-31","2017-08-31",39160,0,"2017-08-31","2017-08-31",39160,0,"2016-11-01","2016-11-30",1,0,0,{"$f":"IF('DA 2.2'!B626=2,0,IF(AR582=1,I582-J582,0))","v":0},null,0,0]
[null,"2018-01-29",{"$f":"O583+S583+W583+AA583+AE583+AI583+AM583","v":0},{"$f":"MONTH(B583)","v":1},{"$f":"IF(D583=1,31,IF(D583=2,29,IF(D583=3,31,IF(D583=5,31,IF(D583=7,31,IF(D583=8,31,IF(D583=10,31,IF(D583=12,31,30))))))))","v":31},0,0.22008,0.18340000000000001,0,0,{"$f":"I583-J583","v":0},"2016-07-01","2016-09-30",38130,{"$f":"IF(M583>=B583,N583,0)","v":0},"2016-10-01","2017-08-31",39160,{"$f":"IF(O583>0,0,IF(Q583>=B583,R583,0))","v":0},"2017-08-31","2017-08-31",39160,{"$f":"IF(T583>U583,0,IF(O583>0,0,IF(S583>0,0,IF(U583>=B583,V583,0))))","v":0},"2017-08-31","2017-08-31",39160,{"$f":"IF(X583>=Y583,0,IF(O583>0,0,IF(S583>0,0,IF(W583>0,0,IF(Y583>=B583,Z583,0)))))","v":0},"2017-08-31","2017-08-31",39160,{"$f":"IF(O583>0,0,IF(AB583>=AC583,0,IF(S583>0,0,IF(W583>0,0,IF(AA583>0,0,IF(AC583>=B583,AD583,0))))))","v":0},"2017-08-31","2017-08-31",39160,{"$f":"IF(O583>0,0,IF(S583>0,0,IF(AF583>=AG583,0,IF(W583>0,0,IF(AA583>0,0,IF(AE583>0,0,IF(AG583>=B583,AH583,0)))))))","v":0},"2017-08-31","2017-08-31",39160,0,"2016-11-01","2016-11-30",1,0,{"$f":"IF(SUM(AP583:AQ583)=2,1,0)","v":0},{"$f":"IF('DA 2.2'!B627=2,0,IF(AR583=1,I583-J583,0))","v":0},null,{"$f":"ROUND(K583*10%,6)","v":0},{"$f":"ROUND(K583,6)","v":0}]
[null,"2018-01-30",0,1,31,0,{"$f":"G583","v":0.22008},0.18340000000000001,0,0,0,{"$f":"L583","v":"2016-07-01"},"2016-09-30",38130,0,{"$f":"P583","v":"2016-10-01"},"2017-08-31",39160,0,{"$f":"T583","v":"2017-08-31"},"2017-08-31",39160,0,{"$f":"X583","v":"2017-08-31"},"2017-08-31",39160,0,{"$f":"AB583","v":"2017-08-31"},"2017-08-31",39160,0,{"$f":"AF583","v":"2017-08-31"},{"$f":"AG583","v":"2017-08-31"},{"$f":"AH583","v":39160},0,{"$f":"AJ583","v":"2017-08-31"},{"$f":"AK583","v":"2017-08-31"},{"$f":"AL583","v":39160},{"$f":"IF(O584>0,0,IF(S584>0,0,IF(AJ584>=AK584,0,IF(W584>0,0,IF(AA584>0,0,IF(AE584>0,0,IF(AI584>0,0,IF(AK584>=B584,AL584,0))))))))","v":0},{"$f":"AN583","v":"2016-11-01"},"2016-11-30",1,0,0,{"$f":"IF('DA 2.2'!B628=2,0,IF(AR584=1,I584-J584,0))","v":0},null,0,0]
[null,"2018-01-31",0,1,31,0,0.22008,0.18340000000000001,0,0,0,"2016-07-01","2016-09-30",38130,0,"2016-10-01","2017-08-31",39160,0,"2017-08-31","2017-08-31",39160,0,"2017-08-31","2017-08-31",39160,0,"2017-08-31","2017-08-31",39160,0,"2017-08-31","2017-08-31",39160,0,"2017-08-31","2017-08-31",39160,0,"2016-11-01","2016-11-30",1,0,0,{"$f":"IF('DA 2.2'!B629=2,0,IF(AR585=1,I585-J585,0))","v":0},null,0,0]
[null,"2018-02-01",0,2,29,0,0.22008,0.18340000000000001,0,0,0,"2016-07-01","2016-09-30",38130,0,"2016-10-01","2017-08-31",39160,0,"2017-08-31","2017-08-31",39160,0,"2017-08-31","2017-08-31",39160,0,"2017-08-31","2017-08-31",39160,0,"2017-08-31","2017-08-31",39160,0,"2017-08-31","2017-08-31",39160,0,"2016-11-01","2016-11-30",1,0,0,{"$f":"IF('DA 2.2'!B630=2,0,IF(AR586=1,I586-J586,0))","v":0},null,0,0]

{"sheet":"DA 1.1","index":3,"n_rows":10,"n_cols":5,"rows_kept":10,"cut":false,"hidden":true,"merged":[]}
[{"$f":"'DA 1.2'!C2","v":"2016-01-01"},null,null,"Start date:",{"$f":"'DA 1.2'!C2","v":"2016-01-01"}]
[{"$f":"'DA 1.2'!C3","v":"2016-10-01"},null,null,"End date:",{"$f":"'DA 1.2'!C8","v":"2017-03-31"}]
[{"$f":"'DA 1.2'!C4","v":"2017-12-01"}]
[{"$f":"'DA 1.2'!C5","v":"2018-12-02"},null,null,"Sorted list"]
[{"$f":"'DA 1.2'!C6","v":"2017-01-01"}]
[{"$f":"'DA 1.2'!C7","v":"2017-10-01"},null,null,{"$f":"SMALL(A2:A6,1)","v":"2016-10-01"}]
[null,null,null,{"$f":"SMALL(A2:A6,2)","v":"2017-01-01"}]
[null,null,null,{"$f":"SMALL(A2:A6,3)","v":"2017-10-01"}]
[null,null,null,{"$f":"SMALL(A2:A6,4)","v":"2017-12-01"}]
[null,null,null,{"$f":"SMALL(A2:A6,5)","v":"2018-12-02"}]

{"sheet":"DA 1.2","index":4,"n_rows":801,"n_cols":33,"rows_kept":801,"cut":false,"hidden":true,"merged":[[11,1,11,3]]}
[null,null,"DATE FROM","DATE ASCENDING","VLOOKUP","INCREMENTS","B PAY"]
[null,"BASIC PAY AS ON","2016-01-01",{"$f":"C2","v":"2016-01-01"},{"$f":"J5","v":36},null,{"$f":"IF(D2=I13,J13,VLOOKUP(J5,K3:L82,2))","v":38130}]
[null,"INCREMENT DATE",{"$f":"VLOOKUP(O3,P3:Q15,2)","v":"2016-10-01"},{"$f":"'DA 1.1'!D6","v":"2016-10-01"},{"$f":"E2+F3","v":37},{"$f":"IF(D3>=Q15,0,IF(D3=D16,0,IF(C5=D3,F20,1)))","v":1},{"$f":"IF(D3=I13,J13,VLOOKUP(E3,K3:L82,2))","v":39160},null,null,36,1,14170,1,null,10,1,"2016-01-01","2016-01-01",1,null,null,"aas","DATE",null,null,null,null,null,"promotion","DATE"]
[null,"AAS DATE",{"$f":"IF(F15=1,VLOOKUP(U4,V4:W765,2),B16)","v":"2017-12-01"},{"$f":"'DA 1.1'!D7","v":"2017-01-01"},{"$f":"E3+F4","v":37},{"$f":"IF(D4>=Q16,0,IF(D4=D17,0,IF(C5=D4,F20,1)))","v":0},{"$f":"IF(D4=I13,J13,VLOOKUP(E4,K3:L82,2))","v":39160},null,null,{"$f":"end_date","v":36},2,14600,2,null,null,2,"2016-02-01","2016-02-01",1,null,402,1,"2016-01-01",{"$f":"F15","v":2},null,{"$f":"IF(X4=2,\"\",W4)","v":""},null,402,1,"2016-01-01",{"$f":"F17","v":2},null,{"$f":"IF(AE4=2,\"\",AD4)","v":""}]
[null,"Promotion Increment",{"$f":"IF(F17=2,B17,VLOOKUP(AB4,AC4:AD765,2))","v":"2018-12-02"},{"$f":"'DA 1.1'!D8","v":"2017-10-01"},{"$f":"E4+F5","v":37},{"$f":"IF(D5>=Q17,0,IF(D5=D18,0,IF(C5=D5,F20,1)))","v":0},{"$f":"IF(D5=I13,J13,VLOOKUP(E5,K3:L82,2))","v":39160},null,null,{"$f":"J4","v":36},3,15030,3,null,null,3,"2016-03-01","2016-03-01",1,null,null,2,"2016-01-02",{"$f":"X4","v":2},null,{"$f":"IF(X5=2,\"\",W5)","v":""},null,null,2,"2016-01-02",{"$f":"AE4","v":2},null,{"$f":"IF(AE5=2,\"\",AD5)","v":""}]
[null,"BASIC PAY AS ON","2017-01-01",{"$f":"'DA 1.1'!D9","v":"2017-12-01"},{"$f":"E5+F6","v":37},{"$f":"IF(D6>=Q18,0,IF(D6=D19,0,IF(C6=D6,F20,1)))","v":0},{"$f":"IF(D6=I13,J13,VLOOKUP(E6,K3:L82,2))","v":39160},null,null,"2017-02-01",4,15460,4,null,null,4,"2016-04-01","2016-04-01",1,null,null,3,"2016-01-03",{"$f":"X5","v":2},null,"",null,null,3,"2016-01-03",{"$f":"AE5","v":2},null,""]
[null,"INCREMENT DATE 2",{"$f":"IF(I7=J6,J7,IF(I7>B19,B19,IF(I7=\"not applicable\",C8,I7)))","v":"2017-10-01"},{"$f":"'DA 1.1'!D10","v":"2018-12-02"},{"$f":"E6+F7","v":37},{"$f":"IF(D7>=Q19,0,IF(D7=D20,0,IF(C7=D7,F20,1)))","v":0},{"$f":"IF(D7=I13,J13,VLOOKUP(E7,K3:L82,2))","v":39160},null,{"$f":"VLOOKUP(DATA!CQ5,DATA!CR5:CS19,2)","v":"2017-10-01"},"2016-02-01",5,15930,5,null,null,5,"2016-05-01","2016-05-01",1,null,null,4,"2016-01-04",2,null,"",null,null,4,"2016-01-04",2,null,""]
[null,"BILL UPTO",{"$f":"VLOOKUP(D24,E24:F47,2)","v":"2017-03-31"},{"$f":"DATE(E9,D9,1)","v":"2017-03-01"},null,"date","Increments",null,null,null,6,16400,6,null,null,6,"2016-06-01","2016-06-01",1,null,null,5,"2016-01-05",2,null,"",null,null,5,"2016-01-05",2,null,""]
[null,null,null,{"$f":"MONTH(C8)","v":3},{"$f":"YEAR(D16)","v":2017},null,null,null,null,null,7,16870,7,null,null,7,"2016-07-01","2016-07-01",1,null,null,6,"2016-01-06",2,null,"",null,null,6,"2016-01-06",2,null,""]
[null,"SURRENDER LEAVE DA DIFFERENCE",{"$f":"VLOOKUP(D51,E50:F74,2)","v":"2016-04-01"},{"$f":"MONTH(C10)","v":4},{"$f":"YEAR(C10)","v":2016},null,null,null,null,null,8,17380,8,null,null,8,"2016-08-01","2016-08-01",1,null,null,7,"2016-01-07",2,null,"",null,null,7,"2016-01-07",2,null,""]
[null,"DAYS",{"$f":"IF(H52=2,VLOOKUP(C10,H76:I100,2),DATE(E10,D10,D11))","v":"2017-04-30"},{"$f":"VLOOKUP(H52,H50:J51,3)","v":30},null,null,null,null,null,null,9,17890,9,null,null,9,"2016-09-01","2016-09-01",1,null,null,8,"2016-01-08",2,null,"",null,null,8,"2016-01-08",2,null,""]
[null,"SL",null,null,{"$f":"IF(B50=1,C10,C8)","v":"2017-03-31"},null,null,null,null,null,10,18400,10,null,null,10,"2016-10-01","2016-10-01",1,null,null,9,"2016-01-09",2,null,"",null,null,9,"2016-01-09",2,null,""]
[null,"DAY","MONTH","YEAR",null,null,null,null,"2017-01-01",{"$f":"DATA!J5","v":39160},11,18950,11,null,null,11,"2016-11-01","2016-11-01",1,null,null,10,"2016-01-10",2,null,"",null,null,10,"2016-01-10",2,null,""]
[null,{"$f":"IF(D11=15,15,VLOOKUP(C14,'DA 1.3'!D6:E767,2))","v":30},{"$f":"MONTH(C10)","v":4},{"$f":"YEAR(C10)","v":2016},null,{"$f":"F15","v":2},{"$f":"F14","v":2},{"$f":"G14","v":2},2,2,12,19500,12,null,null,12,"2016-12-01","2016-12-01",1,null,null,11,"2016-01-11",2,null,"",null,null,11,"2016-01-11",2,null,""]
[null,null,{"$f":"C17","v":"2017-03-01"},null,"aas",2,1,"Yes",null,null,13,20050,13,null,null,13,{"$f":"C8","v":"2017-03-31"},"Not applicable",0,null,null,12,"2016-01-12",2,null,"",null,null,12,"2016-01-12",2,null,""]
[null,"2017-12-01",{"$f":"D8","v":"2017-03-01"},{"$f":"C6","v":"2017-01-01"},null,null,2,"No",null,null,14,20640,14,null,null,null,{"$f":"Q15","v":"2017-03-31"},null,null,null,null,13,"2016-01-13",2,null,"",null,null,13,"2016-01-13",2,null,""]
[null,"2018-12-02",{"$f":"C16","v":"2017-03-01"},{"$f":"D16","v":"2017-01-01"},"promotion",2,1,"Yes",4,null,15,21230,15,null,null,null,{"$f":"Q16","v":"2017-03-31"},null,null,null,null,14,"2016-01-14",2,null,"",null,null,14,"2016-01-14",2,null,""]
[null,"2019-12-03",{"$f":"C17","v":"2017-03-01"},"2017-01-01",null,{"$f":"F17","v":2},2,"No",null,null,16,21820,16,null,null,null,"2017-03-31",null,null,null,null,15,"2016-01-15",2,null,"",null,null,15,"2016-01-15",2,null,""]
[null,"2020-02-04","2017-03-01","2017-01-01",null,{"$f":"F17","v":2},{"$f":"F19","v":2},{"$f":"G19","v":2},2,2,17,22460,17,null,null,null,"2017-03-31",null,null,null,null,16,"2016-01-16",2,null,"",null,null,16,"2016-01-16",2,null,""]
[null,"2021-02-05","2017-03-01","2017-01-01","promotion inc",1,1,{"$f":"IF(F17=2,\"\",I20)","v":""},"1 Increment",null,18,23100,18,null,null,null,"2017-03-31",null,null,null,null,17,"2016-01-17",2,null,"",null,null,17,"2016-01-17",2,null,""]
[null,null,"2017-03-01","2017-01-01",null,null,2,{"$f":"IF(F18=2,\"\",I21)","v":""},"2 Increments",null,19,23740,19,null,null,null,null,null,null,null,null,18,"2016-01-18",2,null,"",null,null,18,"2016-01-18",2,null,""]
[null,null,"2017-03-01",null,null,null,null,null,null,null,20,24440,20,null,null,null,null,null,null,null,null,19,"2016-01-19",2,null,"",null,null,19,"2016-01-19",2,null,""]
[null,null,"2017-03-01",null,"bill upto the month of","2016-01-31",1,2016,"2016-01-01",null,21,25140,21,null,null,null,null,null,null,null,null,20,"2016-01-20",2,null,"",null,null,20,"2016-01-20",2,null,""]
[null,null,"2017-03-01",14,1,"2016-02-28",{"$f":"MONTH(F24)","v":2},{"$f":"YEAR(F24)","v":2016},{"$f":"DATE(H24,G24,1)","v":"2016-02-01"},"2016-02-01",22,25840,22,null,null,null,null,null,null,null,null,21,"2016-01-21",2,null,"",null,null,21,"2016-01-21",2,null,""]
[null,null,"2017-03-01",null,2,"2016-03-31",{"$f":"MONTH(F25)","v":3},{"$f":"YEAR(F25)","v":2016},{"$f":"DATE(H25,G25,1)","v":"2016-03-01"},"2016-03-01",23,26600,23,null,null,null,null,null,null,null,null,22,"2016-01-22",2,null,"",null,null,22,"2016-01-22",2,null,""]
[null,null,"2017-03-01",null,3,"2016-04-30",4,2016,{"$f":"DATE(H26,G26,1)","v":"2016-04-01"},"2016-04-01",24,27360,24,null,null,null,null,null,null,null,null,23,"2016-01-23",2,null,"",null,null,23,"2016-01-23",2,null,""]
[null,null,"2017-03-01",null,4,"2016-05-31",5,2016,"2016-05-01","2016-05-01",25,28120,25,null,null,null,null,null,null,null,null,24,"2016-01-24",2,null,"",null,null,24,"2016-01-24",2,null,""]
[null,null,"2017-03-01",null,5,"2016-06-30",6,2016,"2016-06-01","2016-06-01",26,28940,26,null,null,null,null,null,null,null,null,25,"2016-01-25",2,null,"",null,null,25,"2016-01-25",2,null,""]
[null,null,"2017-03-01",null,6,"2016-07-31",7,2016,"2016-07-01","2016-07-01",27,29760,27,null,null,null,null,null,null,null,null,26,"2016-01-26",2,null,"",null,null,26,"2016-01-26",2,null,""]
[null,null,"2017-03-01",null,7,"2016-08-31",8,2016,"2016-08-01","2016-08-01",28,30580,28,null,null,null,null,null,null,null,null,27,"2016-01-27",2,null,"",null,null,27,"2016-01-27",2,null,""]
[null,null,"2017-03-01",null,8,"2016-09-30",9,2016,"2016-09-01","2016-09-01",29,31460,29,null,null,null,null,null,null,null,null,28,"2016-01-28",2,null,"",null,null,28,"2016-01-28",2,null,""]
[null,null,"2017-03-01",null,9,"2016-10-31",10,2016,"2016-10-01","2016-10-01",30,32340,30,null,null,null,null,null,null,null,null,29,"2016-01-29",2,null,"",null,null,29,"2016-01-29",2,null,""]
[null,null,"2017-03-01",null,10,"2016-11-30",11,2016,"2016-11-01","2016-11-01",31,33220,31,null,null,null,null,null,null,null,null,30,"2016-01-30",2,null,"",null,null,30,"2016-01-30",2,null,""]
[null,null,"2017-03-01",null,11,"2016-12-31",12,2016,"2016-12-01","2016-12-01",32,34170,32,null,null,null,null,null,null,null,null,31,"2016-01-31",2,null,"",null,null,31,"2016-01-31",2,null,""]
[null,null,"2017-03-01",null,12,"2017-01-31",1,2017,"2017-01-01","2017-01-01",33,35120,33,null,null,null,null,null,null,null,null,32,"2016-02-01",2,null,"",null,null,32,"2016-02-01",2,null,""]
[null,null,"2017-03-01",null,13,"2017-02-28",2,2017,"2017-02-01","2017-02-01",34,36070,34,null,null,null,null,null,null,null,null,33,"2016-02-02",2,null,"",null,null,33,"2016-02-02",2,null,""]
[null,null,"2017-03-01",null,14,"2017-03-31",3,2017,"2017-03-01","2017-03-01",35,37100,35,null,null,null,null,null,null,null,null,34,"2016-02-03",2,null,"",null,null,34,"2016-02-03",2,null,""]
[null,null,"2017-03-01",null,15,"2017-04-30",4,2017,"2017-04-01","2017-04-01",36,38130,36,null,null,null,null,null,null,null,null,35,"2016-02-04",2,null,"",null,null,35,"2016-02-04",2,null,""]
[null,null,"2017-03-01",null,16,"2017-05-31",5,2017,"2017-05-01","2017-05-01",37,39160,37,null,null,null,null,null,null,null,null,36,"2016-02-05",2,null,"",null,null,36,"2016-02-05",2,null,""]
[null,null,null,null,17,"2017-06-30",6,2017,"2017-06-01","2017-06-01",38,40270,38,null,null,null,null,null,null,null,null,37,"2016-02-06",2,null,"",null,null,37,"2016-02-06",2,null,""]
[null,null,null,null,18,"2017-07-31",7,2017,"2017-07-01","2017-07-01",39,41380,39,null,null,null,null,null,null,null,null,38,"2016-02-07",2,null,"",null,null,38,"2016-02-07",2,null,""]
[null,null,null,null,19,"2017-08-31",8,2017,"2017-08-01","2017-08-01",40,42490,40,null,null,null,null,null,null,null,null,39,"2016-02-08",2,null,"",null,null,39,"2016-02-08",2,null,""]
[null,null,null,null,20,"2017-09-30",9,2017,"2017-09-01","2017-09-01",41,43680,41,null,null,null,null,null,null,null,null,40,"2016-02-09",2,null,"",null,null,40,"2016-02-09",2,null,""]
[null,null,null,null,21,"2017-10-31",10,2017,"2017-10-01","2017-10-01",42,44870,42,null,null,null,null,null,null,null,null,41,"2016-02-10",2,null,"",null,null,41,"2016-02-10",2,null,""]
[null,null,null,null,22,"2017-11-30",11,2017,"2017-11-01","2017-11-01",43,46060,43,null,null,null,null,null,null,null,null,42,"2016-02-11",2,null,"",null,null,42,"2016-02-11",2,null,""]
[null,null,null,null,23,"2017-12-31",12,2017,"2017-12-01","2017-12-01",44,47330,44,null,null,null,null,null,null,null,null,43,"2016-02-12",2,null,"",null,null,43,"2016-02-12",2,null,""]
[null,null,null,null,24,"2018-01-31",1,2018,"2018-01-01","Jan- 18",45,48600,45,null,null,null,null,null,null,null,null,44,"2016-02-13",2,null,"",null,null,44,"2016-02-13",2,null,""]
[null,null,null,null,null,null,null,null,null,null,46,49870,46,null,null,null,null,null,null,null,null,45,"2016-02-14",2,null,"",null,null,45,"2016-02-14",2,null,""]
[null,null,null,null,null,null,null,null,null,null,47,51230,47,null,null,null,null,null,null,null,null,46,"2016-02-15",2,null,"",null,null,46,"2016-02-15",2,null,""]
[null,2,"Yes","SL",1,"2016-01-01",{"$f":"IF(B50=1,IF(F50<=C16,I23,\"\"),\"\")","v":""},1,{"$f":"IF(B50=1,\"15 days\",\"\")","v":""},15,48,52590,48,null,null,null,null,null,null,null,null,47,"2016-02-16",2,null,"",null,null,47,"2016-02-16",2,null,""]
[null,{"$f":"B50","v":2},"No",4,2,"2016-02-01",{"$f":"IF(B50=2,\"\",IF(F51<=C17,I24,\"\"))","v":""},2,{"$f":"IF(B51=1,\"1 Month\",\"\")","v":""},30,49,53950,49,null,null,null,null,null,null,null,null,48,"2016-02-17",2,null,"",null,null,48,"2016-02-17",2,null,""]
[null,{"$f":"B51","v":2},null,null,3,"2016-03-01",{"$f":"IF(B51=2,\"\",IF(F52<=C18,I25,\"\"))","v":""},2,null,null,50,55410,50,null,null,null,null,null,null,null,null,49,"2016-02-18",2,null,"",null,null,49,"2016-02-18",2,null,""]
[null,{"$f":"B52","v":2},null,null,4,"2016-04-01","",null,null,null,51,56870,51,null,null,null,null,null,null,null,null,50,"2016-02-19",2,null,"",null,null,50,"2016-02-19",2,null,""]
[null,2,null,null,5,"2016-05-01","",null,null,null,52,58330,52,null,null,null,null,null,null,null,null,51,"2016-02-20",2,null,"",null,null,51,"2016-02-20",2,null,""]
[null,2,null,null,6,"2016-06-01","",null,null,null,53,59890,53,null,null,null,null,null,null,null,null,52,"2016-02-21",2,null,"",null,null,52,"2016-02-21",2,null,""]
[null,2,null,null,7,"2016-07-01","",null,null,null,54,61450,54,null,null,null,null,null,null,null,null,53,"2016-02-22",2,null,"",null,null,53,"2016-02-22",2,null,""]
[null,2,null,null,8,"2016-08-01","",null,null,null,55,63010,55,null,null,null,null,null,null,null,null,54,"2016-02-23",2,null,"",null,null,54,"2016-02-23",2,null,""]
[null,2,null,null,9,"2016-09-01","",null,null,null,56,64670,56,null,null,null,null,null,null,null,null,55,"2016-02-24",2,null,"",null,null,55,"2016-02-24",2,null,""]
[null,2,null,null,10,"2016-10-01","",null,null,null,57,66330,57,null,null,null,null,null,null,null,null,56,"2016-02-25",2,null,"",null,null,56,"2016-02-25",2,null,""]
[null,2,null,null,11,"2016-11-01","",null,null,null,58,67990,58,null,null,null,null,null,null,null,null,57,"2016-02-26",2,null,"",null,null,57,"2016-02-26",2,null,""]
[null,2,null,null,12,"2016-12-01","",null,null,null,59,69750,59,null,null,null,null,null,null,null,null,58,"2016-02-27",2,null,"",null,null,58,"2016-02-27",2,null,""]
[null,2,null,null,13,"2017-01-01","",null,null,null,60,71510,60,null,null,null,null,null,null,null,null,59,"2016-02-28",2,null,"",null,null,59,"2016-02-28",2,null,""]
[null,2,null,null,14,"2017-02-01","",null,null,null,61,73270,61,null,null,null,null,null,null,null,null,60,"2016-02-29",2,null,"",null,null,60,"2016-02-29",2,null,""]
[null,2,null,null,15,"2017-03-01","",null,null,null,62,75150,62,null,null,null,null,null,null,null,null,61,"2016-03-01",2,null,"",null,null,61,"2016-03-01",2,null,""]
[null,2,null,null,16,"2017-04-01",{"$f":"IF(B64=2,\"\",IF(F65<=C31,I38,\"\"))","v":""},null,null,null,63,77030,63,null,null,null,null,null,null,null,null,62,"2016-03-02",2,null,"",null,null,62,"2016-03-02",2,null,""]
[null,2,null,null,17,"2017-05-01","",null,null,null,64,78910,64,null,null,null,null,null,null,null,null,63,"2016-03-03",2,null,"",null,null,63,"2016-03-03",2,null,""]
[null,2,null,null,18,"2017-06-01","",null,null,null,65,80930,65,null,null,null,null,null,null,null,null,64,"2016-03-04",2,null,"",null,null,64,"2016-03-04",2,null,""]
[null,2,null,null,19,"2017-07-01","",null,null,null,66,82950,66,null,null,null,null,null,null,null,null,65,"2016-03-05",2,null,"",null,null,65,"2016-03-05",2,null,""]
[null,2,null,null,20,"2017-08-01","",null,null,null,67,84970,67,null,null,null,null,null,null,null,null,66,"2016-03-06",2,null,{"$f":"IF(X69=2,\"\",W69)","v":""},null,null,66,"2016-03-06",2,null,{"$f":"IF(AE69=2,\"\",AD69)","v":""}]
[null,2,null,null,21,"2017-09-01","",null,null,null,68,87130,68,null,null,null,null,null,null,null,null,67,"2016-03-07",{"$f":"X69","v":2},null,"",null,null,67,"2016-03-07",{"$f":"AE69","v":2},null,""]
[null,2,null,null,22,"2017-10-01","",null,null,null,69,89290,69,null,null,null,null,null,null,null,null,68,"2016-03-08",2,null,"",null,null,68,"2016-03-08",2,null,""]
[null,2,null,null,23,"2017-11-01","",null,null,null,70,91450,70,null,null,null,null,null,null,null,null,69,"2016-03-09",2,null,"",null,null,69,"2016-03-09",2,null,""]
[null,2,null,null,24,"2017-12-01","",null,null,null,71,93780,71,null,null,null,null,null,null,null,null,70,"2016-03-10",2,null,"",null,null,70,"2016-03-10",2,null,""]
[null,2,null,null,25,"2018-01-01","",null,null,null,72,96110,72,null,null,null,null,null,null,null,null,71,"2016-03-11",2,null,"",null,null,71,"2016-03-11",2,null,""]
[null,2,null,null,null,null,null,null,null,null,73,98440,73,null,null,null,null,null,null,null,null,72,"2016-03-12",2,null,"",null,null,72,"2016-03-12",2,null,""]
[null,2,null,null,1,null,1,"2015-01-01","2016-01-31",null,74,100770,74,null,null,null,null,null,null,null,null,73,"2016-03-13",2,null,"",null,null,73,"2016-03-13",2,null,""]
[null,2,null,null,2,null,2,"2015-02-01","2016-02-28",null,75,103290,75,null,null,null,null,null,null,null,null,74,"2016-03-14",2,null,"",null,null,74,"2016-03-14",2,null,""]
[null,2,null,null,3,null,3,"2015-03-01","2016-03-31",null,76,105810,76,null,null,null,null,null,null,null,null,75,"2016-03-15",2,null,"",null,null,75,"2016-03-15",2,null,""]
[null,2,null,null,4,null,4,"2015-04-01","2016-04-30",null,77,108330,77,null,null,null,null,null,null,null,null,76,"2016-03-16",2,null,"",null,null,76,"2016-03-16",2,null,""]
[null,2,null,null,5,null,5,"2015-05-01","2016-05-31",null,78,110850,78,null,null,null,null,null,null,null,null,77,"2016-03-17",2,null,"",null,null,77,"2016-03-17",2,null,""]
[null,2,null,null,6,null,6,"2015-06-01","2016-06-30",null,79,110850,79,null,null,null,null,null,null,null,null,78,"2016-03-18",2,null,"",null,null,78,"2016-03-18",2,null,""]
[null,2,null,null,7,null,7,"2015-07-01","2016-07-31",null,80,110850,80,null,null,null,null,null,null,null,null,79,"2016-03-19",2,null,"",null,null,79,"2016-03-19",2,null,""]
[null,2,null,null,8,null,8,"2015-08-01","2016-08-31",null,null,null,null,null,null,null,null,null,null,null,null,80,"2016-03-20",2,null,"",null,null,80,"2016-03-20",2,null,""]
[null,2,null,null,9,null,9,"2015-09-01","2016-09-30",null,null,null,null,null,null,null,null,null,null,null,null,81,"2016-03-21",2,null,"",null,null,81,"2016-03-21",2,null,""]
[null,2,null,null,10,null,10,"2015-10-01","2016-10-31",null,null,null,null,null,null,null,null,null,null,null,null,82,"2016-03-22",2,null,"",null,null,82,"2016-03-22",2,null,""]
[null,2,null,null,11,null,11,"2015-11-01","2016-11-30",null,null,null,null,null,null,null,null,null,null,null,null,83,"2016-03-23",2,null,"",null,null,83,"2016-03-23",2,null,""]
[null,2,null,null,12,null,12,"2015-12-01","2016-12-31",null,null,null,null,null,null,null,null,null,null,null,null,84,"2016-03-24",2,null,"",null,null,84,"2016-03-24",2,null,""]
[null,2,null,null,13,null,13,"2016-01-01","2017-01-31",null,null,null,null,null,null,null,null,null,null,null,null,85,"2016-03-25",2,null,"",null,null,85,"2016-03-25",2,null,""]
[null,2,null,null,14,null,14,"2016-02-01","2017-02-28",null,null,null,null,null,null,null,null,null,null,null,null,86,"2016-03-26",2,null,"",null,null,86,"2016-03-26",2,null,""]
[null,2,null,null,15,null,15,"2016-03-01","2017-03-31",null,null,null,null,null,null,null,null,null,null,null,null,87,"2016-03-27",2,null,"",null,null,87,"2016-03-27",2,null,""]
[null,2,null,null,16,null,16,"2016-04-01","2017-04-30",null,null,null,null,null,null,null,null,null,null,null,null,88,"2016-03-28",2,null,"",null,null,88,"2016-03-28",2,null,""]
[null,2,null,null,17,null,17,"2016-05-01","2017-05-31",null,null,null,null,null,null,null,null,null,null,null,null,89,"2016-03-29",2,null,"",null,null,89,"2016-03-29",2,null,""]
[null,2,null,null,18,null,18,"2016-06-01","2017-06-30",null,null,null,null,null,null,null,null,null,null,null,null,90,"2016-03-30",2,null,"",null,null,90,"2016-03-30",2,null,""]
[null,2,null,null,19,null,19,"2016-07-01","2017-07-31",null,null,null,null,null,null,null,null,null,null,null,null,91,"2016-03-31",2,null,"",null,null,91,"2016-03-31",2,null,""]
[null,2,null,null,20,null,20,"2016-08-01","2017-08-31",null,null,null,null,null,null,null,null,null,null,null,null,92,"2016-04-01",2,null,"",null,null,92,"2016-04-01",2,null,""]
[null,2,null,null,21,null,21,"2016-09-01","2017-09-30",null,null,null,null,null,null,null,null,null,null,null,null,93,"2016-04-02",2,null,"",null,null,93,"2016-04-02",2,null,""]
[null,2,null,null,22,null,22,"2016-10-01","2017-10-31",null,null,null,null,null,null,null,null,null,null,null,null,94,"2016-04-03",2,null,"",null,null,94,"2016-04-03",2,null,""]
[null,2,null,null,23,null,23,"2016-11-01","2017-11-30",null,null,null,null,null,null,null,null,null,null,null,null,95,"2016-04-04",2,null,"",null,null,95,"2016-04-04",2,null,""]
[null,2,null,null,24,null,24,"2016-12-01","2017-12-31",null,null,null,null,null,null,null,null,null,null,null,null,96,"2016-04-05",2,null,"",null,null,96,"2016-04-05",2,null,""]
[null,2,null,null,25,null,25,"2017-01-01","2018-01-31",null,null,null,null,null,null,null,null,null,null,null,null,97,"2016-04-06",2,null,"",null,null,97,"2016-04-06",2,null,""]
[null,2,null,null,null,null,null,null,null,null,null,null,null,null,null,null,null,null,null,null,null,98,"2016-04-07",2,null,"",null,null,98,"2016-04-07",2,null,""]
[null,2,null,null,null,null,null,null,null,null,null,null,null,null,null,null,null,null,null,null,null,99,"2016-04-08",2,null,"",null,null,99,"2016-04-08",2,null,""]
[null,2,null,null,null,null,null,null,null,null,null,null,null,null,null,null,null,null,null,null,null,100,"2016-04-09",2,null,"",null,null,100,"2016-04-09",2,null,""]
[null,2,null,null,null,null,null,null,null,null,null,null,null,null,null,null,null,null,null,null,null,101,"2016-04-10",2,null,"",null,null,101,"2016-04-10",2,null,""]
[null,2,null,null,null,null,null,null,null,null,null,null,null,null,null,null,null,null,null,null,null,102,"2016-04-11",2,null,"",null,null,102,"2016-04-11",2,null,""]
[null,2,null,null,null,null,null,null,null,null,null,null,null,null,null,null,null,null,null,null,null,103,"2016-04-12",2,null,"",null,null,103,"2016-04-12",2,null,""]
[null,2,null,null,null,null,null,null,null,null,null,null,null,null,null,null,null,null,null,null,null,104,"2016-04-13",2,null,"",null,null,104,"2016-04-13",2,null,""]
[null,2,null,null,null,null,null,null,null,null,null,null,null,null,null,null,null,null,null,null,null,105,"2016-04-14",2,null,"",null,null,105,"2016-04-14",2,null,""]
[null,2,null,null,null,null,null,null,null,null,null,null,null,null,null,null,null,null,null,null,null,106,"2016-04-15",2,null,"",null,null,106,"2016-04-15",2,null,""]
[null,2,null,null,null,null,null,null,null,null,null,null,null,null,null,null,null,null,null,null,null,107,"2016-04-16",2,null,"",null,null,107,"2016-04-16",2,null,""]
[null,2,null,null,null,null,null,null,null,null,null,null,null,null,null,null,null,null,null,null,null,108,"2016-04-17",2,null,"",null,null,108,"2016-04-17",2,null,""]
[null,2,null,null,null,null,null,null,null,null,null,null,null,null,null,null,null,null,null,null,null,109,"2016-04-18",2,null,"",null,null,109,"2016-04-18",2,null,""]
[null,2,null,null,null,null,null,null,null,null,null,null,null,null,null,null,null,null,null,null,null,110,"2016-04-19",2,null,"",null,null,110,"2016-04-19",2,null,""]
[null,2,null,null,null,null,null,null,null,null,null,null,null,null,null,null,null,null,null,null,null,111,"2016-04-20",2,null,"",null,null,111,"2016-04-20",2,null,""]
[null,2,null,null,null,null,null,null,null,null,null,null,null,null,null,null,null,null,null,null,null,112,"2016-04-21",2,null,"",null,null,112,"2016-04-21",2,null,""]
[null,2,null,null,null,null,null,null,null,null,null,null,null,null,null,null,null,null,null,null,null,113,"2016-04-22",2,null,"",null,null,113,"2016-04-22",2,null,""]
[null,{"$f":"B116","v":2},null,null,null,null,null,null,null,null,null,null,null,null,null,null,null,null,null,null,null,114,"2016-04-23",2,null,"",null,null,114,"2016-04-23",2,null,""]
[null,2,null,null,null,null,null,null,null,null,null,null,null,null,null,null,null,null,null,null,null,115,"2016-04-24",2,null,"",null,null,115,"2016-04-24",2,null,""]
[null,2,null,null,null,null,null,null,null,null,null,null,null,null,null,null,null,null,null,null,null,116,"2016-04-25",2,null,"",null,null,116,"2016-04-25",2,null,""]
[null,2,null,null,null,null,null,null,null,null,null,null,null,null,null,null,null,null,null,null,null,117,"2016-04-26",2,null,"",null,null,117,"2016-04-26",2,null,""]
[null,2,null,null,null,null,null,null,null,null,null,null,null,null,null,null,null,null,null,null,null,118,"2016-04-27",2,null,"",null,null,118,"2016-04-27",2,null,""]
[null,2,null,null,null,null,null,null,null,null,null,null,null,null,null,null,null,null,null,null,null,119,"2016-04-28",2,null,"",null,null,119,"2016-04-28",2,null,""]
[null,2,null,null,null,null,null,null,null,null,null,null,null,null,null,null,null,null,null,null,null,120,"2016-04-29",2,null,"",null,null,120,"2016-04-29",2,null,""]
[null,2,null,null,null,null,null,null,null,null,null,null,null,null,null,null,null,null,null,null,null,121,"2016-04-30",2,null,"",null,null,121,"2016-04-30",2,null,""]
[null,2,null,null,null,null,null,null,null,null,null,null,null,null,null,null,null,null,null,null,null,122,"2016-05-01",2,null,"",null,null,122,"2016-05-01",2,null,""]
[null,2,null,null,null,null,null,null,null,null,null,null,null,null,null,null,null,null,null,null,null,123,"2016-05-02",2,null,"",null,null,123,"2016-05-02",2,null,""]
[null,2,null,null,null,null,null,null,null,null,null,null,null,null,null,null,null,null,null,null,null,124,"2016-05-03",2,null,"",null,null,124,"2016-05-03",2,null,""]
[null,2,null,null,null,null,null,null,null,null,null,null,null,null,null,null,null,null,null,null,null,125,"2016-05-04",2,null,"",null,null,125,"2016-05-04",2,null,""]
[null,2,null,null,null,null,null,null,null,null,null,null,null,null,null,null,null,null,null,null,null,126,"2016-05-05",2,null,"",null,null,126,"2016-05-05",2,null,""]
[null,2,null,null,null,null,null,null,null,null,null,null,null,null,null,null,null,null,null,null,null,127,"2016-05-06",2,null,"",null,null,127,"2016-05-06",2,null,""]
[null,2,null,null,null,null,null,null,null,null,null,null,null,null,null,null,null,null,null,null,null,128,"2016-05-07",2,null,"",null,null,128,"2016-05-07",2,null,""]
[null,2,null,null,null,null,null,null,null,null,null,null,null,null,null,null,null,null,null,null,null,129,"2016-05-08",2,null,"",null,null,129,"2016-05-08",2,null,""]
[null,2,null,null,null,null,null,null,null,null,null,null,null,null,null,null,null,null,null,null,null,130,"2016-05-09",2,null,{"$f":"IF(X133=2,\"\",W133)","v":""},null,null,130,"2016-05-09",2,null,{"$f":"IF(AE133=2,\"\",AD133)","v":""}]
[null,2,null,null,null,null,null,null,null,null,null,null,null,null,null,null,null,null,null,null,null,131,"2016-05-10",{"$f":"X133","v":2},null,"",null,null,131,"2016-05-10",{"$f":"AE133","v":2},null,""]
[null,2,null,null,null,null,null,null,null,null,null,null,null,null,null,null,null,null,null,null,null,132,"2016-05-11",2,null,"",null,null,132,"2016-05-11",2,null,""]
[null,2,null,null,null,null,null,null,null,null,null,null,null,null,null,null,null,null,null,null,null,133,"2016-05-12",2,null,"",null,null,133,"2016-05-12",2,null,""]
[null,2,null,null,null,null,null,null,null,null,null,null,null,null,null,null,null,null,null,null,null,134,"2016-05-13",2,null,"",null,null,134,"2016-05-13",2,null,""]
[null,2,null,null,null,null,null,null,null,null,null,null,null,null,null,null,null,null,null,null,null,135,"2016-05-14",2,null,"",null,null,135,"2016-05-14",2,null,""]
[null,2,null,null,null,null,null,null,null,null,null,null,null,null,null,null,null,null,null,null,null,136,"2016-05-15",2,null,"",null,null,136,"2016-05-15",2,null,""]
[null,2,null,null,null,null,null,null,null,null,null,null,null,null,null,null,null,null,null,null,null,137,"2016-05-16",2,null,"",null,null,137,"2016-05-16",2,null,""]
[null,2,null,null,null,null,null,null,null,null,null,null,null,null,null,null,null,null,null,null,null,138,"2016-05-17",2,null,"",null,null,138,"2016-05-17",2,null,""]
[null,2,null,null,null,null,null,null,null,null,null,null,null,null,null,null,null,null,null,null,null,139,"2016-05-18",2,null,"",null,null,139,"2016-05-18",2,null,""]
[null,2,null,null,null,null,null,null,null,null,null,null,null,null,null,null,null,null,null,null,null,140,"2016-05-19",2,null,"",null,null,140,"2016-05-19",2,null,""]
[null,2,null,null,null,null,null,null,null,null,null,null,null,null,null,null,null,null,null,null,null,141,"2016-05-20",2,null,"",null,null,141,"2016-05-20",2,null,""]
[null,2,null,null,null,null,null,null,null,null,null,null,null,null,null,null,null,null,null,null,null,142,"2016-05-21",2,null,"",null,null,142,"2016-05-21",2,null,""]
[null,2,null,null,null,null,null,null,null,null,null,null,null,null,null,null,null,null,null,null,null,143,"2016-05-22",2,null,"",null,null,143,"2016-05-22",2,null,""]
[null,2,null,null,null,null,null,null,null,null,null,null,null,null,null,null,null,null,null,null,null,144,"2016-05-23",2,null,"",null,null,144,"2016-05-23",2,null,""]
[null,2,null,null,null,null,null,null,null,null,null,null,null,null,null,null,null,null,null,null,null,145,"2016-05-24",2,null,"",null,null,145,"2016-05-24",2,null,""]
[null,2,null,null,null,null,null,null,null,null,null,null,null,null,null,null,null,null,null,null,null,146,"2016-05-25",2,null,"",null,null,146,"2016-05-25",2,null,""]
[null,2,null,null,null,null,null,null,null,null,null,null,null,null,null,null,null,null,null,null,null,147,"2016-05-26",2,null,"",null,null,147,"2016-05-26",2,null,""]
[null,2,null,null,null,null,null,null,null,null,null,null,null,null,null,null,null,null,null,null,null,148,"2016-05-27",2,null,"",null,null,148,"2016-05-27",2,null,""]
[null,2,null,null,null,null,null,null,null,null,null,null,null,null,null,null,null,null,null,null,null,149,"2016-05-28",2,null,"",null,null,149,"2016-05-28",2,null,""]
[null,2,null,null,null,null,null,null,null,null,null,null,null,null,null,null,null,null,null,null,null,150,"2016-05-29",2,null,"",null,null,150,"2016-05-29",2,null,""]
[null,2,null,null,null,null,null,null,null,null,null,null,null,null,null,null,null,null,null,null,null,151,"2016-05-30",2,null,"",null,null,151,"2016-05-30",2,null,""]
[null,2,null,null,null,null,null,null,null,null,null,null,null,null,null,null,null,null,null,null,null,152,"2016-05-31",2,null,"",null,null,152,"2016-05-31",2,null,""]
[null,2,null,null,null,null,null,null,null,null,null,null,null,null,null,null,null,null,null,null,null,153,"2016-06-01",2,null,"",null,null,153,"2016-06-01",2,null,""]
[null,2,null,null,null,null,null,null,null,null,null,null,null,null,null,null,null,null,null,null,null,154,"2016-06-02",2,null,"",null,null,154,"2016-06-02",2,null,""]
[null,2,null,null,null,null,null,null,null,null,null,null,null,null,null,null,null,null,null,null,null,155,"2016-06-03",2,null,"",null,null,155,"2016-06-03",2,null,""]
[null,2,null,null,null,null,null,null,null,null,null,null,null,null,null,null,null,null,null,null,null,156,"2016-06-04",2,null,"",null,null,156,"2016-06-04",2,null,""]
[null,2,null,null,null,null,null,null,null,null,null,null,null,null,null,null,null,null,null,null,null,157,"2016-06-05",2,null,"",null,null,157,"2016-06-05",2,null,""]
[null,2,null,null,null,null,null,null,null,null,null,null,null,null,null,null,null,null,null,null,null,158,"2016-06-06",2,null,"",null,null,158,"2016-06-06",2,null,""]
[null,2,null,null,null,null,null,null,null,null,null,null,null,null,null,null,null,null,null,null,null,159,"2016-06-07",2,null,"",null,null,159,"2016-06-07",2,null,""]
[null,2,null,null,null,null,null,null,null,null,null,null,null,null,null,null,null,null,null,null,null,160,"2016-06-08",2,null,"",null,null,160,"2016-06-08",2,null,""]
[null,2,null,null,null,null,null,null,null,null,null,null,null,null,null,null,null,null,null,null,null,161,"2016-06-09",2,null,"",null,null,161,"2016-06-09",2,null,""]
[null,2,null,null,null,null,null,null,null,null,null,null,null,null,null,null,null,null,null,null,null,162,"2016-06-10",2,null,"",null,null,162,"2016-06-10",2,null,""]
[null,2,null,null,null,null,null,null,null,null,null,null,null,null,null,null,null,null,null,null,null,163,"2016-06-11",2,null,"",null,null,163,"2016-06-11",2,null,""]
[null,2,null,null,null,null,null,null,null,null,null,null,null,null,null,null,null,null,null,null,null,164,"2016-06-12",2,null,"",null,null,164,"2016-06-12",2,null,""]
[null,2,null,null,null,null,null,null,null,null,null,null,null,null,null,null,null,null,null,null,null,165,"2016-06-13",2,null,"",null,null,165,"2016-06-13",2,null,""]
[null,2,null,null,null,null,null,null,null,null,null,null,null,null,null,null,null,null,null,null,null,166,"2016-06-14",2,null,"",null,null,166,"2016-06-14",2,null,""]
[null,2,null,null,null,null,null,null,null,null,null,null,null,null,null,null,null,null,null,null,null,167,"2016-06-15",2,null,"",null,null,167,"2016-06-15",2,null,""]
[null,2,null,null,null,null,null,null,null,null,null,null,null,null,null,null,null,null,null,null,null,168,"2016-06-16",2,null,"",null,null,168,"2016-06-16",2,null,""]
[null,2,null,null,null,null,null,null,null,null,null,null,null,null,null,null,null,null,null,null,null,169,"2016-06-17",2,null,"",null,null,169,"2016-06-17",2,null,""]
[null,2,null,null,null,null,null,null,null,null,null,null,null,null,null,null,null,null,null,null,null,170,"2016-06-18",2,null,"",null,null,170,"2016-06-18",2,null,""]
[null,2,null,null,null,null,null,null,null,null,null,null,null,null,null,null,null,null,null,null,null,171,"2016-06-19",2,null,"",null,null,171,"2016-06-19",2,null,""]
[null,2,null,null,null,null,null,null,null,null,null,null,null,null,null,null,null,null,null,null,null,172,"2016-06-20",2,null,"",null,null,172,"2016-06-20",2,null,""]
[null,2,null,null,null,null,null,null,null,null,null,null,null,null,null,null,null,null,null,null,null,173,"2016-06-21",2,null,"",null,null,173,"2016-06-21",2,null,""]
[null,2,null,null,null,null,null,null,null,null,null,null,null,null,null,null,null,null,null,null,null,174,"2016-06-22",2,null,"",null,null,174,"2016-06-22",2,null,""]
[null,2,null,null,null,null,null,null,null,null,null,null,null,null,null,null,null,null,null,null,null,175,"2016-06-23",2,null,"",null,null,175,"2016-06-23",2,null,""]
[null,2,null,null,null,null,null,null,null,null,null,null,null,null,null,null,null,null,null,null,null,176,"2016-06-24",2,null,"",null,null,176,"2016-06-24",2,null,""]
[null,2,null,null,null,null,null,null,null,null,null,null,null,null,null,null,null,null,null,null,null,177,"2016-06-25",2,null,"",null,null,177,"2016-06-25",2,null,""]
[null,{"$f":"B180","v":2},null,null,null,null,null,null,null,null,null,null,null,null,null,null,null,null,null,null,null,178,"2016-06-26",2,null,"",null,null,178,"2016-06-26",2,null,""]
[null,2,null,null,null,null,null,null,null,null,null,null,null,null,null,null,null,null,null,null,null,179,"2016-06-27",2,null,"",null,null,179,"2016-06-27",2,null,""]
[null,2,null,null,null,null,null,null,null,null,null,null,null,null,null,null,null,null,null,null,null,180,"2016-06-28",2,null,"",null,null,180,"2016-06-28",2,null,""]
[null,2,null,null,null,null,null,null,null,null,null,null,null,null,null,null,null,null,null,null,null,181,"2016-06-29",2,null,"",null,null,181,"2016-06-29",2,null,""]
[null,2,null,null,null,null,null,null,null,null,null,null,null,null,null,null,null,null,null,null,null,182,"2016-06-30",2,null,"",null,null,182,"2016-06-30",2,null,""]
[null,2,null,null,null,null,null,null,null,null,null,null,null,null,null,null,null,null,null,null,null,183,"2016-07-01",2,null,"",null,null,183,"2016-07-01",2,null,""]
[null,2,null,null,null,null,null,null,null,null,null,null,null,null,null,null,null,null,null,null,null,184,"2016-07-02",2,null,"",null,null,184,"2016-07-02",2,null,""]
[null,2,null,null,null,null,null,null,null,null,null,null,null,null,null,null,null,null,null,null,null,185,"2016-07-03",2,null,"",null,null,185,"2016-07-03",2,null,""]
[null,2,null,null,null,null,null,null,null,null,null,null,null,null,null,null,null,null,null,null,null,186,"2016-07-04",2,null,"",null,null,186,"2016-07-04",2,null,""]
[null,2,null,null,null,null,null,null,null,null,null,null,null,null,null,null,null,null,null,null,null,187,"2016-07-05",2,null,"",null,null,187,"2016-07-05",2,null,""]
[null,2,null,null,null,null,null,null,null,null,null,null,null,null,null,null,null,null,null,null,null,188,"2016-07-06",2,null,"",null,null,188,"2016-07-06",2,null,""]
[null,2,null,null,null,null,null,null,null,null,null,null,null,null,null,null,null,null,null,null,null,189,"2016-07-07",2,null,"",null,null,189,"2016-07-07",2,null,""]
[null,2,null,null,null,null,null,null,null,null,null,null,null,null,null,null,null,null,null,null,null,190,"2016-07-08",2,null,"",null,null,190,"2016-07-08",2,null,""]
[null,2,null,null,null,null,null,null,null,null,null,null,null,null,null,null,null,null,null,null,null,191,"2016-07-09",2,null,"",null,null,191,"2016-07-09",2,null,""]
[null,2,null,null,null,null,null,null,null,null,null,null,null,null,null,null,null,null,null,null,null,192,"2016-07-10",2,null,"",null,null,192,"2016-07-10",2,null,""]
[null,2,null,null,null,null,null,null,null,null,null,null,null,null,null,null,null,null,null,null,null,193,"2016-07-11",2,null,"",null,null,193,"2016-07-11",2,null,""]
[null,2,null,null,null,null,null,null,null,null,null,null,null,null,null,null,null,null,null,null,null,194,"2016-07-12",2,null,{"$f":"IF(X197=2,\"\",W197)","v":""},null,null,194,"2016-07-12",2,null,{"$f":"IF(AE197=2,\"\",AD197)","v":""}]
[null,2,null,null,null,null,null,null,null,null,null,null,null,null,null,null,null,null,null,null,null,195,"2016-07-13",{"$f":"X197","v":2},null,"",null,null,195,"2016-07-13",{"$f":"AE197","v":2},null,""]
[null,2,null,null,null,null,null,null,null,null,null,null,null,null,null,null,null,null,null,null,null,196,"2016-07-14",2,null,"",null,null,196,"2016-07-14",2,null,""]
[null,2,null,null,null,null,null,null,null,null,null,null,null,null,null,null,null,null,null,null,null,197,"2016-07-15",2,null,"",null,null,197,"2016-07-15",2,null,""]
[null,2,null,null,null,null,null,null,null,null,null,null,null,null,null,null,null,null,null,null,null,198,"2016-07-16",2,null,"",null,null,198,"2016-07-16",2,null,""]
[null,2,null,null,null,null,null,null,null,null,null,null,null,null,null,null,null,null,null,null,null,199,"2016-07-17",2,null,"",null,null,199,"2016-07-17",2,null,""]
[null,2,null,null,null,null,null,null,null,null,null,null,null,null,null,null,null,null,null,null,null,200,"2016-07-18",2,null,"",null,null,200,"2016-07-18",2,null,""]
[null,2,null,null,null,null,null,null,null,null,null,null,null,null,null,null,null,null,null,null,null,201,"2016-07-19",2,null,"",null,null,201,"2016-07-19",2,null,""]
[null,2,null,null,null,null,null,null,null,null,null,null,null,null,null,null,null,null,null,null,null,202,"2016-07-20",2,null,"",null,null,202,"2016-07-20",2,null,""]
[null,2,null,null,null,null,null,null,null,null,null,null,null,null,null,null,null,null,null,null,null,203,"2016-07-21",2,null,"",null,null,203,"2016-07-21",2,null,""]
[null,2,null,null,null,null,null,null,null,null,null,null,null,null,null,null,null,null,null,null,null,204,"2016-07-22",2,null,"",null,null,204,"2016-07-22",2,null,""]
[null,2,null,null,null,null,null,null,null,null,null,null,null,null,null,null,null,null,null,null,null,205,"2016-07-23",2,null,"",null,null,205,"2016-07-23",2,null,""]
[null,2,null,null,null,null,null,null,null,null,null,null,null,null,null,null,null,null,null,null,null,206,"2016-07-24",2,null,"",null,null,206,"2016-07-24",2,null,""]
[null,2,null,null,null,null,null,null,null,null,null,null,null,null,null,null,null,null,null,null,null,207,"2016-07-25",2,null,"",null,null,207,"2016-07-25",2,null,""]
[null,2,null,null,null,null,null,null,null,null,null,null,null,null,null,null,null,null,null,null,null,208,"2016-07-26",2,null,"",null,null,208,"2016-07-26",2,null,""]
[null,2,null,null,null,null,null,null,null,null,null,null,null,null,null,null,null,null,null,null,null,209,"2016-07-27",2,null,"",null,null,209,"2016-07-27",2,null,""]
[null,2,null,null,null,null,null,null,null,null,null,null,null,null,null,null,null,null,null,null,null,210,"2016-07-28",2,null,"",null,null,210,"2016-07-28",2,null,""]
[null,2,null,null,null,null,null,null,null,null,null,null,null,null,null,null,null,null,null,null,null,211,"2016-07-29",2,null,"",null,null,211,"2016-07-29",2,null,""]
[null,2,null,null,null,null,null,null,null,null,null,null,null,null,null,null,null,null,null,null,null,212,"2016-07-30",2,null,"",null,null,212,"2016-07-30",2,null,""]
[null,2,null,null,null,null,null,null,null,null,null,null,null,null,null,null,null,null,null,null,null,213,"2016-07-31",2,null,"",null,null,213,"2016-07-31",2,null,""]
[null,2,null,null,null,null,null,null,null,null,null,null,null,null,null,null,null,null,null,null,null,214,"2016-08-01",2,null,"",null,null,214,"2016-08-01",2,null,""]
[null,2,null,null,null,null,null,null,null,null,null,null,null,null,null,null,null,null,null,null,null,215,"2016-08-02",2,null,"",null,null,215,"2016-08-02",2,null,""]
[null,2,null,null,null,null,null,null,null,null,null,null,null,null,null,null,null,null,null,null,null,216,"2016-08-03",2,null,"",null,null,216,"2016-08-03",2,null,""]
[null,2,null,null,null,null,null,null,null,null,null,null,null,null,null,null,null,null,null,null,null,217,"2016-08-04",2,null,"",null,null,217,"2016-08-04",2,null,""]
[null,2,null,null,null,null,null,null,null,null,null,null,null,null,null,null,null,null,null,null,null,218,"2016-08-05",2,null,"",null,null,218,"2016-08-05",2,null,""]
[null,2,null,null,null,null,null,null,null,null,null,null,null,null,null,null,null,null,null,null,null,219,"2016-08-06",2,null,"",null,null,219,"2016-08-06",2,null,""]
[null,2,null,null,null,null,null,null,null,null,null,null,null,null,null,null,null,null,null,null,null,220,"2016-08-07",2,null,"",null,null,220,"2016-08-07",2,null,""]
[null,2,null,null,null,null,null,null,null,null,null,null,null,null,null,null,null,null,null,null,null,221,"2016-08-08",2,null,"",null,null,221,"2016-08-08",2,null,""]
[null,2,null,null,null,null,null,null,null,null,null,null,null,null,null,null,null,null,null,null,null,222,"2016-08-09",2,null,"",null,null,222,"2016-08-09",2,null,""]
[null,2,null,null,null,null,null,null,null,null,null,null,null,null,null,null,null,null,null,null,null,223,"2016-08-10",2,null,"",null,null,223,"2016-08-10",2,null,""]
[null,2,null,null,null,null,null,null,null,null,null,null,null,null,null,null,null,null,null,null,null,224,"2016-08-11",2,null,"",null,null,224,"2016-08-11",2,null,""]
[null,2,null,null,null,null,null,null,null,null,null,null,null,null,null,null,null,null,null,null,null,225,"2016-08-12",2,null,"",null,null,225,"2016-08-12",2,null,""]
[null,2,null,null,null,null,null,null,null,null,null,null,null,null,null,null,null,null,null,null,null,226,"2016-08-13",2,null,"",null,null,226,"2016-08-13",2,null,""]
[null,2,null,null,null,null,null,null,null,null,null,null,null,null,null,null,null,null,null,null,null,227,"2016-08-14",2,null,"",null,null,227,"2016-08-14",2,null,""]
[null,2,null,null,null,null,null,null,null,null,null,null,null,null,null,null,null,null,null,null,null,228,"2016-08-15",2,null,"",null,null,228,"2016-08-15",2,null,""]
[null,2,null,null,null,null,null,null,null,null,null,null,null,null,null,null,null,null,null,null,null,229,"2016-08-16",2,null,"",null,null,229,"2016-08-16",2,null,""]
[null,2,null,null,null,null,null,null,null,null,null,null,null,null,null,null,null,null,null,null,null,230,"2016-08-17",2,null,"",null,null,230,"2016-08-17",2,null,""]
[null,2,null,null,null,null,null,null,null,null,null,null,null,null,null,null,null,null,null,null,null,231,"2016-08-18",2,null,"",null,null,231,"2016-08-18",2,null,""]
[null,2,null,null,null,null,null,null,null,null,null,null,null,null,null,null,null,null,null,null,null,232,"2016-08-19",2,null,"",null,null,232,"2016-08-19",2,null,""]
[null,2,null,null,null,null,null,null,null,null,null,null,null,null,null,null,null,null,null,null,null,233,"2016-08-20",2,null,"",null,null,233,"2016-08-20",2,null,""]
[null,2,null,null,null,null,null,null,null,null,null,null,null,null,null,null,null,null,null,null,null,234,"2016-08-21",2,null,"",null,null,234,"2016-08-21",2,null,""]
[null,2,null,null,null,null,null,null,null,null,null,null,null,null,null,null,null,null,null,null,null,235,"2016-08-22",2,null,"",null,null,235,"2016-08-22",2,null,""]
[null,2,null,null,null,null,null,null,null,null,null,null,null,null,null,null,null,null,null,null,null,236,"2016-08-23",2,null,"",null,null,236,"2016-08-23",2,null,""]
[null,2,null,null,null,null,null,null,null,null,null,null,null,null,null,null,null,null,null,null,null,237,"2016-08-24",2,null,"",null,null,237,"2016-08-24",2,null,""]
[null,2,null,null,null,null,null,null,null,null,null,null,null,null,null,null,null,null,null,null,null,238,"2016-08-25",2,null,"",null,null,238,"2016-08-25",2,null,""]
[null,2,null,null,null,null,null,null,null,null,null,null,null,null,null,null,null,null,null,null,null,239,"2016-08-26",2,null,"",null,null,239,"2016-08-26",2,null,""]
[null,2,null,null,null,null,null,null,null,null,null,null,null,null,null,null,null,null,null,null,null,240,"2016-08-27",2,null,"",null,null,240,"2016-08-27",2,null,""]
[null,2,null,null,null,null,null,null,null,null,null,null,null,null,null,null,null,null,null,null,null,241,"2016-08-28",2,null,"",null,null,241,"2016-08-28",2,null,""]
[null,{"$f":"B244","v":2},null,null,null,null,null,null,null,null,null,null,null,null,null,null,null,null,null,null,null,242,"2016-08-29",2,null,"",null,null,242,"2016-08-29",2,null,""]
[null,2,null,null,null,null,null,null,null,null,null,null,null,null,null,null,null,null,null,null,null,243,"2016-08-30",2,null,"",null,null,243,"2016-08-30",2,null,""]
[null,2,null,null,null,null,null,null,null,null,null,null,null,null,null,null,null,null,null,null,null,244,"2016-08-31",2,null,"",null,null,244,"2016-08-31",2,null,""]
[null,2,null,null,null,null,null,null,null,null,null,null,null,null,null,null,null,null,null,null,null,245,"2016-09-01",2,null,"",null,null,245,"2016-09-01",2,null,""]
[null,2,null,null,null,null,null,null,null,null,null,null,null,null,null,null,null,null,null,null,null,246,"2016-09-02",2,null,"",null,null,246,"2016-09-02",2,null,""]
[null,2,null,null,null,null,null,null,null,null,null,null,null,null,null,null,null,null,null,null,null,247,"2016-09-03",2,null,"",null,null,247,"2016-09-03",2,null,""]
[null,2,null,null,null,null,null,null,null,null,null,null,null,null,null,null,null,null,null,null,null,248,"2016-09-04",2,null,"",null,null,248,"2016-09-04",2,null,""]
[null,2,null,null,null,null,null,null,null,null,null,null,null,null,null,null,null,null,null,null,null,249,"2016-09-05",2,null,"",null,null,249,"2016-09-05",2,null,""]
[null,2,null,null,null,null,null,null,null,null,null,null,null,null,null,null,null,null,null,null,null,250,"2016-09-06",2,null,"",null,null,250,"2016-09-06",2,null,""]
[null,2,null,null,null,null,null,null,null,null,null,null,null,null,null,null,null,null,null,null,null,251,"2016-09-07",2,null,"",null,null,251,"2016-09-07",2,null,""]
[null,2,null,null,null,null,null,null,null,null,null,null,null,null,null,null,null,null,null,null,null,252,"2016-09-08",2,null,"",null,null,252,"2016-09-08",2,null,""]
[null,2,null,null,null,null,null,null,null,null,null,null,null,null,null,null,null,null,null,null,null,253,"2016-09-09",2,null,"",null,null,253,"2016-09-09",2,null,""]
[null,2,null,null,null,null,null,null,null,null,null,null,null,null,null,null,null,null,null,null,null,254,"2016-09-10",2,null,"",null,null,254,"2016-09-10",2,null,""]
[null,2,null,null,null,null,null,null,null,null,null,null,null,null,null,null,null,null,null,null,null,255,"2016-09-11",2,null,"",null,null,255,"2016-09-11",2,null,""]
[null,2,null,null,null,null,null,null,null,null,null,null,null,null,null,null,null,null,null,null,null,256,"2016-09-12",2,null,"",null,null,256,"2016-09-12",2,null,""]
[null,2,null,null,null,null,null,null,null,null,null,null,null,null,null,null,null,null,null,null,null,257,"2016-09-13",2,null,"",null,null,257,"2016-09-13",2,null,""]
[null,2,null,null,null,null,null,null,null,null,null,null,null,null,null,null,null,null,null,null,null,258,"2016-09-14",2,null,{"$f":"IF(X261=2,\"\",W261)","v":""},null,null,258,"2016-09-14",2,null,{"$f":"IF(AE261=2,\"\",AD261)","v":""}]
[null,2,null,null,null,null,null,null,null,null,null,null,null,null,null,null,null,null,null,null,null,259,"2016-09-15",{"$f":"X261","v":2},null,"",null,null,259,"2016-09-15",{"$f":"AE261","v":2},null,""]
[null,2,null,null,null,null,null,null,null,null,null,null,null,null,null,null,null,null,null,null,null,260,"2016-09-16",2,null,"",null,null,260,"2016-09-16",2,null,""]
[null,2,null,null,null,null,null,null,null,null,null,null,null,null,null,null,null,null,null,null,null,261,"2016-09-17",2,null,"",null,null,261,"2016-09-17",2,null,""]
[null,2,null,null,null,null,null,null,null,null,null,null,null,null,null,null,null,null,null,null,null,262,"2016-09-18",2,null,"",null,null,262,"2016-09-18",2,null,""]
[null,2,null,null,null,null,null,null,null,null,null,null,null,null,null,null,null,null,null,null,null,263,"2016-09-19",2,null,"",null,null,263,"2016-09-19",2,null,""]
[null,2,null,null,null,null,null,null,null,null,null,null,null,null,null,null,null,null,null,null,null,264,"2016-09-20",2,null,"",null,null,264,"2016-09-20",2,null,""]
[null,2,null,null,null,null,null,null,null,null,null,null,null,null,null,null,null,null,null,null,null,265,"2016-09-21",2,null,"",null,null,265,"2016-09-21",2,null,""]
[null,2,null,null,null,null,null,null,null,null,null,null,null,null,null,null,null,null,null,null,null,266,"2016-09-22",2,null,"",null,null,266,"2016-09-22",2,null,""]
[null,2,null,null,null,null,null,null,null,null,null,null,null,null,null,null,null,null,null,null,null,267,"2016-09-23",2,null,"",null,null,267,"2016-09-23",2,null,""]
[null,2,null,null,null,null,null,null,null,null,null,null,null,null,null,null,null,null,null,null,null,268,"2016-09-24",2,null,"",null,null,268,"2016-09-24",2,null,""]
[null,2,null,null,null,null,null,null,null,null,null,null,null,null,null,null,null,null,null,null,null,269,"2016-09-25",2,null,"",null,null,269,"2016-09-25",2,null,""]
[null,2,null,null,null,null,null,null,null,null,null,null,null,null,null,null,null,null,null,null,null,270,"2016-09-26",2,null,"",null,null,270,"2016-09-26",2,null,""]
[null,2,null,null,null,null,null,null,null,null,null,null,null,null,null,null,null,null,null,null,null,271,"2016-09-27",2,null,"",null,null,271,"2016-09-27",2,null,""]
[null,2,null,null,null,null,null,null,null,null,null,null,null,null,null,null,null,null,null,null,null,272,"2016-09-28",2,null,"",null,null,272,"2016-09-28",2,null,""]
[null,2,null,null,null,null,null,null,null,null,null,null,null,null,null,null,null,null,null,null,null,273,"2016-09-29",2,null,"",null,null,273,"2016-09-29",2,null,""]
[null,2,null,null,null,null,null,null,null,null,null,null,null,null,null,null,null,null,null,null,null,274,"2016-09-30",2,null,"",null,null,274,"2016-09-30",2,null,""]
[null,2,null,null,null,null,null,null,null,null,null,null,null,null,null,null,null,null,null,null,null,275,"2016-10-01",2,null,"",null,null,275,"2016-10-01",2,null,""]
[null,2,null,null,null,null,null,null,null,null,null,null,null,null,null,null,null,null,null,null,null,276,"2016-10-02",2,null,"",null,null,276,"2016-10-02",2,null,""]
[null,2,null,null,null,null,null,null,null,null,null,null,null,null,null,null,null,null,null,null,null,277,"2016-10-03",2,null,"",null,null,277,"2016-10-03",2,null,""]
[null,2,null,null,null,null,null,null,null,null,null,null,null,null,null,null,null,null,null,null,null,278,"2016-10-04",2,null,"",null,null,278,"2016-10-04",2,null,""]
[null,2,null,null,null,null,null,null,null,null,null,null,null,null,null,null,null,null,null,null,null,279,"2016-10-05",2,null,"",null,null,279,"2016-10-05",2,null,""]
[null,2,null,null,null,null,null,null,null,null,null,null,null,null,null,null,null,null,null,null,null,280,"2016-10-06",2,null,"",null,null,280,"2016-10-06",2,null,""]
[null,2,null,null,null,null,null,null,null,null,null,null,null,null,null,null,null,null,null,null,null,281,"2016-10-07",2,null,"",null,null,281,"2016-10-07",2,null,""]
[null,2,null,null,null,null,null,null,null,null,null,null,null,null,null,null,null,null,null,null,null,282,"2016-10-08",2,null,"",null,null,282,"2016-10-08",2,null,""]
[null,2,null,null,null,null,null,null,null,null,null,null,null,null,null,null,null,null,null,null,null,283,"2016-10-09",2,null,"",null,null,283,"2016-10-09",2,null,""]
[null,2,null,null,null,null,null,null,null,null,null,null,null,null,null,null,null,null,null,null,null,284,"2016-10-10",2,null,"",null,null,284,"2016-10-10",2,null,""]
[null,2,null,null,null,null,null,null,null,null,null,null,null,null,null,null,null,null,null,null,null,285,"2016-10-11",2,null,"",null,null,285,"2016-10-11",2,null,""]
[null,2,null,null,null,null,null,null,null,null,null,null,null,null,null,null,null,null,null,null,null,286,"2016-10-12",2,null,"",null,null,286,"2016-10-12",2,null,""]
[null,2,null,null,null,null,null,null,null,null,null,null,null,null,null,null,null,null,null,null,null,287,"2016-10-13",2,null,"",null,null,287,"2016-10-13",2,null,""]
[null,2,null,null,null,null,null,null,null,null,null,null,null,null,null,null,null,null,null,null,null,288,"2016-10-14",2,null,"",null,null,288,"2016-10-14",2,null,""]
[null,2,null,null,null,null,null,null,null,null,null,null,null,null,null,null,null,null,null,null,null,289,"2016-10-15",2,null,"",null,null,289,"2016-10-15",2,null,""]
[null,2,null,null,null,null,null,null,null,null,null,null,null,null,null,null,null,null,null,null,null,290,"2016-10-16",2,null,"",null,null,290,"2016-10-16",2,null,""]
[null,2,null,null,null,null,null,null,null,null,null,null,null,null,null,null,null,null,null,null,null,291,"2016-10-17",2,null,"",null,null,291,"2016-10-17",2,null,""]
[null,2,null,null,null,null,null,null,null,null,null,null,null,null,null,null,null,null,null,null,null,292,"2016-10-18",2,null,"",null,null,292,"2016-10-18",2,null,""]
[null,2,null,null,null,null,null,null,null,null,null,null,null,null,null,null,null,null,null,null,null,293,"2016-10-19",2,null,"",null,null,293,"2016-10-19",2,null,""]
[null,2,null,null,null,null,null,null,null,null,null,null,null,null,null,null,null,null,null,null,null,294,"2016-10-20",2,null,"",null,null,294,"2016-10-20",2,null,""]
[null,2,null,null,null,null,null,null,null,null,null,null,null,null,null,null,null,null,null,null,null,295,"2016-10-21",2,null,"",null,null,295,"2016-10-21",2,null,""]
[null,2,null,null,null,null,null,null,null,null,null,null,null,null,null,null,null,null,null,null,null,296,"2016-10-22",2,null,"",null,null,296,"2016-10-22",2,null,""]
[null,2,null,null,null,null,null,null,null,null,null,null,null,null,null,null,null,null,null,null,null,297,"2016-10-23",2,null,"",null,null,297,"2016-10-23",2,null,""]
[null,2,null,null,null,null,null,null,null,null,null,null,null,null,null,null,null,null,null,null,null,298,"2016-10-24",2,null,"",null,null,298,"2016-10-24",2,null,""]
[null,2,null,null,null,null,null,null,null,null,null,null,null,null,null,null,null,null,null,null,null,299,"2016-10-25",2,null,"",null,null,299,"2016-10-25",2,null,""]
[null,2,null,null,null,null,null,null,null,null,null,null,null,null,null,null,null,null,null,null,null,300,"2016-10-26",2,null,"",null,null,300,"2016-10-26",2,null,""]
[null,2,null,null,null,null,null,null,null,null,null,null,null,null,null,null,null,null,null,null,null,301,"2016-10-27",2,null,"",null,null,301,"2016-10-27",2,null,""]
[null,2,null,null,null,null,null,null,null,null,null,null,null,null,null,null,null,null,null,null,null,302,"2016-10-28",2,null,"",null,null,302,"2016-10-28",2,null,""]
[null,2,null,null,null,null,null,null,null,null,null,null,null,null,null,null,null,null,null,null,null,303,"2016-10-29",2,null,"",null,null,303,"2016-10-29",2,null,""]
[null,2,null,null,null,null,null,null,null,null,null,null,null,null,null,null,null,null,null,null,null,304,"2016-10-30",2,null,"",null,null,304,"2016-10-30",2,null,""]
[null,2,null,null,null,null,null,null,null,null,null,null,null,null,null,null,null,null,null,null,null,305,"2016-10-31",2,null,"",null,null,305,"2016-10-31",2,null,""]
[null,{"$f":"B308","v":2},null,null,null,null,null,null,null,null,null,null,null,null,null,null,null,null,null,null,null,306,"2016-11-01",2,null,"",null,null,306,"2016-11-01",2,null,""]
[null,2,null,null,null,null,null,null,null,null,null,null,null,null,null,null,null,null,null,null,null,307,"2016-11-02",2,null,"",null,null,307,"2016-11-02",2,null,""]
[null,2,null,null,null,null,null,null,null,null,null,null,null,null,null,null,null,null,null,null,null,308,"2016-11-03",2,null,"",null,null,308,"2016-11-03",2,null,""]
[null,2,null,null,null,null,null,null,null,null,null,null,null,null,null,null,null,null,null,null,null,309,"2016-11-04",2,null,"",null,null,309,"2016-11-04",2,null,""]
[null,2,null,null,null,null,null,null,null,null,null,null,null,null,null,null,null,null,null,null,null,310,"2016-11-05",2,null,"",null,null,310,"2016-11-05",2,null,""]
[null,2,null,null,null,null,null,null,null,null,null,null,null,null,null,null,null,null,null,null,null,311,"2016-11-06",2,null,"",null,null,311,"2016-11-06",2,null,""]
[null,2,null,null,null,null,null,null,null,null,null,null,null,null,null,null,null,null,null,null,null,312,"2016-11-07",2,null,"",null,null,312,"2016-11-07",2,null,""]
[null,2,null,null,null,null,null,null,null,null,null,null,null,null,null,null,null,null,null,null,null,313,"2016-11-08",2,null,"",null,null,313,"2016-11-08",2,null,""]
[null,2,null,null,null,null,null,null,null,null,null,null,null,null,null,null,null,null,null,null,null,314,"2016-11-09",2,null,"",null,null,314,"2016-11-09",2,null,""]
[null,2,null,null,null,null,null,null,null,null,null,null,null,null,null,null,null,null,null,null,null,315,"2016-11-10",2,null,"",null,null,315,"2016-11-10",2,null,""]
[null,2,null,null,null,null,null,null,null,null,null,null,null,null,null,null,null,null,null,null,null,316,"2016-11-11",2,null,"",null,null,316,"2016-11-11",2,null,""]
[null,2,null,null,null,null,null,null,null,null,null,null,null,null,null,null,null,null,null,null,null,317,"2016-11-12",2,null,"",null,null,317,"2016-11-12",2,null,""]
[null,2,null,null,null,null,null,null,null,null,null,null,null,null,null,null,null,null,null,null,null,318,"2016-11-13",2,null,"",null,null,318,"2016-11-13",2,null,""]
[null,2,null,null,null,null,null,null,null,null,null,null,null,null,null,null,null,null,null,null,null,319,"2016-11-14",2,null,"",null,null,319,"2016-11-14",2,null,""]
[null,2,null,null,null,null,null,null,null,null,null,null,null,null,null,null,null,null,null,null,null,320,"2016-11-15",2,null,"",null,null,320,"2016-11-15",2,null,""]
[null,2,null,null,null,null,null,null,null,null,null,null,null,null,null,null,null,null,null,null,null,321,"2016-11-16",2,null,"",null,null,321,"2016-11-16",2,null,""]
[null,2,null,null,null,null,null,null,null,null,null,null,null,null,null,null,null,null,null,null,null,322,"2016-11-17",2,null,{"$f":"IF(X325=2,\"\",W325)","v":""},null,null,322,"2016-11-17",2,null,{"$f":"IF(AE325=2,\"\",AD325)","v":""}]
[null,2,null,null,null,null,null,null,null,null,null,null,null,null,null,null,null,null,null,null,null,323,"2016-11-18",{"$f":"X325","v":2},null,"",null,null,323,"2016-11-18",{"$f":"AE325","v":2},null,""]
[null,2,null,null,null,null,null,null,null,null,null,null,null,null,null,null,null,null,null,null,null,324,"2016-11-19",2,null,"",null,null,324,"2016-11-19",2,null,""]
[null,2,null,null,null,null,null,null,null,null,null,null,null,null,null,null,null,null,null,null,null,325,"2016-11-20",2,null,"",null,null,325,"2016-11-20",2,null,""]
[null,2,null,null,null,null,null,null,null,null,null,null,null,null,null,null,null,null,null,null,null,326,"2016-11-21",2,null,"",null,null,326,"2016-11-21",2,null,""]
[null,2,null,null,null,null,null,null,null,null,null,null,null,null,null,null,null,null,null,null,null,327,"2016-11-22",2,null,"",null,null,327,"2016-11-22",2,null,""]
[null,2,null,null,null,null,null,null,null,null,null,null,null,null,null,null,null,null,null,null,null,328,"2016-11-23",2,null,"",null,null,328,"2016-11-23",2,null,""]
[null,2,null,null,null,null,null,null,null,null,null,null,null,null,null,null,null,null,null,null,null,329,"2016-11-24",2,null,"",null,null,329,"2016-11-24",2,null,""]
[null,2,null,null,null,null,null,null,null,null,null,null,null,null,null,null,null,null,null,null,null,330,"2016-11-25",2,null,"",null,null,330,"2016-11-25",2,null,""]
[null,2,null,null,null,null,null,null,null,null,null,null,null,null,null,null,null,null,null,null,null,331,"2016-11-26",2,null,"",null,null,331,"2016-11-26",2,null,""]
[null,2,null,null,null,null,null,null,null,null,null,null,null,null,null,null,null,null,null,null,null,332,"2016-11-27",2,null,"",null,null,332,"2016-11-27",2,null,""]
[null,2,null,null,null,null,null,null,null,null,null,null,null,null,null,null,null,null,null,null,null,333,"2016-11-28",2,null,"",null,null,333,"2016-11-28",2,null,""]
[null,2,null,null,null,null,null,null,null,null,null,null,null,null,null,null,null,null,null,null,null,334,"2016-11-29",2,null,"",null,null,334,"2016-11-29",2,null,""]
[null,2,null,null,null,null,null,null,null,null,null,null,null,null,null,null,null,null,null,null,null,335,"2016-11-30",2,null,"",null,null,335,"2016-11-30",2,null,""]
[null,2,null,null,null,null,null,null,null,null,null,null,null,null,null,null,null,null,null,null,null,336,"2016-12-01",2,null,"",null,null,336,"2016-12-01",2,null,""]
[null,2,null,null,null,null,null,null,null,null,null,null,null,null,null,null,null,null,null,null,null,337,"2016-12-02",2,null,"",null,null,337,"2016-12-02",2,null,""]
[null,2,null,null,null,null,null,null,null,null,null,null,null,null,null,null,null,null,null,null,null,338,"2016-12-03",2,null,"",null,null,338,"2016-12-03",2,null,""]
[null,2,null,null,null,null,null,null,null,null,null,null,null,null,null,null,null,null,null,null,null,339,"2016-12-04",2,null,"",null,null,339,"2016-12-04",2,null,""]
[null,2,null,null,null,null,null,null,null,null,null,null,null,null,null,null,null,null,null,null,null,340,"2016-12-05",2,null,"",null,null,340,"2016-12-05",2,null,""]
[null,2,null,null,null,null,null,null,null,null,null,null,null,null,null,null,null,null,null,null,null,341,"2016-12-06",2,null,"",null,null,341,"2016-12-06",2,null,""]
[null,2,null,null,null,null,null,null,null,null,null,null,null,null,null,null,null,null,null,null,null,342,"2016-12-07",2,null,"",null,null,342,"2016-12-07",2,null,""]
[null,2,null,null,null,null,null,null,null,null,null,null,null,null,null,null,null,null,null,null,null,343,"2016-12-08",2,null,"",null,null,343,"2016-12-08",2,null,""]
[null,2,null,null,null,null,null,null,null,null,null,null,null,null,null,null,null,null,null,null,null,344,"2016-12-09",2,null,"",null,null,344,"2016-12-09",2,null,""]
[null,2,null,null,null,null,null,null,null,null,null,null,null,null,null,null,null,null,null,null,null,345,"2016-12-10",2,null,"",null,null,345,"2016-12-10",2,null,""]
[null,2,null,null,null,null,null,null,null,null,null,null,null,null,null,null,null,null,null,null,null,346,"2016-12-11",2,null,"",null,null,346,"2016-12-11",2,null,""]
[null,2,null,null,null,null,null,null,null,null,null,null,null,null,null,null,null,null,null,null,null,347,"2016-12-12",2,null,"",null,null,347,"2016-12-12",2,null,""]
[null,2,null,null,null,null,null,null,null,null,null,null,null,null,null,null,null,null,null,null,null,348,"2016-12-13",2,null,"",null,null,348,"2016-12-13",2,null,""]
[null,2,null,null,null,null,null,null,null,null,null,null,null,null,null,null,null,null,null,null,null,349,"2016-12-14",2,null,"",null,null,349,"2016-12-14",2,null,""]
[null,2,null,null,null,null,null,null,null,null,null,null,null,null,null,null,null,null,null,null,null,350,"2016-12-15",2,null,"",null,null,350,"2016-12-15",2,null,""]
[null,2,null,null,null,null,null,null,null,null,null,null,null,null,null,null,null,null,null,null,null,351,"2016-12-16",2,null,"",null,null,351,"2016-12-16",2,null,""]
[null,2,null,null,null,null,null,null,null,null,null,null,null,null,null,null,null,null,null,null,null,352,"2016-12-17",2,null,"",null,null,352,"2016-12-17",2,null,""]
[null,2,null,null,null,null,null,null,null,null,null,null,null,null,null,null,null,null,null,null,null,353,"2016-12-18",2,null,"",null,null,353,"2016-12-18",2,null,""]
[null,2,null,null,null,null,null,null,null,null,null,null,null,null,null,null,null,null,null,null,null,354,"2016-12-19",2,null,"",null,null,354,"2016-12-19",2,null,""]
[null,2,null,null,null,null,null,null,null,null,null,null,null,null,null,null,null,null,null,null,null,355,"2016-12-20",2,null,"",null,null,355,"2016-12-20",2,null,""]
[null,2,null,null,null,null,null,null,null,null,null,null,null,null,null,null,null,null,null,null,null,356,"2016-12-21",2,null,"",null,null,356,"2016-12-21",2,null,""]
[null,2,null,null,null,null,null,null,null,null,null,null,null,null,null,null,null,null,null,null,null,357,"2016-12-22",2,null,"",null,null,357,"2016-12-22",2,null,""]
[null,2,null,null,null,null,null,null,null,null,null,null,null,null,null,null,null,null,null,null,null,358,"2016-12-23",2,null,"",null,null,358,"2016-12-23",2,null,""]
[null,2,null,null,null,null,null,null,null,null,null,null,null,null,null,null,null,null,null,null,null,359,"2016-12-24",2,null,"",null,null,359,"2016-12-24",2,null,""]
[null,2,null,null,null,null,null,null,null,null,null,null,null,null,null,null,null,null,null,null,null,360,"2016-12-25",2,null,"",null,null,360,"2016-12-25",2,null,""]
[null,2,null,null,null,null,null,null,null,null,null,null,null,null,null,null,null,null,null,null,null,361,"2016-12-26",2,null,"",null,null,361,"2016-12-26",2,null,""]
[null,2,null,null,null,null,null,null,null,null,null,null,null,null,null,null,null,null,null,null,null,362,"2016-12-27",2,null,"",null,null,362,"2016-12-27",2,null,""]
[null,2,null,null,null,null,null,null,null,null,null,null,null,null,null,null,null,null,null,null,null,363,"2016-12-28",2,null,"",null,null,363,"2016-12-28",2,null,""]
[null,2,null,null,null,null,null,null,null,null,null,null,null,null,null,null,null,null,null,null,null,364,"2016-12-29",2,null,"",null,null,364,"2016-12-29",2,null,""]
[null,2,null,null,null,null,null,null,null,null,null,null,null,null,null,null,null,null,null,null,null,365,"2016-12-30",2,null,"",null,null,365,"2016-12-30",2,null,""]
[null,2,null,null,null,null,null,null,null,null,null,null,null,null,null,null,null,null,null,null,null,366,"2016-12-31",2,null,"",null,null,366,"2016-12-31",2,null,""]
[null,2,null,null,null,null,null,null,null,null,null,null,null,null,null,null,null,null,null,null,null,367,"2017-01-01",2,null,"",null,null,367,"2017-01-01",2,null,""]
[null,2,null,null,null,null,null,null,null,null,null,null,null,null,null,null,null,null,null,null,null,368,"2017-01-02",2,null,"",null,null,368,"2017-01-02",2,null,""]
[null,2,null,null,null,null,null,null,null,null,null,null,null,null,null,null,null,null,null,null,null,369,"2017-01-03",2,null,"",null,null,369,"2017-01-03",2,null,""]
[null,{"$f":"B372","v":2},null,null,null,null,null,null,null,null,null,null,null,null,null,null,null,null,null,null,null,370,"2017-01-04",2,null,"",null,null,370,"2017-01-04",2,null,""]
[null,2,null,null,null,null,null,null,null,null,null,null,null,null,null,null,null,null,null,null,null,371,"2017-01-05",2,null,"",null,null,371,"2017-01-05",2,null,""]
[null,2,null,null,null,null,null,null,null,null,null,null,null,null,null,null,null,null,null,null,null,372,"2017-01-06",2,null,"",null,null,372,"2017-01-06",2,null,""]
[null,2,null,null,null,null,null,null,null,null,null,null,null,null,null,null,null,null,null,null,null,373,"2017-01-07",2,null,"",null,null,373,"2017-01-07",2,null,""]
[null,2,null,null,null,null,null,null,null,null,null,null,null,null,null,null,null,null,null,null,null,374,"2017-01-08",2,null,"",null,null,374,"2017-01-08",2,null,""]
[null,2,null,null,null,null,null,null,null,null,null,null,null,null,null,null,null,null,null,null,null,375,"2017-01-09",2,null,"",null,null,375,"2017-01-09",2,null,""]
[null,2,null,null,null,null,null,null,null,null,null,null,null,null,null,null,null,null,null,null,null,376,"2017-01-10",2,null,"",null,null,376,"2017-01-10",2,null,""]
[null,2,null,null,null,null,null,null,null,null,null,null,null,null,null,null,null,null,null,null,null,377,"2017-01-11",2,null,"",null,null,377,"2017-01-11",2,null,""]
[null,2,null,null,null,null,null,null,null,null,null,null,null,null,null,null,null,null,null,null,null,378,"2017-01-12",2,null,"",null,null,378,"2017-01-12",2,null,""]
[null,2,null,null,null,null,null,null,null,null,null,null,null,null,null,null,null,null,null,null,null,379,"2017-01-13",2,null,"",null,null,379,"2017-01-13",2,null,""]
[null,2,null,null,null,null,null,null,null,null,null,null,null,null,null,null,null,null,null,null,null,380,"2017-01-14",2,null,"",null,null,380,"2017-01-14",2,null,""]
[null,2,null,null,null,null,null,null,null,null,null,null,null,null,null,null,null,null,null,null,null,381,"2017-01-15",2,null,"",null,null,381,"2017-01-15",2,null,""]
[null,2,null,null,null,null,null,null,null,null,null,null,null,null,null,null,null,null,null,null,null,382,"2017-01-16",2,null,"",null,null,382,"2017-01-16",2,null,""]
[null,2,null,null,null,null,null,null,null,null,null,null,null,null,null,null,null,null,null,null,null,383,"2017-01-17",2,null,"",null,null,383,"2017-01-17",2,null,""]
[null,2,null,null,null,null,null,null,null,null,null,null,null,null,null,null,null,null,null,null,null,384,"2017-01-18",2,null,"",null,null,384,"2017-01-18",2,null,""]
[null,2,null,null,null,null,null,null,null,null,null,null,null,null,null,null,null,null,null,null,null,385,"2017-01-19",2,null,"",null,null,385,"2017-01-19",2,null,""]
[null,2,null,null,null,null,null,null,null,null,null,null,null,null,null,null,null,null,null,null,null,386,"2017-01-20",2,null,{"$f":"IF(X389=2,\"\",W389)","v":""},null,null,386,"2017-01-20",2,null,{"$f":"IF(AE389=2,\"\",AD389)","v":""}]
[null,2,null,null,null,null,null,null,null,null,null,null,null,null,null,null,null,null,null,null,null,387,"2017-01-21",{"$f":"X389","v":2},null,"",null,null,387,"2017-01-21",{"$f":"AE389","v":2},null,""]
[null,2,null,null,null,null,null,null,null,null,null,null,null,null,null,null,null,null,null,null,null,388,"2017-01-22",2,null,"",null,null,388,"2017-01-22",2,null,""]
[null,2,null,null,null,null,null,null,null,null,null,null,null,null,null,null,null,null,null,null,null,389,"2017-01-23",2,null,"",null,null,389,"2017-01-23",2,null,""]
[null,2,null,null,null,null,null,null,null,null,null,null,null,null,null,null,null,null,null,null,null,390,"2017-01-24",2,null,"",null,null,390,"2017-01-24",2,null,""]
[null,2,null,null,null,null,null,null,null,null,null,null,null,null,null,null,null,null,null,null,null,391,"2017-01-25",2,null,"",null,null,391,"2017-01-25",2,null,""]
[null,2,null,null,null,null,null,null,null,null,null,null,null,null,null,null,null,null,null,null,null,392,"2017-01-26",2,null,"",null,null,392,"2017-01-26",2,null,""]
[null,2,null,null,null,null,null,null,null,null,null,null,null,null,null,null,null,null,null,null,null,393,"2017-01-27",2,null,"",null,null,393,"2017-01-27",2,null,""]
[null,2,null,null,null,null,null,null,null,null,null,null,null,null,null,null,null,null,null,null,null,394,"2017-01-28",2,null,"",null,null,394,"2017-01-28",2,null,""]
[null,2,null,null,null,null,null,null,null,null,null,null,null,null,null,null,null,null,null,null,null,395,"2017-01-29",2,null,"",null,null,395,"2017-01-29",2,null,""]
[null,2,null,null,null,null,null,null,null,null,null,null,null,null,null,null,null,null,null,null,null,396,"2017-01-30",2,null,"",null,null,396,"2017-01-30",2,null,""]
[null,2,null,null,null,null,null,null,null,null,null,null,null,null,null,null,null,null,null,null,null,397,"2017-01-31",2,null,"",null,null,397,"2017-01-31",2,null,""]
[null,2,null,null,null,null,null,null,null,null,null,null,null,null,null,null,null,null,null,null,null,398,"2017-02-01",2,null,"",null,null,398,"2017-02-01",2,null,""]
[null,2,null,null,null,null,null,null,null,null,null,null,null,null,null,null,null,null,null,null,null,399,"2017-02-02",2,null,"",null,null,399,"2017-02-02",2,null,""]
[null,2,null,null,null,null,null,null,null,null,null,null,null,null,null,null,null,null,null,null,null,400,"2017-02-03",2,null,"",null,null,400,"2017-02-03",2,null,""]
[null,2,null,null,null,null,null,null,null,null,null,null,null,null,null,null,null,null,null,null,null,401,"2017-02-04",2,null,"",null,null,401,"2017-02-04",2,null,""]
[null,2,null,null,null,null,null,null,null,null,null,null,null,null,null,null,null,null,null,null,null,402,"2017-02-05",2,null,"",null,null,402,"2017-02-05",2,null,""]
[null,2,null,null,null,null,null,null,null,null,null,null,null,null,null,null,null,null,null,null,null,403,"2017-02-06",2,null,"",null,null,403,"2017-02-06",2,null,""]
[null,2,null,null,null,null,null,null,null,null,null,null,null,null,null,null,null,null,null,null,null,404,"2017-02-07",2,null,"",null,null,404,"2017-02-07",2,null,""]
[null,2,null,null,null,null,null,null,null,null,null,null,null,null,null,null,null,null,null,null,null,405,"2017-02-08",2,null,"",null,null,405,"2017-02-08",2,null,""]
[null,2,null,null,null,null,null,null,null,null,null,null,null,null,null,null,null,null,null,null,null,406,"2017-02-09",2,null,"",null,null,406,"2017-02-09",2,null,""]
[null,2,null,null,null,null,null,null,null,null,null,null,null,null,null,null,null,null,null,null,null,407,"2017-02-10",2,null,"",null,null,407,"2017-02-10",2,null,""]
[null,2,null,null,null,null,null,null,null,null,null,null,null,null,null,null,null,null,null,null,null,408,"2017-02-11",2,null,"",null,null,408,"2017-02-11",2,null,""]
[null,2,null,null,null,null,null,null,null,null,null,null,null,null,null,null,null,null,null,null,null,409,"2017-02-12",2,null,"",null,null,409,"2017-02-12",2,null,""]
[null,2,null,null,null,null,null,null,null,null,null,null,null,null,null,null,null,null,null,null,null,410,"2017-02-13",2,null,"",null,null,410,"2017-02-13",2,null,""]
[null,2,null,null,null,null,null,null,null,null,null,null,null,null,null,null,null,null,null,null,null,411,"2017-02-14",2,null,"",null,null,411,"2017-02-14",2,null,""]
[null,2,null,null,null,null,null,null,null,null,null,null,null,null,null,null,null,null,null,null,null,412,"2017-02-15",2,null,"",null,null,412,"2017-02-15",2,null,""]
[null,2,null,null,null,null,null,null,null,null,null,null,null,null,null,null,null,null,null,null,null,413,"2017-02-16",2,null,"",null,null,413,"2017-02-16",2,null,""]
[null,2,null,null,null,null,null,null,null,null,null,null,null,null,null,null,null,null,null,null,null,414,"2017-02-17",2,null,"",null,null,414,"2017-02-17",2,null,""]
[null,2,null,null,null,null,null,null,null,null,null,null,null,null,null,null,null,null,null,null,null,415,"2017-02-18",2,null,"",null,null,415,"2017-02-18",2,null,""]
[null,2,null,null,null,null,null,null,null,null,null,null,null,null,null,null,null,null,null,null,null,416,"2017-02-19",2,null,"",null,null,416,"2017-02-19",2,null,""]
[null,2,null,null,null,null,null,null,null,null,null,null,null,null,null,null,null,null,null,null,null,417,"2017-02-20",2,null,"",null,null,417,"2017-02-20",2,null,""]
[null,2,null,null,null,null,null,null,null,null,null,null,null,null,null,null,null,null,null,null,null,418,"2017-02-21",2,null,"",null,null,418,"2017-02-21",2,null,""]
[null,2,null,null,null,null,null,null,null,null,null,null,null,null,null,null,null,null,null,null,null,419,"2017-02-22",2,null,"",null,null,419,"2017-02-22",2,null,""]
[null,2,null,null,null,null,null,null,null,null,null,null,null,null,null,null,null,null,null,null,null,420,"2017-02-23",2,null,"",null,null,420,"2017-02-23",2,null,""]
[null,2,null,null,null,null,null,null,null,null,null,null,null,null,null,null,null,null,null,null,null,421,"2017-02-24",2,null,"",null,null,421,"2017-02-24",2,null,""]
[null,2,null,null,null,null,null,null,null,null,null,null,null,null,null,null,null,null,null,null,null,422,"2017-02-25",2,null,"",null,null,422,"2017-02-25",2,null,""]
[null,2,null,null,null,null,null,null,null,null,null,null,null,null,null,null,null,null,null,null,null,423,"2017-02-26",2,null,"",null,null,423,"2017-02-26",2,null,""]
[null,2,null,null,null,null,null,null,null,null,null,null,null,null,null,null,null,null,null,null,null,424,"2017-02-27",2,null,"",null,null,424,"2017-02-27",2,null,""]
[null,2,null,null,null,null,null,null,null,null,null,null,null,null,null,null,null,null,null,null,null,425,"2017-02-28",2,null,"",null,null,425,"2017-02-28",2,null,""]
[null,2,null,null,null,null,null,null,null,null,null,null,null,null,null,null,null,null,null,null,null,426,"2017-03-01",2,null,"",null,null,426,"2017-03-01",2,null,""]
[null,2,null,null,null,null,null,null,null,null,null,null,null,null,null,null,null,null,null,null,null,427,"2017-03-02",2,null,"",null,null,427,"2017-03-02",2,null,""]
[null,2,null,null,null,null,null,null,null,null,null,null,null,null,null,null,null,null,null,null,null,428,"2017-03-03",2,null,"",null,null,428,"2017-03-03",2,null,""]
[null,2,null,null,null,null,null,null,null,null,null,null,null,null,null,null,null,null,null,null,null,429,"2017-03-04",2,null,"",null,null,429,"2017-03-04",2,null,""]
[null,2,null,null,null,null,null,null,null,null,null,null,null,null,null,null,null,null,null,null,null,430,"2017-03-05",2,null,"",null,null,430,"2017-03-05",2,null,""]
[null,2,null,null,null,null,null,null,null,null,null,null,null,null,null,null,null,null,null,null,null,431,"2017-03-06",2,null,"",null,null,431,"2017-03-06",2,null,""]
[null,2,null,null,null,null,null,null,null,null,null,null,null,null,null,null,null,null,null,null,null,432,"2017-03-07",2,null,"",null,null,432,"2017-03-07",2,null,""]
[null,2,null,null,null,null,null,null,null,null,null,null,null,null,null,null,null,null,null,null,null,433,"2017-03-08",2,null,"",null,null,433,"2017-03-08",2,null,""]
[null,{"$f":"B436","v":2},null,null,null,null,null,null,null,null,null,null,null,null,null,null,null,null,null,null,null,434,"2017-03-09",2,null,"",null,null,434,"2017-03-09",2,null,""]
[null,2,null,null,null,null,null,null,null,null,null,null,null,null,null,null,null,null,null,null,null,435,"2017-03-10",2,null,"",null,null,435,"2017-03-10",2,null,""]
[null,2,null,null,null,null,null,null,null,null,null,null,null,null,null,null,null,null,null,null,null,436,"2017-03-11",2,null,"",null,null,436,"2017-03-11",2,null,""]
[null,2,null,null,null,null,null,null,null,null,null,null,null,null,null,null,null,null,null,null,null,437,"2017-03-12",2,null,"",null,null,437,"2017-03-12",2,null,""]
[null,2,null,null,null,null,null,null,null,null,null,null,null,null,null,null,null,null,null,null,null,438,"2017-03-13",2,null,"",null,null,438,"2017-03-13",2,null,""]
[null,2,null,null,null,null,null,null,null,null,null,null,null,null,null,null,null,null,null,null,null,439,"2017-03-14",2,null,"",null,null,439,"2017-03-14",2,null,""]
[null,2,null,null,null,null,null,null,null,null,null,null,null,null,null,null,null,null,null,null,null,440,"2017-03-15",2,null,"",null,null,440,"2017-03-15",2,null,""]
[null,2,null,null,null,null,null,null,null,null,null,null,null,null,null,null,null,null,null,null,null,441,"2017-03-16",2,null,"",null,null,441,"2017-03-16",2,null,""]
[null,2,null,null,null,null,null,null,null,null,null,null,null,null,null,null,null,null,null,null,null,442,"2017-03-17",2,null,"",null,null,442,"2017-03-17",2,null,""]
[null,2,null,null,null,null,null,null,null,null,null,null,null,null,null,null,null,null,null,null,null,443,"2017-03-18",2,null,"",null,null,443,"2017-03-18",2,null,""]
[null,2,null,null,null,null,null,null,null,null,null,null,null,null,null,null,null,null,null,null,null,444,"2017-03-19",2,null,"",null,null,444,"2017-03-19",2,null,""]
[null,2,null,null,null,null,null,null,null,null,null,null,null,null,null,null,null,null,null,null,null,445,"2017-03-20",2,null,"",null,null,445,"2017-03-20",2,null,""]
[null,2,null,null,null,null,null,null,null,null,null,null,null,null,null,null,null,null,null,null,null,446,"2017-03-21",2,null,"",null,null,446,"2017-03-21",2,null,""]
[null,2,null,null,null,null,null,null,null,null,null,null,null,null,null,null,null,null,null,null,null,447,"2017-03-22",2,null,"",null,null,447,"2017-03-22",2,null,""]
[null,2,null,null,null,null,null,null,null,null,null,null,null,null,null,null,null,null,null,null,null,448,"2017-03-23",2,null,"",null,null,448,"2017-03-23",2,null,""]
[null,2,null,null,null,null,null,null,null,null,null,null,null,null,null,null,null,null,null,null,null,449,"2017-03-24",2,null,"",null,null,449,"2017-03-24",2,null,""]
[null,2,null,null,null,null,null,null,null,null,null,null,null,null,null,null,null,null,null,null,null,450,"2017-03-25",2,null,{"$f":"IF(X453=2,\"\",W453)","v":""},null,null,450,"2017-03-25",2,null,{"$f":"IF(AE453=2,\"\",AD453)","v":""}]
[null,2,null,null,null,null,null,null,null,null,null,null,null,null,null,null,null,null,null,null,null,451,"2017-03-26",{"$f":"X453","v":2},null,"",null,null,451,"2017-03-26",{"$f":"AE453","v":2},null,""]
[null,2,null,null,null,null,null,null,null,null,null,null,null,null,null,null,null,null,null,null,null,452,"2017-03-27",2,null,"",null,null,452,"2017-03-27",2,null,""]
[null,2,null,null,null,null,null,null,null,null,null,null,null,null,null,null,null,null,null,null,null,453,"2017-03-28",2,null,"",null,null,453,"2017-03-28",2,null,""]
[null,2,null,null,null,null,null,null,null,null,null,null,null,null,null,null,null,null,null,null,null,454,"2017-03-29",2,null,"",null,null,454,"2017-03-29",2,null,""]
[null,2,null,null,null,null,null,null,null,null,null,null,null,null,null,null,null,null,null,null,null,455,"2017-03-30",2,null,"",null,null,455,"2017-03-30",2,null,""]
[null,2,null,null,null,null,null,null,null,null,null,null,null,null,null,null,null,null,null,null,null,456,"2017-03-31",2,null,"",null,null,456,"2017-03-31",2,null,""]
[null,2,null,null,null,null,null,null,null,null,null,null,null,null,null,null,null,null,null,null,null,457,"2017-04-01",2,null,"",null,null,457,"2017-04-01",2,null,""]
[null,2,null,null,null,null,null,null,null,null,null,null,null,null,null,null,null,null,null,null,null,458,"2017-04-02",2,null,"",null,null,458,"2017-04-02",2,null,""]
[null,2,null,null,null,null,null,null,null,null,null,null,null,null,null,null,null,null,null,null,null,459,"2017-04-03",2,null,"",null,null,459,"2017-04-03",2,null,""]
[null,2,null,null,null,null,null,null,null,null,null,null,null,null,null,null,null,null,null,null,null,460,"2017-04-04",2,null,"",null,null,460,"2017-04-04",2,null,""]
[null,2,null,null,null,null,null,null,null,null,null,null,null,null,null,null,null,null,null,null,null,461,"2017-04-05",2,null,"",null,null,461,"2017-04-05",2,null,""]
[null,2,null,null,null,null,null,null,null,null,null,null,null,null,null,null,null,null,null,null,null,462,"2017-04-06",2,null,"",null,null,462,"2017-04-06",2,null,""]
[null,2,null,null,null,null,null,null,null,null,null,null,null,null,null,null,null,null,null,null,null,463,"2017-04-07",2,null,"",null,null,463,"2017-04-07",2,null,""]
[null,2,null,null,null,null,null,null,null,null,null,null,null,null,null,null,null,null,null,null,null,464,"2017-04-08",2,null,"",null,null,464,"2017-04-08",2,null,""]
[null,2,null,null,null,null,null,null,null,null,null,null,null,null,null,null,null,null,null,null,null,465,"2017-04-09",2,null,"",null,null,465,"2017-04-09",2,null,""]
[null,2,null,null,null,null,null,null,null,null,null,null,null,null,null,null,null,null,null,null,null,466,"2017-04-10",2,null,"",null,null,466,"2017-04-10",2,null,""]
[null,2,null,null,null,null,null,null,null,null,null,null,null,null,null,null,null,null,null,null,null,467,"2017-04-11",2,null,"",null,null,467,"2017-04-11",2,null,""]
[null,2,null,null,null,null,null,null,null,null,null,null,null,null,null,null,null,null,null,null,null,468,"2017-04-12",2,null,"",null,null,468,"2017-04-12",2,null,""]
[null,2,null,null,null,null,null,null,null,null,null,null,null,null,null,null,null,null,null,null,null,469,"2017-04-13",2,null,"",null,null,469,"2017-04-13",2,null,""]
[null,2,null,null,null,null,null,null,null,null,null,null,null,null,null,null,null,null,null,null,null,470,"2017-04-14",2,null,"",null,null,470,"2017-04-14",2,null,""]
[null,2,null,null,null,null,null,null,null,null,null,null,null,null,null,null,null,null,null,null,null,471,"2017-04-15",2,null,"",null,null,471,"2017-04-15",2,null,""]
[null,2,null,null,null,null,null,null,null,null,null,null,null,null,null,null,null,null,null,null,null,472,"2017-04-16",2,null,"",null,null,472,"2017-04-16",2,null,""]
[null,2,null,null,null,null,null,null,null,null,null,null,null,null,null,null,null,null,null,null,null,473,"2017-04-17",2,null,"",null,null,473,"2017-04-17",2,null,""]
[null,2,null,null,null,null,null,null,null,null,null,null,null,null,null,null,null,null,null,null,null,474,"2017-04-18",2,null,"",null,null,474,"2017-04-18",2,null,""]
[null,2,null,null,null,null,null,null,null,null,null,null,null,null,null,null,null,null,null,null,null,475,"2017-04-19",2,null,"",null,null,475,"2017-04-19",2,null,""]
[null,2,null,null,null,null,null,null,null,null,null,null,null,null,null,null,null,null,null,null,null,476,"2017-04-20",2,null,"",null,null,476,"2017-04-20",2,null,""]
[null,2,null,null,null,null,null,null,null,null,null,null,null,null,null,null,null,null,null,null,null,477,"2017-04-21",2,null,"",null,null,477,"2017-04-21",2,null,""]
[null,2,null,null,null,null,null,null,null,null,null,null,null,null,null,null,null,null,null,null,null,478,"2017-04-22",2,null,"",null,null,478,"2017-04-22",2,null,""]
[null,2,null,null,null,null,null,null,null,null,null,null,null,null,null,null,null,null,null,null,null,479,"2017-04-23",2,null,"",null,null,479,"2017-04-23",2,null,""]
[null,2,null,null,null,null,null,null,null,null,null,null,null,null,null,null,null,null,null,null,null,480,"2017-04-24",2,null,"",null,null,480,"2017-04-24",2,null,""]
[null,2,null,null,null,null,null,null,null,null,null,null,null,null,null,null,null,null,null,null,null,481,"2017-04-25",2,null,"",null,null,481,"2017-04-25",2,null,""]
[null,2,null,null,null,null,null,null,null,null,null,null,null,null,null,null,null,null,null,null,null,482,"2017-04-26",2,null,"",null,null,482,"2017-04-26",2,null,""]
[null,2,null,null,null,null,null,null,null,null,null,null,null,null,null,null,null,null,null,null,null,483,"2017-04-27",2,null,"",null,null,483,"2017-04-27",2,null,""]
[null,2,null,null,null,null,null,null,null,null,null,null,null,null,null,null,null,null,null,null,null,484,"2017-04-28",2,null,"",null,null,484,"2017-04-28",2,null,""]
[null,2,null,null,null,null,null,null,null,null,null,null,null,null,null,null,null,null,null,null,null,485,"2017-04-29",2,null,"",null,null,485,"2017-04-29",2,null,""]
[null,2,null,null,null,null,null,null,null,null,null,null,null,null,null,null,null,null,null,null,null,486,"2017-04-30",2,null,"",null,null,486,"2017-04-30",2,null,""]
[null,2,null,null,null,null,null,null,null,null,null,null,null,null,null,null,null,null,null,null,null,487,"2017-05-01",2,null,"",null,null,487,"2017-05-01",2,null,""]
[null,2,null,null,null,null,null,null,null,null,null,null,null,null,null,null,null,null,null,null,null,488,"2017-05-02",2,null,"",null,null,488,"2017-05-02",2,null,""]
[null,2,null,null,null,null,null,null,null,null,null,null,null,null,null,null,null,null,null,null,null,489,"2017-05-03",2,null,"",null,null,489,"2017-05-03",2,null,""]
[null,2,null,null,null,null,null,null,null,null,null,null,null,null,null,null,null,null,null,null,null,490,"2017-05-04",2,null,"",null,null,490,"2017-05-04",2,null,""]
[null,2,null,null,null,null,null,null,null,null,null,null,null,null,null,null,null,null,null,null,null,491,"2017-05-05",2,null,"",null,null,491,"2017-05-05",2,null,""]
[null,2,null,null,null,null,null,null,null,null,null,null,null,null,null,null,null,null,null,null,null,492,"2017-05-06",2,null,"",null,null,492,"2017-05-06",2,null,""]
[null,2,null,null,null,null,null,null,null,null,null,null,null,null,null,null,null,null,null,null,null,493,"2017-05-07",2,null,"",null,null,493,"2017-05-07",2,null,""]
[null,2,null,null,null,null,null,null,null,null,null,null,null,null,null,null,null,null,null,null,null,494,"2017-05-08",2,null,"",null,null,494,"2017-05-08",2,null,""]
[null,2,null,null,null,null,null,null,null,null,null,null,null,null,null,null,null,null,null,null,null,495,"2017-05-09",2,null,"",null,null,495,"2017-05-09",2,null,""]
[null,2,null,null,null,null,null,null,null,null,null,null,null,null,null,null,null,null,null,null,null,496,"2017-05-10",2,null,"",null,null,496,"2017-05-10",2,null,""]
[null,2,null,null,null,null,null,null,null,null,null,null,null,null,null,null,null,null,null,null,null,497,"2017-05-11",2,null,"",null,null,497,"2017-05-11",2,null,""]
[null,{"$f":"B500","v":2},null,null,null,null,null,null,null,null,null,null,null,null,null,null,null,null,null,null,null,498,"2017-05-12",2,null,"",null,null,498,"2017-05-12",2,null,""]
[null,2,null,null,null,null,null,null,null,null,null,null,null,null,null,null,null,null,null,null,null,499,"2017-05-13",2,null,"",null,null,499,"2017-05-13",2,null,""]
[null,2,null,null,null,null,null,null,null,null,null,null,null,null,null,null,null,null,null,null,null,500,"2017-05-14",2,null,"",null,null,500,"2017-05-14",2,null,""]
[null,2,null,null,null,null,null,null,null,null,null,null,null,null,null,null,null,null,null,null,null,501,"2017-05-15",2,null,"",null,null,501,"2017-05-15",2,null,""]
[null,2,null,null,null,null,null,null,null,null,null,null,null,null,null,null,null,null,null,null,null,502,"2017-05-16",2,null,"",null,null,502,"2017-05-16",2,null,""]
[null,2,null,null,null,null,null,null,null,null,null,null,null,null,null,null,null,null,null,null,null,503,"2017-05-17",2,null,"",null,null,503,"2017-05-17",2,null,""]
[null,2,null,null,null,null,null,null,null,null,null,null,null,null,null,null,null,null,null,null,null,504,"2017-05-18",2,null,"",null,null,504,"2017-05-18",2,null,""]
[null,2,null,null,null,null,null,null,null,null,null,null,null,null,null,null,null,null,null,null,null,505,"2017-05-19",2,null,"",null,null,505,"2017-05-19",2,null,""]
[null,2,null,null,null,null,null,null,null,null,null,null,null,null,null,null,null,null,null,null,null,506,"2017-05-20",2,null,"",null,null,506,"2017-05-20",2,null,""]
[null,2,null,null,null,null,null,null,null,null,null,null,null,null,null,null,null,null,null,null,null,507,"2017-05-21",2,null,"",null,null,507,"2017-05-21",2,null,""]
[null,2,null,null,null,null,null,null,null,null,null,null,null,null,null,null,null,null,null,null,null,508,"2017-05-22",2,null,"",null,null,508,"2017-05-22",2,null,""]
[null,2,null,null,null,null,null,null,null,null,null,null,null,null,null,null,null,null,null,null,null,509,"2017-05-23",2,null,"",null,null,509,"2017-05-23",2,null,""]
[null,2,null,null,null,null,null,null,null,null,null,null,null,null,null,null,null,null,null,null,null,510,"2017-05-24",2,null,"",null,null,510,"2017-05-24",2,null,""]
[null,2,null,null,null,null,null,null,null,null,null,null,null,null,null,null,null,null,null,null,null,511,"2017-05-25",2,null,"",null,null,511,"2017-05-25",2,null,""]
[null,2,null,null,null,null,null,null,null,null,null,null,null,null,null,null,null,null,null,null,null,512,"2017-05-26",2,null,"",null,null,512,"2017-05-26",2,null,""]
[null,2,null,null,null,null,null,null,null,null,null,null,null,null,null,null,null,null,null,null,null,513,"2017-05-27",2,null,"",null,null,513,"2017-05-27",2,null,""]
[null,2,null,null,null,null,null,null,null,null,null,null,null,null,null,null,null,null,null,null,null,514,"2017-05-28",2,null,{"$f":"IF(X517=2,\"\",W517)","v":""},null,null,514,"2017-05-28",2,null,{"$f":"IF(AE517=2,\"\",AD517)","v":""}]
[null,2,null,null,null,null,null,null,null,null,null,null,null,null,null,null,null,null,null,null,null,515,"2017-05-29",{"$f":"X517","v":2},null,"",null,null,515,"2017-05-29",{"$f":"AE517","v":2},null,""]
[null,2,null,null,null,null,null,null,null,null,null,null,null,null,null,null,null,null,null,null,null,516,"2017-05-30",2,null,"",null,null,516,"2017-05-30",2,null,""]
[null,2,null,null,null,null,null,null,null,null,null,null,null,null,null,null,null,null,null,null,null,517,"2017-05-31",2,null,"",null,null,517,"2017-05-31",2,null,""]
[null,2,null,null,null,null,null,null,null,null,null,null,null,null,null,null,null,null,null,null,null,518,"2017-06-01",2,null,"",null,null,518,"2017-06-01",2,null,""]
[null,2,null,null,null,null,null,null,null,null,null,null,null,null,null,null,null,null,null,null,null,519,"2017-06-02",2,null,"",null,null,519,"2017-06-02",2,null,""]
[null,2,null,null,null,null,null,null,null,null,null,null,null,null,null,null,null,null,null,null,null,520,"2017-06-03",2,null,"",null,null,520,"2017-06-03",2,null,""]
[null,2,null,null,null,null,null,null,null,null,null,null,null,null,null,null,null,null,null,null,null,521,"2017-06-04",2,null,"",null,null,521,"2017-06-04",2,null,""]
[null,2,null,null,null,null,null,null,null,null,null,null,null,null,null,null,null,null,null,null,null,522,"2017-06-05",2,null,"",null,null,522,"2017-06-05",2,null,""]
[null,2,null,null,null,null,null,null,null,null,null,null,null,null,null,null,null,null,null,null,null,523,"2017-06-06",2,null,"",null,null,523,"2017-06-06",2,null,""]
[null,2,null,null,null,null,null,null,null,null,null,null,null,null,null,null,null,null,null,null,null,524,"2017-06-07",2,null,"",null,null,524,"2017-06-07",2,null,""]
[null,2,null,null,null,null,null,null,null,null,null,null,null,null,null,null,null,null,null,null,null,525,"2017-06-08",2,null,"",null,null,525,"2017-06-08",2,null,""]
[null,2,null,null,null,null,null,null,null,null,null,null,null,null,null,null,null,null,null,null,null,526,"2017-06-09",2,null,"",null,null,526,"2017-06-09",2,null,""]
[null,2,null,null,null,null,null,null,null,null,null,null,null,null,null,null,null,null,null,null,null,527,"2017-06-10",2,null,"",null,null,527,"2017-06-10",2,null,""]
[null,2,null,null,null,null,null,null,null,null,null,null,null,null,null,null,null,null,null,null,null,528,"2017-06-11",2,null,"",null,null,528,"2017-06-11",2,null,""]
[null,2,null,null,null,null,null,null,null,null,null,null,null,null,null,null,null,null,null,null,null,529,"2017-06-12",2,null,"",null,null,529,"2017-06-12",2,null,""]
[null,2,null,null,null,null,null,null,null,null,null,null,null,null,null,null,null,null,null,null,null,530,"2017-06-13",2,null,"",null,null,530,"2017-06-13",2,null,""]
[null,2,null,null,null,null,null,null,null,null,null,null,null,null,null,null,null,null,null,null,null,531,"2017-06-14",2,null,"",null,null,531,"2017-06-14",2,null,""]
[null,2,null,null,null,null,null,null,null,null,null,null,null,null,null,null,null,null,null,null,null,532,"2017-06-15",2,null,"",null,null,532,"2017-06-15",2,null,""]
[null,2,null,null,null,null,null,null,null,null,null,null,null,null,null,null,null,null,null,null,null,533,"2017-06-16",2,null,"",null,null,533,"2017-06-16",2,null,""]
[null,2,null,null,null,null,null,null,null,null,null,null,null,null,null,null,null,null,null,null,null,534,"2017-06-17",2,null,"",null,null,534,"2017-06-17",2,null,""]
[null,2,null,null,null,null,null,null,null,null,null,null,null,null,null,null,null,null,null,null,null,535,"2017-06-18",2,null,"",null,null,535,"2017-06-18",2,null,""]
[null,2,null,null,null,null,null,null,null,null,null,null,null,null,null,null,null,null,null,null,null,536,"2017-06-19",2,null,"",null,null,536,"2017-06-19",2,null,""]
[null,2,null,null,null,null,null,null,null,null,null,null,null,null,null,null,null,null,null,null,null,537,"2017-06-20",2,null,"",null,null,537,"2017-06-20",2,null,""]
[null,2,null,null,null,null,null,null,null,null,null,null,null,null,null,null,null,null,null,null,null,538,"2017-06-21",2,null,"",null,null,538,"2017-06-21",2,null,""]
[null,2,null,null,null,null,null,null,null,null,null,null,null,null,null,null,null,null,null,null,null,539,"2017-06-22",2,null,"",null,null,539,"2017-06-22",2,null,""]
[null,2,null,null,null,null,null,null,null,null,null,null,null,null,null,null,null,null,null,null,null,540,"2017-06-23",2,null,"",null,null,540,"2017-06-23",2,null,""]
[null,2,null,null,null,null,null,null,null,null,null,null,null,null,null,null,null,null,null,null,null,541,"2017-06-24",2,null,"",null,null,541,"2017-06-24",2,null,""]
[null,2,null,null,null,null,null,null,null,null,null,null,null,null,null,null,null,null,null,null,null,542,"2017-06-25",2,null,"",null,null,542,"2017-06-25",2,null,""]
[null,2,null,null,null,null,null,null,null,null,null,null,null,null,null,null,null,null,null,null,null,543,"2017-06-26",2,null,"",null,null,543,"2017-06-26",2,null,""]
[null,2,null,null,null,null,null,null,null,null,null,null,null,null,null,null,null,null,null,null,null,544,"2017-06-27",2,null,"",null,null,544,"2017-06-27",2,null,""]
[null,2,null,null,null,null,null,null,null,null,null,null,null,null,null,null,null,null,null,null,null,545,"2017-06-28",2,null,"",null,null,545,"2017-06-28",2,null,""]
[null,2,null,null,null,null,null,null,null,null,null,null,null,null,null,null,null,null,null,null,null,546,"2017-06-29",2,null,"",null,null,546,"2017-06-29",2,null,""]
[null,2,null,null,null,null,null,null,null,null,null,null,null,null,null,null,null,null,null,null,null,547,"2017-06-30",2,null,"",null,null,547,"2017-06-30",2,null,""]
[null,2,null,null,null,null,null,null,null,null,null,null,null,null,null,null,null,null,null,null,null,548,"2017-07-01",2,null,"",null,null,548,"2017-07-01",2,null,""]
[null,2,null,null,null,null,null,null,null,null,null,null,null,null,null,null,null,null,null,null,null,549,"2017-07-02",2,null,"",null,null,549,"2017-07-02",2,null,""]
[null,2,null,null,null,null,null,null,null,null,null,null,null,null,null,null,null,null,null,null,null,550,"2017-07-03",2,null,"",null,null,550,"2017-07-03",2,null,""]
[null,2,null,null,null,null,null,null,null,null,null,null,null,null,null,null,null,null,null,null,null,551,"2017-07-04",2,null,"",null,null,551,"2017-07-04",2,null,""]
[null,2,null,null,null,null,null,null,null,null,null,null,null,null,null,null,null,null,null,null,null,552,"2017-07-05",2,null,"",null,null,552,"2017-07-05",2,null,""]
[null,2,null,null,null,null,null,null,null,null,null,null,null,null,null,null,null,null,null,null,null,553,"2017-07-06",2,null,"",null,null,553,"2017-07-06",2,null,""]
[null,2,null,null,null,null,null,null,null,null,null,null,null,null,null,null,null,null,null,null,null,554,"2017-07-07",2,null,"",null,null,554,"2017-07-07",2,null,""]
[null,2,null,null,null,null,null,null,null,null,null,null,null,null,null,null,null,null,null,null,null,555,"2017-07-08",2,null,"",null,null,555,"2017-07-08",2,null,""]
[null,2,null,null,null,null,null,null,null,null,null,null,null,null,null,null,null,null,null,null,null,556,"2017-07-09",2,null,"",null,null,556,"2017-07-09",2,null,""]
[null,2,null,null,null,null,null,null,null,null,null,null,null,null,null,null,null,null,null,null,null,557,"2017-07-10",2,null,"",null,null,557,"2017-07-10",2,null,""]
[null,2,null,null,null,null,null,null,null,null,null,null,null,null,null,null,null,null,null,null,null,558,"2017-07-11",2,null,"",null,null,558,"2017-07-11",2,null,""]
[null,2,null,null,null,null,null,null,null,null,null,null,null,null,null,null,null,null,null,null,null,559,"2017-07-12",2,null,"",null,null,559,"2017-07-12",2,null,""]
[null,2,null,null,null,null,null,null,null,null,null,null,null,null,null,null,null,null,null,null,null,560,"2017-07-13",2,null,"",null,null,560,"2017-07-13",2,null,""]
[null,2,null,null,null,null,null,null,null,null,null,null,null,null,null,null,null,null,null,null,null,561,"2017-07-14",2,null,"",null,null,561,"2017-07-14",2,null,""]
[null,{"$f":"B564","v":2},null,null,null,null,null,null,null,null,null,null,null,null,null,null,null,null,null,null,null,562,"2017-07-15",2,null,"",null,null,562,"2017-07-15",2,null,""]
[null,2,null,null,null,null,null,null,null,null,null,null,null,null,null,null,null,null,null,null,null,563,"2017-07-16",2,null,"",null,null,563,"2017-07-16",2,null,""]
[null,2,null,null,null,null,null,null,null,null,null,null,null,null,null,null,null,null,null,null,null,564,"2017-07-17",2,null,"",null,null,564,"2017-07-17",2,null,""]
[null,2,null,null,null,null,null,null,null,null,null,null,null,null,null,null,null,null,null,null,null,565,"2017-07-18",2,null,"",null,null,565,"2017-07-18",2,null,""]
[null,2,null,null,null,null,null,null,null,null,null,null,null,null,null,null,null,null,null,null,null,566,"2017-07-19",2,null,"",null,null,566,"2017-07-19",2,null,""]
[null,2,null,null,null,null,null,null,null,null,null,null,null,null,null,null,null,null,null,null,null,567,"2017-07-20",2,null,"",null,null,567,"2017-07-20",2,null,""]
[null,2,null,null,null,null,null,null,null,null,null,null,null,null,null,null,null,null,null,null,null,568,"2017-07-21",2,null,"",null,null,568,"2017-07-21",2,null,""]
[null,2,null,null,null,null,null,null,null,null,null,null,null,null,null,null,null,null,null,null,null,569,"2017-07-22",2,null,"",null,null,569,"2017-07-22",2,null,""]
[null,2,null,null,null,null,null,null,null,null,null,null,null,null,null,null,null,null,null,null,null,570,"2017-07-23",2,null,"",null,null,570,"2017-07-23",2,null,""]
[null,2,null,null,null,null,null,null,null,null,null,null,null,null,null,null,null,null,null,null,null,571,"2017-07-24",2,null,"",null,null,571,"2017-07-24",2,null,""]
[null,2,null,null,null,null,null,null,null,null,null,null,null,null,null,null,null,null,null,null,null,572,"2017-07-25",2,null,"",null,null,572,"2017-07-25",2,null,""]
[null,2,null,null,null,null,null,null,null,null,null,null,null,null,null,null,null,null,null,null,null,573,"2017-07-26",2,null,"",null,null,573,"2017-07-26",2,null,""]
[null,2,null,null,null,null,null,null,null,null,null,null,null,null,null,null,null,null,null,null,null,574,"2017-07-27",2,null,"",null,null,574,"2017-07-27",2,null,""]
[null,2,null,null,null,null,null,null,null,null,null,null,null,null,null,null,null,null,null,null,null,575,"2017-07-28",2,null,"",null,null,575,"2017-07-28",2,null,""]
[null,2,null,null,null,null,null,null,null,null,null,null,null,null,null,null,null,null,null,null,null,576,"2017-07-29",2,null,"",null,null,576,"2017-07-29",2,null,""]
[null,2,null,null,null,null,null,null,null,null,null,null,null,null,null,null,null,null,null,null,null,577,"2017-07-30",2,null,"",null,null,577,"2017-07-30",2,null,""]
[null,2,null,null,null,null,null,null,null,null,null,null,null,null,null,null,null,null,null,null,null,578,"2017-07-31",2,null,{"$f":"IF(X581=2,\"\",W581)","v":""},null,null,578,"2017-07-31",2,null,{"$f":"IF(AE581=2,\"\",AD581)","v":""}]
[null,2,null,null,null,null,null,null,null,null,null,null,null,null,null,null,null,null,null,null,null,579,"2017-08-01",{"$f":"X581","v":2},null,"",null,null,579,"2017-08-01",{"$f":"AE581","v":2},null,""]
[null,2,null,null,null,null,null,null,null,null,null,null,null,null,null,null,null,null,null,null,null,580,"2017-08-02",2,null,"",null,null,580,"2017-08-02",2,null,""]
[null,2,null,null,null,null,null,null,null,null,null,null,null,null,null,null,null,null,null,null,null,581,"2017-08-03",2,null,"",null,null,581,"2017-08-03",2,null,""]
[null,2,null,null,null,null,null,null,null,null,null,null,null,null,null,null,null,null,null,null,null,582,"2017-08-04",2,null,"",null,null,582,"2017-08-04",2,null,""]
[null,2,null,null,null,null,null,null,null,null,null,null,null,null,null,null,null,null,null,null,null,583,"2017-08-05",2,null,"",null,null,583,"2017-08-05",2,null,""]
[null,2,null,null,null,null,null,null,null,null,null,null,null,null,null,null,null,null,null,null,null,584,"2017-08-06",2,null,"",null,null,584,"2017-08-06",2,null,""]
[null,2,null,null,null,null,null,null,null,null,null,null,null,null,null,null,null,null,null,null,null,585,"2017-08-07",2,null,"",null,null,585,"2017-08-07",2,null,""]
[null,2,null,null,null,null,null,null,null,null,null,null,null,null,null,null,null,null,null,null,null,586,"2017-08-08",2,null,"",null,null,586,"2017-08-08",2,null,""]
[null,2,null,null,null,null,null,null,null,null,null,null,null,null,null,null,null,null,null,null,null,587,"2017-08-09",2,null,"",null,null,587,"2017-08-09",2,null,""]
[null,2,null,null,null,null,null,null,null,null,null,null,null,null,null,null,null,null,null,null,null,588,"2017-08-10",2,null,"",null,null,588,"2017-08-10",2,null,""]
[null,2,null,null,null,null,null,null,null,null,null,null,null,null,null,null,null,null,null,null,null,589,"2017-08-11",2,null,"",null,null,589,"2017-08-11",2,null,""]
[null,2,null,null,null,null,null,null,null,null,null,null,null,null,null,null,null,null,null,null,null,590,"2017-08-12",2,null,"",null,null,590,"2017-08-12",2,null,""]
[null,2,null,null,null,null,null,null,null,null,null,null,null,null,null,null,null,null,null,null,null,591,"2017-08-13",2,null,"",null,null,591,"2017-08-13",2,null,""]
[null,2,null,null,null,null,null,null,null,null,null,null,null,null,null,null,null,null,null,null,null,592,"2017-08-14",2,null,"",null,null,592,"2017-08-14",2,null,""]
[null,2,null,null,null,null,null,null,null,null,null,null,null,null,null,null,null,null,null,null,null,593,"2017-08-15",2,null,"",null,null,593,"2017-08-15",2,null,""]
[null,2,null,null,null,null,null,null,null,null,null,null,null,null,null,null,null,null,null,null,null,594,"2017-08-16",2,null,"",null,null,594,"2017-08-16",2,null,""]
[null,2,null,null,null,null,null,null,null,null,null,null,null,null,null,null,null,null,null,null,null,595,"2017-08-17",2,null,"",null,null,595,"2017-08-17",2,null,""]
[null,2,null,null,null,null,null,null,null,null,null,null,null,null,null,null,null,null,null,null,null,596,"2017-08-18",2,null,"",null,null,596,"2017-08-18",2,null,""]
[null,2,null,null,null,null,null,null,null,null,null,null,null,null,null,null,null,null,null,null,null,597,"2017-08-19",2,null,"",null,null,597,"2017-08-19",2,null,""]
[null,2,null,null,null,null,null,null,null,null,null,null,null,null,null,null,null,null,null,null,null,598,"2017-08-20",2,null,"",null,null,598,"2017-08-20",2,null,""]
[null,2,null,null,null,null,null,null,null,null,null,null,null,null,null,null,null,null,null,null,null,599,"2017-08-21",2,null,"",null,null,599,"2017-08-21",2,null,""]
[null,2,null,null,null,null,null,null,null,null,null,null,null,null,null,null,null,null,null,null,null,600,"2017-08-22",2,null,"",null,null,600,"2017-08-22",2,null,""]
[null,2,null,null,null,null,null,null,null,null,null,null,null,null,null,null,null,null,null,null,null,601,"2017-08-23",2,null,"",null,null,601,"2017-08-23",2,null,""]
[null,2,null,null,null,null,null,null,null,null,null,null,null,null,null,null,null,null,null,null,null,602,"2017-08-24",2,null,"",null,null,602,"2017-08-24",2,null,""]
[null,2,null,null,null,null,null,null,null,null,null,null,null,null,null,null,null,null,null,null,null,603,"2017-08-25",2,null,"",null,null,603,"2017-08-25",2,null,""]
[null,2,null,null,null,null,null,null,null,null,null,null,null,null,null,null,null,null,null,null,null,604,"2017-08-26",2,null,"",null,null,604,"2017-08-26",2,null,""]
[null,2,null,null,null,null,null,null,null,null,null,null,null,null,null,null,null,null,null,null,null,605,"2017-08-27",2,null,"",null,null,605,"2017-08-27",2,null,""]
[null,2,null,null,null,null,null,null,null,null,null,null,null,null,null,null,null,null,null,null,null,606,"2017-08-28",2,null,"",null,null,606,"2017-08-28",2,null,""]
[null,2,null,null,null,null,null,null,null,null,null,null,null,null,null,null,null,null,null,null,null,607,"2017-08-29",2,null,"",null,null,607,"2017-08-29",2,null,""]
[null,2,null,null,null,null,null,null,null,null,null,null,null,null,null,null,null,null,null,null,null,608,"2017-08-30",2,null,"",null,null,608,"2017-08-30",2,null,""]
[null,2,null,null,null,null,null,null,null,null,null,null,null,null,null,null,null,null,null,null,null,609,"2017-08-31",2,null,"",null,null,609,"2017-08-31",2,null,""]
[null,2,null,null,null,null,null,null,null,null,null,null,null,null,null,null,null,null,null,null,null,610,"2017-09-01",2,null,"",null,null,610,"2017-09-01",2,null,""]
[null,2,null,null,null,null,null,null,null,null,null,null,null,null,null,null,null,null,null,null,null,611,"2017-09-02",2,null,"",null,null,611,"2017-09-02",2,null,""]
[null,2,null,null,null,null,null,null,null,null,null,null,null,null,null,null,null,null,null,null,null,612,"2017-09-03",2,null,"",null,null,612,"2017-09-03",2,null,""]
[null,2,null,null,null,null,null,null,null,null,null,null,null,null,null,null,null,null,null,null,null,613,"2017-09-04",2,null,"",null,null,613,"2017-09-04",2,null,""]
[null,2,null,null,null,null,null,null,null,null,null,null,null,null,null,null,null,null,null,null,null,614,"2017-09-05",2,null,"",null,null,614,"2017-09-05",2,null,""]
[null,2,null,null,null,null,null,null,null,null,null,null,null,null,null,null,null,null,null,null,null,615,"2017-09-06",2,null,"",null,null,615,"2017-09-06",2,null,""]
[null,2,null,null,null,null,null,null,null,null,null,null,null,null,null,null,null,null,null,null,null,616,"2017-09-07",2,null,"",null,null,616,"2017-09-07",2,null,""]
[null,2,null,null,null,null,null,null,null,null,null,null,null,null,null,null,null,null,null,null,null,617,"2017-09-08",2,null,"",null,null,617,"2017-09-08",2,null,""]
[null,2,null,null,null,null,null,null,null,null,null,null,null,null,null,null,null,null,null,null,null,618,"2017-09-09",2,null,"",null,null,618,"2017-09-09",2,null,""]
[null,2,null,null,null,null,null,null,null,null,null,null,null,null,null,null,null,null,null,null,null,619,"2017-09-10",2,null,"",null,null,619,"2017-09-10",2,null,""]
[null,2,null,null,null,null,null,null,null,null,null,null,null,null,null,null,null,null,null,null,null,620,"2017-09-11",2,null,"",null,null,620,"2017-09-11",2,null,""]
[null,2,null,null,null,null,null,null,null,null,null,null,null,null,null,null,null,null,null,null,null,621,"2017-09-12",2,null,"",null,null,621,"2017-09-12",2,null,""]
[null,2,null,null,null,null,null,null,null,null,null,null,null,null,null,null,null,null,null,null,null,622,"2017-09-13",2,null,"",null,null,622,"2017-09-13",2,null,""]
[null,2,null,null,null,null,null,null,null,null,null,null,null,null,null,null,null,null,null,null,null,623,"2017-09-14",2,null,"",null,null,623,"2017-09-14",2,null,""]
[null,2,null,null,null,null,null,null,null,null,null,null,null,null,null,null,null,null,null,null,null,624,"2017-09-15",2,null,"",null,null,624,"2017-09-15",2,null,""]
[null,2,null,null,null,null,null,null,null,null,null,null,null,null,null,null,null,null,null,null,null,625,"2017-09-16",2,null,"",null,null,625,"2017-09-16",2,null,""]
[null,{"$f":"B628","v":2},null,null,null,null,null,null,null,null,null,null,null,null,null,null,null,null,null,null,null,626,"2017-09-17",2,null,"",null,null,626,"2017-09-17",2,null,""]
[null,2,null,null,null,null,null,null,null,null,null,null,null,null,null,null,null,null,null,null,null,627,"2017-09-18",2,null,"",null,null,627,"2017-09-18",2,null,""]
[null,2,null,null,null,null,null,null,null,null,null,null,null,null,null,null,null,null,null,null,null,628,"2017-09-19",2,null,"",null,null,628,"2017-09-19",2,null,""]
[null,2,null,null,null,null,null,null,null,null,null,null,null,null,null,null,null,null,null,null,null,629,"2017-09-20",2,null,"",null,null,629,"2017-09-20",2,null,""]
[null,2,null,null,null,null,null,null,null,null,null,null,null,null,null,null,null,null,null,null,null,630,"2017-09-21",2,null,"",null,null,630,"2017-09-21",2,null,""]
[null,2,null,null,null,null,null,null,null,null,null,null,null,null,null,null,null,null,null,null,null,631,"2017-09-22",2,null,"",null,null,631,"2017-09-22",2,null,""]
[null,2,null,null,null,null,null,null,null,null,null,null,null,null,null,null,null,null,null,null,null,632,"2017-09-23",2,null,"",null,null,632,"2017-09-23",2,null,""]
[null,2,null,null,null,null,null,null,null,null,null,null,null,null,null,null,null,null,null,null,null,633,"2017-09-24",2,null,"",null,null,633,"2017-09-24",2,null,""]
[null,2,null,null,null,null,null,null,null,null,null,null,null,null,null,null,null,null,null,null,null,634,"2017-09-25",2,null,"",null,null,634,"2017-09-25",2,null,""]
[null,2,null,null,null,null,null,null,null,null,null,null,null,null,null,null,null,null,null,null,null,635,"2017-09-26",2,null,"",null,null,635,"2017-09-26",2,null,""]
[null,2,null,null,null,null,null,null,null,null,null,null,null,null,null,null,null,null,null,null,null,636,"2017-09-27",2,null,"",null,null,636,"2017-09-27",2,null,""]
[null,2,null,null,null,null,null,null,null,null,null,null,null,null,null,null,null,null,null,null,null,637,"2017-09-28",2,null,"",null,null,637,"2017-09-28",2,null,""]
[null,2,null,null,null,null,null,null,null,null,null,null,null,null,null,null,null,null,null,null,null,638,"2017-09-29",2,null,"",null,null,638,"2017-09-29",2,null,""]
[null,2,null,null,null,null,null,null,null,null,null,null,null,null,null,null,null,null,null,null,null,639,"2017-09-30",2,null,"",null,null,639,"2017-09-30",2,null,""]
[null,2,null,null,null,null,null,null,null,null,null,null,null,null,null,null,null,null,null,null,null,640,"2017-10-01",2,null,"",null,null,640,"2017-10-01",2,null,""]
[null,2,null,null,null,null,null,null,null,null,null,null,null,null,null,null,null,null,null,null,null,641,"2017-10-02",2,null,"",null,null,641,"2017-10-02",2,null,""]
[null,2,null,null,null,null,null,null,null,null,null,null,null,null,null,null,null,null,null,null,null,642,"2017-10-03",2,null,{"$f":"IF(X645=2,\"\",W645)","v":""},null,null,642,"2017-10-03",2,null,{"$f":"IF(AE645=2,\"\",AD645)","v":""}]
[null,2,null,null,null,null,null,null,null,null,null,null,null,null,null,null,null,null,null,null,null,643,"2017-10-04",{"$f":"X645","v":2},null,"",null,null,643,"2017-10-04",{"$f":"AE645","v":2},null,""]
[null,2,null,null,null,null,null,null,null,null,null,null,null,null,null,null,null,null,null,null,null,644,"2017-10-05",2,null,"",null,null,644,"2017-10-05",2,null,""]
[null,2,null,null,null,null,null,null,null,null,null,null,null,null,null,null,null,null,null,null,null,645,"2017-10-06",2,null,"",null,null,645,"2017-10-06",2,null,""]
[null,2,null,null,null,null,null,null,null,null,null,null,null,null,null,null,null,null,null,null,null,646,"2017-10-07",2,null,"",null,null,646,"2017-10-07",2,null,""]
[null,2,null,null,null,null,null,null,null,null,null,null,null,null,null,null,null,null,null,null,null,647,"2017-10-08",2,null,"",null,null,647,"2017-10-08",2,null,""]
[null,2,null,null,null,null,null,null,null,null,null,null,null,null,null,null,null,null,null,null,null,648,"2017-10-09",2,null,"",null,null,648,"2017-10-09",2,null,""]
[null,2,null,null,null,null,null,null,null,null,null,null,null,null,null,null,null,null,null,null,null,649,"2017-10-10",2,null,"",null,null,649,"2017-10-10",2,null,""]
[null,2,null,null,null,null,null,null,null,null,null,null,null,null,null,null,null,null,null,null,null,650,"2017-10-11",2,null,"",null,null,650,"2017-10-11",2,null,""]
[null,2,null,null,null,null,null,null,null,null,null,null,null,null,null,null,null,null,null,null,null,651,"2017-10-12",2,null,"",null,null,651,"2017-10-12",2,null,""]
[null,2,null,null,null,null,null,null,null,null,null,null,null,null,null,null,null,null,null,null,null,652,"2017-10-13",2,null,"",null,null,652,"2017-10-13",2,null,""]
[null,2,null,null,null,null,null,null,null,null,null,null,null,null,null,null,null,null,null,null,null,653,"2017-10-14",2,null,"",null,null,653,"2017-10-14",2,null,""]
[null,2,null,null,null,null,null,null,null,null,null,null,null,null,null,null,null,null,null,null,null,654,"2017-10-15",2,null,"",null,null,654,"2017-10-15",2,null,""]
[null,2,null,null,null,null,null,null,null,null,null,null,null,null,null,null,null,null,null,null,null,655,"2017-10-16",2,null,"",null,null,655,"2017-10-16",2,null,""]
[null,2,null,null,null,null,null,null,null,null,null,null,null,null,null,null,null,null,null,null,null,656,"2017-10-17",2,null,"",null,null,656,"2017-10-17",2,null,""]
[null,2,null,null,null,null,null,null,null,null,null,null,null,null,null,null,null,null,null,null,null,657,"2017-10-18",2,null,"",null,null,657,"2017-10-18",2,null,""]
[null,2,null,null,null,null,null,null,null,null,null,null,null,null,null,null,null,null,null,null,null,658,"2017-10-19",2,null,"",null,null,658,"2017-10-19",2,null,""]
[null,2,null,null,null,null,null,null,null,null,null,null,null,null,null,null,null,null,null,null,null,659,"2017-10-20",2,null,"",null,null,659,"2017-10-20",2,null,""]
[null,2,null,null,null,null,null,null,null,null,null,null,null,null,null,null,null,null,null,null,null,660,"2017-10-21",2,null,"",null,null,660,"2017-10-21",2,null,""]
[null,2,null,null,null,null,null,null,null,null,null,null,null,null,null,null,null,null,null,null,null,661,"2017-10-22",2,null,"",null,null,661,"2017-10-22",2,null,""]
[null,2,null,null,null,null,null,null,null,null,null,null,null,null,null,null,null,null,null,null,null,662,"2017-10-23",2,null,"",null,null,662,"2017-10-23",2,null,""]
[null,2,null,null,null,null,null,null,null,null,null,null,null,null,null,null,null,null,null,null,null,663,"2017-10-24",2,null,"",null,null,663,"2017-10-24",2,null,""]
[null,2,null,null,null,null,null,null,null,null,null,null,null,null,null,null,null,null,null,null,null,664,"2017-10-25",2,null,"",null,null,664,"2017-10-25",2,null,""]
[null,2,null,null,null,null,null,null,null,null,null,null,null,null,null,null,null,null,null,null,null,665,"2017-10-26",2,null,"",null,null,665,"2017-10-26",2,null,""]
[null,2,null,null,null,null,null,null,null,null,null,null,null,null,null,null,null,null,null,null,null,666,"2017-10-27",2,null,"",null,null,666,"2017-10-27",2,null,""]
[null,2,null,null,null,null,null,null,null,null,null,null,null,null,null,null,null,null,null,null,null,667,"2017-10-28",2,null,"",null,null,667,"2017-10-28",2,null,""]
[null,2,null,null,null,null,null,null,null,null,null,null,null,null,null,null,null,null,null,null,null,668,"2017-10-29",2,null,"",null,null,668,"2017-10-29",2,null,""]
[null,2,null,null,null,null,null,null,null,null,null,null,null,null,null,null,null,null,null,null,null,669,"2017-10-30",2,null,"",null,null,669,"2017-10-30",2,null,""]
[null,2,null,null,null,null,null,null,null,null,null,null,null,null,null,null,null,null,null,null,null,670,"2017-10-31",2,null,"",null,null,670,"2017-10-31",2,null,""]
[null,2,null,null,null,null,null,null,null,null,null,null,null,null,null,null,null,null,null,null,null,671,"2017-11-01",2,null,"",null,null,671,"2017-11-01",2,null,""]
[null,2,null,null,null,null,null,null,null,null,null,null,null,null,null,null,null,null,null,null,null,672,"2017-11-02",2,null,"",null,null,672,"2017-11-02",2,null,""]
[null,2,null,null,null,null,null,null,null,null,null,null,null,null,null,null,null,null,null,null,null,673,"2017-11-03",2,null,"",null,null,673,"2017-11-03",2,null,""]
[null,2,null,null,null,null,null,null,null,null,null,null,null,null,null,null,null,null,null,null,null,674,"2017-11-04",2,null,"",null,null,674,"2017-11-04",2,null,""]
[null,2,null,null,null,null,null,null,null,null,null,null,null,null,null,null,null,null,null,null,null,675,"2017-11-05",2,null,"",null,null,675,"2017-11-05",2,null,""]
[null,2,null,null,null,null,null,null,null,null,null,null,null,null,null,null,null,null,null,null,null,676,"2017-11-06",2,null,"",null,null,676,"2017-11-06",2,null,""]
[null,2,null,null,null,null,null,null,null,null,null,null,null,null,null,null,null,null,null,null,null,677,"2017-11-07",2,null,"",null,null,677,"2017-11-07",2,null,""]
[null,2,null,null,null,null,null,null,null,null,null,null,null,null,null,null,null,null,null,null,null,678,"2017-11-08",2,null,"",null,null,678,"2017-11-08",2,null,""]
[null,2,null,null,null,null,null,null,null,null,null,null,null,null,null,null,null,null,null,null,null,679,"2017-11-09",2,null,"",null,null,679,"2017-11-09",2,null,""]
[null,2,null,null,null,null,null,null,null,null,null,null,null,null,null,null,null,null,null,null,null,680,"2017-11-10",2,null,"",null,null,680,"2017-11-10",2,null,""]
[null,2,null,null,null,null,null,null,null,null,null,null,null,null,null,null,null,null,null,null,null,681,"2017-11-11",2,null,"",null,null,681,"2017-11-11",2,null,""]
[null,2,null,null,null,null,null,null,null,null,null,null,null,null,null,null,null,null,null,null,null,682,"2017-11-12",2,null,"",null,null,682,"2017-11-12",2,null,""]
[null,2,null,null,null,null,null,null,null,null,null,null,null,null,null,null,null,null,null,null,null,683,"2017-11-13",2,null,"",null,null,683,"2017-11-13",2,null,""]
[null,2,null,null,null,null,null,null,null,null,null,null,null,null,null,null,null,null,null,null,null,684,"2017-11-14",2,null,"",null,null,684,"2017-11-14",2,null,""]
[null,2,null,null,null,null,null,null,null,null,null,null,null,null,null,null,null,null,null,null,null,685,"2017-11-15",2,null,"",null,null,685,"2017-11-15",2,null,""]
[null,2,null,null,null,null,null,null,null,null,null,null,null,null,null,null,null,null,null,null,null,686,"2017-11-16",2,null,"",null,null,686,"2017-11-16",2,null,""]
[null,2,null,null,null,null,null,null,null,null,null,null,null,null,null,null,null,null,null,null,null,687,"2017-11-17",2,null,"",null,null,687,"2017-11-17",2,null,""]
[null,2,null,null,null,null,null,null,null,null,null,null,null,null,null,null,null,null,null,null,null,688,"2017-11-18",2,null,"",null,null,688,"2017-11-18",2,null,""]
[null,2,null,null,null,null,null,null,null,null,null,null,null,null,null,null,null,null,null,null,null,689,"2017-11-19",2,null,"",null,null,689,"2017-11-19",2,null,""]
[null,{"$f":"B692","v":2},null,null,null,null,null,null,null,null,null,null,null,null,null,null,null,null,null,null,null,690,"2017-11-20",2,null,"",null,null,690,"2017-11-20",2,null,""]
[null,2,null,null,null,null,null,null,null,null,null,null,null,null,null,null,null,null,null,null,null,691,"2017-11-21",2,null,"",null,null,691,"2017-11-21",2,null,""]
[null,2,null,null,null,null,null,null,null,null,null,null,null,null,null,null,null,null,null,null,null,692,"2017-11-22",2,null,"",null,null,692,"2017-11-22",2,null,""]
[null,2,null,null,null,null,null,null,null,null,null,null,null,null,null,null,null,null,null,null,null,693,"2017-11-23",2,null,"",null,null,693,"2017-11-23",2,null,""]
[null,2,null,null,null,null,null,null,null,null,null,null,null,null,null,null,null,null,null,null,null,694,"2017-11-24",2,null,"",null,null,694,"2017-11-24",2,null,""]
[null,2,null,null,null,null,null,null,null,null,null,null,null,null,null,null,null,null,null,null,null,695,"2017-11-25",2,null,"",null,null,695,"2017-11-25",2,null,""]
[null,2,null,null,null,null,null,null,null,null,null,null,null,null,null,null,null,null,null,null,null,696,"2017-11-26",2,null,"",null,null,696,"2017-11-26",2,null,""]
[null,2,null,null,null,null,null,null,null,null,null,null,null,null,null,null,null,null,null,null,null,697,"2017-11-27",2,null,"",null,null,697,"2017-11-27",2,null,""]
[null,2,null,null,null,null,null,null,null,null,null,null,null,null,null,null,null,null,null,null,null,698,"2017-11-28",2,null,"",null,null,698,"2017-11-28",2,null,""]
[null,2,null,null,null,null,null,null,null,null,null,null,null,null,null,null,null,null,null,null,null,699,"2017-11-29",2,null,"",null,null,699,"2017-11-29",2,null,""]
[null,2,null,null,null,null,null,null,null,null,null,null,null,null,null,null,null,null,null,null,null,700,"2017-11-30",2,null,"",null,null,700,"2017-11-30",2,null,""]
[null,2,null,null,null,null,null,null,null,null,null,null,null,null,null,null,null,null,null,null,null,701,"2017-12-01",2,null,"",null,null,701,"2017-12-01",2,null,""]
[null,2,null,null,null,null,null,null,null,null,null,null,null,null,null,null,null,null,null,null,null,702,"2017-12-02",2,null,"",null,null,702,"2017-12-02",2,null,""]
[null,2,null,null,null,null,null,null,null,null,null,null,null,null,null,null,null,null,null,null,null,703,"2017-12-03",2,null,"",null,null,703,"2017-12-03",2,null,""]
[null,2,null,null,null,null,null,null,null,null,null,null,null,null,null,null,null,null,null,null,null,704,"2017-12-04",2,null,"",null,null,704,"2017-12-04",2,null,""]
[null,2,null,null,null,null,null,null,null,null,null,null,null,null,null,null,null,null,null,null,null,705,"2017-12-05",2,null,"",null,null,705,"2017-12-05",2,null,""]
[null,2,null,null,null,null,null,null,null,null,null,null,null,null,null,null,null,null,null,null,null,706,"2017-12-06",2,null,{"$f":"IF(X709=2,\"\",W709)","v":""},null,null,706,"2017-12-06",2,null,{"$f":"IF(AE709=2,\"\",AD709)","v":""}]
[null,2,null,null,null,null,null,null,null,null,null,null,null,null,null,null,null,null,null,null,null,707,"2017-12-07",{"$f":"X709","v":2},null,"",null,null,707,"2017-12-07",{"$f":"AE709","v":2},null,""]
[null,2,null,null,null,null,null,null,null,null,null,null,null,null,null,null,null,null,null,null,null,708,"2017-12-08",2,null,"",null,null,708,"2017-12-08",2,null,""]
[null,2,null,null,null,null,null,null,null,null,null,null,null,null,null,null,null,null,null,null,null,709,"2017-12-09",2,null,"",null,null,709,"2017-12-09",2,null,""]
[null,2,null,null,null,null,null,null,null,null,null,null,null,null,null,null,null,null,null,null,null,710,"2017-12-10",2,null,"",null,null,710,"2017-12-10",2,null,""]
[null,2,null,null,null,null,null,null,null,null,null,null,null,null,null,null,null,null,null,null,null,711,"2017-12-11",2,null,"",null,null,711,"2017-12-11",2,null,""]
[null,2,null,null,null,null,null,null,null,null,null,null,null,null,null,null,null,null,null,null,null,712,"2017-12-12",2,null,"",null,null,712,"2017-12-12",2,null,""]
[null,2,null,null,null,null,null,null,null,null,null,null,null,null,null,null,null,null,null,null,null,713,"2017-12-13",2,null,"",null,null,713,"2017-12-13",2,null,""]
[null,2,null,null,null,null,null,null,null,null,null,null,null,null,null,null,null,null,null,null,null,714,"2017-12-14",2,null,"",null,null,714,"2017-12-14",2,null,""]
[null,2,null,null,null,null,null,null,null,null,null,null,null,null,null,null,null,null,null,null,null,715,"2017-12-15",2,null,"",null,null,715,"2017-12-15",2,null,""]
[null,2,null,null,null,null,null,null,null,null,null,null,null,null,null,null,null,null,null,null,null,716,"2017-12-16",2,null,"",null,null,716,"2017-12-16",2,null,""]
[null,2,null,null,null,null,null,null,null,null,null,null,null,null,null,null,null,null,null,null,null,717,"2017-12-17",2,null,"",null,null,717,"2017-12-17",2,null,""]
[null,2,null,null,null,null,null,null,null,null,null,null,null,null,null,null,null,null,null,null,null,718,"2017-12-18",2,null,"",null,null,718,"2017-12-18",2,null,""]
[null,2,null,null,null,null,null,null,null,null,null,null,null,null,null,null,null,null,null,null,null,719,"2017-12-19",2,null,"",null,null,719,"2017-12-19",2,null,""]
[null,2,null,null,null,null,null,null,null,null,null,null,null,null,null,null,null,null,null,null,null,720,"2017-12-20",2,null,"",null,null,720,"2017-12-20",2,null,""]
[null,2,null,null,null,null,null,null,null,null,null,null,null,null,null,null,null,null,null,null,null,721,"2017-12-21",2,null,"",null,null,721,"2017-12-21",2,null,""]
[null,2,null,null,null,null,null,null,null,null,null,null,null,null,null,null,null,null,null,null,null,722,"2017-12-22",2,null,"",null,null,722,"2017-12-22",2,null,""]
[null,2,null,null,null,null,null,null,null,null,null,null,null,null,null,null,null,null,null,null,null,723,"2017-12-23",2,null,"",null,null,723,"2017-12-23",2,null,""]
[null,2,null,null,null,null,null,null,null,null,null,null,null,null,null,null,null,null,null,null,null,724,"2017-12-24",2,null,"",null,null,724,"2017-12-24",2,null,""]
[null,2,null,null,null,null,null,null,null,null,null,null,null,null,null,null,null,null,null,null,null,725,"2017-12-25",2,null,"",null,null,725,"2017-12-25",2,null,""]
[null,2,null,null,null,null,null,null,null,null,null,null,null,null,null,null,null,null,null,null,null,726,"2017-12-26",2,null,"",null,null,726,"2017-12-26",2,null,""]
[null,2,null,null,null,null,null,null,null,null,null,null,null,null,null,null,null,null,null,null,null,727,"2017-12-27",2,null,"",null,null,727,"2017-12-27",2,null,""]
[null,2,null,null,null,null,null,null,null,null,null,null,null,null,null,null,null,null,null,null,null,728,"2017-12-28",2,null,"",null,null,728,"2017-12-28",2,null,""]
[null,2,null,null,null,null,null,null,null,null,null,null,null,null,null,null,null,null,null,null,null,729,"2017-12-29",2,null,"",null,null,729,"2017-12-29",2,null,""]
[null,2,null,null,null,null,null,null,null,null,null,null,null,null,null,null,null,null,null,null,null,730,"2017-12-30",2,null,"",null,null,730,"2017-12-30",2,null,""]
[null,2,null,null,null,null,null,null,null,null,null,null,null,null,null,null,null,null,null,null,null,731,"2017-12-31",2,null,"",null,null,731,"2017-12-31",2,null,""]
[null,2,null,null,null,null,null,null,null,null,null,null,null,null,null,null,null,null,null,null,null,732,"2018-01-01",2,null,"",null,null,732,"2018-01-01",2,null,""]
[null,2,null,null,null,null,null,null,null,null,null,null,null,null,null,null,null,null,null,null,null,733,"2018-01-02",2,null,"",null,null,733,"2018-01-02",2,null,""]
[null,2,null,null,null,null,null,null,null,null,null,null,null,null,null,null,null,null,null,null,null,734,"2018-01-03",2,null,"",null,null,734,"2018-01-03",2,null,""]
[null,2,null,null,null,null,null,null,null,null,null,null,null,null,null,null,null,null,null,null,null,735,"2018-01-04",2,null,"",null,null,735,"2018-01-04",2,null,""]
[null,2,null,null,null,null,null,null,null,null,null,null,null,null,null,null,null,null,null,null,null,736,"2018-01-05",2,null,"",null,null,736,"2018-01-05",2,null,""]
[null,2,null,null,null,null,null,null,null,null,null,null,null,null,null,null,null,null,null,null,null,737,"2018-01-06",2,null,"",null,null,737,"2018-01-06",2,null,""]
[null,2,null,null,null,null,null,null,null,null,null,null,null,null,null,null,null,null,null,null,null,738,"2018-01-07",2,null,"",null,null,738,"2018-01-07",2,null,""]
[null,2,null,null,null,null,null,null,null,null,null,null,null,null,null,null,null,null,null,null,null,739,"2018-01-08",2,null,"",null,null,739,"2018-01-08",2,null,""]
[null,2,null,null,null,null,null,null,null,null,null,null,null,null,null,null,null,null,null,null,null,740,"2018-01-09",2,null,"",null,null,740,"2018-01-09",2,null,""]
[null,2,null,null,null,null,null,null,null,null,null,null,null,null,null,null,null,null,null,null,null,741,"2018-01-10",2,null,"",null,null,741,"2018-01-10",2,null,""]
[null,2,null,null,null,null,null,null,null,null,null,null,null,null,null,null,null,null,null,null,null,742,"2018-01-11",2,null,"",null,null,742,"2018-01-11",2,null,""]
[null,2,null,null,null,null,null,null,null,null,null,null,null,null,null,null,null,null,null,null,null,743,"2018-01-12",2,null,"",null,null,743,"2018-01-12",2,null,""]
[null,2,null,null,null,null,null,null,null,null,null,null,null,null,null,null,null,null,null,null,null,744,"2018-01-13",2,null,"",null,null,744,"2018-01-13",2,null,""]
[null,2,null,null,null,null,null,null,null,null,null,null,null,null,null,null,null,null,null,null,null,745,"2018-01-14",2,null,"",null,null,745,"2018-01-14",2,null,""]
[null,2,null,null,null,null,null,null,null,null,null,null,null,null,null,null,null,null,null,null,null,746,"2018-01-15",2,null,"",null,null,746,"2018-01-15",2,null,""]
[null,2,null,null,null,null,null,null,null,null,null,null,null,null,null,null,null,null,null,null,null,747,"2018-01-16",2,null,"",null,null,747,"2018-01-16",2,null,""]
[null,2,null,null,null,null,null,null,null,null,null,null,null,null,null,null,null,null,null,null,null,748,"2018-01-17",2,null,"",null,null,748,"2018-01-17",2,null,""]
[null,2,null,null,null,null,null,null,null,null,null,null,null,null,null,null,null,null,null,null,null,749,"2018-01-18",2,null,"",null,null,749,"2018-01-18",2,null,""]
[null,2,null,null,null,null,null,null,null,null,null,null,null,null,null,null,null,null,null,null,null,750,"2018-01-19",2,null,"",null,null,750,"2018-01-19",2,null,""]
[null,2,null,null,null,null,null,null,null,null,null,null,null,null,null,null,null,null,null,null,null,751,"2018-01-20",2,null,"",null,null,751,"2018-01-20",2,null,""]
[null,2,null,null,null,null,null,null,null,null,null,null,null,null,null,null,null,null,null,null,null,752,"2018-01-21",2,null,"",null,null,752,"2018-01-21",2,null,""]
[null,2,null,null,null,null,null,null,null,null,null,null,null,null,null,null,null,null,null,null,null,753,"2018-01-22",2,null,"",null,null,753,"2018-01-22",2,null,""]
[null,{"$f":"B756","v":2},null,null,null,null,null,null,null,null,null,null,null,null,null,null,null,null,null,null,null,754,"2018-01-23",2,null,"",null,null,754,"2018-01-23",2,null,""]
[null,2,null,null,null,null,null,null,null,null,null,null,null,null,null,null,null,null,null,null,null,755,"2018-01-24",2,null,"",null,null,755,"2018-01-24",2,null,""]
[null,2,null,null,null,null,null,null,null,null,null,null,null,null,null,null,null,null,null,null,null,756,"2018-01-25",2,null,"",null,null,756,"2018-01-25",2,null,""]
[null,2,null,null,null,null,null,null,null,null,null,null,null,null,null,null,null,null,null,null,null,757,"2018-01-26",2,null,"",null,null,757,"2018-01-26",2,null,""]
[null,2,null,null,null,null,null,null,null,null,null,null,null,null,null,null,null,null,null,null,null,758,"2018-01-27",2,null,"",null,null,758,"2018-01-27",2,null,""]
[null,2,null,null,null,null,null,null,null,null,null,null,null,null,null,null,null,null,null,null,null,759,"2018-01-28",2,null,"",null,null,759,"2018-01-28",2,null,""]
[null,2,null,null,null,null,null,null,null,null,null,null,null,null,null,null,null,null,null,null,null,760,"2018-01-29",2,null,"",null,null,760,"2018-01-29",2,null,""]
[null,2,null,null,null,null,null,null,null,null,null,null,null,null,null,null,null,null,null,null,null,761,"2018-01-30",2,null,"",null,null,761,"2018-01-30",2,null,""]
[null,2,null,null,null,null,null,null,null,null,null,null,null,null,null,null,null,null,null,null,null,762,"2018-01-31",2,null,"",null,null,762,"2018-01-31",2,null,""]
[null,2]
[null,2]
[null,2]
[null,2]
[null,2]
[null,2]
[null,2]
[null,2]
[null,2]
[null,2]
[null,2]
[null,2]
[null,2]
[null,2]
[null,2]
[null,2]
[null,2]
[null,2]
[null,2]
[null,2]
[null,2]
[null,2]
[null,2]
[null,2]
[null,2]
[null,2]
[null,2]
[null,2]
[null,2]
[null,2]
[null,2]
[null,2]
[null,2]
[null,2]
[null,2]
[null,2]

{"sheet":"DA 1.3","index":5,"n_rows":767,"n_cols":72,"rows_kept":767,"cut":false,"hidden":true,"merged":[[3,11,3,14],[3,15,3,18],[3,19,3,22],[3,23,3,26],[3,35,3,40],[3,31,3,34],[3,27,3,30],[2,57,2,62],[3,63,3,64],[3,65,3,66],[3,44,3,52],[3,57,3,58],[3,59,3,60],[3,61,3,62]]}
[null,null,"manual",null,null,null,null,"DA1",null,"DA DIF",{"$f":"IF(DATA!EN25=\"cps\",AR4+BR6+BS6,U1+BB6)","v":18177},null,null,"PF","CPS","SL",1,{"$f":"IF(K2=0,\"\",IF('DATA 1'!S11=\"CPS\",\"\",\"Cash\"))","v":""},2,null,{"$f":"IF('DA 1.2'!I17<4,ROUND(SUM(K6:K767),0),0)","v":0},{"$f":"IF('DA 1.2'!I17<4,ROUND(SUM(K6:K430),0),0)","v":0},{"$f":"IF('DA 1.2'!I17<4,SUM(AQ6:AQ767),0)","v":0},{"$f":"IF('DA 1.2'!I17<4,K3-L3,0)","v":0},{"$f":"IF('DA 1.2'!I17<4,K3-M3,0)","v":0},"FOR AAS/PROMO EMPLOYEES"]
[null,null,"GROSS","PF/CPS",2,1,"Yes",null,null,"SL DIF",{"$f":"BA6","v":0},"PF","CPS","NET","NET",null,2,{"$f":"IF(K2=0,\"\",IF('DATA 1'!S11=\"CPS\",\"\",\"PF\"))","v":""},null,null,"DIFF","PF","CPS","PF NET","CPS NET",null,null,null,null,null,null,null,null,null,null,null,null,null,null,null,{"$f":"ROUND(SUM(AO6:AO767),0)","v":0}]
[null,null,{"$f":"'DATA 1'!R16","v":0},{"$f":"'DATA 1'!S16","v":0},null,2,"No",null,null,"GROSS",{"$f":"IF(E2=1,C3,SUM(K1:K2))","v":18177},{"$f":"IF(E2=1,D3,IF(S1=2,IF(E2=1,D3,ROUND(SUM(V1+BC6),0))+K2,IF(E2=1,D3,ROUND(SUM(V1+BC6),0))))","v":16946},{"$f":"ROUND(IF(E2=1,C3,W1+BR6),0)","v":1818},{"$f":"X1+BD6","v":1231},{"$f":"Y1+BS6","v":16359},null,null,null,null,null,null,null,null,null,null,null,null,null,null,null,null,null,null,null,null,null,null,null,null,null,null,null,null,null,null,{"$f":"IF(AS31<'DA 1.2'!C8,1,0)","v":0},{"$f":"IF(AT3=1,VLOOKUP(AS31,B6:C767,2),0)","v":0},null,null,null,null,null,null,null,null,null,null,"FOR NON AAS / PROMOTIONS (CPS EMPLOYEES)"]
[null,null,null,null,"change feb days",null,null,null,null,null,{"$f":"ROUND(SUM(K6:K767),0)","v":18176},"BASIC PAY FROM 01-01-2016",null,null,null,"INCREMENT 1 B.PAY",null,null,null,"INCREMENT 2 B.PAY",null,null,null,"INCREMENT 3 B.PAY",null,null,null,"INCREMENT 4 B.PAY",null,null,null,"INCREMENT 5 B.PAY",null,null,null,"SURRENDER LEAVE DIFF",null,null,null,null,null,null,{"$f":"IF('DA 1.2'!I17<4,ROUND(SUM(AQ6:AQ767),0),0)","v":0},{"$f":"IF('DA 1.2'!I17<4,ROUND(SUM(AR6:AR767),0),0)","v":0},"FOR NON AAS / PROMOTIONS (PF EMPLOYEES)",null,null,null,null,null,null,null,null,{"$f":"SUM(AZ6:AZ30)","v":18177},{"$f":"SUM(AZ6:AZ19)","v":16946},{"$f":"BE4-BC4","v":1231},{"$f":"BB4+BA6","v":18177},"TD",null,"AD",null,"DIFF",null,{"$f":"AX5","v":"AAS"},null,"PROMO",null,null,{"$f":"BA6","v":0},{"$f":"SUM(BJ6:BJ30)+SUM(BL6:BL30)+SUM(BN6:BN30)","v":1818},{"$f":"SUM(BK6:BK30)+SUM(BM6:BM30)+SUM(BO6:BO30)","v":16359},{"$f":"BS4+BR4+BQ4","v":18177}]
[null,"DATE","BASIC PAY","MONTH","DAY IN MONTH","BASIC PAY FOR DAYS","NEW DA","OLD DA","ELIGIBLE","DRAWN","DIFF","FROM","TO","ORIGINAL","CALCU","FROM","TO","ORIGINAL","CALCU","FROM","TO","ORIGINAL","CALCU","FROM","TO","ORIGINAL","CALCU","FROM","TO","ORIGINAL","CALCU","FROM","TO","ORIGINAL","CALCU","FROM","TO","DATE CAL FROM","DATE CAL TO","TOTAL","BASIC",null,"CPS",1,"MONTHS","B.PAY","TD","AD","DIF","AAS","PROMO","DIFF TOT","SL","DA DIFF","PF","NET","GROSS","CPS","CASH","CPS","CASH","CPS","CASH","CPS","CASH","CPS","CASH",{"$f":"AZ5","v":"DIFF TOT"},"SL","CPS","CASH","GROSS"]
[null,"2016-01-01",{"$f":"O6+S6+W6+AA6+AE6+AI6","v":38130},{"$f":"MONTH(B6)","v":1},{"$f":"IF(D6=1,31,IF(D6=2,28,IF(D6=3,31,IF(D6=5,31,IF(D6=7,31,IF(D6=8,31,IF(D6=10,31,IF(D6=12,31,30))))))))","v":31},{"$f":"C6/E6","v":1230},0.18340000000000001,0.15196000000000001,{"$f":"F6*G6","v":225.58200000000002},{"$f":"F6*H6","v":186.91080000000002},{"$f":"I6-J6","v":38.671199999999999},"2016-01-01",{"$f":"IF('DA 1.2'!D3>='DA 1.2'!Q15,'DA 1.2'!Q15,'DA 1.2'!D3-1)","v":"2016-09-30"},{"$f":"'DA 1.2'!G2","v":38130},{"$f":"IF(M6>=B6,N6,0)","v":38130},{"$f":"'DA 1.2'!D3","v":"2016-10-01"},{"$f":"IF('DA 1.2'!C8='DA 1.2'!D4,'DA 1.2'!D4,'DA 1.2'!D4-1)","v":"2016-12-31"},{"$f":"IF(N6>'DA 1.2'!G3,N6,'DA 1.2'!G3)","v":39160},{"$f":"IF(O6>0,0,IF(Q6>=B6,R6,0))","v":0},{"$f":"'DA 1.2'!D4","v":"2017-01-01"},{"$f":"IF('DA 1.2'!D5>='DA 1.2'!Q15,'DA 1.2'!Q15,IF('DA 1.2'!C8='DA 1.2'!D5,'DA 1.2'!D5,'DA 1.2'!D5-1))","v":"2017-03-31"},{"$f":"IF(R6>'DA 1.2'!G4,R6,'DA 1.2'!G4)","v":39160},{"$f":"IF(T6>U6,0,IF(O6>0,0,IF(S6>0,0,IF(U6>=B6,V6,0))))","v":0},{"$f":"'DA 1.2'!D5","v":"2017-10-01"},{"$f":"IF('DA 1.2'!D6>='DA 1.2'!Q15,'DA 1.2'!Q15,IF('DA 1.2'!C8='DA 1.2'!D6,'DA 1.2'!D6,'DA 1.2'!D6-1))","v":"2017-03-31"},{"$f":"IF('DA 1.2'!G5>V6,'DA 1.2'!G5,V6)","v":39160},{"$f":"IF(X6>=Y6,0,IF(O6>0,0,IF(S6>0,0,IF(W6>0,0,IF(Y6>=B6,Z6,0)))))","v":0},{"$f":"'DA 1.2'!D6","v":"2017-12-01"},{"$f":"IF('DA 1.2'!D7>='DA 1.2'!Q15,'DA 1.2'!Q15,IF('DA 1.2'!C8='DA 1.2'!D7,'DA 1.2'!D7,'DA 1.2'!D7-1))","v":"2017-03-31"},{"$f":"IF(Z6<'DA 1.2'!G6,'DA 1.2'!G6,Z6)","v":39160},{"$f":"IF(O6>0,0,IF(AB6>=AC6,0,IF(S6>0,0,IF(W6>0,0,IF(AA6>0,0,IF(AC6>=B6,AD6,0))))))","v":0},{"$f":"'DA 1.2'!D7","v":"2018-12-02"},{"$f":"IF('DA 1.2'!D8>='DA 1.2'!Q15,'DA 1.2'!Q15,IF('DA 1.2'!C8='DA 1.2'!D8,'DA 1.2'!D8,'DA 1.2'!D8-1))","v":"2017-02-28"},{"$f":"IF(AD6<'DA 1.2'!G7,'DA 1.2'!G7,AD6)","v":39160},{"$f":"IF(O6>0,0,IF(S6>0,0,IF(AF6>=AG6,0,IF(W6>0,0,IF(AA6>0,0,IF(AE6>0,0,IF(AG6>=B6,AH6,0)))))))","v":0},{"$f":"'DA 1.2'!C10","v":"2016-04-01"},{"$f":"DATE('DA 1.2'!D14,'DA 1.2'!C14,'DA 1.2'!B14)","v":"2016-04-30"},{"$f":"IF(B6>=AJ6,1,0)","v":0},{"$f":"IF(B6<=AK6,1,0)","v":1},{"$f":"IF(SUM(AL6:AM6)=2,1,0)","v":0},{"$f":"IF('DA 1.2'!B50=2,0,IF(AN6=1,I6-J6,0))","v":0},null,{"$f":"ROUND(K6*10%,3)","v":3.867},{"$f":"ROUND(K6,4)","v":38.671199999999999},"2016-01-01",{"$f":"VLOOKUP(AS6,B6:C767,2)","v":38130},{"$f":"ROUND(AT6*G6,0)","v":6993},{"$f":"AT6*H6","v":5794.2348000000002},{"$f":"ROUND(AU6-AV6,0)","v":1199},{"$f":"ROUND(IF(AS6=BB33,BC33,0),0)","v":0},{"$f":"ROUND(IF(AS6=BD33,BE33,0),0)","v":0},{"$f":"SUM(AW6:AY6)","v":1199},{"$f":"AO2","v":0},{"$f":"IF('DA 1.2'!I17=4,BB4,0)","v":18177},{"$f":"IF('DA 1.2'!I17=4,BC4,0)","v":16946},{"$f":"IF('DA 1.2'!I17=4,BD4,0)","v":1231},{"$f":"IF('DA 1.2'!I17=4,BE4,0)","v":18177},{"$f":"ROUND(AT6*G6*10%,0)","v":699},{"$f":"ROUND(AT6*G6*90%,0)","v":6294},{"$f":"ROUND(AT6*H6*10%,0)","v":579},{"$f":"ROUND(AT6*H6*90%,0)","v":5215},{"$f":"BF6-BH6","v":120},{"$f":"BG6-BI6","v":1079},{"$f":"AX6-BM6","v":0},{"$f":"ROUND(AX6*90%,0)","v":0},{"$f":"ROUND(AY6*10%,0)","v":0},{"$f":"ROUND(AY6*90%,0)","v":0},{"$f":"SUM(BJ6:BO6)","v":1199},{"$f":"BQ4","v":0},{"$f":"IF('DA 1.2'!I17=4,BR4,0)","v":1818},{"$f":"IF('DA 1.2'!I17=4,BS4,0)","v":16359},{"$f":"IF('DA 1.2'!I17=4,BT4,0)","v":18177}]
[null,"2016-01-02",{"$f":"O7+S7+W7+AA7+AE7+AI7","v":38130},{"$f":"MONTH(B7)","v":1},{"$f":"IF(D7=1,31,IF(D7=2,28,IF(D7=3,31,IF(D7=5,31,IF(D7=7,31,IF(D7=8,31,IF(D7=10,31,IF(D7=12,31,30))))))))","v":31},1230,{"$f":"G6","v":0.18340000000000001},{"$f":"H6","v":0.15196000000000001},{"$f":"F7*G7","v":225.58200000000002},186.91080000000002,{"$f":"I7-J7","v":38.671199999999999},{"$f":"L6","v":"2016-01-01"},{"$f":"M6","v":"2016-09-30"},{"$f":"N6","v":38130},{"$f":"IF(M7>=B7,N7,0)","v":38130},{"$f":"P6","v":"2016-10-01"},{"$f":"Q6","v":"2016-12-31"},{"$f":"R6","v":39160},{"$f":"IF(O7>0,0,IF(Q7>=B7,R7,0))","v":0},{"$f":"T6","v":"2017-01-01"},{"$f":"U6","v":"2017-03-31"},{"$f":"V6","v":39160},{"$f":"IF(T7>U7,0,IF(O7>0,0,IF(S7>0,0,IF(U7>=B7,V7,0))))","v":0},{"$f":"X6","v":"2017-10-01"},{"$f":"Y6","v":"2017-03-31"},{"$f":"Z6","v":39160},{"$f":"IF(X7>=Y7,0,IF(O7>0,0,IF(S7>0,0,IF(W7>0,0,IF(Y7>=B7,Z7,0)))))","v":0},{"$f":"AB6","v":"2017-12-01"},{"$f":"AC6","v":"2017-03-31"},{"$f":"AD6","v":39160},{"$f":"IF(O7>0,0,IF(AB7>=AC7,0,IF(S7>0,0,IF(W7>0,0,IF(AA7>0,0,IF(AC7>=B7,AD7,0))))))","v":0},{"$f":"AF6","v":"2018-12-02"},{"$f":"AG6","v":"2017-02-28"},{"$f":"AH6","v":39160},{"$f":"IF(O7>0,0,IF(S7>0,0,IF(AF7>=AG7,0,IF(W7>0,0,IF(AA7>0,0,IF(AE7>0,0,IF(AG7>=B7,AH7,0)))))))","v":0},{"$f":"AJ6","v":"2016-04-01"},{"$f":"AK6","v":"2016-04-30"},{"$f":"IF(B7>=AJ7,1,0)","v":0},{"$f":"IF(B7<=AK7,1,0)","v":1},{"$f":"IF(SUM(AL7:AM7)=2,1,0)","v":0},{"$f":"IF('DA 1.2'!B51=2,0,IF(AN7=1,I7-J7,0))","v":0},null,{"$f":"ROUND(K7*10%,3)","v":3.867},{"$f":"ROUND(K7,4)","v":38.671199999999999},"2016-02-01",{"$f":"VLOOKUP(AS7,B6:C767,2)","v":38130},{"$f":"ROUND(AT7*G7,0)","v":6993},{"$f":"AT7*H7","v":5794.2348000000002},{"$f":"ROUND(AU7-AV7,0)","v":1199},0,0,{"$f":"SUM(AW7:AY7)","v":1199},null,null,null,null,null,{"$f":"ROUND(AT7*G7*10%,0)","v":699},6294,579,5215,{"$f":"BF7-BH7","v":120},{"$f":"BG7-BI7","v":1079},{"$f":"AX7-BM7","v":0},{"$f":"ROUND(AX7*90%,0)","v":0},{"$f":"ROUND(AY7*10%,0)","v":0},{"$f":"ROUND(AY7*90%,0)","v":0},{"$f":"SUM(BJ7:BO7)","v":1199}]
[null,"2016-01-03",38130,1,31,1230,{"$f":"G7","v":0.18340000000000001},0.15196000000000001,225.58200000000002,186.91080000000002,38.671199999999999,{"$f":"L7","v":"2016-01-01"},"2016-09-30",38130,38130,{"$f":"P7","v":"2016-10-01"},"2016-12-31",39160,0,{"$f":"T7","v":"2017-01-01"},"2017-03-31",39160,0,{"$f":"X7","v":"2017-10-01"},"2017-03-31",39160,0,{"$f":"AB7","v":"2017-12-01"},{"$f":"AC7","v":"2017-03-31"},{"$f":"AD7","v":39160},0,{"$f":"AF7","v":"2018-12-02"},{"$f":"AG7","v":"2017-02-28"},{"$f":"AH7","v":39160},0,{"$f":"AJ7","v":"2016-04-01"},"2016-04-30",0,1,0,{"$f":"IF('DA 1.2'!B52=2,0,IF(AN8=1,I8-J8,0))","v":0},null,3.867,38.671199999999999,"2016-03-01",{"$f":"VLOOKUP(AS8,B6:C767,2)","v":38130},6993,5794.2348000000002,1199,0,0,1199,null,null,null,null,null,699,6294,579,5215,120,1079,0,0,0,0,1199]
[null,"2016-01-04",38130,1,31,1230,0.18340000000000001,0.15196000000000001,225.58200000000002,186.91080000000002,38.671199999999999,"2016-01-01","2016-09-30",38130,38130,"2016-10-01","2016-12-31",39160,0,"2017-01-01","2017-03-31",39160,0,"2017-10-01","2017-03-31",39160,0,"2017-12-01","2017-03-31",39160,0,"2018-12-02","2017-02-28",39160,0,"2016-04-01","2016-04-30",0,1,0,{"$f":"IF('DA 1.2'!B53=2,0,IF(AN9=1,I9-J9,0))","v":0},null,3.867,38.671199999999999,"2016-04-01",{"$f":"VLOOKUP(AS9,B6:C767,2)","v":38130},6993,5794.2348000000002,1199,0,0,1199,null,null,null,null,null,699,6294,579,5215,120,1079,0,0,0,0,1199]
[null,"2016-01-05",38130,1,31,1230,0.18340000000000001,0.15196000000000001,225.58200000000002,186.91080000000002,38.671199999999999,"2016-01-01","2016-09-30",38130,38130,"2016-10-01","2016-12-31",39160,0,"2017-01-01","2017-03-31",39160,0,"2017-10-01","2017-03-31",39160,0,"2017-12-01","2017-03-31",39160,0,"2018-12-02","2017-02-28",39160,0,"2016-04-01","2016-04-30",0,1,0,{"$f":"IF('DA 1.2'!B54=2,0,IF(AN10=1,I10-J10,0))","v":0},null,3.867,38.671199999999999,"2016-05-01",{"$f":"VLOOKUP(AS10,B6:C767,2)","v":38130},6993,5794.2348000000002,1199,0,0,1199,null,null,null,null,null,699,6294,579,5215,120,1079,0,0,0,0,1199]
[null,"2016-01-06",38130,1,31,1230,0.18340000000000001,0.15196000000000001,225.58200000000002,186.91080000000002,38.671199999999999,"2016-01-01","2016-09-30",38130,38130,"2016-10-01","2016-12-31",39160,0,"2017-01-01","2017-03-31",39160,0,"2017-10-01","2017-03-31",39160,0,"2017-12-01","2017-03-31",39160,0,"2018-12-02","2017-02-28",39160,0,"2016-04-01","2016-04-30",0,1,0,{"$f":"IF('DA 1.2'!B55=2,0,IF(AN11=1,I11-J11,0))","v":0},null,3.867,38.671199999999999,"2016-06-01",{"$f":"VLOOKUP(AS11,B6:C767,2)","v":38130},6993,5794.2348000000002,1199,0,0,1199,null,null,null,null,null,699,6294,579,5215,120,1079,0,0,0,0,1199]
[null,"2016-01-07",38130,1,31,1230,0.18340000000000001,0.15196000000000001,225.58200000000002,186.91080000000002,38.671199999999999,"2016-01-01","2016-09-30",38130,38130,"2016-10-01","2016-12-31",39160,0,"2017-01-01","2017-03-31",39160,0,"2017-10-01","2017-03-31",39160,0,"2017-12-01","2017-03-31",39160,0,"2018-12-02","2017-02-28",39160,0,"2016-04-01","2016-04-30",0,1,0,{"$f":"IF('DA 1.2'!B56=2,0,IF(AN12=1,I12-J12,0))","v":0},null,3.867,38.671199999999999,"2016-07-01",{"$f":"VLOOKUP(AS12,B6:C767,2)","v":38130},6993,5794.2348000000002,1199,0,0,1199,null,null,null,null,null,699,6294,579,5215,120,1079,0,0,0,0,1199]
[null,"2016-01-08",38130,1,31,1230,0.18340000000000001,0.15196000000000001,225.58200000000002,186.91080000000002,38.671199999999999,"2016-01-01","2016-09-30",38130,38130,"2016-10-01","2016-12-31",39160,0,"2017-01-01","2017-03-31",39160,0,"2017-10-01","2017-03-31",39160,0,"2017-12-01","2017-03-31",39160,0,"2018-12-02","2017-02-28",39160,0,"2016-04-01","2016-04-30",0,1,0,{"$f":"IF('DA 1.2'!B57=2,0,IF(AN13=1,I13-J13,0))","v":0},null,3.867,38.671199999999999,"2016-08-01",{"$f":"VLOOKUP(AS13,B6:C767,2)","v":38130},6993,5794.2348000000002,1199,0,0,1199,null,null,null,null,null,699,6294,579,5215,120,1079,0,0,0,0,1199]
[null,"2016-01-09",38130,1,31,1230,0.18340000000000001,0.15196000000000001,225.58200000000002,186.91080000000002,38.671199999999999,"2016-01-01","2016-09-30",38130,38130,"2016-10-01","2016-12-31",39160,0,"2017-01-01","2017-03-31",39160,0,"2017-10-01","2017-03-31",39160,0,"2017-12-01","2017-03-31",39160,0,"2018-12-02","2017-02-28",39160,0,"2016-04-01","2016-04-30",0,1,0,{"$f":"IF('DA 1.2'!B58=2,0,IF(AN14=1,I14-J14,0))","v":0},null,3.867,38.671199999999999,"2016-09-01",{"$f":"VLOOKUP(AS14,B6:C767,2)","v":38130},6993,5794.2348000000002,1199,0,0,1199,null,null,null,null,null,699,6294,579,5215,120,1079,0,0,0,0,1199]
[null,"2016-01-10",38130,1,31,1230,0.18340000000000001,0.15196000000000001,225.58200000000002,186.91080000000002,38.671199999999999,"2016-01-01","2016-09-30",38130,38130,"2016-10-01","2016-12-31",39160,0,"2017-01-01","2017-03-31",39160,0,"2017-10-01","2017-03-31",39160,0,"2017-12-01","2017-03-31",39160,0,"2018-12-02","2017-02-28",39160,0,"2016-04-01","2016-04-30",0,1,0,{"$f":"IF('DA 1.2'!B59=2,0,IF(AN15=1,I15-J15,0))","v":0},null,3.867,38.671199999999999,"2016-10-01",{"$f":"VLOOKUP(AS15,B6:C767,2)","v":39160},7182,5950.7536,1231,0,0,1231,null,null,null,null,null,718,6464,595,5356,{"$f":"BF15-BH15","v":123},1108,0,{"$f":"ROUND(AX15*90%,0)","v":0},0,0,1231]
[null,"2016-01-11",38130,1,31,1230,0.18340000000000001,0.15196000000000001,225.58200000000002,186.91080000000002,38.671199999999999,"2016-01-01","2016-09-30",38130,38130,"2016-10-01","2016-12-31",39160,0,"2017-01-01","2017-03-31",39160,0,"2017-10-01","2017-03-31",39160,0,"2017-12-01","2017-03-31",39160,0,"2018-12-02","2017-02-28",39160,0,"2016-04-01","2016-04-30",0,1,0,{"$f":"IF('DA 1.2'!B60=2,0,IF(AN16=1,I16-J16,0))","v":0},null,3.867,38.671199999999999,"2016-11-01",{"$f":"VLOOKUP(AS16,B6:C767,2)","v":39160},7182,5950.7536,1231,0,0,1231,null,null,null,null,null,718,6464,595,5356,123,1108,0,0,0,0,1231]
[null,"2016-01-12",38130,1,31,1230,0.18340000000000001,0.15196000000000001,225.58200000000002,186.91080000000002,38.671199999999999,"2016-01-01","2016-09-30",38130,38130,"2016-10-01","2016-12-31",39160,0,"2017-01-01","2017-03-31",39160,0,"2017-10-01","2017-03-31",39160,0,"2017-12-01","2017-03-31",39160,0,"2018-12-02","2017-02-28",39160,0,"2016-04-01","2016-04-30",0,1,0,{"$f":"IF('DA 1.2'!B61=2,0,IF(AN17=1,I17-J17,0))","v":0},null,3.867,38.671199999999999,"2016-12-01",{"$f":"VLOOKUP(AS17,B6:C767,2)","v":39160},7182,5950.7536,1231,0,0,1231,null,null,null,null,null,718,6464,595,5356,123,1108,0,0,0,0,1231]
[null,"2016-01-13",38130,1,31,1230,0.18340000000000001,0.15196000000000001,225.58200000000002,186.91080000000002,38.671199999999999,"2016-01-01","2016-09-30",38130,38130,"2016-10-01","2016-12-31",39160,0,"2017-01-01","2017-03-31",39160,0,"2017-10-01","2017-03-31",39160,0,"2017-12-01","2017-03-31",39160,0,"2018-12-02","2017-02-28",39160,0,"2016-04-01","2016-04-30",0,1,0,{"$f":"IF('DA 1.2'!B62=2,0,IF(AN18=1,I18-J18,0))","v":0},null,3.867,38.671199999999999,"2017-01-01",{"$f":"VLOOKUP(AS18,B6:C767,2)","v":39160},7182,5950.7536,1231,0,0,1231,null,null,null,null,null,718,6464,595,5356,123,1108,0,0,0,0,1231]
[null,"2016-01-14",38130,1,31,1230,0.18340000000000001,0.15196000000000001,225.58200000000002,186.91080000000002,38.671199999999999,"2016-01-01","2016-09-30",38130,38130,"2016-10-01","2016-12-31",39160,0,"2017-01-01","2017-03-31",39160,0,"2017-10-01","2017-03-31",39160,0,"2017-12-01","2017-03-31",39160,0,"2018-12-02","2017-02-28",39160,0,"2016-04-01","2016-04-30",0,1,0,{"$f":"IF('DA 1.2'!B63=2,0,IF(AN19=1,I19-J19,0))","v":0},null,3.867,38.671199999999999,"2017-02-01",{"$f":"VLOOKUP(AS19,B6:C767,2)","v":39160},7182,5950.7536,1231,0,{"$f":"ROUND(IF(AS19=BD46,BE46,0),0)","v":0},{"$f":"SUM(AW19:AY19)","v":1231},null,null,null,null,null,718,6464,595,5356,123,1108,0,0,0,0,1231]
[null,"2016-01-15",38130,1,31,1230,0.18340000000000001,0.15196000000000001,225.58200000000002,186.91080000000002,38.671199999999999,"2016-01-01","2016-09-30",38130,38130,"2016-10-01","2016-12-31",39160,0,"2017-01-01","2017-03-31",39160,0,"2017-10-01","2017-03-31",39160,0,"2017-12-01","2017-03-31",39160,0,"2018-12-02","2017-02-28",39160,0,"2016-04-01","2016-04-30",0,1,0,{"$f":"IF('DA 1.2'!B64=2,0,IF(AN20=1,I20-J20,0))","v":0},null,3.867,38.671199999999999,"2017-03-01",{"$f":"VLOOKUP(AS20,B6:C767,2)","v":39160},7182,5950.7536,1231,0,0,1231,null,null,null,null,null,718,6464,595,5356,123,1108,0,0,0,0,1231]
[null,"2016-01-16",38130,1,31,1230,0.18340000000000001,0.15196000000000001,225.58200000000002,186.91080000000002,38.671199999999999,"2016-01-01","2016-09-30",38130,38130,"2016-10-01","2016-12-31",39160,0,"2017-01-01","2017-03-31",39160,0,"2017-10-01","2017-03-31",39160,0,"2017-12-01","2017-03-31",39160,0,"2018-12-02","2017-02-28",39160,0,"2016-04-01","2016-04-30",0,1,0,{"$f":"IF('DA 1.2'!B65=2,0,IF(AN21=1,I21-J21,0))","v":0},null,3.867,38.671199999999999,"2017-04-01",{"$f":"VLOOKUP(AS21,B6:C767,2)","v":0},0,0,0,0,0,0,null,null,null,null,null,0,0,0,0,0,0,0,0,0,0,0]
[null,"2016-01-17",38130,1,31,1230,0.18340000000000001,0.15196000000000001,225.58200000000002,186.91080000000002,38.671199999999999,"2016-01-01","2016-09-30",38130,38130,"2016-10-01","2016-12-31",39160,0,"2017-01-01","2017-03-31",39160,0,"2017-10-01","2017-03-31",39160,0,"2017-12-01","2017-03-31",39160,0,"2018-12-02","2017-02-28",39160,0,"2016-04-01","2016-04-30",0,1,0,{"$f":"IF('DA 1.2'!B66=2,0,IF(AN22=1,I22-J22,0))","v":0},null,3.867,38.671199999999999,"2017-05-01",{"$f":"VLOOKUP(AS22,B6:C767,2)","v":0},0,0,0,0,0,0,null,null,null,null,null,0,0,0,0,0,0,0,0,0,0,0]
[null,"2016-01-18",38130,1,31,1230,0.18340000000000001,0.15196000000000001,225.58200000000002,186.91080000000002,38.671199999999999,"2016-01-01","2016-09-30",38130,38130,"2016-10-01","2016-12-31",39160,0,"2017-01-01","2017-03-31",39160,0,"2017-10-01","2017-03-31",39160,0,"2017-12-01","2017-03-31",39160,0,"2018-12-02","2017-02-28",39160,0,"2016-04-01","2016-04-30",0,1,0,{"$f":"IF('DA 1.2'!B67=2,0,IF(AN23=1,I23-J23,0))","v":0},null,3.867,38.671199999999999,"2017-06-01",{"$f":"VLOOKUP(AS23,B6:C767,2)","v":0},0,0,0,0,0,0,null,null,null,null,null,0,0,0,0,0,0,0,0,0,0,0]
[null,"2016-01-19",38130,1,31,1230,{"$f":"G23","v":0.18340000000000001},0.15196000000000001,225.58200000000002,186.91080000000002,38.671199999999999,{"$f":"L23","v":"2016-01-01"},"2016-09-30",38130,38130,{"$f":"P23","v":"2016-10-01"},"2016-12-31",39160,0,{"$f":"T23","v":"2017-01-01"},"2017-03-31",39160,0,{"$f":"X23","v":"2017-10-01"},"2017-03-31",39160,0,"2017-12-01","2017-03-31",39160,0,"2018-12-02","2017-02-28",39160,0,{"$f":"AJ23","v":"2016-04-01"},"2016-04-30",0,1,0,{"$f":"IF('DA 1.2'!B68=2,0,IF(AN24=1,I24-J24,0))","v":0},null,3.867,38.671199999999999,"2017-07-01",{"$f":"VLOOKUP(AS24,B6:C767,2)","v":0},0,0,0,0,0,0,null,null,null,null,null,0,0,0,0,0,0,0,0,0,0,0]
[null,"2016-01-20",38130,1,31,1230,0.18340000000000001,0.15196000000000001,225.58200000000002,186.91080000000002,38.671199999999999,"2016-01-01","2016-09-30",38130,38130,"2016-10-01","2016-12-31",39160,0,"2017-01-01","2017-03-31",39160,0,"2017-10-01","2017-03-31",39160,0,"2017-12-01","2017-03-31",39160,0,"2018-12-02","2017-02-28",39160,0,"2016-04-01","2016-04-30",0,1,0,{"$f":"IF('DA 1.2'!B69=2,0,IF(AN25=1,I25-J25,0))","v":0},null,3.867,38.671199999999999,"2017-08-01",{"$f":"VLOOKUP(AS25,B6:C767,2)","v":0},0,0,0,0,0,0,null,null,null,null,null,0,0,0,0,0,0,0,0,0,0,0]
[null,"2016-01-21",38130,1,31,1230,0.18340000000000001,0.15196000000000001,225.58200000000002,186.91080000000002,38.671199999999999,"2016-01-01","2016-09-30",38130,38130,"2016-10-01","2016-12-31",39160,0,"2017-01-01","2017-03-31",39160,0,"2017-10-01","2017-03-31",39160,0,"2017-12-01","2017-03-31",39160,0,"2018-12-02","2017-02-28",39160,0,"2016-04-01","2016-04-30",0,1,0,{"$f":"IF('DA 1.2'!B70=2,0,IF(AN26=1,I26-J26,0))","v":0},null,3.867,38.671199999999999,"2017-09-01",{"$f":"VLOOKUP(AS26,B6:C767,2)","v":0},0,0,0,0,0,0,null,null,null,null,null,0,0,0,0,0,0,0,0,0,0,0]
[null,"2016-01-22",38130,1,31,1230,0.18340000000000001,0.15196000000000001,225.58200000000002,186.91080000000002,38.671199999999999,"2016-01-01","2016-09-30",38130,38130,"2016-10-01","2016-12-31",39160,0,"2017-01-01","2017-03-31",39160,0,"2017-10-01","2017-03-31",39160,0,"2017-12-01","2017-03-31",39160,0,"2018-12-02","2017-02-28",39160,0,"2016-04-01","2016-04-30",0,1,0,{"$f":"IF('DA 1.2'!B71=2,0,IF(AN27=1,I27-J27,0))","v":0},null,3.867,38.671199999999999,"2017-10-01",{"$f":"VLOOKUP(AS27,B6:C767,2)","v":0},0,0,0,0,0,0,null,null,null,null,null,0,0,0,0,0,0,0,0,0,0,0]
[null,"2016-01-23",38130,1,31,1230,0.18340000000000001,0.15196000000000001,225.58200000000002,186.91080000000002,38.671199999999999,"2016-01-01","2016-09-30",38130,38130,"2016-10-01","2016-12-31",39160,0,"2017-01-01","2017-03-31",39160,0,"2017-10-01","2017-03-31",39160,0,"2017-12-01","2017-03-31",39160,0,"2018-12-02","2017-02-28",39160,0,"2016-04-01","2016-04-30",0,1,0,{"$f":"IF('DA 1.2'!B72=2,0,IF(AN28=1,I28-J28,0))","v":0},null,3.867,38.671199999999999,"2017-11-01",{"$f":"VLOOKUP(AS28,B6:C767,2)","v":0},0,0,0,0,0,0,null,null,null,null,null,0,0,0,0,0,0,0,0,0,0,0]
[null,"2016-01-24",38130,1,31,1230,0.18340000000000001,0.15196000000000001,225.58200000000002,186.91080000000002,38.671199999999999,"2016-01-01","2016-09-30",38130,38130,"2016-10-01","2016-12-31",39160,0,"2017-01-01","2017-03-31",39160,0,"2017-10-01","2017-03-31",39160,0,"2017-12-01","2017-03-31",39160,0,"2018-12-02","2017-02-28",39160,0,"2016-04-01","2016-04-30",0,1,0,{"$f":"IF('DA 1.2'!B73=2,0,IF(AN29=1,I29-J29,0))","v":0},null,3.867,38.671199999999999,"2017-12-01",{"$f":"VLOOKUP(AS29,B6:C767,2)","v":0},0,0,0,0,0,0,null,null,null,null,null,0,0,0,0,0,0,0,0,0,0,0]
[null,"2016-01-25",38130,1,31,1230,0.18340000000000001,0.15196000000000001,225.58200000000002,186.91080000000002,38.671199999999999,"2016-01-01","2016-09-30",38130,38130,"2016-10-01","2016-12-31",39160,0,"2017-01-01","2017-03-31",39160,0,"2017-10-01","2017-03-31",39160,0,"2017-12-01","2017-03-31",39160,0,"2018-12-02","2017-02-28",39160,0,"2016-04-01","2016-04-30",0,1,0,{"$f":"IF('DA 1.2'!B74=2,0,IF(AN30=1,I30-J30,0))","v":0},null,3.867,38.671199999999999,"2018-01-01",{"$f":"VLOOKUP(AS30,B6:C767,2)","v":0},{"$f":"ROUND(AT30*G30,0)","v":0},0,0,0,0,{"$f":"SUM(AW30:AY30)","v":0},null,null,null,null,null,0,0,0,0,0,0,0,0,0,0,0]
[null,"2016-01-26",38130,1,31,1230,0.18340000000000001,0.15196000000000001,225.58200000000002,186.91080000000002,38.671199999999999,"2016-01-01","2016-09-30",38130,38130,"2016-10-01","2016-12-31",39160,0,"2017-01-01","2017-03-31",39160,0,"2017-10-01","2017-03-31",39160,0,"2017-12-01","2017-03-31",39160,0,"2018-12-02","2017-02-28",39160,0,"2016-04-01","2016-04-30",0,1,0,{"$f":"IF('DA 1.2'!B75=2,0,IF(AN31=1,I31-J31,0))","v":0},null,3.867,38.671199999999999,"2018-02-01",{"$f":"IF('DA 1.2'!B50=2,0,IF('DA 1.2'!D11=30,'DA 1.3'!AU3,ROUND('DA 1.3'!AU3/2,0)))","v":0},{"$f":"ROUND(AT31*G31,0)","v":0},0,0,"SL"]
[null,"2016-01-27",38130,1,31,1230,0.18340000000000001,0.15196000000000001,225.58200000000002,186.91080000000002,38.671199999999999,"2016-01-01","2016-09-30",38130,38130,"2016-10-01","2016-12-31",39160,0,"2017-01-01","2017-03-31",39160,0,"2017-10-01","2017-03-31",39160,0,"2017-12-01","2017-03-31",39160,0,"2018-12-02","2017-02-28",39160,0,"2016-04-01","2016-04-30",0,1,0,{"$f":"IF('DA 1.2'!B76=2,0,IF(AN32=1,I32-J32,0))","v":0},null,3.867,38.671199999999999,null,null,null,null,null,null,null,null,null,"AAS",null,"PRO"]
[null,"2016-01-28",38130,1,31,1230,0.18340000000000001,0.15196000000000001,225.58200000000002,186.91080000000002,38.671199999999999,"2016-01-01","2016-09-30",38130,38130,"2016-10-01","2016-12-31",39160,0,"2017-01-01","2017-03-31",39160,0,"2017-10-01","2017-03-31",39160,0,"2017-12-01","2017-03-31",39160,0,"2018-12-02","2017-02-28",39160,0,"2016-04-01","2016-04-30",0,1,0,{"$f":"IF('DA 1.2'!B77=2,0,IF(AN33=1,I33-J33,0))","v":0},null,3.867,38.671199999999999,{"$f":"'DA 1.2'!C4","v":"2017-12-01"},{"$f":"IF('DA 1.2'!C4<'DA 1.2'!C8,IF('DA 1.2'!F15=1,VLOOKUP('DA 1.2'!C4,'DA 1.3'!B6:C767,2),0),0)","v":0},1,{"$f":"MONTH(AS33)","v":12},{"$f":"YEAR(AS33)","v":2017},"AAS",null,null,null,{"$f":"AU34","v":"2017-12-01"},{"$f":"AX48","v":0},{"$f":"AU40","v":"2018-12-01"},{"$f":"AW43","v":0}]
[null,"2016-01-29",38130,1,31,1230,0.18340000000000001,0.15196000000000001,225.58200000000002,186.91080000000002,38.671199999999999,"2016-01-01","2016-09-30",38130,38130,"2016-10-01","2016-12-31",39160,0,"2017-01-01","2017-03-31",39160,0,"2017-10-01","2017-03-31",39160,0,"2017-12-01","2017-03-31",39160,0,"2018-12-02","2017-02-28",39160,0,"2016-04-01","2016-04-30",0,1,0,{"$f":"IF('DA 1.2'!B78=2,0,IF(AN34=1,I34-J34,0))","v":0},null,3.867,38.671199999999999,{"$f":"AS33-1","v":"2017-11-30"},{"$f":"IF('DA 1.2'!F15=1,VLOOKUP(AS34,'DA 1.3'!B6:C767,2),0)","v":0},{"$f":"DATE(AW33,AV33,AU33)","v":"2017-12-01"},null,null,null,null,null,null,{"$f":"BB33","v":"2017-12-01"},{"$f":"BC33","v":0},{"$f":"BD33","v":"2018-12-01"},{"$f":"BE33","v":0}]
[null,"2016-01-30",38130,1,31,1230,0.18340000000000001,0.15196000000000001,225.58200000000002,186.91080000000002,38.671199999999999,"2016-01-01","2016-09-30",38130,38130,"2016-10-01","2016-12-31",39160,0,"2017-01-01","2017-03-31",39160,0,"2017-10-01","2017-03-31",39160,0,"2017-12-01","2017-03-31",39160,0,"2018-12-02","2017-02-28",39160,0,"2016-04-01","2016-04-30",0,1,0,{"$f":"IF('DA 1.2'!B79=2,0,IF(AN35=1,I35-J35,0))","v":0},null,3.867,38.671199999999999,"PER MONTH",{"$f":"AT33-AT34","v":0},null,null,null,{"$f":"AT33*G37","v":0},{"$f":"(AT34*H37)","v":0},{"$f":"AX35-AY35","v":0},null,{"$f":"BB34","v":"2017-12-01"},{"$f":"BC34","v":0},{"$f":"BD34","v":"2018-12-01"},{"$f":"BE34","v":0}]
[null,"2016-01-31",38130,1,31,1230,0.18340000000000001,0.15196000000000001,225.58200000000002,186.91080000000002,38.671199999999999,"2016-01-01","2016-09-30",38130,38130,"2016-10-01","2016-12-31",39160,0,"2017-01-01","2017-03-31",39160,0,"2017-10-01","2017-03-31",39160,0,"2017-12-01","2017-03-31",39160,0,"2018-12-02","2017-02-28",39160,0,"2016-04-01","2016-04-30",0,1,0,{"$f":"IF('DA 1.2'!B80=2,0,IF(AN36=1,I36-J36,0))","v":0},null,3.867,38.671199999999999,{"$f":"VLOOKUP(AS33,B6:E767,4)","v":31},{"$f":"AS36-AU36+1","v":31},{"$f":"DAY(AS33)","v":1},null,null,null,null,{"$f":"AZ35/AS36","v":0},null,"2017-12-01",0,"2018-12-01",0]
[null,"2016-02-01",38130,2,{"$f":"IF(D37=1,31,IF(D37=2,29,IF(D37=3,31,IF(D37=5,31,IF(D37=7,31,IF(D37=8,31,IF(D37=10,31,IF(D37=12,31,30))))))))","v":29},1314.8275862068965,0.18340000000000001,0.15196000000000001,241.13937931034482,199.80120000000002,41.338179310344799,"2016-01-01","2016-09-30",38130,38130,"2016-10-01","2016-12-31",39160,0,"2017-01-01","2017-03-31",39160,0,"2017-10-01","2017-03-31",39160,0,"2017-12-01","2017-03-31",39160,0,"2018-12-02","2017-02-28",39160,0,"2016-04-01","2016-04-30",0,1,0,{"$f":"IF('DA 1.2'!B81=2,0,IF(AN37=1,I37-J37,0))","v":0},null,4.1340000000000003,41.338200000000001,null,{"$f":"ROUND((AT35/AS36)*AT36,0)","v":0},{"$f":"AT37*G37","v":0},{"$f":"AT37*H37","v":0},{"$f":"ROUND(AU37-AV37,0)","v":0},null,null,{"$f":"AU36*AZ36","v":0},null,"2017-12-01",0,"2018-12-01",0]
[null,"2016-02-02",38130,2,{"$f":"IF(D38=1,31,IF(D38=2,29,IF(D38=3,31,IF(D38=5,31,IF(D38=7,31,IF(D38=8,31,IF(D38=10,31,IF(D38=12,31,30))))))))","v":29},1314.8275862068965,0.18340000000000001,0.15196000000000001,241.13937931034482,199.80120000000002,41.338179310344799,"2016-01-01","2016-09-30",38130,38130,"2016-10-01","2016-12-31",39160,0,"2017-01-01","2017-03-31",39160,0,"2017-10-01","2017-03-31",39160,0,"2017-12-01","2017-03-31",39160,0,"2018-12-02","2017-02-28",39160,0,"2016-04-01","2016-04-30",0,1,0,{"$f":"IF('DA 1.2'!B82=2,0,IF(AN38=1,I38-J38,0))","v":0},null,4.1340000000000003,41.338200000000001,null,null,null,null,null,null,null,null,null,"2017-12-01",0,"2018-12-01",0]
[null,"2016-02-03",38130,2,29,1314.8275862068965,0.18340000000000001,0.15196000000000001,241.13937931034482,199.80120000000002,41.338179310344799,"2016-01-01","2016-09-30",38130,38130,"2016-10-01","2016-12-31",39160,0,"2017-01-01","2017-03-31",39160,0,"2017-10-01","2017-03-31",39160,0,"2017-12-01","2017-03-31",39160,0,"2018-12-02","2017-02-28",39160,0,"2016-04-01","2016-04-30",0,1,0,{"$f":"IF('DA 1.2'!B83=2,0,IF(AN39=1,I39-J39,0))","v":0},null,4.1340000000000003,41.338200000000001,{"$f":"'DA 1.2'!C5","v":"2018-12-02"},{"$f":"IF('DA 1.2'!C5<'DA 1.2'!C8,IF('DA 1.2'!F17=1,VLOOKUP('DA 1.2'!C5,'DA 1.3'!B6:C767,2),0),0)","v":0},1,{"$f":"MONTH(AS39)","v":12},{"$f":"YEAR(AS39)","v":2018},"PROMO",null,null,null,"2017-12-01",0,"2018-12-01",0]
[null,"2016-02-04",38130,2,29,1314.8275862068965,{"$f":"G39","v":0.18340000000000001},0.15196000000000001,241.13937931034482,199.80120000000002,41.338179310344799,{"$f":"L39","v":"2016-01-01"},"2016-09-30",38130,38130,{"$f":"P39","v":"2016-10-01"},"2016-12-31",39160,0,{"$f":"T39","v":"2017-01-01"},"2017-03-31",39160,0,{"$f":"X39","v":"2017-10-01"},"2017-03-31",39160,0,"2017-12-01","2017-03-31",39160,0,"2018-12-02","2017-02-28",39160,0,{"$f":"AJ39","v":"2016-04-01"},"2016-04-30",0,1,0,{"$f":"IF('DA 1.2'!B84=2,0,IF(AN40=1,I40-J40,0))","v":0},null,4.1340000000000003,41.338200000000001,{"$f":"AS39-1","v":"2018-12-01"},{"$f":"IF('DA 1.2'!F17=1,VLOOKUP(AS40,'DA 1.3'!B6:C767,2),0)","v":0},{"$f":"DATE(AW39,AV39,AU39)","v":"2018-12-01"},null,null,null,null,null,null,"2017-12-01",0,"2018-12-01",0]
[null,"2016-02-05",38130,2,29,1314.8275862068965,0.18340000000000001,0.15196000000000001,241.13937931034482,199.80120000000002,41.338179310344799,"2016-01-01","2016-09-30",38130,38130,"2016-10-01","2016-12-31",39160,0,"2017-01-01","2017-03-31",39160,0,"2017-10-01","2017-03-31",39160,0,"2017-12-01","2017-03-31",39160,0,"2018-12-02","2017-02-28",39160,0,"2016-04-01","2016-04-30",0,1,0,{"$f":"IF('DA 1.2'!B85=2,0,IF(AN41=1,I41-J41,0))","v":0},null,4.1340000000000003,41.338200000000001,"PER MONTH",{"$f":"AT39-AT40","v":0},null,null,null,null,null,null,null,"2017-12-01",0,"2018-12-01",0]
[null,"2016-02-06",38130,2,29,1314.8275862068965,0.18340000000000001,0.15196000000000001,241.13937931034482,199.80120000000002,41.338179310344799,"2016-01-01","2016-09-30",38130,38130,"2016-10-01","2016-12-31",39160,0,"2017-01-01","2017-03-31",39160,0,"2017-10-01","2017-03-31",39160,0,"2017-12-01","2017-03-31",39160,0,"2018-12-02","2017-02-28",39160,0,"2016-04-01","2016-04-30",0,1,0,{"$f":"IF('DA 1.2'!B86=2,0,IF(AN42=1,I42-J42,0))","v":0},null,4.1340000000000003,41.338200000000001,{"$f":"VLOOKUP(AS39,B6:E767,4)","v":31},{"$f":"AS42-AU42+1","v":30},{"$f":"DAY(AS39)","v":2},null,null,null,null,null,null,"2017-12-01",0,"2018-12-01",0]
[null,"2016-02-07",38130,2,29,1314.8275862068965,0.18340000000000001,0.15196000000000001,241.13937931034482,199.80120000000002,41.338179310344799,"2016-01-01","2016-09-30",38130,38130,"2016-10-01","2016-12-31",39160,0,"2017-01-01","2017-03-31",39160,0,"2017-10-01","2017-03-31",39160,0,"2017-12-01","2017-03-31",39160,0,"2018-12-02","2017-02-28",39160,0,"2016-04-01","2016-04-30",0,1,0,{"$f":"IF('DA 1.2'!B87=2,0,IF(AN43=1,I43-J43,0))","v":0},null,4.1340000000000003,41.338200000000001,null,{"$f":"ROUND((AT41/AS42)*AT42,0)","v":0},{"$f":"AT43*G43","v":0},{"$f":"AT43*H43","v":0},{"$f":"ROUND(AU43-AV43,0)","v":0},null,null,null,null,"2017-12-01",0,"2018-12-01",0]
[null,"2016-02-08",38130,2,29,1314.8275862068965,0.18340000000000001,0.15196000000000001,241.13937931034482,199.80120000000002,41.338179310344799,"2016-01-01","2016-09-30",38130,38130,"2016-10-01","2016-12-31",39160,0,"2017-01-01","2017-03-31",39160,0,"2017-10-01","2017-03-31",39160,0,"2017-12-01","2017-03-31",39160,0,"2018-12-02","2017-02-28",39160,0,"2016-04-01","2016-04-30",0,1,0,{"$f":"IF('DA 1.2'!B88=2,0,IF(AN44=1,I44-J44,0))","v":0},null,4.1340000000000003,41.338200000000001,null,null,null,null,null,null,null,null,null,"2017-12-01",0,"2018-12-01",0]
[null,"2016-02-09",38130,2,29,1314.8275862068965,0.18340000000000001,0.15196000000000001,241.13937931034482,199.80120000000002,41.338179310344799,"2016-01-01","2016-09-30",38130,38130,"2016-10-01","2016-12-31",39160,0,"2017-01-01","2017-03-31",39160,0,"2017-10-01","2017-03-31",39160,0,"2017-12-01","2017-03-31",39160,0,"2018-12-02","2017-02-28",39160,0,"2016-04-01","2016-04-30",0,1,0,{"$f":"IF('DA 1.2'!B89=2,0,IF(AN45=1,I45-J45,0))","v":0},null,4.1340000000000003,41.338200000000001,null,"AAS",{"$f":"AT33","v":0},{"$f":"ROUND(AU45*G37,0)","v":0},{"$f":"ROUND((AU45*H37),0)","v":0},{"$f":"AV45-AW45","v":0},null,null,null,"2017-12-01",0,"2018-12-01",0]
[null,"2016-02-10",38130,2,29,1314.8275862068965,0.18340000000000001,0.15196000000000001,241.13937931034482,199.80120000000002,41.338179310344799,"2016-01-01","2016-09-30",38130,38130,"2016-10-01","2016-12-31",39160,0,"2017-01-01","2017-03-31",39160,0,"2017-10-01","2017-03-31",39160,0,"2017-12-01","2017-03-31",39160,0,"2018-12-02","2017-02-28",39160,0,"2016-04-01","2016-04-30",0,1,0,{"$f":"IF('DA 1.2'!B90=2,0,IF(AN46=1,I46-J46,0))","v":0},null,4.1340000000000003,41.338200000000001,null,null,{"$f":"AT34","v":0},{"$f":"ROUND(AU46*G38,0)","v":0},{"$f":"ROUND((AU46*H38),0)","v":0},{"$f":"AV46-AW46","v":0},null,null,null,"2017-12-01",0,"2018-12-01",0]
[null,"2016-02-11",38130,2,29,1314.8275862068965,0.18340000000000001,0.15196000000000001,241.13937931034482,199.80120000000002,41.338179310344799,"2016-01-01","2016-09-30",38130,38130,"2016-10-01","2016-12-31",39160,0,"2017-01-01","2017-03-31",39160,0,"2017-10-01","2017-03-31",39160,0,"2017-12-01","2017-03-31",39160,0,"2018-12-02","2017-02-28",39160,0,"2016-04-01","2016-04-30",0,1,0,{"$f":"IF('DA 1.2'!B91=2,0,IF(AN47=1,I47-J47,0))","v":0},null,4.1340000000000003,41.338200000000001,null,null,null,null,null,{"$f":"AX45-AX46","v":0},null,null,null,"2017-12-01",0,"2018-12-01",0]
[null,"2016-02-12",38130,2,29,1314.8275862068965,0.18340000000000001,0.15196000000000001,241.13937931034482,199.80120000000002,41.338179310344799,"2016-01-01","2016-09-30",38130,38130,"2016-10-01","2016-12-31",39160,0,"2017-01-01","2017-03-31",39160,0,"2017-10-01","2017-03-31",39160,0,"2017-12-01","2017-03-31",39160,0,"2018-12-02","2017-02-28",39160,0,"2016-04-01","2016-04-30",0,1,0,{"$f":"IF('DA 1.2'!B92=2,0,IF(AN48=1,I48-J48,0))","v":0},null,4.1340000000000003,41.338200000000001,null,null,null,null,null,{"$f":"ROUND((AX47/AS36)*AT36,0)","v":0},null,null,null,"2017-12-01",0,"2018-12-01",0]
[null,"2016-02-13",38130,2,29,1314.8275862068965,0.18340000000000001,0.15196000000000001,241.13937931034482,199.80120000000002,41.338179310344799,"2016-01-01","2016-09-30",38130,38130,"2016-10-01","2016-12-31",39160,0,"2017-01-01","2017-03-31",39160,0,"2017-10-01","2017-03-31",39160,0,"2017-12-01","2017-03-31",39160,0,"2018-12-02","2017-02-28",39160,0,"2016-04-01","2016-04-30",0,1,0,{"$f":"IF('DA 1.2'!B93=2,0,IF(AN49=1,I49-J49,0))","v":0},null,4.1340000000000003,41.338200000000001,null,null,null,null,null,null,null,null,null,"2017-12-01",0,"2018-12-01",0]
[null,"2016-02-14",38130,2,29,1314.8275862068965,0.18340000000000001,0.15196000000000001,241.13937931034482,199.80120000000002,41.338179310344799,"2016-01-01","2016-09-30",38130,38130,"2016-10-01","2016-12-31",39160,0,"2017-01-01","2017-03-31",39160,0,"2017-10-01","2017-03-31",39160,0,"2017-12-01","2017-03-31",39160,0,"2018-12-02","2017-02-28",39160,0,"2016-04-01","2016-04-30",0,1,0,{"$f":"IF('DA 1.2'!B94=2,0,IF(AN50=1,I50-J50,0))","v":0},null,4.1340000000000003,41.338200000000001,null,null,null,null,null,null,null,null,null,"2017-12-01",0,"2018-12-01",0]
[null,"2016-02-15",38130,2,29,1314.8275862068965,0.18340000000000001,0.15196000000000001,241.13937931034482,199.80120000000002,41.338179310344799,"2016-01-01","2016-09-30",38130,38130,"2016-10-01","2016-12-31",39160,0,"2017-01-01","2017-03-31",39160,0,"2017-10-01","2017-03-31",39160,0,"2017-12-01","2017-03-31",39160,0,"2018-12-02","2017-02-28",39160,0,"2016-04-01","2016-04-30",0,1,0,{"$f":"IF('DA 1.2'!B95=2,0,IF(AN51=1,I51-J51,0))","v":0},null,4.1340000000000003,41.338200000000001,null,null,null,null,null,null,null,null,null,"2017-12-01",0,"2018-12-01",0]
[null,"2016-02-16",38130,2,29,1314.8275862068965,0.18340000000000001,0.15196000000000001,241.13937931034482,199.80120000000002,41.338179310344799,"2016-01-01","2016-09-30",38130,38130,"2016-10-01","2016-12-31",39160,0,"2017-01-01","2017-03-31",39160,0,"2017-10-01","2017-03-31",39160,0,"2017-12-01","2017-03-31",39160,0,"2018-12-02","2017-02-28",39160,0,"2016-04-01","2016-04-30",0,1,0,{"$f":"IF('DA 1.2'!B96=2,0,IF(AN52=1,I52-J52,0))","v":0},null,4.1340000000000003,41.338200000000001,null,null,null,null,null,null,null,null,null,"2017-12-01",0,"2018-12-01",0]
[null,"2016-02-17",38130,2,29,1314.8275862068965,0.18340000000000001,0.15196000000000001,241.13937931034482,199.80120000000002,41.338179310344799,"2016-01-01","2016-09-30",38130,38130,"2016-10-01","2016-12-31",39160,0,"2017-01-01","2017-03-31",39160,0,"2017-10-01","2017-03-31",39160,0,"2017-12-01","2017-03-31",39160,0,"2018-12-02","2017-02-28",39160,0,"2016-04-01","2016-04-30",0,1,0,{"$f":"IF('DA 1.2'!B97=2,0,IF(AN53=1,I53-J53,0))","v":0},null,4.1340000000000003,41.338200000000001,null,null,null,null,null,null,null,null,null,"2017-12-01",0,"2018-12-01",0]
[null,"2016-02-18",38130,2,29,1314.8275862068965,0.18340000000000001,0.15196000000000001,241.13937931034482,199.80120000000002,41.338179310344799,"2016-01-01","2016-09-30",38130,38130,"2016-10-01","2016-12-31",39160,0,"2017-01-01","2017-03-31",39160,0,"2017-10-01","2017-03-31",39160,0,"2017-12-01","2017-03-31",39160,0,"2018-12-02","2017-02-28",39160,0,"2016-04-01","2016-04-30",0,1,0,{"$f":"IF('DA 1.2'!B98=2,0,IF(AN54=1,I54-J54,0))","v":0},null,4.1340000000000003,41.338200000000001,null,null,null,null,null,null,null,null,null,"2017-12-01",0,"2018-12-01",0]
[null,"2016-02-19",38130,2,29,1314.8275862068965,0.18340000000000001,0.15196000000000001,241.13937931034482,199.80120000000002,41.338179310344799,"2016-01-01","2016-09-30",38130,38130,"2016-10-01","2016-12-31",39160,0,"2017-01-01","2017-03-31",39160,0,"2017-10-01","2017-03-31",39160,0,"2017-12-01","2017-03-31",39160,0,"2018-12-02","2017-02-28",39160,0,"2016-04-01","2016-04-30",0,1,0,{"$f":"IF('DA 1.2'!B99=2,0,IF(AN55=1,I55-J55,0))","v":0},null,4.1340000000000003,41.338200000000001,null,null,null,null,null,null,null,null,null,"2017-12-01",0,"2018-12-01",0]
[null,"2016-02-20",38130,2,29,1314.8275862068965,{"$f":"G55","v":0.18340000000000001},0.15196000000000001,241.13937931034482,199.80120000000002,41.338179310344799,{"$f":"L55","v":"2016-01-01"},"2016-09-30",38130,38130,{"$f":"P55","v":"2016-10-01"},"2016-12-31",39160,0,{"$f":"T55","v":"2017-01-01"},"2017-03-31",39160,0,{"$f":"X55","v":"2017-10-01"},"2017-03-31",39160,0,"2017-12-01","2017-03-31",39160,0,"2018-12-02","2017-02-28",39160,0,{"$f":"AJ55","v":"2016-04-01"},"2016-04-30",0,1,0,{"$f":"IF('DA 1.2'!B100=2,0,IF(AN56=1,I56-J56,0))","v":0},null,4.1340000000000003,41.338200000000001,null,null,null,null,null,null,null,null,null,"2017-12-01",0,"2018-12-01",0]
[null,"2016-02-21",38130,2,29,1314.8275862068965,0.18340000000000001,0.15196000000000001,241.13937931034482,199.80120000000002,41.338179310344799,"2016-01-01","2016-09-30",38130,38130,"2016-10-01","2016-12-31",39160,0,"2017-01-01","2017-03-31",39160,0,"2017-10-01","2017-03-31",39160,0,"2017-12-01","2017-03-31",39160,0,"2018-12-02","2017-02-28",39160,0,"2016-04-01","2016-04-30",0,1,0,{"$f":"IF('DA 1.2'!B101=2,0,IF(AN57=1,I57-J57,0))","v":0},null,4.1340000000000003,41.338200000000001,null,null,null,null,null,null,null,null,null,"2017-12-01",0,"2018-12-01",0]
[null,"2016-02-22",38130,2,29,1314.8275862068965,0.18340000000000001,0.15196000000000001,241.13937931034482,199.80120000000002,41.338179310344799,"2016-01-01","2016-09-30",38130,38130,"2016-10-01","2016-12-31",39160,0,"2017-01-01","2017-03-31",39160,0,"2017-10-01","2017-03-31",39160,0,"2017-12-01","2017-03-31",39160,0,"2018-12-02","2017-02-28",39160,0,"2016-04-01","2016-04-30",0,1,0,{"$f":"IF('DA 1.2'!B102=2,0,IF(AN58=1,I58-J58,0))","v":0},null,4.1340000000000003,41.338200000000001,null,null,null,null,null,null,null,null,null,"2017-12-01",0,"2018-12-01",0]
[null,"2016-02-23",38130,2,29,1314.8275862068965,0.18340000000000001,0.15196000000000001,241.13937931034482,199.80120000000002,41.338179310344799,"2016-01-01","2016-09-30",38130,38130,"2016-10-01","2016-12-31",39160,0,"2017-01-01","2017-03-31",39160,0,"2017-10-01","2017-03-31",39160,0,"2017-12-01","2017-03-31",39160,0,"2018-12-02","2017-02-28",39160,0,"2016-04-01","2016-04-30",0,1,0,{"$f":"IF('DA 1.2'!B103=2,0,IF(AN59=1,I59-J59,0))","v":0},null,4.1340000000000003,41.338200000000001]
[null,"2016-02-24",38130,2,29,1314.8275862068965,0.18340000000000001,0.15196000000000001,241.13937931034482,199.80120000000002,41.338179310344799,"2016-01-01","2016-09-30",38130,38130,"2016-10-01","2016-12-31",39160,0,"2017-01-01","2017-03-31",39160,0,"2017-10-01","2017-03-31",39160,0,"2017-12-01","2017-03-31",39160,0,"2018-12-02","2017-02-28",39160,0,"2016-04-01","2016-04-30",0,1,0,{"$f":"IF('DA 1.2'!B104=2,0,IF(AN60=1,I60-J60,0))","v":0},null,4.1340000000000003,41.338200000000001]
[null,"2016-02-25",38130,2,29,1314.8275862068965,0.18340000000000001,0.15196000000000001,241.13937931034482,199.80120000000002,41.338179310344799,"2016-01-01","2016-09-30",38130,38130,"2016-10-01","2016-12-31",39160,0,"2017-01-01","2017-03-31",39160,0,"2017-10-01","2017-03-31",39160,0,"2017-12-01","2017-03-31",39160,0,"2018-12-02","2017-02-28",39160,0,"2016-04-01","2016-04-30",0,1,0,{"$f":"IF('DA 1.2'!B105=2,0,IF(AN61=1,I61-J61,0))","v":0},null,4.1340000000000003,41.338200000000001]
[null,"2016-02-26",38130,2,29,1314.8275862068965,0.18340000000000001,0.15196000000000001,241.13937931034482,199.80120000000002,41.338179310344799,"2016-01-01","2016-09-30",38130,38130,"2016-10-01","2016-12-31",39160,0,"2017-01-01","2017-03-31",39160,0,"2017-10-01","2017-03-31",39160,0,"2017-12-01","2017-03-31",39160,0,"2018-12-02","2017-02-28",39160,0,"2016-04-01","2016-04-30",0,1,0,{"$f":"IF('DA 1.2'!B106=2,0,IF(AN62=1,I62-J62,0))","v":0},null,4.1340000000000003,41.338200000000001]
[null,"2016-02-27",38130,2,29,1314.8275862068965,0.18340000000000001,0.15196000000000001,241.13937931034482,199.80120000000002,41.338179310344799,"2016-01-01","2016-09-30",38130,38130,"2016-10-01","2016-12-31",39160,0,"2017-01-01","2017-03-31",39160,0,"2017-10-01","2017-03-31",39160,0,"2017-12-01","2017-03-31",39160,0,"2018-12-02","2017-02-28",39160,0,"2016-04-01","2016-04-30",0,1,0,{"$f":"IF('DA 1.2'!B107=2,0,IF(AN63=1,I63-J63,0))","v":0},null,4.1340000000000003,41.338200000000001]
[null,"2016-02-28",38130,2,29,1314.8275862068965,0.18340000000000001,0.15196000000000001,241.13937931034482,199.80120000000002,41.338179310344799,"2016-01-01","2016-09-30",38130,38130,"2016-10-01","2016-12-31",39160,0,"2017-01-01","2017-03-31",39160,0,"2017-10-01","2017-03-31",39160,0,"2017-12-01","2017-03-31",39160,0,"2018-12-02","2017-02-28",39160,0,"2016-04-01","2016-04-30",0,1,0,{"$f":"IF('DA 1.2'!B108=2,0,IF(AN64=1,I64-J64,0))","v":0},null,4.1340000000000003,41.338200000000001]
[null,"2016-02-29",38130,2,29,1314.8275862068965,0.18340000000000001,0.15196000000000001,241.13937931034482,199.80120000000002,41.338179310344799,"2016-01-01","2016-09-30",38130,38130,"2016-10-01","2016-12-31",39160,0,"2017-01-01","2017-03-31",39160,0,"2017-10-01","2017-03-31",39160,0,"2017-12-01","2017-03-31",39160,0,"2018-12-02","2017-02-28",39160,0,"2016-04-01","2016-04-30",0,1,0,{"$f":"IF('DA 1.2'!B109=2,0,IF(AN65=1,I65-J65,0))","v":0},null,4.1340000000000003,41.338200000000001]
[null,"2016-03-01",38130,3,31,1230,0.18340000000000001,0.15196000000000001,225.58200000000002,186.91080000000002,38.671199999999999,"2016-01-01","2016-09-30",38130,38130,"2016-10-01","2016-12-31",39160,0,"2017-01-01","2017-03-31",39160,0,"2017-10-01","2017-03-31",39160,0,"2017-12-01","2017-03-31",39160,0,"2018-12-02","2017-02-28",39160,0,"2016-04-01","2016-04-30",0,1,0,{"$f":"IF('DA 1.2'!B110=2,0,IF(AN66=1,I66-J66,0))","v":0},null,3.867,38.671199999999999]
[null,"2016-03-02",38130,3,31,1230,0.18340000000000001,0.15196000000000001,225.58200000000002,186.91080000000002,38.671199999999999,"2016-01-01","2016-09-30",38130,38130,"2016-10-01","2016-12-31",39160,0,"2017-01-01","2017-03-31",39160,0,"2017-10-01","2017-03-31",39160,0,"2017-12-01","2017-03-31",39160,0,"2018-12-02","2017-02-28",39160,0,"2016-04-01","2016-04-30",0,1,0,{"$f":"IF('DA 1.2'!B111=2,0,IF(AN67=1,I67-J67,0))","v":0},null,3.867,38.671199999999999]
[null,"2016-03-03",38130,3,31,1230,0.18340000000000001,0.15196000000000001,225.58200000000002,186.91080000000002,38.671199999999999,"2016-01-01","2016-09-30",38130,38130,"2016-10-01","2016-12-31",39160,0,"2017-01-01","2017-03-31",39160,0,"2017-10-01","2017-03-31",39160,0,"2017-12-01","2017-03-31",39160,0,"2018-12-02","2017-02-28",39160,0,"2016-04-01","2016-04-30",0,1,0,{"$f":"IF('DA 1.2'!B112=2,0,IF(AN68=1,I68-J68,0))","v":0},null,3.867,38.671199999999999]
[null,"2016-03-04",38130,3,31,1230,0.18340000000000001,0.15196000000000001,225.58200000000002,186.91080000000002,38.671199999999999,"2016-01-01","2016-09-30",38130,38130,"2016-10-01","2016-12-31",39160,0,"2017-01-01","2017-03-31",39160,0,"2017-10-01","2017-03-31",39160,0,"2017-12-01","2017-03-31",39160,0,"2018-12-02","2017-02-28",39160,0,"2016-04-01","2016-04-30",0,1,0,{"$f":"IF('DA 1.2'!B113=2,0,IF(AN69=1,I69-J69,0))","v":0},null,3.867,38.671199999999999]
[null,"2016-03-05",38130,3,31,{"$f":"C70/E70","v":1230},0.18340000000000001,0.15196000000000001,{"$f":"F70*G70","v":225.58200000000002},{"$f":"F70*H70","v":186.91080000000002},38.671199999999999,"2016-01-01","2016-09-30",38130,38130,"2016-10-01","2016-12-31",39160,0,"2017-01-01","2017-03-31",39160,0,"2017-10-01","2017-03-31",39160,0,"2017-12-01","2017-03-31",39160,0,"2018-12-02","2017-02-28",39160,0,"2016-04-01","2016-04-30",0,1,0,{"$f":"IF('DA 1.2'!B114=2,0,IF(AN70=1,I70-J70,0))","v":0},null,3.867,38.671199999999999]
[null,"2016-03-06",{"$f":"O71+S71+W71+AA71+AE71+AI71","v":38130},{"$f":"MONTH(B71)","v":3},{"$f":"IF(D71=1,31,IF(D71=2,28,IF(D71=3,31,IF(D71=5,31,IF(D71=7,31,IF(D71=8,31,IF(D71=10,31,IF(D71=12,31,30))))))))","v":31},1230,0.18340000000000001,0.15196000000000001,225.58200000000002,186.91080000000002,{"$f":"I71-J71","v":38.671199999999999},"2016-01-01","2016-09-30",38130,{"$f":"IF(M71>=B71,N71,0)","v":38130},"2016-10-01","2016-12-31",39160,{"$f":"IF(O71>0,0,IF(Q71>=B71,R71,0))","v":0},"2017-01-01","2017-03-31",39160,{"$f":"IF(T71>U71,0,IF(O71>0,0,IF(S71>0,0,IF(U71>=B71,V71,0))))","v":0},"2017-10-01","2017-03-31",39160,{"$f":"IF(X71>=Y71,0,IF(O71>0,0,IF(S71>0,0,IF(W71>0,0,IF(Y71>=B71,Z71,0)))))","v":0},"2017-12-01","2017-03-31",39160,{"$f":"IF(O71>0,0,IF(AB71>=AC71,0,IF(S71>0,0,IF(W71>0,0,IF(AA71>0,0,IF(AC71>=B71,AD71,0))))))","v":0},"2018-12-02","2017-02-28",39160,{"$f":"IF(O71>0,0,IF(S71>0,0,IF(AF71>=AG71,0,IF(W71>0,0,IF(AA71>0,0,IF(AE71>0,0,IF(AG71>=B71,AH71,0)))))))","v":0},"2016-04-01","2016-04-30",{"$f":"IF(B71>=AJ71,1,0)","v":0},{"$f":"IF(B71<=AK71,1,0)","v":1},{"$f":"IF(SUM(AL71:AM71)=2,1,0)","v":0},{"$f":"IF('DA 1.2'!B115=2,0,IF(AN71=1,I71-J71,0))","v":0},null,{"$f":"ROUND(K71*10%,3)","v":3.867},{"$f":"ROUND(K71,4)","v":38.671199999999999}]
[null,"2016-03-07",38130,3,31,1230,{"$f":"G71","v":0.18340000000000001},0.15196000000000001,225.58200000000002,186.91080000000002,38.671199999999999,{"$f":"L71","v":"2016-01-01"},"2016-09-30",38130,38130,{"$f":"P71","v":"2016-10-01"},"2016-12-31",39160,0,{"$f":"T71","v":"2017-01-01"},"2017-03-31",39160,0,{"$f":"X71","v":"2017-10-01"},"2017-03-31",39160,0,{"$f":"AB71","v":"2017-12-01"},{"$f":"AC71","v":"2017-03-31"},{"$f":"AD71","v":39160},0,{"$f":"AF71","v":"2018-12-02"},{"$f":"AG71","v":"2017-02-28"},{"$f":"AH71","v":39160},0,{"$f":"AJ71","v":"2016-04-01"},"2016-04-30",0,1,0,{"$f":"IF('DA 1.2'!B116=2,0,IF(AN72=1,I72-J72,0))","v":0},null,3.867,38.671199999999999]
[null,"2016-03-08",38130,3,31,1230,0.18340000000000001,0.15196000000000001,225.58200000000002,186.91080000000002,38.671199999999999,"2016-01-01","2016-09-30",38130,38130,"2016-10-01","2016-12-31",39160,0,"2017-01-01","2017-03-31",39160,0,"2017-10-01","2017-03-31",39160,0,"2017-12-01","2017-03-31",39160,0,"2018-12-02","2017-02-28",39160,0,"2016-04-01","2016-04-30",0,1,0,{"$f":"IF('DA 1.2'!B117=2,0,IF(AN73=1,I73-J73,0))","v":0},null,3.867,38.671199999999999]
[null,"2016-03-09",38130,3,31,1230,0.18340000000000001,0.15196000000000001,225.58200000000002,186.91080000000002,38.671199999999999,"2016-01-01","2016-09-30",38130,38130,"2016-10-01","2016-12-31",39160,0,"2017-01-01","2017-03-31",39160,0,"2017-10-01","2017-03-31",39160,0,"2017-12-01","2017-03-31",39160,0,"2018-12-02","2017-02-28",39160,0,"2016-04-01","2016-04-30",0,1,0,{"$f":"IF('DA 1.2'!B118=2,0,IF(AN74=1,I74-J74,0))","v":0},null,3.867,38.671199999999999]
[null,"2016-03-10",38130,3,31,1230,0.18340000000000001,0.15196000000000001,225.58200000000002,186.91080000000002,38.671199999999999,"2016-01-01","2016-09-30",38130,38130,"2016-10-01","2016-12-31",39160,0,"2017-01-01","2017-03-31",39160,0,"2017-10-01","2017-03-31",39160,0,"2017-12-01","2017-03-31",39160,0,"2018-12-02","2017-02-28",39160,0,"2016-04-01","2016-04-30",0,1,0,{"$f":"IF('DA 1.2'!B119=2,0,IF(AN75=1,I75-J75,0))","v":0},null,3.867,38.671199999999999]
[null,"2016-03-11",38130,3,31,1230,0.18340000000000001,0.15196000000000001,225.58200000000002,186.91080000000002,38.671199999999999,"2016-01-01","2016-09-30",38130,38130,"2016-10-01","2016-12-31",39160,0,"2017-01-01","2017-03-31",39160,0,"2017-10-01","2017-03-31",39160,0,"2017-12-01","2017-03-31",39160,0,"2018-12-02","2017-02-28",39160,0,"2016-04-01","2016-04-30",0,1,0,{"$f":"IF('DA 1.2'!B120=2,0,IF(AN76=1,I76-J76,0))","v":0},null,3.867,38.671199999999999]
[null,"2016-03-12",38130,3,31,1230,0.18340000000000001,0.15196000000000001,225.58200000000002,186.91080000000002,38.671199999999999,"2016-01-01","2016-09-30",38130,38130,"2016-10-01","2016-12-31",39160,0,"2017-01-01","2017-03-31",39160,0,"2017-10-01","2017-03-31",39160,0,"2017-12-01","2017-03-31",39160,0,"2018-12-02","2017-02-28",39160,0,"2016-04-01","2016-04-30",0,1,0,{"$f":"IF('DA 1.2'!B121=2,0,IF(AN77=1,I77-J77,0))","v":0},null,3.867,38.671199999999999]
[null,"2016-03-13",38130,3,31,1230,0.18340000000000001,0.15196000000000001,225.58200000000002,186.91080000000002,38.671199999999999,"2016-01-01","2016-09-30",38130,38130,"2016-10-01","2016-12-31",39160,0,"2017-01-01","2017-03-31",39160,0,"2017-10-01","2017-03-31",39160,0,"2017-12-01","2017-03-31",39160,0,"2018-12-02","2017-02-28",39160,0,"2016-04-01","2016-04-30",0,1,0,{"$f":"IF('DA 1.2'!B122=2,0,IF(AN78=1,I78-J78,0))","v":0},null,3.867,38.671199999999999]
[null,"2016-03-14",38130,3,31,1230,0.18340000000000001,0.15196000000000001,225.58200000000002,186.91080000000002,38.671199999999999,"2016-01-01","2016-09-30",38130,38130,"2016-10-01","2016-12-31",39160,0,"2017-01-01","2017-03-31",39160,0,"2017-10-01","2017-03-31",39160,0,"2017-12-01","2017-03-31",39160,0,"2018-12-02","2017-02-28",39160,0,"2016-04-01","2016-04-30",0,1,0,{"$f":"IF('DA 1.2'!B123=2,0,IF(AN79=1,I79-J79,0))","v":0},null,3.867,38.671199999999999]
[null,"2016-03-15",38130,3,31,1230,0.18340000000000001,0.15196000000000001,225.58200000000002,186.91080000000002,38.671199999999999,"2016-01-01","2016-09-30",38130,38130,"2016-10-01","2016-12-31",39160,0,"2017-01-01","2017-03-31",39160,0,"2017-10-01","2017-03-31",39160,0,"2017-12-01","2017-03-31",39160,0,"2018-12-02","2017-02-28",39160,0,"2016-04-01","2016-04-30",0,1,0,{"$f":"IF('DA 1.2'!B124=2,0,IF(AN80=1,I80-J80,0))","v":0},null,3.867,38.671199999999999]
[null,"2016-03-16",38130,3,31,1230,0.18340000000000001,0.15196000000000001,225.58200000000002,186.91080000000002,38.671199999999999,"2016-01-01","2016-09-30",38130,38130,"2016-10-01","2016-12-31",39160,0,"2017-01-01","2017-03-31",39160,0,"2017-10-01","2017-03-31",39160,0,"2017-12-01","2017-03-31",39160,0,"2018-12-02","2017-02-28",39160,0,"2016-04-01","2016-04-30",0,1,0,{"$f":"IF('DA 1.2'!B125=2,0,IF(AN81=1,I81-J81,0))","v":0},null,3.867,38.671199999999999]
[null,"2016-03-17",38130,3,31,1230,0.18340000000000001,0.15196000000000001,225.58200000000002,186.91080000000002,38.671199999999999,"2016-01-01","2016-09-30",38130,38130,"2016-10-01","2016-12-31",39160,0,"2017-01-01","2017-03-31",39160,0,"2017-10-01","2017-03-31",39160,0,"2017-12-01","2017-03-31",39160,0,"2018-12-02","2017-02-28",39160,0,"2016-04-01","2016-04-30",0,1,0,{"$f":"IF('DA 1.2'!B126=2,0,IF(AN82=1,I82-J82,0))","v":0},null,3.867,38.671199999999999]
[null,"2016-03-18",38130,3,31,1230,0.18340000000000001,0.15196000000000001,225.58200000000002,186.91080000000002,38.671199999999999,"2016-01-01","2016-09-30",38130,38130,"2016-10-01","2016-12-31",39160,0,"2017-01-01","2017-03-31",39160,0,"2017-10-01","2017-03-31",39160,0,"2017-12-01","2017-03-31",39160,0,"2018-12-02","2017-02-28",39160,0,"2016-04-01","2016-04-30",0,1,0,{"$f":"IF('DA 1.2'!B127=2,0,IF(AN83=1,I83-J83,0))","v":0},null,3.867,38.671199999999999]
[null,"2016-03-19",38130,3,31,1230,0.18340000000000001,0.15196000000000001,225.58200000000002,186.91080000000002,38.671199999999999,"2016-01-01","2016-09-30",38130,38130,"2016-10-01","2016-12-31",39160,0,"2017-01-01","2017-03-31",39160,0,"2017-10-01","2017-03-31",39160,0,"2017-12-01","2017-03-31",39160,0,"2018-12-02","2017-02-28",39160,0,"2016-04-01","2016-04-30",0,1,0,{"$f":"IF('DA 1.2'!B128=2,0,IF(AN84=1,I84-J84,0))","v":0},null,3.867,38.671199999999999]
[null,"2016-03-20",38130,3,31,1230,0.18340000000000001,0.15196000000000001,225.58200000000002,186.91080000000002,38.671199999999999,"2016-01-01","2016-09-30",38130,38130,"2016-10-01","2016-12-31",39160,0,"2017-01-01","2017-03-31",39160,0,"2017-10-01","2017-03-31",39160,0,"2017-12-01","2017-03-31",39160,0,"2018-12-02","2017-02-28",39160,0,"2016-04-01","2016-04-30",0,1,0,{"$f":"IF('DA 1.2'!B129=2,0,IF(AN85=1,I85-J85,0))","v":0},null,3.867,38.671199999999999]
[null,"2016-03-21",38130,3,31,1230,0.18340000000000001,0.15196000000000001,225.58200000000002,186.91080000000002,38.671199999999999,"2016-01-01","2016-09-30",38130,38130,"2016-10-01","2016-12-31",39160,0,"2017-01-01","2017-03-31",39160,0,"2017-10-01","2017-03-31",39160,0,"2017-12-01","2017-03-31",39160,0,"2018-12-02","2017-02-28",39160,0,"2016-04-01","2016-04-30",0,1,0,{"$f":"IF('DA 1.2'!B130=2,0,IF(AN86=1,I86-J86,0))","v":0},null,3.867,38.671199999999999]
[null,"2016-03-22",38130,3,31,1230,0.18340000000000001,0.15196000000000001,225.58200000000002,186.91080000000002,38.671199999999999,"2016-01-01","2016-09-30",38130,38130,"2016-10-01","2016-12-31",39160,0,"2017-01-01","2017-03-31",39160,0,"2017-10-01","2017-03-31",39160,0,"2017-12-01","2017-03-31",39160,0,"2018-12-02","2017-02-28",39160,0,"2016-04-01","2016-04-30",0,1,0,{"$f":"IF('DA 1.2'!B131=2,0,IF(AN87=1,I87-J87,0))","v":0},null,3.867,38.671199999999999]
[null,"2016-03-23",38130,3,31,1230,{"$f":"G87","v":0.18340000000000001},0.15196000000000001,225.58200000000002,186.91080000000002,38.671199999999999,{"$f":"L87","v":"2016-01-01"},"2016-09-30",38130,38130,{"$f":"P87","v":"2016-10-01"},"2016-12-31",39160,0,{"$f":"T87","v":"2017-01-01"},"2017-03-31",39160,0,{"$f":"X87","v":"2017-10-01"},"2017-03-31",39160,0,"2017-12-01","2017-03-31",39160,0,"2018-12-02","2017-02-28",39160,0,{"$f":"AJ87","v":"2016-04-01"},"2016-04-30",0,1,0,{"$f":"IF('DA 1.2'!B132=2,0,IF(AN88=1,I88-J88,0))","v":0},null,3.867,38.671199999999999]
[null,"2016-03-24",38130,3,31,1230,0.18340000000000001,0.15196000000000001,225.58200000000002,186.91080000000002,38.671199999999999,"2016-01-01","2016-09-30",38130,38130,"2016-10-01","2016-12-31",39160,0,"2017-01-01","2017-03-31",39160,0,"2017-10-01","2017-03-31",39160,0,"2017-12-01","2017-03-31",39160,0,"2018-12-02","2017-02-28",39160,0,"2016-04-01","2016-04-30",0,1,0,{"$f":"IF('DA 1.2'!B133=2,0,IF(AN89=1,I89-J89,0))","v":0},null,3.867,38.671199999999999]
[null,"2016-03-25",38130,3,31,1230,0.18340000000000001,0.15196000000000001,225.58200000000002,186.91080000000002,38.671199999999999,"2016-01-01","2016-09-30",38130,38130,"2016-10-01","2016-12-31",39160,0,"2017-01-01","2017-03-31",39160,0,"2017-10-01","2017-03-31",39160,0,"2017-12-01","2017-03-31",39160,0,"2018-12-02","2017-02-28",39160,0,"2016-04-01","2016-04-30",0,1,0,{"$f":"IF('DA 1.2'!B134=2,0,IF(AN90=1,I90-J90,0))","v":0},null,3.867,38.671199999999999]
[null,"2016-03-26",38130,3,31,1230,0.18340000000000001,0.15196000000000001,225.58200000000002,186.91080000000002,38.671199999999999,"2016-01-01","2016-09-30",38130,38130,"2016-10-01","2016-12-31",39160,0,"2017-01-01","2017-03-31",39160,0,"2017-10-01","2017-03-31",39160,0,"2017-12-01","2017-03-31",39160,0,"2018-12-02","2017-02-28",39160,0,"2016-04-01","2016-04-30",0,1,0,{"$f":"IF('DA 1.2'!B135=2,0,IF(AN91=1,I91-J91,0))","v":0},null,3.867,38.671199999999999]
[null,"2016-03-27",38130,3,31,1230,0.18340000000000001,0.15196000000000001,225.58200000000002,186.91080000000002,38.671199999999999,"2016-01-01","2016-09-30",38130,38130,"2016-10-01","2016-12-31",39160,0,"2017-01-01","2017-03-31",39160,0,"2017-10-01","2017-03-31",39160,0,"2017-12-01","2017-03-31",39160,0,"2018-12-02","2017-02-28",39160,0,"2016-04-01","2016-04-30",0,1,0,{"$f":"IF('DA 1.2'!B136=2,0,IF(AN92=1,I92-J92,0))","v":0},null,3.867,38.671199999999999]
[null,"2016-03-28",38130,3,31,1230,0.18340000000000001,0.15196000000000001,225.58200000000002,186.91080000000002,38.671199999999999,"2016-01-01","2016-09-30",38130,38130,"2016-10-01","2016-12-31",39160,0,"2017-01-01","2017-03-31",39160,0,"2017-10-01","2017-03-31",39160,0,"2017-12-01","2017-03-31",39160,0,"2018-12-02","2017-02-28",39160,0,"2016-04-01","2016-04-30",0,1,0,{"$f":"IF('DA 1.2'!B137=2,0,IF(AN93=1,I93-J93,0))","v":0},null,3.867,38.671199999999999]
[null,"2016-03-29",38130,3,31,1230,0.18340000000000001,0.15196000000000001,225.58200000000002,186.91080000000002,38.671199999999999,"2016-01-01","2016-09-30",38130,38130,"2016-10-01","2016-12-31",39160,0,"2017-01-01","2017-03-31",39160,0,"2017-10-01","2017-03-31",39160,0,"2017-12-01","2017-03-31",39160,0,"2018-12-02","2017-02-28",39160,0,"2016-04-01","2016-04-30",0,1,0,{"$f":"IF('DA 1.2'!B138=2,0,IF(AN94=1,I94-J94,0))","v":0},null,3.867,38.671199999999999]
[null,"2016-03-30",38130,3,31,1230,0.18340000000000001,0.15196000000000001,225.58200000000002,186.91080000000002,38.671199999999999,"2016-01-01","2016-09-30",38130,38130,"2016-10-01","2016-12-31",39160,0,"2017-01-01","2017-03-31",39160,0,"2017-10-01","2017-03-31",39160,0,"2017-12-01","2017-03-31",39160,0,"2018-12-02","2017-02-28",39160,0,"2016-04-01","2016-04-30",0,1,0,{"$f":"IF('DA 1.2'!B139=2,0,IF(AN95=1,I95-J95,0))","v":0},null,3.867,38.671199999999999]
[null,"2016-03-31",38130,3,31,{"$f":"C96/E96","v":1230},0.18340000000000001,0.15196000000000001,225.58200000000002,186.91080000000002,38.671199999999999,"2016-01-01","2016-09-30",38130,38130,"2016-10-01","2016-12-31",39160,0,"2017-01-01","2017-03-31",39160,0,"2017-10-01","2017-03-31",39160,0,"2017-12-01","2017-03-31",39160,0,"2018-12-02","2017-02-28",39160,0,"2016-04-01","2016-04-30",0,1,0,{"$f":"IF('DA 1.2'!B140=2,0,IF(AN96=1,I96-J96,0))","v":0},null,3.867,38.671199999999999]
[null,"2016-04-01",38130,4,30,1271,0.18340000000000001,0.15196000000000001,233.10140000000001,193.14116000000001,39.960239999999999,"2016-01-01","2016-09-30",38130,38130,"2016-10-01","2016-12-31",39160,0,"2017-01-01","2017-03-31",39160,0,"2017-10-01","2017-03-31",39160,0,"2017-12-01","2017-03-31",39160,0,"2018-12-02","2017-02-28",39160,0,"2016-04-01","2016-04-30",1,1,1,{"$f":"IF('DA 1.2'!B141=2,0,IF(AN97=1,I97-J97,0))","v":0},null,3.996,39.9602]
[null,"2016-04-02",38130,4,30,1271,0.18340000000000001,0.15196000000000001,233.10140000000001,193.14116000000001,39.960239999999999,"2016-01-01","2016-09-30",38130,38130,"2016-10-01","2016-12-31",39160,0,"2017-01-01","2017-03-31",39160,0,"2017-10-01","2017-03-31",39160,0,"2017-12-01","2017-03-31",39160,0,"2018-12-02","2017-02-28",39160,0,"2016-04-01","2016-04-30",1,1,1,{"$f":"IF('DA 1.2'!B142=2,0,IF(AN98=1,I98-J98,0))","v":0},null,3.996,39.9602]
[null,"2016-04-03",38130,4,30,1271,0.18340000000000001,0.15196000000000001,233.10140000000001,193.14116000000001,39.960239999999999,"2016-01-01","2016-09-30",38130,38130,"2016-10-01","2016-12-31",39160,0,"2017-01-01","2017-03-31",39160,0,"2017-10-01","2017-03-31",39160,0,"2017-12-01","2017-03-31",39160,0,"2018-12-02","2017-02-28",39160,0,"2016-04-01","2016-04-30",1,1,1,{"$f":"IF('DA 1.2'!B143=2,0,IF(AN99=1,I99-J99,0))","v":0},null,3.996,39.9602]
[null,"2016-04-04",38130,4,30,1271,0.18340000000000001,0.15196000000000001,233.10140000000001,193.14116000000001,39.960239999999999,"2016-01-01","2016-09-30",38130,38130,"2016-10-01","2016-12-31",39160,0,"2017-01-01","2017-03-31",39160,0,"2017-10-01","2017-03-31",39160,0,"2017-12-01","2017-03-31",39160,0,"2018-12-02","2017-02-28",39160,0,"2016-04-01","2016-04-30",1,1,1,{"$f":"IF('DA 1.2'!B144=2,0,IF(AN100=1,I100-J100,0))","v":0},null,3.996,39.9602]
[null,"2016-04-05",38130,4,30,1271,0.18340000000000001,0.15196000000000001,233.10140000000001,193.14116000000001,39.960239999999999,"2016-01-01","2016-09-30",38130,38130,"2016-10-01","2016-12-31",39160,0,"2017-01-01","2017-03-31",39160,0,"2017-10-01","2017-03-31",39160,0,"2017-12-01","2017-03-31",39160,0,"2018-12-02","2017-02-28",39160,0,"2016-04-01","2016-04-30",1,1,1,{"$f":"IF('DA 1.2'!B145=2,0,IF(AN101=1,I101-J101,0))","v":0},null,3.996,39.9602]
[null,"2016-04-06",38130,4,30,1271,0.18340000000000001,0.15196000000000001,233.10140000000001,193.14116000000001,39.960239999999999,"2016-01-01","2016-09-30",38130,38130,"2016-10-01","2016-12-31",39160,0,"2017-01-01","2017-03-31",39160,0,"2017-10-01","2017-03-31",39160,0,"2017-12-01","2017-03-31",39160,0,"2018-12-02","2017-02-28",39160,0,"2016-04-01","2016-04-30",1,1,1,{"$f":"IF('DA 1.2'!B146=2,0,IF(AN102=1,I102-J102,0))","v":0},null,3.996,39.9602]
[null,"2016-04-07",38130,4,30,1271,0.18340000000000001,0.15196000000000001,233.10140000000001,193.14116000000001,39.960239999999999,"2016-01-01","2016-09-30",38130,38130,"2016-10-01","2016-12-31",39160,0,"2017-01-01","2017-03-31",39160,0,"2017-10-01","2017-03-31",39160,0,"2017-12-01","2017-03-31",39160,0,"2018-12-02","2017-02-28",39160,0,"2016-04-01","2016-04-30",1,1,1,{"$f":"IF('DA 1.2'!B147=2,0,IF(AN103=1,I103-J103,0))","v":0},null,3.996,39.9602]
[null,"2016-04-08",38130,4,30,1271,{"$f":"G103","v":0.18340000000000001},0.15196000000000001,233.10140000000001,193.14116000000001,39.960239999999999,{"$f":"L103","v":"2016-01-01"},"2016-09-30",38130,38130,{"$f":"P103","v":"2016-10-01"},"2016-12-31",39160,0,{"$f":"T103","v":"2017-01-01"},"2017-03-31",39160,0,{"$f":"X103","v":"2017-10-01"},"2017-03-31",39160,0,"2017-12-01","2017-03-31",39160,0,"2018-12-02","2017-02-28",39160,0,{"$f":"AJ103","v":"2016-04-01"},"2016-04-30",1,1,1,{"$f":"IF('DA 1.2'!B148=2,0,IF(AN104=1,I104-J104,0))","v":0},null,3.996,39.9602]
[null,"2016-04-09",38130,4,30,1271,0.18340000000000001,0.15196000000000001,233.10140000000001,193.14116000000001,39.960239999999999,"2016-01-01","2016-09-30",38130,38130,"2016-10-01","2016-12-31",39160,0,"2017-01-01","2017-03-31",39160,0,"2017-10-01","2017-03-31",39160,0,"2017-12-01","2017-03-31",39160,0,"2018-12-02","2017-02-28",39160,0,"2016-04-01","2016-04-30",1,1,1,{"$f":"IF('DA 1.2'!B149=2,0,IF(AN105=1,I105-J105,0))","v":0},null,3.996,39.9602]
[null,"2016-04-10",38130,4,30,1271,0.18340000000000001,0.15196000000000001,233.10140000000001,193.14116000000001,39.960239999999999,"2016-01-01","2016-09-30",38130,38130,"2016-10-01","2016-12-31",39160,0,"2017-01-01","2017-03-31",39160,0,"2017-10-01","2017-03-31",39160,0,"2017-12-01","2017-03-31",39160,0,"2018-12-02","2017-02-28",39160,0,"2016-04-01","2016-04-30",1,1,1,{"$f":"IF('DA 1.2'!B150=2,0,IF(AN106=1,I106-J106,0))","v":0},null,3.996,39.9602]
[null,"2016-04-11",38130,4,30,1271,0.18340000000000001,0.15196000000000001,233.10140000000001,193.14116000000001,39.960239999999999,"2016-01-01","2016-09-30",38130,38130,"2016-10-01","2016-12-31",39160,0,"2017-01-01","2017-03-31",39160,0,"2017-10-01","2017-03-31",39160,0,"2017-12-01","2017-03-31",39160,0,"2018-12-02","2017-02-28",39160,0,"2016-04-01","2016-04-30",1,1,1,{"$f":"IF('DA 1.2'!B151=2,0,IF(AN107=1,I107-J107,0))","v":0},null,3.996,39.9602]
[null,"2016-04-12",38130,4,30,1271,0.18340000000000001,0.15196000000000001,233.10140000000001,193.14116000000001,39.960239999999999,"2016-01-01","2016-09-30",38130,38130,"2016-10-01","2016-12-31",39160,0,"2017-01-01","2017-03-31",39160,0,"2017-10-01","2017-03-31",39160,0,"2017-12-01","2017-03-31",39160,0,"2018-12-02","2017-02-28",39160,0,"2016-04-01","2016-04-30",1,1,1,{"$f":"IF('DA 1.2'!B152=2,0,IF(AN108=1,I108-J108,0))","v":0},null,3.996,39.9602]
[null,"2016-04-13",38130,4,30,1271,0.18340000000000001,0.15196000000000001,233.10140000000001,193.14116000000001,39.960239999999999,"2016-01-01","2016-09-30",38130,38130,"2016-10-01","2016-12-31",39160,0,"2017-01-01","2017-03-31",39160,0,"2017-10-01","2017-03-31",39160,0,"2017-12-01","2017-03-31",39160,0,"2018-12-02","2017-02-28",39160,0,"2016-04-01","2016-04-30",1,1,1,{"$f":"IF('DA 1.2'!B153=2,0,IF(AN109=1,I109-J109,0))","v":0},null,3.996,39.9602]
[null,"2016-04-14",38130,4,30,1271,0.18340000000000001,0.15196000000000001,233.10140000000001,193.14116000000001,39.960239999999999,"2016-01-01","2016-09-30",38130,38130,"2016-10-01","2016-12-31",39160,0,"2017-01-01","2017-03-31",39160,0,"2017-10-01","2017-03-31",39160,0,"2017-12-01","2017-03-31",39160,0,"2018-12-02","2017-02-28",39160,0,"2016-04-01","2016-04-30",1,1,1,{"$f":"IF('DA 1.2'!B154=2,0,IF(AN110=1,I110-J110,0))","v":0},null,3.996,39.9602]
[null,"2016-04-15",38130,4,30,1271,0.18340000000000001,0.15196000000000001,233.10140000000001,193.14116000000001,39.960239999999999,"2016-01-01","2016-09-30",38130,38130,"2016-10-01","2016-12-31",39160,0,"2017-01-01","2017-03-31",39160,0,"2017-10-01","2017-03-31",39160,0,"2017-12-01","2017-03-31",39160,0,"2018-12-02","2017-02-28",39160,0,"2016-04-01","2016-04-30",1,1,1,{"$f":"IF('DA 1.2'!B155=2,0,IF(AN111=1,I111-J111,0))","v":0},null,3.996,39.9602]
[null,"2016-04-16",38130,4,30,1271,0.18340000000000001,0.15196000000000001,233.10140000000001,193.14116000000001,39.960239999999999,"2016-01-01","2016-09-30",38130,38130,"2016-10-01","2016-12-31",39160,0,"2017-01-01","2017-03-31",39160,0,"2017-10-01","2017-03-31",39160,0,"2017-12-01","2017-03-31",39160,0,"2018-12-02","2017-02-28",39160,0,"2016-04-01","2016-04-30",1,1,1,{"$f":"IF('DA 1.2'!B156=2,0,IF(AN112=1,I112-J112,0))","v":0},null,3.996,39.9602]
[null,"2016-04-17",38130,4,30,1271,0.18340000000000001,0.15196000000000001,233.10140000000001,193.14116000000001,39.960239999999999,"2016-01-01","2016-09-30",38130,38130,"2016-10-01","2016-12-31",39160,0,"2017-01-01","2017-03-31",39160,0,"2017-10-01","2017-03-31",39160,0,"2017-12-01","2017-03-31",39160,0,"2018-12-02","2017-02-28",39160,0,"2016-04-01","2016-04-30",1,1,1,{"$f":"IF('DA 1.2'!B157=2,0,IF(AN113=1,I113-J113,0))","v":0},null,3.996,39.9602]
[null,"2016-04-18",38130,4,30,1271,0.18340000000000001,0.15196000000000001,233.10140000000001,193.14116000000001,39.960239999999999,"2016-01-01","2016-09-30",38130,38130,"2016-10-01","2016-12-31",39160,0,"2017-01-01","2017-03-31",39160,0,"2017-10-01","2017-03-31",39160,0,"2017-12-01","2017-03-31",39160,0,"2018-12-02","2017-02-28",39160,0,"2016-04-01","2016-04-30",1,1,1,{"$f":"IF('DA 1.2'!B158=2,0,IF(AN114=1,I114-J114,0))","v":0},null,3.996,39.9602]
[null,"2016-04-19",38130,4,30,1271,0.18340000000000001,0.15196000000000001,233.10140000000001,193.14116000000001,39.960239999999999,"2016-01-01","2016-09-30",38130,38130,"2016-10-01","2016-12-31",39160,0,"2017-01-01","2017-03-31",39160,0,"2017-10-01","2017-03-31",39160,0,"2017-12-01","2017-03-31",39160,0,"2018-12-02","2017-02-28",39160,0,"2016-04-01","2016-04-30",1,1,1,{"$f":"IF('DA 1.2'!B159=2,0,IF(AN115=1,I115-J115,0))","v":0},null,3.996,39.9602]
[null,"2016-04-20",38130,4,30,1271,0.18340000000000001,0.15196000000000001,233.10140000000001,193.14116000000001,39.960239999999999,"2016-01-01","2016-09-30",38130,38130,"2016-10-01","2016-12-31",39160,0,"2017-01-01","2017-03-31",39160,0,"2017-10-01","2017-03-31",39160,0,"2017-12-01","2017-03-31",39160,0,"2018-12-02","2017-02-28",39160,0,"2016-04-01","2016-04-30",1,1,1,{"$f":"IF('DA 1.2'!B160=2,0,IF(AN116=1,I116-J116,0))","v":0},null,3.996,39.9602]
[null,"2016-04-21",38130,4,30,1271,0.18340000000000001,0.15196000000000001,233.10140000000001,193.14116000000001,39.960239999999999,"2016-01-01","2016-09-30",38130,38130,"2016-10-01","2016-12-31",39160,0,"2017-01-01","2017-03-31",39160,0,"2017-10-01","2017-03-31",39160,0,"2017-12-01","2017-03-31",39160,0,"2018-12-02","2017-02-28",39160,0,"2016-04-01","2016-04-30",1,1,1,{"$f":"IF('DA 1.2'!B161=2,0,IF(AN117=1,I117-J117,0))","v":0},null,3.996,39.9602]
[null,"2016-04-22",38130,4,30,1271,0.18340000000000001,0.15196000000000001,233.10140000000001,193.14116000000001,39.960239999999999,"2016-01-01","2016-09-30",38130,38130,"2016-10-01","2016-12-31",39160,0,"2017-01-01","2017-03-31",39160,0,"2017-10-01","2017-03-31",39160,0,"2017-12-01","2017-03-31",39160,0,"2018-12-02","2017-02-28",39160,0,"2016-04-01","2016-04-30",1,1,1,{"$f":"IF('DA 1.2'!B162=2,0,IF(AN118=1,I118-J118,0))","v":0},null,3.996,39.9602]
[null,"2016-04-23",38130,4,30,1271,0.18340000000000001,0.15196000000000001,233.10140000000001,193.14116000000001,39.960239999999999,"2016-01-01","2016-09-30",38130,38130,"2016-10-01","2016-12-31",39160,0,"2017-01-01","2017-03-31",39160,0,"2017-10-01","2017-03-31",39160,0,"2017-12-01","2017-03-31",39160,0,"2018-12-02","2017-02-28",39160,0,"2016-04-01","2016-04-30",1,1,1,{"$f":"IF('DA 1.2'!B163=2,0,IF(AN119=1,I119-J119,0))","v":0},null,3.996,39.9602]
[null,"2016-04-24",38130,4,30,1271,{"$f":"G119","v":0.18340000000000001},0.15196000000000001,233.10140000000001,193.14116000000001,39.960239999999999,{"$f":"L119","v":"2016-01-01"},"2016-09-30",38130,38130,{"$f":"P119","v":"2016-10-01"},"2016-12-31",39160,0,{"$f":"T119","v":"2017-01-01"},"2017-03-31",39160,0,{"$f":"X119","v":"2017-10-01"},"2017-03-31",39160,0,"2017-12-01","2017-03-31",39160,0,"2018-12-02","2017-02-28",39160,0,{"$f":"AJ119","v":"2016-04-01"},"2016-04-30",1,1,1,{"$f":"IF('DA 1.2'!B164=2,0,IF(AN120=1,I120-J120,0))","v":0},null,3.996,39.9602]
[null,"2016-04-25",38130,4,30,1271,0.18340000000000001,0.15196000000000001,233.10140000000001,193.14116000000001,39.960239999999999,"2016-01-01","2016-09-30",38130,38130,"2016-10-01","2016-12-31",39160,0,"2017-01-01","2017-03-31",39160,0,"2017-10-01","2017-03-31",39160,0,"2017-12-01","2017-03-31",39160,0,"2018-12-02","2017-02-28",39160,0,"2016-04-01","2016-04-30",1,1,1,{"$f":"IF('DA 1.2'!B165=2,0,IF(AN121=1,I121-J121,0))","v":0},null,3.996,39.9602]
[null,"2016-04-26",38130,4,30,1271,0.18340000000000001,0.15196000000000001,233.10140000000001,193.14116000000001,39.960239999999999,"2016-01-01","2016-09-30",38130,38130,"2016-10-01","2016-12-31",39160,0,"2017-01-01","2017-03-31",39160,0,"2017-10-01","2017-03-31",39160,0,"2017-12-01","2017-03-31",39160,0,"2018-12-02","2017-02-28",39160,0,"2016-04-01","2016-04-30",1,1,1,{"$f":"IF('DA 1.2'!B166=2,0,IF(AN122=1,I122-J122,0))","v":0},null,3.996,39.9602]
[null,"2016-04-27",38130,4,30,1271,0.18340000000000001,0.15196000000000001,233.10140000000001,193.14116000000001,39.960239999999999,"2016-01-01","2016-09-30",38130,38130,"2016-10-01","2016-12-31",39160,0,"2017-01-01","2017-03-31",39160,0,"2017-10-01","2017-03-31",39160,0,"2017-12-01","2017-03-31",39160,0,"2018-12-02","2017-02-28",39160,0,"2016-04-01","2016-04-30",1,1,1,{"$f":"IF('DA 1.2'!B167=2,0,IF(AN123=1,I123-J123,0))","v":0},null,3.996,39.9602]
[null,"2016-04-28",38130,4,30,1271,0.18340000000000001,0.15196000000000001,233.10140000000001,193.14116000000001,39.960239999999999,"2016-01-01","2016-09-30",38130,38130,"2016-10-01","2016-12-31",39160,0,"2017-01-01","2017-03-31",39160,0,"2017-10-01","2017-03-31",39160,0,"2017-12-01","2017-03-31",39160,0,"2018-12-02","2017-02-28",39160,0,"2016-04-01","2016-04-30",1,1,1,{"$f":"IF('DA 1.2'!B168=2,0,IF(AN124=1,I124-J124,0))","v":0},null,3.996,39.9602]
[null,"2016-04-29",38130,4,30,1271,0.18340000000000001,0.15196000000000001,233.10140000000001,193.14116000000001,39.960239999999999,"2016-01-01","2016-09-30",38130,38130,"2016-10-01","2016-12-31",39160,0,"2017-01-01","2017-03-31",39160,0,"2017-10-01","2017-03-31",39160,0,"2017-12-01","2017-03-31",39160,0,"2018-12-02","2017-02-28",39160,0,"2016-04-01","2016-04-30",1,1,1,{"$f":"IF('DA 1.2'!B169=2,0,IF(AN125=1,I125-J125,0))","v":0},null,3.996,39.9602]
[null,"2016-04-30",38130,4,30,1271,0.18340000000000001,0.15196000000000001,233.10140000000001,193.14116000000001,39.960239999999999,"2016-01-01","2016-09-30",38130,38130,"2016-10-01","2016-12-31",39160,0,"2017-01-01","2017-03-31",39160,0,"2017-10-01","2017-03-31",39160,0,"2017-12-01","2017-03-31",39160,0,"2018-12-02","2017-02-28",39160,0,"2016-04-01","2016-04-30",1,1,1,{"$f":"IF('DA 1.2'!B170=2,0,IF(AN126=1,I126-J126,0))","v":0},null,3.996,39.9602]
[null,"2016-05-01",38130,5,31,1230,0.18340000000000001,0.15196000000000001,225.58200000000002,186.91080000000002,38.671199999999999,"2016-01-01","2016-09-30",38130,38130,"2016-10-01","2016-12-31",39160,0,"2017-01-01","2017-03-31",39160,0,"2017-10-01","2017-03-31",39160,0,"2017-12-01","2017-03-31",39160,0,"2018-12-02","2017-02-28",39160,0,"2016-04-01","2016-04-30",1,0,0,{"$f":"IF('DA 1.2'!B171=2,0,IF(AN127=1,I127-J127,0))","v":0},null,3.867,38.671199999999999]
[null,"2016-05-02",38130,5,31,1230,0.18340000000000001,0.15196000000000001,225.58200000000002,186.91080000000002,38.671199999999999,"2016-01-01","2016-09-30",38130,38130,"2016-10-01","2016-12-31",39160,0,"2017-01-01","2017-03-31",39160,0,"2017-10-01","2017-03-31",39160,0,"2017-12-01","2017-03-31",39160,0,"2018-12-02","2017-02-28",39160,0,"2016-04-01","2016-04-30",1,0,0,{"$f":"IF('DA 1.2'!B172=2,0,IF(AN128=1,I128-J128,0))","v":0},null,3.867,38.671199999999999]
[null,"2016-05-03",38130,5,31,1230,0.18340000000000001,0.15196000000000001,225.58200000000002,186.91080000000002,38.671199999999999,"2016-01-01","2016-09-30",38130,38130,"2016-10-01","2016-12-31",39160,0,"2017-01-01","2017-03-31",39160,0,"2017-10-01","2017-03-31",39160,0,"2017-12-01","2017-03-31",39160,0,"2018-12-02","2017-02-28",39160,0,"2016-04-01","2016-04-30",1,0,0,{"$f":"IF('DA 1.2'!B173=2,0,IF(AN129=1,I129-J129,0))","v":0},null,3.867,38.671199999999999]
[null,"2016-05-04",38130,5,31,1230,0.18340000000000001,0.15196000000000001,225.58200000000002,186.91080000000002,38.671199999999999,"2016-01-01","2016-09-30",38130,38130,"2016-10-01","2016-12-31",39160,0,"2017-01-01","2017-03-31",39160,0,"2017-10-01","2017-03-31",39160,0,"2017-12-01","2017-03-31",39160,0,"2018-12-02","2017-02-28",39160,0,"2016-04-01","2016-04-30",1,0,0,{"$f":"IF('DA 1.2'!B174=2,0,IF(AN130=1,I130-J130,0))","v":0},null,3.867,38.671199999999999]
[null,"2016-05-05",38130,5,31,1230,0.18340000000000001,0.15196000000000001,225.58200000000002,186.91080000000002,38.671199999999999,"2016-01-01","2016-09-30",38130,38130,"2016-10-01","2016-12-31",39160,0,"2017-01-01","2017-03-31",39160,0,"2017-10-01","2017-03-31",39160,0,"2017-12-01","2017-03-31",39160,0,"2018-12-02","2017-02-28",39160,0,"2016-04-01","2016-04-30",1,0,0,{"$f":"IF('DA 1.2'!B175=2,0,IF(AN131=1,I131-J131,0))","v":0},null,3.867,38.671199999999999]
[null,"2016-05-06",38130,5,31,1230,0.18340000000000001,0.15196000000000001,225.58200000000002,186.91080000000002,38.671199999999999,"2016-01-01","2016-09-30",38130,38130,"2016-10-01","2016-12-31",39160,0,"2017-01-01","2017-03-31",39160,0,"2017-10-01","2017-03-31",39160,0,"2017-12-01","2017-03-31",39160,0,"2018-12-02","2017-02-28",39160,0,"2016-04-01","2016-04-30",1,0,0,{"$f":"IF('DA 1.2'!B176=2,0,IF(AN132=1,I132-J132,0))","v":0},null,3.867,38.671199999999999]
[null,"2016-05-07",38130,5,31,1230,0.18340000000000001,0.15196000000000001,225.58200000000002,186.91080000000002,38.671199999999999,"2016-01-01","2016-09-30",38130,38130,"2016-10-01","2016-12-31",39160,0,"2017-01-01","2017-03-31",39160,0,"2017-10-01","2017-03-31",39160,0,"2017-12-01","2017-03-31",39160,0,"2018-12-02","2017-02-28",39160,0,"2016-04-01","2016-04-30",1,0,0,{"$f":"IF('DA 1.2'!B177=2,0,IF(AN133=1,I133-J133,0))","v":0},null,3.867,38.671199999999999]
[null,"2016-05-08",38130,5,31,{"$f":"C134/E134","v":1230},0.18340000000000001,0.15196000000000001,{"$f":"F134*G134","v":225.58200000000002},{"$f":"F134*H134","v":186.91080000000002},38.671199999999999,"2016-01-01","2016-09-30",38130,38130,"2016-10-01","2016-12-31",39160,0,"2017-01-01","2017-03-31",39160,0,"2017-10-01","2017-03-31",39160,0,"2017-12-01","2017-03-31",39160,0,"2018-12-02","2017-02-28",39160,0,"2016-04-01","2016-04-30",1,0,0,{"$f":"IF('DA 1.2'!B178=2,0,IF(AN134=1,I134-J134,0))","v":0},null,3.867,38.671199999999999]
[null,"2016-05-09",{"$f":"O135+S135+W135+AA135+AE135+AI135","v":38130},{"$f":"MONTH(B135)","v":5},{"$f":"IF(D135=1,31,IF(D135=2,28,IF(D135=3,31,IF(D135=5,31,IF(D135=7,31,IF(D135=8,31,IF(D135=10,31,IF(D135=12,31,30))))))))","v":31},1230,0.18340000000000001,0.15196000000000001,225.58200000000002,186.91080000000002,{"$f":"I135-J135","v":38.671199999999999},"2016-01-01","2016-09-30",38130,{"$f":"IF(M135>=B135,N135,0)","v":38130},"2016-10-01","2016-12-31",39160,{"$f":"IF(O135>0,0,IF(Q135>=B135,R135,0))","v":0},"2017-01-01","2017-03-31",39160,{"$f":"IF(T135>U135,0,IF(O135>0,0,IF(S135>0,0,IF(U135>=B135,V135,0))))","v":0},"2017-10-01","2017-03-31",39160,{"$f":"IF(X135>=Y135,0,IF(O135>0,0,IF(S135>0,0,IF(W135>0,0,IF(Y135>=B135,Z135,0)))))","v":0},"2017-12-01","2017-03-31",39160,{"$f":"IF(O135>0,0,IF(AB135>=AC135,0,IF(S135>0,0,IF(W135>0,0,IF(AA135>0,0,IF(AC135>=B135,AD135,0))))))","v":0},"2018-12-02","2017-02-28",39160,{"$f":"IF(O135>0,0,IF(S135>0,0,IF(AF135>=AG135,0,IF(W135>0,0,IF(AA135>0,0,IF(AE135>0,0,IF(AG135>=B135,AH135,0)))))))","v":0},"2016-04-01","2016-04-30",{"$f":"IF(B135>=AJ135,1,0)","v":1},{"$f":"IF(B135<=AK135,1,0)","v":0},{"$f":"IF(SUM(AL135:AM135)=2,1,0)","v":0},{"$f":"IF('DA 1.2'!B179=2,0,IF(AN135=1,I135-J135,0))","v":0},null,{"$f":"ROUND(K135*10%,3)","v":3.867},{"$f":"ROUND(K135,4)","v":38.671199999999999}]
[null,"2016-05-10",38130,5,31,1230,{"$f":"G135","v":0.18340000000000001},0.15196000000000001,225.58200000000002,186.91080000000002,38.671199999999999,{"$f":"L135","v":"2016-01-01"},"2016-09-30",38130,38130,{"$f":"P135","v":"2016-10-01"},"2016-12-31",39160,0,{"$f":"T135","v":"2017-01-01"},"2017-03-31",39160,0,{"$f":"X135","v":"2017-10-01"},"2017-03-31",39160,0,{"$f":"AB135","v":"2017-12-01"},{"$f":"AC135","v":"2017-03-31"},{"$f":"AD135","v":39160},0,{"$f":"AF135","v":"2018-12-02"},{"$f":"AG135","v":"2017-02-28"},{"$f":"AH135","v":39160},0,{"$f":"AJ135","v":"2016-04-01"},"2016-04-30",1,0,0,{"$f":"IF('DA 1.2'!B180=2,0,IF(AN136=1,I136-J136,0))","v":0},null,3.867,38.671199999999999]
[null,"2016-05-11",38130,5,31,1230,0.18340000000000001,0.15196000000000001,225.58200000000002,186.91080000000002,38.671199999999999,"2016-01-01","2016-09-30",38130,38130,"2016-10-01","2016-12-31",39160,0,"2017-01-01","2017-03-31",39160,0,"2017-10-01","2017-03-31",39160,0,"2017-12-01","2017-03-31",39160,0,"2018-12-02","2017-02-28",39160,0,"2016-04-01","2016-04-30",1,0,0,{"$f":"IF('DA 1.2'!B181=2,0,IF(AN137=1,I137-J137,0))","v":0},null,3.867,38.671199999999999]
[null,"2016-05-12",38130,5,31,1230,0.18340000000000001,0.15196000000000001,225.58200000000002,186.91080000000002,38.671199999999999,"2016-01-01","2016-09-30",38130,38130,"2016-10-01","2016-12-31",39160,0,"2017-01-01","2017-03-31",39160,0,"2017-10-01","2017-03-31",39160,0,"2017-12-01","2017-03-31",39160,0,"2018-12-02","2017-02-28",39160,0,"2016-04-01","2016-04-30",1,0,0,{"$f":"IF('DA 1.2'!B182=2,0,IF(AN138=1,I138-J138,0))","v":0},null,3.867,38.671199999999999]
[null,"2016-05-13",38130,5,31,1230,0.18340000000000001,0.15196000000000001,225.58200000000002,186.91080000000002,38.671199999999999,"2016-01-01","2016-09-30",38130,38130,"2016-10-01","2016-12-31",39160,0,"2017-01-01","2017-03-31",39160,0,"2017-10-01","2017-03-31",39160,0,"2017-12-01","2017-03-31",39160,0,"2018-12-02","2017-02-28",39160,0,"2016-04-01","2016-04-30",1,0,0,{"$f":"IF('DA 1.2'!B183=2,0,IF(AN139=1,I139-J139,0))","v":0},null,3.867,38.671199999999999]
[null,"2016-05-14",38130,5,31,1230,0.18340000000000001,0.15196000000000001,225.58200000000002,186.91080000000002,38.671199999999999,"2016-01-01","2016-09-30",38130,38130,"2016-10-01","2016-12-31",39160,0,"2017-01-01","2017-03-31",39160,0,"2017-10-01","2017-03-31",39160,0,"2017-12-01","2017-03-31",39160,0,"2018-12-02","2017-02-28",39160,0,"2016-04-01","2016-04-30",1,0,0,{"$f":"IF('DA 1.2'!B184=2,0,IF(AN140=1,I140-J140,0))","v":0},null,3.867,38.671199999999999]
[null,"2016-05-15",38130,5,31,1230,0.18340000000000001,0.15196000000000001,225.58200000000002,186.91080000000002,38.671199999999999,"2016-01-01","2016-09-30",38130,38130,"2016-10-01","2016-12-31",39160,0,"2017-01-01","2017-03-31",39160,0,"2017-10-01","2017-03-31",39160,0,"2017-12-01","2017-03-31",39160,0,"2018-12-02","2017-02-28",39160,0,"2016-04-01","2016-04-30",1,0,0,{"$f":"IF('DA 1.2'!B185=2,0,IF(AN141=1,I141-J141,0))","v":0},null,3.867,38.671199999999999]
[null,"2016-05-16",38130,5,31,1230,0.18340000000000001,0.15196000000000001,225.58200000000002,186.91080000000002,38.671199999999999,"2016-01-01","2016-09-30",38130,38130,"2016-10-01","2016-12-31",39160,0,"2017-01-01","2017-03-31",39160,0,"2017-10-01","2017-03-31",39160,0,"2017-12-01","2017-03-31",39160,0,"2018-12-02","2017-02-28",39160,0,"2016-04-01","2016-04-30",1,0,0,{"$f":"IF('DA 1.2'!B186=2,0,IF(AN142=1,I142-J142,0))","v":0},null,3.867,38.671199999999999]
[null,"2016-05-17",38130,5,31,1230,0.18340000000000001,0.15196000000000001,225.58200000000002,186.91080000000002,38.671199999999999,"2016-01-01","2016-09-30",38130,38130,"2016-10-01","2016-12-31",39160,0,"2017-01-01","2017-03-31",39160,0,"2017-10-01","2017-03-31",39160,0,"2017-12-01","2017-03-31",39160,0,"2018-12-02","2017-02-28",39160,0,"2016-04-01","2016-04-30",1,0,0,{"$f":"IF('DA 1.2'!B187=2,0,IF(AN143=1,I143-J143,0))","v":0},null,3.867,38.671199999999999]
[null,"2016-05-18",38130,5,31,1230,0.18340000000000001,0.15196000000000001,225.58200000000002,186.91080000000002,38.671199999999999,"2016-01-01","2016-09-30",38130,38130,"2016-10-01","2016-12-31",39160,0,"2017-01-01","2017-03-31",39160,0,"2017-10-01","2017-03-31",39160,0,"2017-12-01","2017-03-31",39160,0,"2018-12-02","2017-02-28",39160,0,"2016-04-01","2016-04-30",1,0,0,{"$f":"IF('DA 1.2'!B188=2,0,IF(AN144=1,I144-J144,0))","v":0},null,3.867,38.671199999999999]
[null,"2016-05-19",38130,5,31,1230,0.18340000000000001,0.15196000000000001,225.58200000000002,186.91080000000002,38.671199999999999,"2016-01-01","2016-09-30",38130,38130,"2016-10-01","2016-12-31",39160,0,"2017-01-01","2017-03-31",39160,0,"2017-10-01","2017-03-31",39160,0,"2017-12-01","2017-03-31",39160,0,"2018-12-02","2017-02-28",39160,0,"2016-04-01","2016-04-30",1,0,0,{"$f":"IF('DA 1.2'!B189=2,0,IF(AN145=1,I145-J145,0))","v":0},null,3.867,38.671199999999999]
[null,"2016-05-20",38130,5,31,1230,0.18340000000000001,0.15196000000000001,225.58200000000002,186.91080000000002,38.671199999999999,"2016-01-01","2016-09-30",38130,38130,"2016-10-01","2016-12-31",39160,0,"2017-01-01","2017-03-31",39160,0,"2017-10-01","2017-03-31",39160,0,"2017-12-01","2017-03-31",39160,0,"2018-12-02","2017-02-28",39160,0,"2016-04-01","2016-04-30",1,0,0,{"$f":"IF('DA 1.2'!B190=2,0,IF(AN146=1,I146-J146,0))","v":0},null,3.867,38.671199999999999]
[null,"2016-05-21",38130,5,31,1230,0.18340000000000001,0.15196000000000001,225.58200000000002,186.91080000000002,38.671199999999999,"2016-01-01","2016-09-30",38130,38130,"2016-10-01","2016-12-31",39160,0,"2017-01-01","2017-03-31",39160,0,"2017-10-01","2017-03-31",39160,0,"2017-12-01","2017-03-31",39160,0,"2018-12-02","2017-02-28",39160,0,"2016-04-01","2016-04-30",1,0,0,{"$f":"IF('DA 1.2'!B191=2,0,IF(AN147=1,I147-J147,0))","v":0},null,3.867,38.671199999999999]
[null,"2016-05-22",38130,5,31,1230,0.18340000000000001,0.15196000000000001,225.58200000000002,186.91080000000002,38.671199999999999,"2016-01-01","2016-09-30",38130,38130,"2016-10-01","2016-12-31",39160,0,"2017-01-01","2017-03-31",39160,0,"2017-10-01","2017-03-31",39160,0,"2017-12-01","2017-03-31",39160,0,"2018-12-02","2017-02-28",39160,0,"2016-04-01","2016-04-30",1,0,0,{"$f":"IF('DA 1.2'!B192=2,0,IF(AN148=1,I148-J148,0))","v":0},null,3.867,38.671199999999999]
[null,"2016-05-23",38130,5,31,1230,0.18340000000000001,0.15196000000000001,225.58200000000002,186.91080000000002,38.671199999999999,"2016-01-01","2016-09-30",38130,38130,"2016-10-01","2016-12-31",39160,0,"2017-01-01","2017-03-31",39160,0,"2017-10-01","2017-03-31",39160,0,"2017-12-01","2017-03-31",39160,0,"2018-12-02","2017-02-28",39160,0,"2016-04-01","2016-04-30",1,0,0,{"$f":"IF('DA 1.2'!B193=2,0,IF(AN149=1,I149-J149,0))","v":0},null,3.867,38.671199999999999]
[null,"2016-05-24",38130,5,31,1230,0.18340000000000001,0.15196000000000001,225.58200000000002,186.91080000000002,38.671199999999999,"2016-01-01","2016-09-30",38130,38130,"2016-10-01","2016-12-31",39160,0,"2017-01-01","2017-03-31",39160,0,"2017-10-01","2017-03-31",39160,0,"2017-12-01","2017-03-31",39160,0,"2018-12-02","2017-02-28",39160,0,"2016-04-01","2016-04-30",1,0,0,{"$f":"IF('DA 1.2'!B194=2,0,IF(AN150=1,I150-J150,0))","v":0},null,3.867,38.671199999999999]
[null,"2016-05-25",38130,5,31,1230,0.18340000000000001,0.15196000000000001,225.58200000000002,186.91080000000002,38.671199999999999,"2016-01-01","2016-09-30",38130,38130,"2016-10-01","2016-12-31",39160,0,"2017-01-01","2017-03-31",39160,0,"2017-10-01","2017-03-31",39160,0,"2017-12-01","2017-03-31",39160,0,"2018-12-02","2017-02-28",39160,0,"2016-04-01","2016-04-30",1,0,0,{"$f":"IF('DA 1.2'!B195=2,0,IF(AN151=1,I151-J151,0))","v":0},null,3.867,38.671199999999999]
[null,"2016-05-26",38130,5,31,1230,{"$f":"G151","v":0.18340000000000001},0.15196000000000001,225.58200000000002,186.91080000000002,38.671199999999999,{"$f":"L151","v":"2016-01-01"},"2016-09-30",38130,38130,{"$f":"P151","v":"2016-10-01"},"2016-12-31",39160,0,{"$f":"T151","v":"2017-01-01"},"2017-03-31",39160,0,{"$f":"X151","v":"2017-10-01"},"2017-03-31",39160,0,"2017-12-01","2017-03-31",39160,0,"2018-12-02","2017-02-28",39160,0,{"$f":"AJ151","v":"2016-04-01"},"2016-04-30",1,0,0,{"$f":"IF('DA 1.2'!B196=2,0,IF(AN152=1,I152-J152,0))","v":0},null,3.867,38.671199999999999]
[null,"2016-05-27",38130,5,31,1230,0.18340000000000001,0.15196000000000001,225.58200000000002,186.91080000000002,38.671199999999999,"2016-01-01","2016-09-30",38130,38130,"2016-10-01","2016-12-31",39160,0,"2017-01-01","2017-03-31",39160,0,"2017-10-01","2017-03-31",39160,0,"2017-12-01","2017-03-31",39160,0,"2018-12-02","2017-02-28",39160,0,"2016-04-01","2016-04-30",1,0,0,{"$f":"IF('DA 1.2'!B197=2,0,IF(AN153=1,I153-J153,0))","v":0},null,3.867,38.671199999999999]
[null,"2016-05-28",38130,5,31,1230,0.18340000000000001,0.15196000000000001,225.58200000000002,186.91080000000002,38.671199999999999,"2016-01-01","2016-09-30",38130,38130,"2016-10-01","2016-12-31",39160,0,"2017-01-01","2017-03-31",39160,0,"2017-10-01","2017-03-31",39160,0,"2017-12-01","2017-03-31",39160,0,"2018-12-02","2017-02-28",39160,0,"2016-04-01","2016-04-30",1,0,0,{"$f":"IF('DA 1.2'!B198=2,0,IF(AN154=1,I154-J154,0))","v":0},null,3.867,38.671199999999999]
[null,"2016-05-29",38130,5,31,1230,0.18340000000000001,0.15196000000000001,225.58200000000002,186.91080000000002,38.671199999999999,"2016-01-01","2016-09-30",38130,38130,"2016-10-01","2016-12-31",39160,0,"2017-01-01","2017-03-31",39160,0,"2017-10-01","2017-03-31",39160,0,"2017-12-01","2017-03-31",39160,0,"2018-12-02","2017-02-28",39160,0,"2016-04-01","2016-04-30",1,0,0,{"$f":"IF('DA 1.2'!B199=2,0,IF(AN155=1,I155-J155,0))","v":0},null,3.867,38.671199999999999]
[null,"2016-05-30",38130,5,31,1230,0.18340000000000001,0.15196000000000001,{"$f":"F156*G156","v":225.58200000000002},186.91080000000002,{"$f":"I156-J156","v":38.671199999999999},"2016-01-01","2016-09-30",38130,38130,"2016-10-01","2016-12-31",39160,0,"2017-01-01","2017-03-31",39160,0,"2017-10-01","2017-03-31",39160,0,"2017-12-01","2017-03-31",39160,0,"2018-12-02","2017-02-28",39160,0,"2016-04-01","2016-04-30",1,0,0,{"$f":"IF('DA 1.2'!B200=2,0,IF(AN156=1,I156-J156,0))","v":0},null,3.867,38.671199999999999]
[null,"2016-05-31",38130,5,31,{"$f":"C157/E157","v":1230},0.18340000000000001,0.15196000000000001,225.58200000000002,186.91080000000002,38.671199999999999,"2016-01-01","2016-09-30",38130,38130,"2016-10-01","2016-12-31",39160,0,"2017-01-01","2017-03-31",39160,0,"2017-10-01","2017-03-31",39160,0,"2017-12-01","2017-03-31",39160,0,"2018-12-02","2017-02-28",39160,0,"2016-04-01","2016-04-30",1,0,0,{"$f":"IF('DA 1.2'!B201=2,0,IF(AN157=1,I157-J157,0))","v":0},null,3.867,38.671199999999999]
[null,"2016-06-01",38130,6,30,1271,0.18340000000000001,0.15196000000000001,233.10140000000001,193.14116000000001,39.960239999999999,"2016-01-01","2016-09-30",38130,38130,"2016-10-01","2016-12-31",39160,0,"2017-01-01","2017-03-31",39160,0,"2017-10-01","2017-03-31",39160,0,"2017-12-01","2017-03-31",39160,0,"2018-12-02","2017-02-28",39160,0,"2016-04-01","2016-04-30",1,0,0,{"$f":"IF('DA 1.2'!B202=2,0,IF(AN158=1,I158-J158,0))","v":0},null,3.996,39.9602]
[null,"2016-06-02",38130,6,30,1271,0.18340000000000001,0.15196000000000001,233.10140000000001,193.14116000000001,39.960239999999999,"2016-01-01","2016-09-30",38130,38130,"2016-10-01","2016-12-31",39160,0,"2017-01-01","2017-03-31",39160,0,"2017-10-01","2017-03-31",39160,0,"2017-12-01","2017-03-31",39160,0,"2018-12-02","2017-02-28",39160,0,"2016-04-01","2016-04-30",1,0,0,{"$f":"IF('DA 1.2'!B203=2,0,IF(AN159=1,I159-J159,0))","v":0},null,3.996,39.9602]
[null,"2016-06-03",38130,6,30,1271,0.18340000000000001,0.15196000000000001,233.10140000000001,193.14116000000001,39.960239999999999,"2016-01-01","2016-09-30",38130,38130,"2016-10-01","2016-12-31",39160,0,"2017-01-01","2017-03-31",39160,0,"2017-10-01","2017-03-31",39160,0,"2017-12-01","2017-03-31",39160,0,"2018-12-02","2017-02-28",39160,0,"2016-04-01","2016-04-30",1,0,0,{"$f":"IF('DA 1.2'!B204=2,0,IF(AN160=1,I160-J160,0))","v":0},null,3.996,39.9602]
[null,"2016-06-04",38130,6,30,1271,0.18340000000000001,0.15196000000000001,233.10140000000001,193.14116000000001,39.960239999999999,"2016-01-01","2016-09-30",38130,38130,"2016-10-01","2016-12-31",39160,0,"2017-01-01","2017-03-31",39160,0,"2017-10-01","2017-03-31",39160,0,"2017-12-01","2017-03-31",39160,0,"2018-12-02","2017-02-28",39160,0,"2016-04-01","2016-04-30",1,0,0,{"$f":"IF('DA 1.2'!B205=2,0,IF(AN161=1,I161-J161,0))","v":0},null,3.996,39.9602]
[null,"2016-06-05",38130,6,30,1271,0.18340000000000001,0.15196000000000001,233.10140000000001,193.14116000000001,39.960239999999999,"2016-01-01","2016-09-30",38130,38130,"2016-10-01","2016-12-31",39160,0,"2017-01-01","2017-03-31",39160,0,"2017-10-01","2017-03-31",39160,0,"2017-12-01","2017-03-31",39160,0,"2018-12-02","2017-02-28",39160,0,"2016-04-01","2016-04-30",1,0,0,{"$f":"IF('DA 1.2'!B206=2,0,IF(AN162=1,I162-J162,0))","v":0},null,3.996,39.9602]
[null,"2016-06-06",38130,6,30,1271,0.18340000000000001,0.15196000000000001,233.10140000000001,193.14116000000001,39.960239999999999,"2016-01-01","2016-09-30",38130,38130,"2016-10-01","2016-12-31",39160,0,"2017-01-01","2017-03-31",39160,0,"2017-10-01","2017-03-31",39160,0,"2017-12-01","2017-03-31",39160,0,"2018-12-02","2017-02-28",39160,0,"2016-04-01","2016-04-30",1,0,0,{"$f":"IF('DA 1.2'!B207=2,0,IF(AN163=1,I163-J163,0))","v":0},null,3.996,39.9602]
[null,"2016-06-07",38130,6,30,1271,0.18340000000000001,0.15196000000000001,233.10140000000001,193.14116000000001,39.960239999999999,"2016-01-01","2016-09-30",38130,38130,"2016-10-01","2016-12-31",39160,0,"2017-01-01","2017-03-31",39160,0,"2017-10-01","2017-03-31",39160,0,"2017-12-01","2017-03-31",39160,0,"2018-12-02","2017-02-28",39160,0,"2016-04-01","2016-04-30",1,0,0,{"$f":"IF('DA 1.2'!B208=2,0,IF(AN164=1,I164-J164,0))","v":0},null,3.996,39.9602]
[null,"2016-06-08",38130,6,30,1271,0.18340000000000001,0.15196000000000001,233.10140000000001,193.14116000000001,39.960239999999999,"2016-01-01","2016-09-30",38130,38130,"2016-10-01","2016-12-31",39160,0,"2017-01-01","2017-03-31",39160,0,"2017-10-01","2017-03-31",39160,0,"2017-12-01","2017-03-31",39160,0,"2018-12-02","2017-02-28",39160,0,"2016-04-01","2016-04-30",1,0,0,{"$f":"IF('DA 1.2'!B209=2,0,IF(AN165=1,I165-J165,0))","v":0},null,3.996,39.9602]
[null,"2016-06-09",38130,6,30,1271,0.18340000000000001,0.15196000000000001,233.10140000000001,193.14116000000001,39.960239999999999,"2016-01-01","2016-09-30",38130,38130,"2016-10-01","2016-12-31",39160,0,"2017-01-01","2017-03-31",39160,0,"2017-10-01","2017-03-31",39160,0,"2017-12-01","2017-03-31",39160,0,"2018-12-02","2017-02-28",39160,0,"2016-04-01","2016-04-30",1,0,0,{"$f":"IF('DA 1.2'!B210=2,0,IF(AN166=1,I166-J166,0))","v":0},null,3.996,39.9602]
[null,"2016-06-10",38130,6,30,1271,0.18340000000000001,0.15196000000000001,233.10140000000001,193.14116000000001,39.960239999999999,"2016-01-01","2016-09-30",38130,38130,"2016-10-01","2016-12-31",39160,0,"2017-01-01","2017-03-31",39160,0,"2017-10-01","2017-03-31",39160,0,"2017-12-01","2017-03-31",39160,0,"2018-12-02","2017-02-28",39160,0,"2016-04-01","2016-04-30",1,0,0,{"$f":"IF('DA 1.2'!B211=2,0,IF(AN167=1,I167-J167,0))","v":0},null,3.996,39.9602]
[null,"2016-06-11",38130,6,30,1271,{"$f":"G167","v":0.18340000000000001},0.15196000000000001,233.10140000000001,193.14116000000001,39.960239999999999,{"$f":"L167","v":"2016-01-01"},"2016-09-30",38130,38130,{"$f":"P167","v":"2016-10-01"},"2016-12-31",39160,0,{"$f":"T167","v":"2017-01-01"},"2017-03-31",39160,0,{"$f":"X167","v":"2017-10-01"},"2017-03-31",39160,0,"2017-12-01","2017-03-31",39160,0,"2018-12-02","2017-02-28",39160,0,{"$f":"AJ167","v":"2016-04-01"},"2016-04-30",1,0,0,{"$f":"IF('DA 1.2'!B212=2,0,IF(AN168=1,I168-J168,0))","v":0},null,3.996,39.9602]
[null,"2016-06-12",38130,6,30,1271,0.18340000000000001,0.15196000000000001,233.10140000000001,193.14116000000001,39.960239999999999,"2016-01-01","2016-09-30",38130,38130,"2016-10-01","2016-12-31",39160,0,"2017-01-01","2017-03-31",39160,0,"2017-10-01","2017-03-31",39160,0,"2017-12-01","2017-03-31",39160,0,"2018-12-02","2017-02-28",39160,0,"2016-04-01","2016-04-30",1,0,0,{"$f":"IF('DA 1.2'!B213=2,0,IF(AN169=1,I169-J169,0))","v":0},null,3.996,39.9602]
[null,"2016-06-13",38130,6,30,1271,0.18340000000000001,0.15196000000000001,233.10140000000001,193.14116000000001,39.960239999999999,"2016-01-01","2016-09-30",38130,38130,"2016-10-01","2016-12-31",39160,0,"2017-01-01","2017-03-31",39160,0,"2017-10-01","2017-03-31",39160,0,"2017-12-01","2017-03-31",39160,0,"2018-12-02","2017-02-28",39160,0,"2016-04-01","2016-04-30",1,0,0,{"$f":"IF('DA 1.2'!B214=2,0,IF(AN170=1,I170-J170,0))","v":0},null,3.996,39.9602]
[null,"2016-06-14",38130,6,30,1271,0.18340000000000001,0.15196000000000001,233.10140000000001,193.14116000000001,39.960239999999999,"2016-01-01","2016-09-30",38130,38130,"2016-10-01","2016-12-31",39160,0,"2017-01-01","2017-03-31",39160,0,"2017-10-01","2017-03-31",39160,0,"2017-12-01","2017-03-31",39160,0,"2018-12-02","2017-02-28",39160,0,"2016-04-01","2016-04-30",1,0,0,{"$f":"IF('DA 1.2'!B215=2,0,IF(AN171=1,I171-J171,0))","v":0},null,3.996,39.9602]
[null,"2016-06-15",38130,6,30,1271,0.18340000000000001,0.15196000000000001,233.10140000000001,193.14116000000001,39.960239999999999,"2016-01-01","2016-09-30",38130,38130,"2016-10-01","2016-12-31",39160,0,"2017-01-01","2017-03-31",39160,0,"2017-10-01","2017-03-31",39160,0,"2017-12-01","2017-03-31",39160,0,"2018-12-02","2017-02-28",39160,0,"2016-04-01","2016-04-30",1,0,0,{"$f":"IF('DA 1.2'!B216=2,0,IF(AN172=1,I172-J172,0))","v":0},null,3.996,39.9602]
[null,"2016-06-16",38130,6,30,1271,0.18340000000000001,0.15196000000000001,233.10140000000001,193.14116000000001,39.960239999999999,"2016-01-01","2016-09-30",38130,38130,"2016-10-01","2016-12-31",39160,0,"2017-01-01","2017-03-31",39160,0,"2017-10-01","2017-03-31",39160,0,"2017-12-01","2017-03-31",39160,0,"2018-12-02","2017-02-28",39160,0,"2016-04-01","2016-04-30",1,0,0,{"$f":"IF('DA 1.2'!B217=2,0,IF(AN173=1,I173-J173,0))","v":0},null,3.996,39.9602]
[null,"2016-06-17",38130,6,30,1271,0.18340000000000001,0.15196000000000001,233.10140000000001,193.14116000000001,39.960239999999999,"2016-01-01","2016-09-30",38130,38130,"2016-10-01","2016-12-31",39160,0,"2017-01-01","2017-03-31",39160,0,"2017-10-01","2017-03-31",39160,0,"2017-12-01","2017-03-31",39160,0,"2018-12-02","2017-02-28",39160,0,"2016-04-01","2016-04-30",1,0,0,{"$f":"IF('DA 1.2'!B218=2,0,IF(AN174=1,I174-J174,0))","v":0},null,3.996,39.9602]
[null,"2016-06-18",38130,6,30,1271,0.18340000000000001,0.15196000000000001,233.10140000000001,193.14116000000001,39.960239999999999,"2016-01-01","2016-09-30",38130,38130,"2016-10-01","2016-12-31",39160,0,"2017-01-01","2017-03-31",39160,0,"2017-10-01","2017-03-31",39160,0,"2017-12-01","2017-03-31",39160,0,"2018-12-02","2017-02-28",39160,0,"2016-04-01","2016-04-30",1,0,0,{"$f":"IF('DA 1.2'!B219=2,0,IF(AN175=1,I175-J175,0))","v":0},null,3.996,39.9602]
[null,"2016-06-19",38130,6,30,1271,0.18340000000000001,0.15196000000000001,233.10140000000001,193.14116000000001,39.960239999999999,"2016-01-01","2016-09-30",38130,38130,"2016-10-01","2016-12-31",39160,0,"2017-01-01","2017-03-31",39160,0,"2017-10-01","2017-03-31",39160,0,"2017-12-01","2017-03-31",39160,0,"2018-12-02","2017-02-28",39160,0,"2016-04-01","2016-04-30",1,0,0,{"$f":"IF('DA 1.2'!B220=2,0,IF(AN176=1,I176-J176,0))","v":0},null,3.996,39.9602]
[null,"2016-06-20",38130,6,30,1271,0.18340000000000001,0.15196000000000001,233.10140000000001,193.14116000000001,39.960239999999999,"2016-01-01","2016-09-30",38130,38130,"2016-10-01","2016-12-31",39160,0,"2017-01-01","2017-03-31",39160,0,"2017-10-01","2017-03-31",39160,0,"2017-12-01","2017-03-31",39160,0,"2018-12-02","2017-02-28",39160,0,"2016-04-01","2016-04-30",1,0,0,{"$f":"IF('DA 1.2'!B221=2,0,IF(AN177=1,I177-J177,0))","v":0},null,3.996,39.9602]
[null,"2016-06-21",38130,6,30,1271,0.18340000000000001,0.15196000000000001,233.10140000000001,193.14116000000001,39.960239999999999,"2016-01-01","2016-09-30",38130,38130,"2016-10-01","2016-12-31",39160,0,"2017-01-01","2017-03-31",39160,0,"2017-10-01","2017-03-31",39160,0,"2017-12-01","2017-03-31",39160,0,"2018-12-02","2017-02-28",39160,0,"2016-04-01","2016-04-30",1,0,0,{"$f":"IF('DA 1.2'!B222=2,0,IF(AN178=1,I178-J178,0))","v":0},null,3.996,39.9602]
[null,"2016-06-22",38130,6,30,1271,0.18340000000000001,0.15196000000000001,233.10140000000001,193.14116000000001,39.960239999999999,"2016-01-01","2016-09-30",38130,38130,"2016-10-01","2016-12-31",39160,0,"2017-01-01","2017-03-31",39160,0,"2017-10-01","2017-03-31",39160,0,"2017-12-01","2017-03-31",39160,0,"2018-12-02","2017-02-28",39160,0,"2016-04-01","2016-04-30",1,0,0,{"$f":"IF('DA 1.2'!B223=2,0,IF(AN179=1,I179-J179,0))","v":0},null,3.996,39.9602]
[null,"2016-06-23",38130,6,30,1271,0.18340000000000001,0.15196000000000001,233.10140000000001,193.14116000000001,39.960239999999999,"2016-01-01","2016-09-30",38130,38130,"2016-10-01","2016-12-31",39160,0,"2017-01-01","2017-03-31",39160,0,"2017-10-01","2017-03-31",39160,0,"2017-12-01","2017-03-31",39160,0,"2018-12-02","2017-02-28",39160,0,"2016-04-01","2016-04-30",1,0,0,{"$f":"IF('DA 1.2'!B224=2,0,IF(AN180=1,I180-J180,0))","v":0},null,3.996,39.9602]
[null,"2016-06-24",38130,6,30,1271,0.18340000000000001,0.15196000000000001,233.10140000000001,193.14116000000001,39.960239999999999,"2016-01-01","2016-09-30",38130,38130,"2016-10-01","2016-12-31",39160,0,"2017-01-01","2017-03-31",39160,0,"2017-10-01","2017-03-31",39160,0,"2017-12-01","2017-03-31",39160,0,"2018-12-02","2017-02-28",39160,0,"2016-04-01","2016-04-30",1,0,0,{"$f":"IF('DA 1.2'!B225=2,0,IF(AN181=1,I181-J181,0))","v":0},null,3.996,39.9602]
[null,"2016-06-25",38130,6,30,1271,0.18340000000000001,0.15196000000000001,233.10140000000001,193.14116000000001,39.960239999999999,"2016-01-01","2016-09-30",38130,38130,"2016-10-01","2016-12-31",39160,0,"2017-01-01","2017-03-31",39160,0,"2017-10-01","2017-03-31",39160,0,"2017-12-01","2017-03-31",39160,0,"2018-12-02","2017-02-28",39160,0,"2016-04-01","2016-04-30",1,0,0,{"$f":"IF('DA 1.2'!B226=2,0,IF(AN182=1,I182-J182,0))","v":0},null,3.996,39.9602]
[null,"2016-06-26",38130,6,30,1271,0.18340000000000001,0.15196000000000001,233.10140000000001,193.14116000000001,39.960239999999999,"2016-01-01","2016-09-30",38130,38130,"2016-10-01","2016-12-31",39160,0,"2017-01-01","2017-03-31",39160,0,"2017-10-01","2017-03-31",39160,0,"2017-12-01","2017-03-31",39160,0,"2018-12-02","2017-02-28",39160,0,"2016-04-01","2016-04-30",1,0,0,{"$f":"IF('DA 1.2'!B227=2,0,IF(AN183=1,I183-J183,0))","v":0},null,3.996,39.9602]
[null,"2016-06-27",38130,6,30,1271,{"$f":"G183","v":0.18340000000000001},0.15196000000000001,233.10140000000001,193.14116000000001,39.960239999999999,{"$f":"L183","v":"2016-01-01"},"2016-09-30",38130,38130,{"$f":"P183","v":"2016-10-01"},"2016-12-31",39160,0,{"$f":"T183","v":"2017-01-01"},"2017-03-31",39160,0,{"$f":"X183","v":"2017-10-01"},"2017-03-31",39160,0,"2017-12-01","2017-03-31",39160,0,"2018-12-02","2017-02-28",39160,0,{"$f":"AJ183","v":"2016-04-01"},"2016-04-30",1,0,0,{"$f":"IF('DA 1.2'!B228=2,0,IF(AN184=1,I184-J184,0))","v":0},null,3.996,39.9602]
[null,"2016-06-28",38130,6,30,1271,0.18340000000000001,0.15196000000000001,233.10140000000001,193.14116000000001,39.960239999999999,"2016-01-01","2016-09-30",38130,38130,"2016-10-01","2016-12-31",39160,0,"2017-01-01","2017-03-31",39160,0,"2017-10-01","2017-03-31",39160,0,"2017-12-01","2017-03-31",39160,0,"2018-12-02","2017-02-28",39160,0,"2016-04-01","2016-04-30",1,0,0,{"$f":"IF('DA 1.2'!B229=2,0,IF(AN185=1,I185-J185,0))","v":0},null,3.996,39.9602]
[null,"2016-06-29",38130,6,30,1271,0.18340000000000001,0.15196000000000001,233.10140000000001,193.14116000000001,39.960239999999999,"2016-01-01","2016-09-30",38130,38130,"2016-10-01","2016-12-31",39160,0,"2017-01-01","2017-03-31",39160,0,"2017-10-01","2017-03-31",39160,0,"2017-12-01","2017-03-31",39160,0,"2018-12-02","2017-02-28",39160,0,"2016-04-01","2016-04-30",1,0,0,{"$f":"IF('DA 1.2'!B230=2,0,IF(AN186=1,I186-J186,0))","v":0},null,3.996,39.9602]
[null,"2016-06-30",{"$f":"O187+S187+W187+AA187+AE187+AI187","v":38130},6,30,1271,0.18340000000000001,0.15196000000000001,233.10140000000001,193.14116000000001,39.960239999999999,"2016-01-01","2016-09-30",38130,38130,"2016-10-01","2016-12-31",39160,0,"2017-01-01","2017-03-31",39160,0,"2017-10-01","2017-03-31",39160,0,"2017-12-01","2017-03-31",39160,0,"2018-12-02","2017-02-28",39160,0,"2016-04-01","2016-04-30",1,0,0,{"$f":"IF('DA 1.2'!B231=2,0,IF(AN187=1,I187-J187,0))","v":0},null,3.996,39.9602]
[null,"2016-07-01",38130,7,31,1230,0.18340000000000001,0.15196000000000001,225.58200000000002,186.91080000000002,38.671199999999999,"2016-01-01","2016-09-30",38130,38130,"2016-10-01","2016-12-31",39160,0,"2017-01-01","2017-03-31",39160,0,"2017-10-01","2017-03-31",39160,0,"2017-12-01","2017-03-31",39160,0,"2018-12-02","2017-02-28",39160,0,"2016-04-01","2016-04-30",1,0,0,{"$f":"IF('DA 1.2'!B232=2,0,IF(AN188=1,I188-J188,0))","v":0},null,3.867,38.671199999999999]
[null,"2016-07-02",38130,7,31,1230,0.18340000000000001,0.15196000000000001,225.58200000000002,186.91080000000002,38.671199999999999,"2016-01-01","2016-09-30",38130,38130,"2016-10-01","2016-12-31",39160,0,"2017-01-01","2017-03-31",39160,0,"2017-10-01","2017-03-31",39160,0,"2017-12-01","2017-03-31",39160,0,"2018-12-02","2017-02-28",39160,0,"2016-04-01","2016-04-30",1,0,0,{"$f":"IF('DA 1.2'!B233=2,0,IF(AN189=1,I189-J189,0))","v":0},null,3.867,38.671199999999999]
[null,"2016-07-03",38130,7,31,1230,0.18340000000000001,0.15196000000000001,225.58200000000002,186.91080000000002,38.671199999999999,"2016-01-01","2016-09-30",38130,38130,"2016-10-01","2016-12-31",39160,0,"2017-01-01","2017-03-31",39160,0,"2017-10-01","2017-03-31",39160,0,"2017-12-01","2017-03-31",39160,0,"2018-12-02","2017-02-28",39160,0,"2016-04-01","2016-04-30",1,0,0,{"$f":"IF('DA 1.2'!B234=2,0,IF(AN190=1,I190-J190,0))","v":0},null,3.867,38.671199999999999]
[null,"2016-07-04",38130,7,31,1230,0.18340000000000001,0.15196000000000001,225.58200000000002,186.91080000000002,38.671199999999999,"2016-01-01","2016-09-30",38130,38130,"2016-10-01","2016-12-31",39160,0,"2017-01-01","2017-03-31",39160,0,"2017-10-01","2017-03-31",39160,0,"2017-12-01","2017-03-31",39160,0,"2018-12-02","2017-02-28",39160,0,"2016-04-01","2016-04-30",1,0,0,{"$f":"IF('DA 1.2'!B235=2,0,IF(AN191=1,I191-J191,0))","v":0},null,3.867,38.671199999999999]
[null,"2016-07-05",38130,7,31,1230,0.18340000000000001,0.15196000000000001,225.58200000000002,186.91080000000002,38.671199999999999,"2016-01-01","2016-09-30",38130,38130,"2016-10-01","2016-12-31",39160,0,"2017-01-01","2017-03-31",39160,0,"2017-10-01","2017-03-31",39160,0,"2017-12-01","2017-03-31",39160,0,"2018-12-02","2017-02-28",39160,0,"2016-04-01","2016-04-30",1,0,0,{"$f":"IF('DA 1.2'!B236=2,0,IF(AN192=1,I192-J192,0))","v":0},null,3.867,38.671199999999999]
[null,"2016-07-06",38130,7,31,1230,0.18340000000000001,0.15196000000000001,225.58200000000002,186.91080000000002,38.671199999999999,"2016-01-01","2016-09-30",38130,38130,"2016-10-01","2016-12-31",39160,0,"2017-01-01","2017-03-31",39160,0,"2017-10-01","2017-03-31",39160,0,"2017-12-01","2017-03-31",39160,0,"2018-12-02","2017-02-28",39160,0,"2016-04-01","2016-04-30",1,0,0,{"$f":"IF('DA 1.2'!B237=2,0,IF(AN193=1,I193-J193,0))","v":0},null,3.867,38.671199999999999]
[null,"2016-07-07",38130,7,31,1230,0.18340000000000001,0.15196000000000001,225.58200000000002,186.91080000000002,38.671199999999999,"2016-01-01","2016-09-30",38130,38130,"2016-10-01","2016-12-31",39160,0,"2017-01-01","2017-03-31",39160,0,"2017-10-01","2017-03-31",39160,0,"2017-12-01","2017-03-31",39160,0,"2018-12-02","2017-02-28",39160,0,"2016-04-01","2016-04-30",1,0,0,{"$f":"IF('DA 1.2'!B238=2,0,IF(AN194=1,I194-J194,0))","v":0},null,3.867,38.671199999999999]
[null,"2016-07-08",38130,7,31,1230,0.18340000000000001,0.15196000000000001,225.58200000000002,186.91080000000002,38.671199999999999,"2016-01-01","2016-09-30",38130,38130,"2016-10-01","2016-12-31",39160,0,"2017-01-01","2017-03-31",39160,0,"2017-10-01","2017-03-31",39160,0,"2017-12-01","2017-03-31",39160,0,"2018-12-02","2017-02-28",39160,0,"2016-04-01","2016-04-30",1,0,0,{"$f":"IF('DA 1.2'!B239=2,0,IF(AN195=1,I195-J195,0))","v":0},null,3.867,38.671199999999999]
[null,"2016-07-09",38130,7,31,1230,0.18340000000000001,0.15196000000000001,225.58200000000002,186.91080000000002,38.671199999999999,"2016-01-01","2016-09-30",38130,38130,"2016-10-01","2016-12-31",39160,0,"2017-01-01","2017-03-31",39160,0,"2017-10-01","2017-03-31",39160,0,"2017-12-01","2017-03-31",39160,0,"2018-12-02","2017-02-28",39160,0,"2016-04-01","2016-04-30",1,0,0,{"$f":"IF('DA 1.2'!B240=2,0,IF(AN196=1,I196-J196,0))","v":0},null,3.867,38.671199999999999]
[null,"2016-07-10",38130,7,31,1230,0.18340000000000001,0.15196000000000001,225.58200000000002,186.91080000000002,38.671199999999999,"2016-01-01","2016-09-30",38130,38130,"2016-10-01","2016-12-31",39160,0,"2017-01-01","2017-03-31",39160,0,"2017-10-01","2017-03-31",39160,0,"2017-12-01","2017-03-31",39160,0,"2018-12-02","2017-02-28",39160,0,"2016-04-01","2016-04-30",1,0,0,{"$f":"IF('DA 1.2'!B241=2,0,IF(AN197=1,I197-J197,0))","v":0},null,3.867,38.671199999999999]
[null,"2016-07-11",38130,7,31,{"$f":"C198/E198","v":1230},0.18340000000000001,0.15196000000000001,{"$f":"F198*G198","v":225.58200000000002},{"$f":"F198*H198","v":186.91080000000002},38.671199999999999,"2016-01-01","2016-09-30",38130,38130,"2016-10-01","2016-12-31",39160,0,"2017-01-01","2017-03-31",39160,0,"2017-10-01","2017-03-31",39160,0,"2017-12-01","2017-03-31",39160,0,"2018-12-02","2017-02-28",39160,0,"2016-04-01","2016-04-30",1,0,0,{"$f":"IF('DA 1.2'!B242=2,0,IF(AN198=1,I198-J198,0))","v":0},null,3.867,38.671199999999999]
[null,"2016-07-12",{"$f":"O199+S199+W199+AA199+AE199+AI199","v":38130},{"$f":"MONTH(B199)","v":7},{"$f":"IF(D199=1,31,IF(D199=2,28,IF(D199=3,31,IF(D199=5,31,IF(D199=7,31,IF(D199=8,31,IF(D199=10,31,IF(D199=12,31,30))))))))","v":31},1230,0.18340000000000001,0.15196000000000001,225.58200000000002,186.91080000000002,{"$f":"I199-J199","v":38.671199999999999},"2016-01-01","2016-09-30",38130,{"$f":"IF(M199>=B199,N199,0)","v":38130},"2016-10-01","2016-12-31",39160,{"$f":"IF(O199>0,0,IF(Q199>=B199,R199,0))","v":0},"2017-01-01","2017-03-31",39160,{"$f":"IF(T199>U199,0,IF(O199>0,0,IF(S199>0,0,IF(U199>=B199,V199,0))))","v":0},"2017-10-01","2017-03-31",39160,{"$f":"IF(X199>=Y199,0,IF(O199>0,0,IF(S199>0,0,IF(W199>0,0,IF(Y199>=B199,Z199,0)))))","v":0},"2017-12-01","2017-03-31",39160,{"$f":"IF(O199>0,0,IF(AB199>=AC199,0,IF(S199>0,0,IF(W199>0,0,IF(AA199>0,0,IF(AC199>=B199,AD199,0))))))","v":0},"2018-12-02","2017-02-28",39160,{"$f":"IF(O199>0,0,IF(S199>0,0,IF(AF199>=AG199,0,IF(W199>0,0,IF(AA199>0,0,IF(AE199>0,0,IF(AG199>=B199,AH199,0)))))))","v":0},"2016-04-01","2016-04-30",{"$f":"IF(B199>=AJ199,1,0)","v":1},{"$f":"IF(B199<=AK199,1,0)","v":0},{"$f":"IF(SUM(AL199:AM199)=2,1,0)","v":0},{"$f":"IF('DA 1.2'!B243=2,0,IF(AN199=1,I199-J199,0))","v":0},null,{"$f":"ROUND(K199*10%,3)","v":3.867},{"$f":"ROUND(K199,4)","v":38.671199999999999}]
[null,"2016-07-13",38130,7,31,1230,{"$f":"G199","v":0.18340000000000001},0.15196000000000001,225.58200000000002,186.91080000000002,38.671199999999999,{"$f":"L199","v":"2016-01-01"},"2016-09-30",38130,38130,{"$f":"P199","v":"2016-10-01"},"2016-12-31",39160,0,{"$f":"T199","v":"2017-01-01"},"2017-03-31",39160,0,{"$f":"X199","v":"2017-10-01"},"2017-03-31",39160,0,{"$f":"AB199","v":"2017-12-01"},{"$f":"AC199","v":"2017-03-31"},{"$f":"AD199","v":39160},0,{"$f":"AF199","v":"2018-12-02"},{"$f":"AG199","v":"2017-02-28"},{"$f":"AH199","v":39160},0,{"$f":"AJ199","v":"2016-04-01"},"2016-04-30",1,0,0,{"$f":"IF('DA 1.2'!B244=2,0,IF(AN200=1,I200-J200,0))","v":0},null,3.867,38.671199999999999]
[null,"2016-07-14",38130,7,31,1230,0.18340000000000001,0.15196000000000001,225.58200000000002,186.91080000000002,38.671199999999999,"2016-01-01","2016-09-30",38130,38130,"2016-10-01","2016-12-31",39160,0,"2017-01-01","2017-03-31",39160,0,"2017-10-01","2017-03-31",39160,0,"2017-12-01","2017-03-31",39160,0,"2018-12-02","2017-02-28",39160,0,"2016-04-01","2016-04-30",1,0,0,{"$f":"IF('DA 1.2'!B245=2,0,IF(AN201=1,I201-J201,0))","v":0},null,3.867,38.671199999999999]
[null,"2016-07-15",38130,7,31,1230,0.18340000000000001,0.15196000000000001,225.58200000000002,186.91080000000002,38.671199999999999,"2016-01-01","2016-09-30",38130,38130,"2016-10-01","2016-12-31",39160,0,"2017-01-01","2017-03-31",39160,0,"2017-10-01","2017-03-31",39160,0,"2017-12-01","2017-03-31",39160,0,"2018-12-02","2017-02-28",39160,0,"2016-04-01","2016-04-30",1,0,0,{"$f":"IF('DA 1.2'!B246=2,0,IF(AN202=1,I202-J202,0))","v":0},null,3.867,38.671199999999999]
[null,"2016-07-16",38130,7,31,1230,0.18340000000000001,0.15196000000000001,225.58200000000002,186.91080000000002,38.671199999999999,"2016-01-01","2016-09-30",38130,38130,"2016-10-01","2016-12-31",39160,0,"2017-01-01","2017-03-31",39160,0,"2017-10-01","2017-03-31",39160,0,"2017-12-01","2017-03-31",39160,0,"2018-12-02","2017-02-28",39160,0,"2016-04-01","2016-04-30",1,0,0,{"$f":"IF('DA 1.2'!B247=2,0,IF(AN203=1,I203-J203,0))","v":0},null,3.867,38.671199999999999]
[null,"2016-07-17",38130,7,31,1230,0.18340000000000001,0.15196000000000001,225.58200000000002,186.91080000000002,38.671199999999999,"2016-01-01","2016-09-30",38130,38130,"2016-10-01","2016-12-31",39160,0,"2017-01-01","2017-03-31",39160,0,"2017-10-01","2017-03-31",39160,0,"2017-12-01","2017-03-31",39160,0,"2018-12-02","2017-02-28",39160,0,"2016-04-01","2016-04-30",1,0,0,{"$f":"IF('DA 1.2'!B248=2,0,IF(AN204=1,I204-J204,0))","v":0},null,3.867,38.671199999999999]
[null,"2016-07-18",38130,7,31,1230,0.18340000000000001,0.15196000000000001,225.58200000000002,186.91080000000002,38.671199999999999,"2016-01-01","2016-09-30",38130,38130,"2016-10-01","2016-12-31",39160,0,"2017-01-01","2017-03-31",39160,0,"2017-10-01","2017-03-31",39160,0,"2017-12-01","2017-03-31",39160,0,"2018-12-02","2017-02-28",39160,0,"2016-04-01","2016-04-30",1,0,0,{"$f":"IF('DA 1.2'!B249=2,0,IF(AN205=1,I205-J205,0))","v":0},null,3.867,38.671199999999999]
[null,"2016-07-19",38130,7,31,1230,0.18340000000000001,0.15196000000000001,225.58200000000002,186.91080000000002,38.671199999999999,"2016-01-01","2016-09-30",38130,38130,"2016-10-01","2016-12-31",39160,0,"2017-01-01","2017-03-31",39160,0,"2017-10-01","2017-03-31",39160,0,"2017-12-01","2017-03-31",39160,0,"2018-12-02","2017-02-28",39160,0,"2016-04-01","2016-04-30",1,0,0,{"$f":"IF('DA 1.2'!B250=2,0,IF(AN206=1,I206-J206,0))","v":0},null,3.867,38.671199999999999]
[null,"2016-07-20",38130,7,31,1230,0.18340000000000001,0.15196000000000001,225.58200000000002,186.91080000000002,38.671199999999999,"2016-01-01","2016-09-30",38130,38130,"2016-10-01","2016-12-31",39160,0,"2017-01-01","2017-03-31",39160,0,"2017-10-01","2017-03-31",39160,0,"2017-12-01","2017-03-31",39160,0,"2018-12-02","2017-02-28",39160,0,"2016-04-01","2016-04-30",1,0,0,{"$f":"IF('DA 1.2'!B251=2,0,IF(AN207=1,I207-J207,0))","v":0},null,3.867,38.671199999999999]
[null,"2016-07-21",38130,7,31,1230,0.18340000000000001,0.15196000000000001,225.58200000000002,186.91080000000002,38.671199999999999,"2016-01-01","2016-09-30",38130,38130,"2016-10-01","2016-12-31",39160,0,"2017-01-01","2017-03-31",39160,0,"2017-10-01","2017-03-31",39160,0,"2017-12-01","2017-03-31",39160,0,"2018-12-02","2017-02-28",39160,0,"2016-04-01","2016-04-30",1,0,0,{"$f":"IF('DA 1.2'!B252=2,0,IF(AN208=1,I208-J208,0))","v":0},null,3.867,38.671199999999999]
[null,"2016-07-22",38130,7,31,1230,0.18340000000000001,0.15196000000000001,225.58200000000002,186.91080000000002,38.671199999999999,"2016-01-01","2016-09-30",38130,38130,"2016-10-01","2016-12-31",39160,0,"2017-01-01","2017-03-31",39160,0,"2017-10-01","2017-03-31",39160,0,"2017-12-01","2017-03-31",39160,0,"2018-12-02","2017-02-28",39160,0,"2016-04-01","2016-04-30",1,0,0,{"$f":"IF('DA 1.2'!B253=2,0,IF(AN209=1,I209-J209,0))","v":0},null,3.867,38.671199999999999]
[null,"2016-07-23",38130,7,31,1230,0.18340000000000001,0.15196000000000001,225.58200000000002,186.91080000000002,38.671199999999999,"2016-01-01","2016-09-30",38130,38130,"2016-10-01","2016-12-31",39160,0,"2017-01-01","2017-03-31",39160,0,"2017-10-01","2017-03-31",39160,0,"2017-12-01","2017-03-31",39160,0,"2018-12-02","2017-02-28",39160,0,"2016-04-01","2016-04-30",1,0,0,{"$f":"IF('DA 1.2'!B254=2,0,IF(AN210=1,I210-J210,0))","v":0},null,3.867,38.671199999999999]
[null,"2016-07-24",38130,7,31,1230,0.18340000000000001,0.15196000000000001,225.58200000000002,186.91080000000002,38.671199999999999,"2016-01-01","2016-09-30",38130,38130,"2016-10-01","2016-12-31",39160,0,"2017-01-01","2017-03-31",39160,0,"2017-10-01","2017-03-31",39160,0,"2017-12-01","2017-03-31",39160,0,"2018-12-02","2017-02-28",39160,0,"2016-04-01","2016-04-30",1,0,0,{"$f":"IF('DA 1.2'!B255=2,0,IF(AN211=1,I211-J211,0))","v":0},null,3.867,38.671199999999999]
[null,"2016-07-25",38130,7,31,1230,0.18340000000000001,0.15196000000000001,225.58200000000002,186.91080000000002,38.671199999999999,"2016-01-01","2016-09-30",38130,38130,"2016-10-01","2016-12-31",39160,0,"2017-01-01","2017-03-31",39160,0,"2017-10-01","2017-03-31",39160,0,"2017-12-01","2017-03-31",39160,0,"2018-12-02","2017-02-28",39160,0,"2016-04-01","2016-04-30",1,0,0,{"$f":"IF('DA 1.2'!B256=2,0,IF(AN212=1,I212-J212,0))","v":0},null,3.867,38.671199999999999]
[null,"2016-07-26",38130,7,31,1230,0.18340000000000001,0.15196000000000001,225.58200000000002,186.91080000000002,38.671199999999999,"2016-01-01","2016-09-30",38130,38130,"2016-10-01","2016-12-31",39160,0,"2017-01-01","2017-03-31",39160,0,"2017-10-01","2017-03-31",39160,0,"2017-12-01","2017-03-31",39160,0,"2018-12-02","2017-02-28",39160,0,"2016-04-01","2016-04-30",1,0,0,{"$f":"IF('DA 1.2'!B257=2,0,IF(AN213=1,I213-J213,0))","v":0},null,3.867,38.671199999999999]
[null,"2016-07-27",38130,7,31,1230,0.18340000000000001,0.15196000000000001,225.58200000000002,186.91080000000002,38.671199999999999,"2016-01-01","2016-09-30",38130,38130,"2016-10-01","2016-12-31",39160,0,"2017-01-01","2017-03-31",39160,0,"2017-10-01","2017-03-31",39160,0,"2017-12-01","2017-03-31",39160,0,"2018-12-02","2017-02-28",39160,0,"2016-04-01","2016-04-30",1,0,0,{"$f":"IF('DA 1.2'!B258=2,0,IF(AN214=1,I214-J214,0))","v":0},null,3.867,38.671199999999999]
[null,"2016-07-28",38130,7,31,1230,0.18340000000000001,0.15196000000000001,225.58200000000002,186.91080000000002,38.671199999999999,"2016-01-01","2016-09-30",38130,38130,"2016-10-01","2016-12-31",39160,0,"2017-01-01","2017-03-31",39160,0,"2017-10-01","2017-03-31",39160,0,"2017-12-01","2017-03-31",39160,0,"2018-12-02","2017-02-28",39160,0,"2016-04-01","2016-04-30",1,0,0,{"$f":"IF('DA 1.2'!B259=2,0,IF(AN215=1,I215-J215,0))","v":0},null,3.867,38.671199999999999]
[null,"2016-07-29",38130,7,31,1230,{"$f":"G215","v":0.18340000000000001},0.15196000000000001,225.58200000000002,186.91080000000002,38.671199999999999,{"$f":"L215","v":"2016-01-01"},"2016-09-30",38130,38130,{"$f":"P215","v":"2016-10-01"},"2016-12-31",39160,0,{"$f":"T215","v":"2017-01-01"},"2017-03-31",39160,0,{"$f":"X215","v":"2017-10-01"},"2017-03-31",39160,0,"2017-12-01","2017-03-31",39160,0,"2018-12-02","2017-02-28",39160,0,{"$f":"AJ215","v":"2016-04-01"},"2016-04-30",1,0,0,{"$f":"IF('DA 1.2'!B260=2,0,IF(AN216=1,I216-J216,0))","v":0},null,3.867,38.671199999999999]
[null,"2016-07-30",38130,7,31,1230,0.18340000000000001,0.15196000000000001,225.58200000000002,186.91080000000002,38.671199999999999,"2016-01-01","2016-09-30",38130,38130,"2016-10-01","2016-12-31",39160,0,"2017-01-01","2017-03-31",39160,0,"2017-10-01","2017-03-31",39160,0,"2017-12-01","2017-03-31",39160,0,"2018-12-02","2017-02-28",39160,0,"2016-04-01","2016-04-30",1,0,0,{"$f":"IF('DA 1.2'!B261=2,0,IF(AN217=1,I217-J217,0))","v":0},null,3.867,38.671199999999999]
[null,"2016-07-31",38130,7,31,1230,0.18340000000000001,0.15196000000000001,225.58200000000002,186.91080000000002,38.671199999999999,"2016-01-01","2016-09-30",38130,38130,"2016-10-01","2016-12-31",39160,0,"2017-01-01","2017-03-31",39160,0,"2017-10-01","2017-03-31",39160,0,"2017-12-01","2017-03-31",39160,0,"2018-12-02","2017-02-28",39160,0,"2016-04-01","2016-04-30",1,0,0,{"$f":"IF('DA 1.2'!B262=2,0,IF(AN218=1,I218-J218,0))","v":0},null,3.867,38.671199999999999]
[null,"2016-08-01",38130,8,31,1230,0.18340000000000001,0.15196000000000001,225.58200000000002,186.91080000000002,38.671199999999999,"2016-01-01","2016-09-30",38130,38130,"2016-10-01","2016-12-31",39160,0,"2017-01-01","2017-03-31",39160,0,"2017-10-01","2017-03-31",39160,0,"2017-12-01","2017-03-31",39160,0,"2018-12-02","2017-02-28",39160,0,"2016-04-01","2016-04-30",1,0,0,{"$f":"IF('DA 1.2'!B263=2,0,IF(AN219=1,I219-J219,0))","v":0},null,3.867,38.671199999999999]
[null,"2016-08-02",38130,8,31,1230,0.18340000000000001,0.15196000000000001,225.58200000000002,186.91080000000002,38.671199999999999,"2016-01-01","2016-09-30",38130,38130,"2016-10-01","2016-12-31",39160,0,"2017-01-01","2017-03-31",39160,0,"2017-10-01","2017-03-31",39160,0,"2017-12-01","2017-03-31",39160,0,"2018-12-02","2017-02-28",39160,0,"2016-04-01","2016-04-30",1,0,0,{"$f":"IF('DA 1.2'!B264=2,0,IF(AN220=1,I220-J220,0))","v":0},null,3.867,38.671199999999999]
[null,"2016-08-03",38130,8,31,1230,0.18340000000000001,0.15196000000000001,225.58200000000002,186.91080000000002,38.671199999999999,"2016-01-01","2016-09-30",38130,38130,"2016-10-01","2016-12-31",39160,0,"2017-01-01","2017-03-31",39160,0,"2017-10-01","2017-03-31",39160,0,"2017-12-01","2017-03-31",39160,0,"2018-12-02","2017-02-28",39160,0,"2016-04-01","2016-04-30",1,0,0,{"$f":"IF('DA 1.2'!B265=2,0,IF(AN221=1,I221-J221,0))","v":0},null,3.867,38.671199999999999]
[null,"2016-08-04",38130,8,31,1230,0.18340000000000001,0.15196000000000001,225.58200000000002,186.91080000000002,38.671199999999999,"2016-01-01","2016-09-30",38130,38130,"2016-10-01","2016-12-31",39160,0,"2017-01-01","2017-03-31",39160,0,"2017-10-01","2017-03-31",39160,0,"2017-12-01","2017-03-31",39160,0,"2018-12-02","2017-02-28",39160,0,"2016-04-01","2016-04-30",1,0,0,{"$f":"IF('DA 1.2'!B266=2,0,IF(AN222=1,I222-J222,0))","v":0},null,3.867,38.671199999999999]
[null,"2016-08-05",38130,8,31,1230,0.18340000000000001,0.15196000000000001,225.58200000000002,186.91080000000002,38.671199999999999,"2016-01-01","2016-09-30",38130,38130,"2016-10-01","2016-12-31",39160,0,"2017-01-01","2017-03-31",39160,0,"2017-10-01","2017-03-31",39160,0,"2017-12-01","2017-03-31",39160,0,"2018-12-02","2017-02-28",39160,0,"2016-04-01","2016-04-30",1,0,0,{"$f":"IF('DA 1.2'!B267=2,0,IF(AN223=1,I223-J223,0))","v":0},null,3.867,38.671199999999999]
[null,"2016-08-06",38130,8,31,1230,0.18340000000000001,0.15196000000000001,225.58200000000002,186.91080000000002,38.671199999999999,"2016-01-01","2016-09-30",38130,38130,"2016-10-01","2016-12-31",39160,0,"2017-01-01","2017-03-31",39160,0,"2017-10-01","2017-03-31",39160,0,"2017-12-01","2017-03-31",39160,0,"2018-12-02","2017-02-28",39160,0,"2016-04-01","2016-04-30",1,0,0,{"$f":"IF('DA 1.2'!B268=2,0,IF(AN224=1,I224-J224,0))","v":0},null,3.867,38.671199999999999]
[null,"2016-08-07",38130,8,31,1230,0.18340000000000001,0.15196000000000001,225.58200000000002,186.91080000000002,38.671199999999999,"2016-01-01","2016-09-30",38130,38130,"2016-10-01","2016-12-31",39160,0,"2017-01-01","2017-03-31",39160,0,"2017-10-01","2017-03-31",39160,0,"2017-12-01","2017-03-31",39160,0,"2018-12-02","2017-02-28",39160,0,"2016-04-01","2016-04-30",1,0,0,{"$f":"IF('DA 1.2'!B269=2,0,IF(AN225=1,I225-J225,0))","v":0},null,3.867,38.671199999999999]
[null,"2016-08-08",38130,8,31,1230,0.18340000000000001,0.15196000000000001,225.58200000000002,186.91080000000002,38.671199999999999,"2016-01-01","2016-09-30",38130,38130,"2016-10-01","2016-12-31",39160,0,"2017-01-01","2017-03-31",39160,0,"2017-10-01","2017-03-31",39160,0,"2017-12-01","2017-03-31",39160,0,"2018-12-02","2017-02-28",39160,0,"2016-04-01","2016-04-30",1,0,0,{"$f":"IF('DA 1.2'!B270=2,0,IF(AN226=1,I226-J226,0))","v":0},null,3.867,38.671199999999999]
[null,"2016-08-09",38130,8,31,1230,0.18340000000000001,0.15196000000000001,225.58200000000002,186.91080000000002,38.671199999999999,"2016-01-01","2016-09-30",38130,38130,"2016-10-01","2016-12-31",39160,0,"2017-01-01","2017-03-31",39160,0,"2017-10-01","2017-03-31",39160,0,"2017-12-01","2017-03-31",39160,0,"2018-12-02","2017-02-28",39160,0,"2016-04-01","2016-04-30",1,0,0,{"$f":"IF('DA 1.2'!B271=2,0,IF(AN227=1,I227-J227,0))","v":0},null,3.867,38.671199999999999]
[null,"2016-08-10",38130,8,31,1230,0.18340000000000001,0.15196000000000001,225.58200000000002,186.91080000000002,38.671199999999999,"2016-01-01","2016-09-30",38130,38130,"2016-10-01","2016-12-31",39160,0,"2017-01-01","2017-03-31",39160,0,"2017-10-01","2017-03-31",39160,0,"2017-12-01","2017-03-31",39160,0,"2018-12-02","2017-02-28",39160,0,"2016-04-01","2016-04-30",1,0,0,{"$f":"IF('DA 1.2'!B272=2,0,IF(AN228=1,I228-J228,0))","v":0},null,3.867,38.671199999999999]
[null,"2016-08-11",38130,8,31,1230,0.18340000000000001,0.15196000000000001,225.58200000000002,186.91080000000002,38.671199999999999,"2016-01-01","2016-09-30",38130,38130,"2016-10-01","2016-12-31",39160,0,"2017-01-01","2017-03-31",39160,0,"2017-10-01","2017-03-31",39160,0,"2017-12-01","2017-03-31",39160,0,"2018-12-02","2017-02-28",39160,0,"2016-04-01","2016-04-30",1,0,0,{"$f":"IF('DA 1.2'!B273=2,0,IF(AN229=1,I229-J229,0))","v":0},null,3.867,38.671199999999999]
[null,"2016-08-12",38130,8,31,1230,0.18340000000000001,0.15196000000000001,225.58200000000002,186.91080000000002,38.671199999999999,"2016-01-01","2016-09-30",38130,38130,"2016-10-01","2016-12-31",39160,0,"2017-01-01","2017-03-31",39160,0,"2017-10-01","2017-03-31",39160,0,"2017-12-01","2017-03-31",39160,0,"2018-12-02","2017-02-28",39160,0,"2016-04-01","2016-04-30",1,0,0,{"$f":"IF('DA 1.2'!B274=2,0,IF(AN230=1,I230-J230,0))","v":0},null,3.867,38.671199999999999]
[null,"2016-08-13",38130,8,31,1230,0.18340000000000001,0.15196000000000001,225.58200000000002,186.91080000000002,38.671199999999999,"2016-01-01","2016-09-30",38130,38130,"2016-10-01","2016-12-31",39160,0,"2017-01-01","2017-03-31",39160,0,"2017-10-01","2017-03-31",39160,0,"2017-12-01","2017-03-31",39160,0,"2018-12-02","2017-02-28",39160,0,"2016-04-01","2016-04-30",1,0,0,{"$f":"IF('DA 1.2'!B275=2,0,IF(AN231=1,I231-J231,0))","v":0},null,3.867,38.671199999999999]
[null,"2016-08-14",38130,8,31,1230,{"$f":"G231","v":0.18340000000000001},0.15196000000000001,225.58200000000002,186.91080000000002,38.671199999999999,{"$f":"L231","v":"2016-01-01"},"2016-09-30",38130,38130,{"$f":"P231","v":"2016-10-01"},"2016-12-31",39160,0,{"$f":"T231","v":"2017-01-01"},"2017-03-31",39160,0,{"$f":"X231","v":"2017-10-01"},"2017-03-31",39160,0,"2017-12-01","2017-03-31",39160,0,"2018-12-02","2017-02-28",39160,0,{"$f":"AJ231","v":"2016-04-01"},"2016-04-30",1,0,0,{"$f":"IF('DA 1.2'!B276=2,0,IF(AN232=1,I232-J232,0))","v":0},null,3.867,38.671199999999999]
[null,"2016-08-15",38130,8,31,1230,0.18340000000000001,0.15196000000000001,225.58200000000002,186.91080000000002,38.671199999999999,"2016-01-01","2016-09-30",38130,38130,"2016-10-01","2016-12-31",39160,0,"2017-01-01","2017-03-31",39160,0,"2017-10-01","2017-03-31",39160,0,"2017-12-01","2017-03-31",39160,0,"2018-12-02","2017-02-28",39160,0,"2016-04-01","2016-04-30",1,0,0,{"$f":"IF('DA 1.2'!B277=2,0,IF(AN233=1,I233-J233,0))","v":0},null,3.867,38.671199999999999]
[null,"2016-08-16",38130,8,31,1230,0.18340000000000001,0.15196000000000001,225.58200000000002,186.91080000000002,38.671199999999999,"2016-01-01","2016-09-30",38130,38130,"2016-10-01","2016-12-31",39160,0,"2017-01-01","2017-03-31",39160,0,"2017-10-01","2017-03-31",39160,0,"2017-12-01","2017-03-31",39160,0,"2018-12-02","2017-02-28",39160,0,"2016-04-01","2016-04-30",1,0,0,{"$f":"IF('DA 1.2'!B278=2,0,IF(AN234=1,I234-J234,0))","v":0},null,3.867,38.671199999999999]
[null,"2016-08-17",38130,8,31,1230,0.18340000000000001,0.15196000000000001,225.58200000000002,186.91080000000002,38.671199999999999,"2016-01-01","2016-09-30",38130,38130,"2016-10-01","2016-12-31",39160,0,"2017-01-01","2017-03-31",39160,0,"2017-10-01","2017-03-31",39160,0,"2017-12-01","2017-03-31",39160,0,"2018-12-02","2017-02-28",39160,0,"2016-04-01","2016-04-30",1,0,0,{"$f":"IF('DA 1.2'!B279=2,0,IF(AN235=1,I235-J235,0))","v":0},null,3.867,38.671199999999999]
[null,"2016-08-18",38130,8,31,1230,0.18340000000000001,0.15196000000000001,225.58200000000002,186.91080000000002,38.671199999999999,"2016-01-01","2016-09-30",38130,38130,"2016-10-01","2016-12-31",39160,0,"2017-01-01","2017-03-31",39160,0,"2017-10-01","2017-03-31",39160,0,"2017-12-01","2017-03-31",39160,0,"2018-12-02","2017-02-28",39160,0,"2016-04-01","2016-04-30",1,0,0,{"$f":"IF('DA 1.2'!B280=2,0,IF(AN236=1,I236-J236,0))","v":0},null,3.867,38.671199999999999]
[null,"2016-08-19",38130,8,31,1230,0.18340000000000001,0.15196000000000001,225.58200000000002,186.91080000000002,38.671199999999999,"2016-01-01","2016-09-30",38130,38130,"2016-10-01","2016-12-31",39160,0,"2017-01-01","2017-03-31",39160,0,"2017-10-01","2017-03-31",39160,0,"2017-12-01","2017-03-31",39160,0,"2018-12-02","2017-02-28",39160,0,"2016-04-01","2016-04-30",1,0,0,{"$f":"IF('DA 1.2'!B281=2,0,IF(AN237=1,I237-J237,0))","v":0},null,3.867,38.671199999999999]
[null,"2016-08-20",38130,8,31,1230,0.18340000000000001,0.15196000000000001,225.58200000000002,186.91080000000002,38.671199999999999,"2016-01-01","2016-09-30",38130,38130,"2016-10-01","2016-12-31",39160,0,"2017-01-01","2017-03-31",39160,0,"2017-10-01","2017-03-31",39160,0,"2017-12-01","2017-03-31",39160,0,"2018-12-02","2017-02-28",39160,0,"2016-04-01","2016-04-30",1,0,0,{"$f":"IF('DA 1.2'!B282=2,0,IF(AN238=1,I238-J238,0))","v":0},null,3.867,38.671199999999999]
[null,"2016-08-21",38130,8,31,1230,0.18340000000000001,0.15196000000000001,225.58200000000002,186.91080000000002,38.671199999999999,"2016-01-01","2016-09-30",38130,38130,"2016-10-01","2016-12-31",39160,0,"2017-01-01","2017-03-31",39160,0,"2017-10-01","2017-03-31",39160,0,"2017-12-01","2017-03-31",39160,0,"2018-12-02","2017-02-28",39160,0,"2016-04-01","2016-04-30",1,0,0,{"$f":"IF('DA 1.2'!B283=2,0,IF(AN239=1,I239-J239,0))","v":0},null,3.867,38.671199999999999]
[null,"2016-08-22",38130,8,31,1230,0.18340000000000001,0.15196000000000001,225.58200000000002,186.91080000000002,38.671199999999999,"2016-01-01","2016-09-30",38130,38130,"2016-10-01","2016-12-31",39160,0,"2017-01-01","2017-03-31",39160,0,"2017-10-01","2017-03-31",39160,0,"2017-12-01","2017-03-31",39160,0,"2018-12-02","2017-02-28",39160,0,"2016-04-01","2016-04-30",1,0,0,{"$f":"IF('DA 1.2'!B284=2,0,IF(AN240=1,I240-J240,0))","v":0},null,3.867,38.671199999999999]
[null,"2016-08-23",38130,8,31,1230,0.18340000000000001,0.15196000000000001,225.58200000000002,186.91080000000002,38.671199999999999,"2016-01-01","2016-09-30",38130,38130,"2016-10-01","2016-12-31",39160,0,"2017-01-01","2017-03-31",39160,0,"2017-10-01","2017-03-31",39160,0,"2017-12-01","2017-03-31",39160,0,"2018-12-02","2017-02-28",39160,0,"2016-04-01","2016-04-30",1,0,0,{"$f":"IF('DA 1.2'!B285=2,0,IF(AN241=1,I241-J241,0))","v":0},null,3.867,38.671199999999999]
[null,"2016-08-24",38130,8,31,1230,0.18340000000000001,0.15196000000000001,225.58200000000002,186.91080000000002,38.671199999999999,"2016-01-01","2016-09-30",38130,38130,"2016-10-01","2016-12-31",39160,0,"2017-01-01","2017-03-31",39160,0,"2017-10-01","2017-03-31",39160,0,"2017-12-01","2017-03-31",39160,0,"2018-12-02","2017-02-28",39160,0,"2016-04-01","2016-04-30",1,0,0,{"$f":"IF('DA 1.2'!B286=2,0,IF(AN242=1,I242-J242,0))","v":0},null,3.867,38.671199999999999]
[null,"2016-08-25",38130,8,31,1230,0.18340000000000001,0.15196000000000001,225.58200000000002,186.91080000000002,38.671199999999999,"2016-01-01","2016-09-30",38130,38130,"2016-10-01","2016-12-31",39160,0,"2017-01-01","2017-03-31",39160,0,"2017-10-01","2017-03-31",39160,0,"2017-12-01","2017-03-31",39160,0,"2018-12-02","2017-02-28",39160,0,"2016-04-01","2016-04-30",1,0,0,{"$f":"IF('DA 1.2'!B287=2,0,IF(AN243=1,I243-J243,0))","v":0},null,3.867,38.671199999999999]
[null,"2016-08-26",38130,8,31,1230,0.18340000000000001,0.15196000000000001,225.58200000000002,186.91080000000002,38.671199999999999,"2016-01-01","2016-09-30",38130,38130,"2016-10-01","2016-12-31",39160,0,"2017-01-01","2017-03-31",39160,0,"2017-10-01","2017-03-31",39160,0,"2017-12-01","2017-03-31",39160,0,"2018-12-02","2017-02-28",39160,0,"2016-04-01","2016-04-30",1,0,0,{"$f":"IF('DA 1.2'!B288=2,0,IF(AN244=1,I244-J244,0))","v":0},null,3.867,38.671199999999999]
[null,"2016-08-27",38130,8,31,1230,0.18340000000000001,0.15196000000000001,225.58200000000002,186.91080000000002,38.671199999999999,"2016-01-01","2016-09-30",38130,38130,"2016-10-01","2016-12-31",39160,0,"2017-01-01","2017-03-31",39160,0,"2017-10-01","2017-03-31",39160,0,"2017-12-01","2017-03-31",39160,0,"2018-12-02","2017-02-28",39160,0,"2016-04-01","2016-04-30",1,0,0,{"$f":"IF('DA 1.2'!B289=2,0,IF(AN245=1,I245-J245,0))","v":0},null,3.867,38.671199999999999]
[null,"2016-08-28",38130,8,31,1230,0.18340000000000001,0.15196000000000001,225.58200000000002,186.91080000000002,38.671199999999999,"2016-01-01","2016-09-30",38130,38130,"2016-10-01","2016-12-31",39160,0,"2017-01-01","2017-03-31",39160,0,"2017-10-01","2017-03-31",39160,0,"2017-12-01","2017-03-31",39160,0,"2018-12-02","2017-02-28",39160,0,"2016-04-01","2016-04-30",1,0,0,{"$f":"IF('DA 1.2'!B290=2,0,IF(AN246=1,I246-J246,0))","v":0},null,3.867,38.671199999999999]
[null,"2016-08-29",38130,8,31,1230,0.18340000000000001,0.15196000000000001,225.58200000000002,186.91080000000002,38.671199999999999,"2016-01-01","2016-09-30",38130,38130,"2016-10-01","2016-12-31",39160,0,"2017-01-01","2017-03-31",39160,0,"2017-10-01","2017-03-31",39160,0,"2017-12-01","2017-03-31",39160,0,"2018-12-02","2017-02-28",39160,0,"2016-04-01","2016-04-30",1,0,0,{"$f":"IF('DA 1.2'!B291=2,0,IF(AN247=1,I247-J247,0))","v":0},null,3.867,38.671199999999999]
[null,"2016-08-30",38130,8,31,1230,{"$f":"G247","v":0.18340000000000001},0.15196000000000001,225.58200000000002,186.91080000000002,38.671199999999999,{"$f":"L247","v":"2016-01-01"},"2016-09-30",38130,38130,{"$f":"P247","v":"2016-10-01"},"2016-12-31",39160,0,{"$f":"T247","v":"2017-01-01"},"2017-03-31",39160,0,{"$f":"X247","v":"2017-10-01"},"2017-03-31",39160,0,"2017-12-01","2017-03-31",39160,0,"2018-12-02","2017-02-28",39160,0,{"$f":"AJ247","v":"2016-04-01"},"2016-04-30",1,0,0,{"$f":"IF('DA 1.2'!B292=2,0,IF(AN248=1,I248-J248,0))","v":0},null,3.867,38.671199999999999]
[null,"2016-08-31",38130,8,31,1230,0.18340000000000001,0.15196000000000001,225.58200000000002,186.91080000000002,38.671199999999999,"2016-01-01","2016-09-30",38130,38130,"2016-10-01","2016-12-31",39160,0,"2017-01-01","2017-03-31",39160,0,"2017-10-01","2017-03-31",39160,0,"2017-12-01","2017-03-31",39160,0,"2018-12-02","2017-02-28",39160,0,"2016-04-01","2016-04-30",1,0,0,{"$f":"IF('DA 1.2'!B293=2,0,IF(AN249=1,I249-J249,0))","v":0},null,3.867,38.671199999999999]
[null,"2016-09-01",38130,9,30,1271,0.18340000000000001,0.15196000000000001,233.10140000000001,193.14116000000001,39.960239999999999,"2016-01-01","2016-09-30",38130,38130,"2016-10-01","2016-12-31",39160,0,"2017-01-01","2017-03-31",39160,0,"2017-10-01","2017-03-31",39160,0,"2017-12-01","2017-03-31",39160,0,"2018-12-02","2017-02-28",39160,0,"2016-04-01","2016-04-30",1,0,0,{"$f":"IF('DA 1.2'!B294=2,0,IF(AN250=1,I250-J250,0))","v":0},null,3.996,39.9602]
[null,"2016-09-02",38130,9,30,1271,0.18340000000000001,0.15196000000000001,233.10140000000001,193.14116000000001,39.960239999999999,"2016-01-01","2016-09-30",38130,38130,"2016-10-01","2016-12-31",39160,0,"2017-01-01","2017-03-31",39160,0,"2017-10-01","2017-03-31",39160,0,"2017-12-01","2017-03-31",39160,0,"2018-12-02","2017-02-28",39160,0,"2016-04-01","2016-04-30",1,0,0,{"$f":"IF('DA 1.2'!B295=2,0,IF(AN251=1,I251-J251,0))","v":0},null,3.996,39.9602]
[null,"2016-09-03",38130,9,30,1271,0.18340000000000001,0.15196000000000001,233.10140000000001,193.14116000000001,39.960239999999999,"2016-01-01","2016-09-30",38130,38130,"2016-10-01","2016-12-31",39160,0,"2017-01-01","2017-03-31",39160,0,"2017-10-01","2017-03-31",39160,0,"2017-12-01","2017-03-31",39160,0,"2018-12-02","2017-02-28",39160,0,"2016-04-01","2016-04-30",1,0,0,{"$f":"IF('DA 1.2'!B296=2,0,IF(AN252=1,I252-J252,0))","v":0},null,3.996,39.9602]
[null,"2016-09-04",38130,9,30,1271,0.18340000000000001,0.15196000000000001,233.10140000000001,193.14116000000001,39.960239999999999,"2016-01-01","2016-09-30",38130,38130,"2016-10-01","2016-12-31",39160,0,"2017-01-01","2017-03-31",39160,0,"2017-10-01","2017-03-31",39160,0,"2017-12-01","2017-03-31",39160,0,"2018-12-02","2017-02-28",39160,0,"2016-04-01","2016-04-30",1,0,0,{"$f":"IF('DA 1.2'!B297=2,0,IF(AN253=1,I253-J253,0))","v":0},null,3.996,39.9602]
[null,"2016-09-05",38130,9,30,1271,0.18340000000000001,0.15196000000000001,233.10140000000001,193.14116000000001,39.960239999999999,"2016-01-01","2016-09-30",38130,38130,"2016-10-01","2016-12-31",39160,0,"2017-01-01","2017-03-31",39160,0,"2017-10-01","2017-03-31",39160,0,"2017-12-01","2017-03-31",39160,0,"2018-12-02","2017-02-28",39160,0,"2016-04-01","2016-04-30",1,0,0,{"$f":"IF('DA 1.2'!B298=2,0,IF(AN254=1,I254-J254,0))","v":0},null,3.996,39.9602]
[null,"2016-09-06",38130,9,30,1271,0.18340000000000001,0.15196000000000001,233.10140000000001,193.14116000000001,39.960239999999999,"2016-01-01","2016-09-30",38130,38130,"2016-10-01","2016-12-31",39160,0,"2017-01-01","2017-03-31",39160,0,"2017-10-01","2017-03-31",39160,0,"2017-12-01","2017-03-31",39160,0,"2018-12-02","2017-02-28",39160,0,"2016-04-01","2016-04-30",1,0,0,{"$f":"IF('DA 1.2'!B299=2,0,IF(AN255=1,I255-J255,0))","v":0},null,3.996,39.9602]
[null,"2016-09-07",38130,9,30,1271,0.18340000000000001,0.15196000000000001,233.10140000000001,193.14116000000001,39.960239999999999,"2016-01-01","2016-09-30",38130,38130,"2016-10-01","2016-12-31",39160,0,"2017-01-01","2017-03-31",39160,0,"2017-10-01","2017-03-31",39160,0,"2017-12-01","2017-03-31",39160,0,"2018-12-02","2017-02-28",39160,0,"2016-04-01","2016-04-30",1,0,0,{"$f":"IF('DA 1.2'!B300=2,0,IF(AN256=1,I256-J256,0))","v":0},null,3.996,39.9602]
[null,"2016-09-08",38130,9,30,1271,0.18340000000000001,0.15196000000000001,233.10140000000001,193.14116000000001,39.960239999999999,"2016-01-01","2016-09-30",38130,38130,"2016-10-01","2016-12-31",39160,0,"2017-01-01","2017-03-31",39160,0,"2017-10-01","2017-03-31",39160,0,"2017-12-01","2017-03-31",39160,0,"2018-12-02","2017-02-28",39160,0,"2016-04-01","2016-04-30",1,0,0,{"$f":"IF('DA 1.2'!B301=2,0,IF(AN257=1,I257-J257,0))","v":0},null,3.996,39.9602]
[null,"2016-09-09",38130,9,30,1271,0.18340000000000001,0.15196000000000001,233.10140000000001,193.14116000000001,39.960239999999999,"2016-01-01","2016-09-30",38130,38130,"2016-10-01","2016-12-31",39160,0,"2017-01-01","2017-03-31",39160,0,"2017-10-01","2017-03-31",39160,0,"2017-12-01","2017-03-31",39160,0,"2018-12-02","2017-02-28",39160,0,"2016-04-01","2016-04-30",1,0,0,{"$f":"IF('DA 1.2'!B302=2,0,IF(AN258=1,I258-J258,0))","v":0},null,3.996,39.9602]
[null,"2016-09-10",38130,9,30,1271,0.18340000000000001,0.15196000000000001,233.10140000000001,193.14116000000001,39.960239999999999,"2016-01-01","2016-09-30",38130,38130,"2016-10-01","2016-12-31",39160,0,"2017-01-01","2017-03-31",39160,0,"2017-10-01","2017-03-31",39160,0,"2017-12-01","2017-03-31",39160,0,"2018-12-02","2017-02-28",39160,0,"2016-04-01","2016-04-30",1,0,0,{"$f":"IF('DA 1.2'!B303=2,0,IF(AN259=1,I259-J259,0))","v":0},null,3.996,39.9602]
[null,"2016-09-11",38130,9,30,1271,0.18340000000000001,0.15196000000000001,233.10140000000001,193.14116000000001,39.960239999999999,"2016-01-01","2016-09-30",38130,38130,"2016-10-01","2016-12-31",39160,0,"2017-01-01","2017-03-31",39160,0,"2017-10-01","2017-03-31",39160,0,"2017-12-01","2017-03-31",39160,0,"2018-12-02","2017-02-28",39160,0,"2016-04-01","2016-04-30",1,0,0,{"$f":"IF('DA 1.2'!B304=2,0,IF(AN260=1,I260-J260,0))","v":0},null,3.996,39.9602]
[null,"2016-09-12",38130,9,30,1271,0.18340000000000001,0.15196000000000001,233.10140000000001,193.14116000000001,39.960239999999999,"2016-01-01","2016-09-30",38130,38130,"2016-10-01","2016-12-31",39160,0,"2017-01-01","2017-03-31",39160,0,"2017-10-01","2017-03-31",39160,0,"2017-12-01","2017-03-31",39160,0,"2018-12-02","2017-02-28",39160,0,"2016-04-01","2016-04-30",1,0,0,{"$f":"IF('DA 1.2'!B305=2,0,IF(AN261=1,I261-J261,0))","v":0},null,3.996,39.9602]
[null,"2016-09-13",38130,9,30,{"$f":"C262/E262","v":1271},0.18340000000000001,0.15196000000000001,{"$f":"F262*G262","v":233.10140000000001},{"$f":"F262*H262","v":193.14116000000001},39.960239999999999,"2016-01-01","2016-09-30",38130,38130,"2016-10-01","2016-12-31",39160,0,"2017-01-01","2017-03-31",39160,0,"2017-10-01","2017-03-31",39160,0,"2017-12-01","2017-03-31",39160,0,"2018-12-02","2017-02-28",39160,0,"2016-04-01","2016-04-30",1,0,0,{"$f":"IF('DA 1.2'!B306=2,0,IF(AN262=1,I262-J262,0))","v":0},null,3.996,39.9602]
[null,"2016-09-14",{"$f":"O263+S263+W263+AA263+AE263+AI263","v":38130},{"$f":"MONTH(B263)","v":9},{"$f":"IF(D263=1,31,IF(D263=2,28,IF(D263=3,31,IF(D263=5,31,IF(D263=7,31,IF(D263=8,31,IF(D263=10,31,IF(D263=12,31,30))))))))","v":30},1271,0.18340000000000001,0.15196000000000001,233.10140000000001,193.14116000000001,{"$f":"I263-J263","v":39.960239999999999},"2016-01-01","2016-09-30",38130,{"$f":"IF(M263>=B263,N263,0)","v":38130},"2016-10-01","2016-12-31",39160,{"$f":"IF(O263>0,0,IF(Q263>=B263,R263,0))","v":0},"2017-01-01","2017-03-31",39160,{"$f":"IF(T263>U263,0,IF(O263>0,0,IF(S263>0,0,IF(U263>=B263,V263,0))))","v":0},"2017-10-01","2017-03-31",39160,{"$f":"IF(X263>=Y263,0,IF(O263>0,0,IF(S263>0,0,IF(W263>0,0,IF(Y263>=B263,Z263,0)))))","v":0},"2017-12-01","2017-03-31",39160,{"$f":"IF(O263>0,0,IF(AB263>=AC263,0,IF(S263>0,0,IF(W263>0,0,IF(AA263>0,0,IF(AC263>=B263,AD263,0))))))","v":0},"2018-12-02","2017-02-28",39160,{"$f":"IF(O263>0,0,IF(S263>0,0,IF(AF263>=AG263,0,IF(W263>0,0,IF(AA263>0,0,IF(AE263>0,0,IF(AG263>=B263,AH263,0)))))))","v":0},"2016-04-01","2016-04-30",{"$f":"IF(B263>=AJ263,1,0)","v":1},{"$f":"IF(B263<=AK263,1,0)","v":0},{"$f":"IF(SUM(AL263:AM263)=2,1,0)","v":0},{"$f":"IF('DA 1.2'!B307=2,0,IF(AN263=1,I263-J263,0))","v":0},null,{"$f":"ROUND(K263*10%,3)","v":3.996},{"$f":"ROUND(K263,4)","v":39.9602}]
[null,"2016-09-15",38130,9,30,1271,{"$f":"G263","v":0.18340000000000001},0.15196000000000001,233.10140000000001,193.14116000000001,39.960239999999999,{"$f":"L263","v":"2016-01-01"},"2016-09-30",38130,38130,{"$f":"P263","v":"2016-10-01"},"2016-12-31",39160,0,{"$f":"T263","v":"2017-01-01"},"2017-03-31",39160,0,{"$f":"X263","v":"2017-10-01"},"2017-03-31",39160,0,{"$f":"AB263","v":"2017-12-01"},{"$f":"AC263","v":"2017-03-31"},{"$f":"AD263","v":39160},0,{"$f":"AF263","v":"2018-12-02"},{"$f":"AG263","v":"2017-02-28"},{"$f":"AH263","v":39160},0,{"$f":"AJ263","v":"2016-04-01"},"2016-04-30",1,0,0,{"$f":"IF('DA 1.2'!B308=2,0,IF(AN264=1,I264-J264,0))","v":0},null,3.996,39.9602]
[null,"2016-09-16",38130,9,30,1271,0.18340000000000001,0.15196000000000001,233.10140000000001,193.14116000000001,39.960239999999999,"2016-01-01","2016-09-30",38130,38130,"2016-10-01","2016-12-31",39160,0,"2017-01-01","2017-03-31",39160,0,"2017-10-01","2017-03-31",39160,0,"2017-12-01","2017-03-31",39160,0,"2018-12-02","2017-02-28",39160,0,"2016-04-01","2016-04-30",1,0,0,{"$f":"IF('DA 1.2'!B309=2,0,IF(AN265=1,I265-J265,0))","v":0},null,3.996,39.9602]
[null,"2016-09-17",38130,9,30,1271,0.18340000000000001,0.15196000000000001,233.10140000000001,193.14116000000001,39.960239999999999,"2016-01-01","2016-09-30",38130,38130,"2016-10-01","2016-12-31",39160,0,"2017-01-01","2017-03-31",39160,0,"2017-10-01","2017-03-31",39160,0,"2017-12-01","2017-03-31",39160,0,"2018-12-02","2017-02-28",39160,0,"2016-04-01","2016-04-30",1,0,0,{"$f":"IF('DA 1.2'!B310=2,0,IF(AN266=1,I266-J266,0))","v":0},null,3.996,39.9602]
[null,"2016-09-18",38130,9,30,1271,0.18340000000000001,0.15196000000000001,233.10140000000001,193.14116000000001,39.960239999999999,"2016-01-01","2016-09-30",38130,38130,"2016-10-01","2016-12-31",39160,0,"2017-01-01","2017-03-31",39160,0,"2017-10-01","2017-03-31",39160,0,"2017-12-01","2017-03-31",39160,0,"2018-12-02","2017-02-28",39160,0,"2016-04-01","2016-04-30",1,0,0,{"$f":"IF('DA 1.2'!B311=2,0,IF(AN267=1,I267-J267,0))","v":0},null,3.996,39.9602]
[null,"2016-09-19",38130,9,30,1271,0.18340000000000001,0.15196000000000001,233.10140000000001,193.14116000000001,39.960239999999999,"2016-01-01","2016-09-30",38130,38130,"2016-10-01","2016-12-31",39160,0,"2017-01-01","2017-03-31",39160,0,"2017-10-01","2017-03-31",39160,0,"2017-12-01","2017-03-31",39160,0,"2018-12-02","2017-02-28",39160,0,"2016-04-01","2016-04-30",1,0,0,{"$f":"IF('DA 1.2'!B312=2,0,IF(AN268=1,I268-J268,0))","v":0},null,3.996,39.9602]
[null,"2016-09-20",38130,9,30,1271,0.18340000000000001,0.15196000000000001,233.10140000000001,193.14116000000001,39.960239999999999,"2016-01-01","2016-09-30",38130,38130,"2016-10-01","2016-12-31",39160,0,"2017-01-01","2017-03-31",39160,0,"2017-10-01","2017-03-31",39160,0,"2017-12-01","2017-03-31",39160,0,"2018-12-02","2017-02-28",39160,0,"2016-04-01","2016-04-30",1,0,0,{"$f":"IF('DA 1.2'!B313=2,0,IF(AN269=1,I269-J269,0))","v":0},null,3.996,39.9602]
[null,"2016-09-21",38130,9,30,1271,0.18340000000000001,0.15196000000000001,233.10140000000001,193.14116000000001,39.960239999999999,"2016-01-01","2016-09-30",38130,38130,"2016-10-01","2016-12-31",39160,0,"2017-01-01","2017-03-31",39160,0,"2017-10-01","2017-03-31",39160,0,"2017-12-01","2017-03-31",39160,0,"2018-12-02","2017-02-28",39160,0,"2016-04-01","2016-04-30",1,0,0,{"$f":"IF('DA 1.2'!B314=2,0,IF(AN270=1,I270-J270,0))","v":0},null,3.996,39.9602]
[null,"2016-09-22",38130,9,30,1271,0.18340000000000001,0.15196000000000001,233.10140000000001,193.14116000000001,39.960239999999999,"2016-01-01","2016-09-30",38130,38130,"2016-10-01","2016-12-31",39160,0,"2017-01-01","2017-03-31",39160,0,"2017-10-01","2017-03-31",39160,0,"2017-12-01","2017-03-31",39160,0,"2018-12-02","2017-02-28",39160,0,"2016-04-01","2016-04-30",1,0,0,{"$f":"IF('DA 1.2'!B315=2,0,IF(AN271=1,I271-J271,0))","v":0},null,3.996,39.9602]
[null,"2016-09-23",38130,9,30,1271,0.18340000000000001,0.15196000000000001,233.10140000000001,193.14116000000001,39.960239999999999,"2016-01-01","2016-09-30",38130,38130,"2016-10-01","2016-12-31",39160,0,"2017-01-01","2017-03-31",39160,0,"2017-10-01","2017-03-31",39160,0,"2017-12-01","2017-03-31",39160,0,"2018-12-02","2017-02-28",39160,0,"2016-04-01","2016-04-30",1,0,0,{"$f":"IF('DA 1.2'!B316=2,0,IF(AN272=1,I272-J272,0))","v":0},null,3.996,39.9602]
[null,"2016-09-24",38130,9,30,1271,0.18340000000000001,0.15196000000000001,233.10140000000001,193.14116000000001,39.960239999999999,"2016-01-01","2016-09-30",38130,38130,"2016-10-01","2016-12-31",39160,0,"2017-01-01","2017-03-31",39160,0,"2017-10-01","2017-03-31",39160,0,"2017-12-01","2017-03-31",39160,0,"2018-12-02","2017-02-28",39160,0,"2016-04-01","2016-04-30",1,0,0,{"$f":"IF('DA 1.2'!B317=2,0,IF(AN273=1,I273-J273,0))","v":0},null,3.996,39.9602]
[null,"2016-09-25",38130,9,30,1271,0.18340000000000001,0.15196000000000001,233.10140000000001,193.14116000000001,39.960239999999999,"2016-01-01","2016-09-30",38130,38130,"2016-10-01","2016-12-31",39160,0,"2017-01-01","2017-03-31",39160,0,"2017-10-01","2017-03-31",39160,0,"2017-12-01","2017-03-31",39160,0,"2018-12-02","2017-02-28",39160,0,"2016-04-01","2016-04-30",1,0,0,{"$f":"IF('DA 1.2'!B318=2,0,IF(AN274=1,I274-J274,0))","v":0},null,3.996,39.9602]
[null,"2016-09-26",38130,9,30,1271,0.18340000000000001,0.15196000000000001,233.10140000000001,193.14116000000001,39.960239999999999,"2016-01-01","2016-09-30",38130,38130,"2016-10-01","2016-12-31",39160,0,"2017-01-01","2017-03-31",39160,0,"2017-10-01","2017-03-31",39160,0,"2017-12-01","2017-03-31",39160,0,"2018-12-02","2017-02-28",39160,0,"2016-04-01","2016-04-30",1,0,0,{"$f":"IF('DA 1.2'!B319=2,0,IF(AN275=1,I275-J275,0))","v":0},null,3.996,39.9602]
[null,"2016-09-27",38130,9,30,1271,0.18340000000000001,0.15196000000000001,233.10140000000001,193.14116000000001,39.960239999999999,"2016-01-01","2016-09-30",38130,38130,"2016-10-01","2016-12-31",39160,0,"2017-01-01","2017-03-31",39160,0,"2017-10-01","2017-03-31",39160,0,"2017-12-01","2017-03-31",39160,0,"2018-12-02","2017-02-28",39160,0,"2016-04-01","2016-04-30",1,0,0,{"$f":"IF('DA 1.2'!B320=2,0,IF(AN276=1,I276-J276,0))","v":0},null,3.996,39.9602]
[null,"2016-09-28",38130,9,30,1271,0.18340000000000001,0.15196000000000001,233.10140000000001,193.14116000000001,39.960239999999999,"2016-01-01","2016-09-30",38130,38130,"2016-10-01","2016-12-31",39160,0,"2017-01-01","2017-03-31",39160,0,"2017-10-01","2017-03-31",39160,0,"2017-12-01","2017-03-31",39160,0,"2018-12-02","2017-02-28",39160,0,"2016-04-01","2016-04-30",1,0,0,{"$f":"IF('DA 1.2'!B321=2,0,IF(AN277=1,I277-J277,0))","v":0},null,3.996,39.9602]
[null,"2016-09-29",38130,9,30,1271,0.18340000000000001,0.15196000000000001,233.10140000000001,193.14116000000001,39.960239999999999,"2016-01-01","2016-09-30",38130,38130,"2016-10-01","2016-12-31",39160,0,"2017-01-01","2017-03-31",39160,0,"2017-10-01","2017-03-31",39160,0,"2017-12-01","2017-03-31",39160,0,"2018-12-02","2017-02-28",39160,0,"2016-04-01","2016-04-30",1,0,0,{"$f":"IF('DA 1.2'!B322=2,0,IF(AN278=1,I278-J278,0))","v":0},null,3.996,39.9602]
[null,"2016-09-30",38130,9,30,1271,0.18340000000000001,0.15196000000000001,233.10140000000001,193.14116000000001,39.960239999999999,"2016-01-01","2016-09-30",38130,38130,"2016-10-01","2016-12-31",39160,0,"2017-01-01","2017-03-31",39160,0,"2017-10-01","2017-03-31",39160,0,"2017-12-01","2017-03-31",39160,0,"2018-12-02","2017-02-28",39160,0,"2016-04-01","2016-04-30",1,0,0,{"$f":"IF('DA 1.2'!B323=2,0,IF(AN279=1,I279-J279,0))","v":0},null,3.996,39.9602]
[null,"2016-10-01",39160,10,31,1263.2258064516129,{"$f":"G279","v":0.18340000000000001},0.15196000000000001,231.67561290322581,191.95979354838713,39.715819354838686,{"$f":"L279","v":"2016-01-01"},"2016-09-30",38130,0,{"$f":"P279","v":"2016-10-01"},"2016-12-31",39160,39160,{"$f":"T279","v":"2017-01-01"},"2017-03-31",39160,0,{"$f":"X279","v":"2017-10-01"},"2017-03-31",39160,0,"2017-12-01","2017-03-31",39160,0,"2018-12-02","2017-02-28",39160,0,{"$f":"AJ279","v":"2016-04-01"},"2016-04-30",1,0,0,{"$f":"IF('DA 1.2'!B324=2,0,IF(AN280=1,I280-J280,0))","v":0},null,3.972,39.715800000000002]
[null,"2016-10-02",39160,10,31,1263.2258064516129,0.18340000000000001,0.15196000000000001,231.67561290322581,191.95979354838713,39.715819354838686,"2016-01-01","2016-09-30",38130,0,"2016-10-01","2016-12-31",39160,39160,"2017-01-01","2017-03-31",39160,0,"2017-10-01","2017-03-31",39160,0,"2017-12-01","2017-03-31",39160,0,"2018-12-02","2017-02-28",39160,0,"2016-04-01","2016-04-30",1,0,0,{"$f":"IF('DA 1.2'!B325=2,0,IF(AN281=1,I281-J281,0))","v":0},null,3.972,39.715800000000002]
[null,"2016-10-03",39160,10,31,1263.2258064516129,0.18340000000000001,0.15196000000000001,231.67561290322581,191.95979354838713,39.715819354838686,"2016-01-01","2016-09-30",38130,0,"2016-10-01","2016-12-31",39160,39160,"2017-01-01","2017-03-31",39160,0,"2017-10-01","2017-03-31",39160,0,"2017-12-01","2017-03-31",39160,0,"2018-12-02","2017-02-28",39160,0,"2016-04-01","2016-04-30",1,0,0,{"$f":"IF('DA 1.2'!B326=2,0,IF(AN282=1,I282-J282,0))","v":0},null,3.972,39.715800000000002]
[null,"2016-10-04",39160,10,31,1263.2258064516129,0.18340000000000001,0.15196000000000001,231.67561290322581,191.95979354838713,39.715819354838686,"2016-01-01","2016-09-30",38130,0,"2016-10-01","2016-12-31",39160,39160,"2017-01-01","2017-03-31",39160,0,"2017-10-01","2017-03-31",39160,0,"2017-12-01","2017-03-31",39160,0,"2018-12-02","2017-02-28",39160,0,"2016-04-01","2016-04-30",1,0,0,{"$f":"IF('DA 1.2'!B327=2,0,IF(AN283=1,I283-J283,0))","v":0},null,3.972,39.715800000000002]
[null,"2016-10-05",39160,10,31,1263.2258064516129,0.18340000000000001,0.15196000000000001,231.67561290322581,191.95979354838713,39.715819354838686,"2016-01-01","2016-09-30",38130,0,"2016-10-01","2016-12-31",39160,39160,"2017-01-01","2017-03-31",39160,0,"2017-10-01","2017-03-31",39160,0,"2017-12-01","2017-03-31",39160,0,"2018-12-02","2017-02-28",39160,0,"2016-04-01","2016-04-30",1,0,0,{"$f":"IF('DA 1.2'!B328=2,0,IF(AN284=1,I284-J284,0))","v":0},null,3.972,39.715800000000002]
[null,"2016-10-06",39160,10,31,1263.2258064516129,0.18340000000000001,0.15196000000000001,231.67561290322581,191.95979354838713,39.715819354838686,"2016-01-01","2016-09-30",38130,0,"2016-10-01","2016-12-31",39160,39160,"2017-01-01","2017-03-31",39160,0,"2017-10-01","2017-03-31",39160,0,"2017-12-01","2017-03-31",39160,0,"2018-12-02","2017-02-28",39160,0,"2016-04-01","2016-04-30",1,0,0,{"$f":"IF('DA 1.2'!B329=2,0,IF(AN285=1,I285-J285,0))","v":0},null,3.972,39.715800000000002]
[null,"2016-10-07",39160,10,31,1263.2258064516129,0.18340000000000001,0.15196000000000001,231.67561290322581,191.95979354838713,39.715819354838686,"2016-01-01","2016-09-30",38130,0,"2016-10-01","2016-12-31",39160,39160,"2017-01-01","2017-03-31",39160,0,"2017-10-01","2017-03-31",39160,0,"2017-12-01","2017-03-31",39160,0,"2018-12-02","2017-02-28",39160,0,"2016-04-01","2016-04-30",1,0,0,{"$f":"IF('DA 1.2'!B330=2,0,IF(AN286=1,I286-J286,0))","v":0},null,3.972,39.715800000000002]
[null,"2016-10-08",39160,10,31,1263.2258064516129,0.18340000000000001,0.15196000000000001,231.67561290322581,191.95979354838713,39.715819354838686,"2016-01-01","2016-09-30",38130,0,"2016-10-01","2016-12-31",39160,39160,"2017-01-01","2017-03-31",39160,0,"2017-10-01","2017-03-31",39160,0,"2017-12-01","2017-03-31",39160,0,"2018-12-02","2017-02-28",39160,0,"2016-04-01","2016-04-30",1,0,0,{"$f":"IF('DA 1.2'!B331=2,0,IF(AN287=1,I287-J287,0))","v":0},null,3.972,39.715800000000002]
[null,"2016-10-09",39160,10,31,1263.2258064516129,0.18340000000000001,0.15196000000000001,231.67561290322581,191.95979354838713,39.715819354838686,"2016-01-01","2016-09-30",38130,0,"2016-10-01","2016-12-31",39160,39160,"2017-01-01","2017-03-31",39160,0,"2017-10-01","2017-03-31",39160,0,"2017-12-01","2017-03-31",39160,0,"2018-12-02","2017-02-28",39160,0,"2016-04-01","2016-04-30",1,0,0,{"$f":"IF('DA 1.2'!B332=2,0,IF(AN288=1,I288-J288,0))","v":0},null,3.972,39.715800000000002]
[null,"2016-10-10",39160,10,31,1263.2258064516129,0.18340000000000001,0.15196000000000001,231.67561290322581,191.95979354838713,39.715819354838686,"2016-01-01","2016-09-30",38130,0,"2016-10-01","2016-12-31",39160,39160,"2017-01-01","2017-03-31",39160,0,"2017-10-01","2017-03-31",39160,0,"2017-12-01","2017-03-31",39160,0,"2018-12-02","2017-02-28",39160,0,"2016-04-01","2016-04-30",1,0,0,{"$f":"IF('DA 1.2'!B333=2,0,IF(AN289=1,I289-J289,0))","v":0},null,3.972,39.715800000000002]
[null,"2016-10-11",39160,10,31,1263.2258064516129,0.18340000000000001,0.15196000000000001,231.67561290322581,191.95979354838713,39.715819354838686,"2016-01-01","2016-09-30",38130,0,"2016-10-01","2016-12-31",39160,39160,"2017-01-01","2017-03-31",39160,0,"2017-10-01","2017-03-31",39160,0,"2017-12-01","2017-03-31",39160,0,"2018-12-02","2017-02-28",39160,0,"2016-04-01","2016-04-30",1,0,0,{"$f":"IF('DA 1.2'!B334=2,0,IF(AN290=1,I290-J290,0))","v":0},null,3.972,39.715800000000002]
[null,"2016-10-12",39160,10,31,1263.2258064516129,0.18340000000000001,0.15196000000000001,231.67561290322581,191.95979354838713,39.715819354838686,"2016-01-01","2016-09-30",38130,0,"2016-10-01","2016-12-31",39160,39160,"2017-01-01","2017-03-31",39160,0,"2017-10-01","2017-03-31",39160,0,"2017-12-01","2017-03-31",39160,0,"2018-12-02","2017-02-28",39160,0,"2016-04-01","2016-04-30",1,0,0,{"$f":"IF('DA 1.2'!B335=2,0,IF(AN291=1,I291-J291,0))","v":0},null,3.972,39.715800000000002]
[null,"2016-10-13",39160,10,31,1263.2258064516129,0.18340000000000001,0.15196000000000001,231.67561290322581,191.95979354838713,39.715819354838686,"2016-01-01","2016-09-30",38130,0,"2016-10-01","2016-12-31",39160,39160,"2017-01-01","2017-03-31",39160,0,"2017-10-01","2017-03-31",39160,0,"2017-12-01","2017-03-31",39160,0,"2018-12-02","2017-02-28",39160,0,"2016-04-01","2016-04-30",1,0,0,{"$f":"IF('DA 1.2'!B336=2,0,IF(AN292=1,I292-J292,0))","v":0},null,3.972,39.715800000000002]
[null,"2016-10-14",39160,10,31,1263.2258064516129,0.18340000000000001,0.15196000000000001,231.67561290322581,191.95979354838713,39.715819354838686,"2016-01-01","2016-09-30",38130,0,"2016-10-01","2016-12-31",39160,39160,"2017-01-01","2017-03-31",39160,0,"2017-10-01","2017-03-31",39160,0,"2017-12-01","2017-03-31",39160,0,"2018-12-02","2017-02-28",39160,0,"2016-04-01","2016-04-30",1,0,0,{"$f":"IF('DA 1.2'!B337=2,0,IF(AN293=1,I293-J293,0))","v":0},null,3.972,39.715800000000002]
[null,"2016-10-15",39160,10,31,1263.2258064516129,0.18340000000000001,0.15196000000000001,231.67561290322581,191.95979354838713,39.715819354838686,"2016-01-01","2016-09-30",38130,0,"2016-10-01","2016-12-31",39160,39160,"2017-01-01","2017-03-31",39160,0,"2017-10-01","2017-03-31",39160,0,"2017-12-01","2017-03-31",39160,0,"2018-12-02","2017-02-28",39160,0,"2016-04-01","2016-04-30",1,0,0,{"$f":"IF('DA 1.2'!B338=2,0,IF(AN294=1,I294-J294,0))","v":0},null,3.972,39.715800000000002]
[null,"2016-10-16",39160,10,31,1263.2258064516129,0.18340000000000001,0.15196000000000001,231.67561290322581,191.95979354838713,39.715819354838686,"2016-01-01","2016-09-30",38130,0,"2016-10-01","2016-12-31",39160,39160,"2017-01-01","2017-03-31",39160,0,"2017-10-01","2017-03-31",39160,0,"2017-12-01","2017-03-31",39160,0,"2018-12-02","2017-02-28",39160,0,"2016-04-01","2016-04-30",1,0,0,{"$f":"IF('DA 1.2'!B339=2,0,IF(AN295=1,I295-J295,0))","v":0},null,3.972,39.715800000000002]
[null,"2016-10-17",39160,10,31,1263.2258064516129,{"$f":"G295","v":0.18340000000000001},0.15196000000000001,231.67561290322581,191.95979354838713,39.715819354838686,{"$f":"L295","v":"2016-01-01"},"2016-09-30",38130,0,{"$f":"P295","v":"2016-10-01"},"2016-12-31",39160,39160,{"$f":"T295","v":"2017-01-01"},"2017-03-31",39160,0,{"$f":"X295","v":"2017-10-01"},"2017-03-31",39160,0,"2017-12-01","2017-03-31",39160,0,"2018-12-02","2017-02-28",39160,0,{"$f":"AJ295","v":"2016-04-01"},"2016-04-30",1,0,0,{"$f":"IF('DA 1.2'!B340=2,0,IF(AN296=1,I296-J296,0))","v":0},null,3.972,39.715800000000002]
[null,"2016-10-18",39160,10,31,1263.2258064516129,0.18340000000000001,0.15196000000000001,231.67561290322581,191.95979354838713,39.715819354838686,"2016-01-01","2016-09-30",38130,0,"2016-10-01","2016-12-31",39160,39160,"2017-01-01","2017-03-31",39160,0,"2017-10-01","2017-03-31",39160,0,"2017-12-01","2017-03-31",39160,0,"2018-12-02","2017-02-28",39160,0,"2016-04-01","2016-04-30",1,0,0,{"$f":"IF('DA 1.2'!B341=2,0,IF(AN297=1,I297-J297,0))","v":0},null,3.972,39.715800000000002]
[null,"2016-10-19",39160,10,31,1263.2258064516129,0.18340000000000001,0.15196000000000001,231.67561290322581,191.95979354838713,39.715819354838686,"2016-01-01","2016-09-30",38130,0,"2016-10-01","2016-12-31",39160,39160,"2017-01-01","2017-03-31",39160,0,"2017-10-01","2017-03-31",39160,0,"2017-12-01","2017-03-31",39160,0,"2018-12-02","2017-02-28",39160,0,"2016-04-01","2016-04-30",1,0,0,{"$f":"IF('DA 1.2'!B342=2,0,IF(AN298=1,I298-J298,0))","v":0},null,3.972,39.715800000000002]
[null,"2016-10-20",39160,10,31,1263.2258064516129,0.18340000000000001,0.15196000000000001,231.67561290322581,191.95979354838713,39.715819354838686,"2016-01-01","2016-09-30",38130,0,"2016-10-01","2016-12-31",39160,39160,"2017-01-01","2017-03-31",39160,0,"2017-10-01","2017-03-31",39160,0,"2017-12-01","2017-03-31",39160,0,"2018-12-02","2017-02-28",39160,0,"2016-04-01","2016-04-30",1,0,0,{"$f":"IF('DA 1.2'!B343=2,0,IF(AN299=1,I299-J299,0))","v":0},null,3.972,39.715800000000002]
[null,"2016-10-21",39160,10,31,1263.2258064516129,0.18340000000000001,0.15196000000000001,231.67561290322581,191.95979354838713,39.715819354838686,"2016-01-01","2016-09-30",38130,0,"2016-10-01","2016-12-31",39160,39160,"2017-01-01","2017-03-31",39160,0,"2017-10-01","2017-03-31",39160,0,"2017-12-01","2017-03-31",39160,0,"2018-12-02","2017-02-28",39160,0,"2016-04-01","2016-04-30",1,0,0,{"$f":"IF('DA 1.2'!B344=2,0,IF(AN300=1,I300-J300,0))","v":0},null,3.972,39.715800000000002]
[null,"2016-10-22",39160,10,31,1263.2258064516129,0.18340000000000001,0.15196000000000001,231.67561290322581,191.95979354838713,39.715819354838686,"2016-01-01","2016-09-30",38130,0,"2016-10-01","2016-12-31",39160,39160,"2017-01-01","2017-03-31",39160,0,"2017-10-01","2017-03-31",39160,0,"2017-12-01","2017-03-31",39160,0,"2018-12-02","2017-02-28",39160,0,"2016-04-01","2016-04-30",1,0,0,{"$f":"IF('DA 1.2'!B345=2,0,IF(AN301=1,I301-J301,0))","v":0},null,3.972,39.715800000000002]
[null,"2016-10-23",39160,10,31,1263.2258064516129,0.18340000000000001,0.15196000000000001,231.67561290322581,191.95979354838713,39.715819354838686,"2016-01-01","2016-09-30",38130,0,"2016-10-01","2016-12-31",39160,39160,"2017-01-01","2017-03-31",39160,0,"2017-10-01","2017-03-31",39160,0,"2017-12-01","2017-03-31",39160,0,"2018-12-02","2017-02-28",39160,0,"2016-04-01","2016-04-30",1,0,0,{"$f":"IF('DA 1.2'!B346=2,0,IF(AN302=1,I302-J302,0))","v":0},null,3.972,39.715800000000002]
[null,"2016-10-24",39160,10,31,1263.2258064516129,0.18340000000000001,0.15196000000000001,231.67561290322581,191.95979354838713,39.715819354838686,"2016-01-01","2016-09-30",38130,0,"2016-10-01","2016-12-31",39160,39160,"2017-01-01","2017-03-31",39160,0,"2017-10-01","2017-03-31",39160,0,"2017-12-01","2017-03-31",39160,0,"2018-12-02","2017-02-28",39160,0,"2016-04-01","2016-04-30",1,0,0,{"$f":"IF('DA 1.2'!B347=2,0,IF(AN303=1,I303-J303,0))","v":0},null,3.972,39.715800000000002]
[null,"2016-10-25",39160,10,31,1263.2258064516129,0.18340000000000001,0.15196000000000001,231.67561290322581,191.95979354838713,39.715819354838686,"2016-01-01","2016-09-30",38130,0,"2016-10-01","2016-12-31",39160,39160,"2017-01-01","2017-03-31",39160,0,"2017-10-01","2017-03-31",39160,0,"2017-12-01","2017-03-31",39160,0,"2018-12-02","2017-02-28",39160,0,"2016-04-01","2016-04-30",1,0,0,{"$f":"IF('DA 1.2'!B348=2,0,IF(AN304=1,I304-J304,0))","v":0},null,3.972,39.715800000000002]
[null,"2016-10-26",39160,10,31,1263.2258064516129,0.18340000000000001,0.15196000000000001,231.67561290322581,191.95979354838713,39.715819354838686,"2016-01-01","2016-09-30",38130,0,"2016-10-01","2016-12-31",39160,39160,"2017-01-01","2017-03-31",39160,0,"2017-10-01","2017-03-31",39160,0,"2017-12-01","2017-03-31",39160,0,"2018-12-02","2017-02-28",39160,0,"2016-04-01","2016-04-30",1,0,0,{"$f":"IF('DA 1.2'!B349=2,0,IF(AN305=1,I305-J305,0))","v":0},null,3.972,39.715800000000002]
[null,"2016-10-27",39160,10,31,1263.2258064516129,0.18340000000000001,0.15196000000000001,231.67561290322581,191.95979354838713,39.715819354838686,"2016-01-01","2016-09-30",38130,0,"2016-10-01","2016-12-31",39160,39160,"2017-01-01","2017-03-31",39160,0,"2017-10-01","2017-03-31",39160,0,"2017-12-01","2017-03-31",39160,0,"2018-12-02","2017-02-28",39160,0,"2016-04-01","2016-04-30",1,0,0,{"$f":"IF('DA 1.2'!B350=2,0,IF(AN306=1,I306-J306,0))","v":0},null,3.972,39.715800000000002]
[null,"2016-10-28",39160,10,31,1263.2258064516129,0.18340000000000001,0.15196000000000001,231.67561290322581,191.95979354838713,39.715819354838686,"2016-01-01","2016-09-30",38130,0,"2016-10-01","2016-12-31",39160,39160,"2017-01-01","2017-03-31",39160,0,"2017-10-01","2017-03-31",39160,0,"2017-12-01","2017-03-31",39160,0,"2018-12-02","2017-02-28",39160,0,"2016-04-01","2016-04-30",1,0,0,{"$f":"IF('DA 1.2'!B351=2,0,IF(AN307=1,I307-J307,0))","v":0},null,3.972,39.715800000000002]
[null,"2016-10-29",39160,10,31,1263.2258064516129,0.18340000000000001,0.15196000000000001,231.67561290322581,191.95979354838713,39.715819354838686,"2016-01-01","2016-09-30",38130,0,"2016-10-01","2016-12-31",39160,39160,"2017-01-01","2017-03-31",39160,0,"2017-10-01","2017-03-31",39160,0,"2017-12-01","2017-03-31",39160,0,"2018-12-02","2017-02-28",39160,0,"2016-04-01","2016-04-30",1,0,0,{"$f":"IF('DA 1.2'!B352=2,0,IF(AN308=1,I308-J308,0))","v":0},null,3.972,39.715800000000002]
[null,"2016-10-30",39160,10,31,1263.2258064516129,0.18340000000000001,0.15196000000000001,231.67561290322581,191.95979354838713,39.715819354838686,"2016-01-01","2016-09-30",38130,0,"2016-10-01","2016-12-31",39160,39160,"2017-01-01","2017-03-31",39160,0,"2017-10-01","2017-03-31",39160,0,"2017-12-01","2017-03-31",39160,0,"2018-12-02","2017-02-28",39160,0,"2016-04-01","2016-04-30",1,0,0,{"$f":"IF('DA 1.2'!B353=2,0,IF(AN309=1,I309-J309,0))","v":0},null,3.972,39.715800000000002]
[null,"2016-10-31",39160,10,31,1263.2258064516129,0.18340000000000001,0.15196000000000001,231.67561290322581,191.95979354838713,39.715819354838686,"2016-01-01","2016-09-30",38130,0,"2016-10-01","2016-12-31",39160,39160,"2017-01-01","2017-03-31",39160,0,"2017-10-01","2017-03-31",39160,0,"2017-12-01","2017-03-31",39160,0,"2018-12-02","2017-02-28",39160,0,"2016-04-01","2016-04-30",1,0,0,{"$f":"IF('DA 1.2'!B354=2,0,IF(AN310=1,I310-J310,0))","v":0},null,3.972,39.715800000000002]
[null,"2016-11-01",39160,11,30,1305.3333333333333,0.18340000000000001,0.15196000000000001,239.39813333333333,198.35845333333333,41.039680000000004,"2016-01-01","2016-09-30",38130,0,"2016-10-01","2016-12-31",39160,39160,"2017-01-01","2017-03-31",39160,0,"2017-10-01","2017-03-31",39160,0,"2017-12-01","2017-03-31",39160,0,"2018-12-02","2017-02-28",39160,0,"2016-04-01","2016-04-30",1,0,0,{"$f":"IF('DA 1.2'!B355=2,0,IF(AN311=1,I311-J311,0))","v":0},null,4.1040000000000001,41.039700000000003]
[null,"2016-11-02",39160,11,30,1305.3333333333333,{"$f":"G311","v":0.18340000000000001},0.15196000000000001,239.39813333333333,198.35845333333333,41.039680000000004,{"$f":"L311","v":"2016-01-01"},"2016-09-30",38130,0,{"$f":"P311","v":"2016-10-01"},"2016-12-31",39160,39160,{"$f":"T311","v":"2017-01-01"},"2017-03-31",39160,0,{"$f":"X311","v":"2017-10-01"},"2017-03-31",39160,0,"2017-12-01","2017-03-31",39160,0,"2018-12-02","2017-02-28",39160,0,{"$f":"AJ311","v":"2016-04-01"},"2016-04-30",1,0,0,{"$f":"IF('DA 1.2'!B356=2,0,IF(AN312=1,I312-J312,0))","v":0},null,4.1040000000000001,41.039700000000003]
[null,"2016-11-03",39160,11,30,1305.3333333333333,0.18340000000000001,0.15196000000000001,239.39813333333333,198.35845333333333,41.039680000000004,"2016-01-01","2016-09-30",38130,0,"2016-10-01","2016-12-31",39160,39160,"2017-01-01","2017-03-31",39160,0,"2017-10-01","2017-03-31",39160,0,"2017-12-01","2017-03-31",39160,0,"2018-12-02","2017-02-28",39160,0,"2016-04-01","2016-04-30",1,0,0,{"$f":"IF('DA 1.2'!B357=2,0,IF(AN313=1,I313-J313,0))","v":0},null,4.1040000000000001,41.039700000000003]
[null,"2016-11-04",39160,11,30,1305.3333333333333,0.18340000000000001,0.15196000000000001,239.39813333333333,198.35845333333333,41.039680000000004,"2016-01-01","2016-09-30",38130,0,"2016-10-01","2016-12-31",39160,39160,"2017-01-01","2017-03-31",39160,0,"2017-10-01","2017-03-31",39160,0,"2017-12-01","2017-03-31",39160,0,"2018-12-02","2017-02-28",39160,0,"2016-04-01","2016-04-30",1,0,0,{"$f":"IF('DA 1.2'!B358=2,0,IF(AN314=1,I314-J314,0))","v":0},null,4.1040000000000001,41.039700000000003]
[null,"2016-11-05",39160,11,30,1305.3333333333333,0.18340000000000001,0.15196000000000001,239.39813333333333,198.35845333333333,41.039680000000004,"2016-01-01","2016-09-30",38130,0,"2016-10-01","2016-12-31",39160,39160,"2017-01-01","2017-03-31",39160,0,"2017-10-01","2017-03-31",39160,0,"2017-12-01","2017-03-31",39160,0,"2018-12-02","2017-02-28",39160,0,"2016-04-01","2016-04-30",1,0,0,{"$f":"IF('DA 1.2'!B359=2,0,IF(AN315=1,I315-J315,0))","v":0},null,4.1040000000000001,41.039700000000003]
[null,"2016-11-06",39160,11,30,1305.3333333333333,0.18340000000000001,0.15196000000000001,239.39813333333333,198.35845333333333,41.039680000000004,"2016-01-01","2016-09-30",38130,0,"2016-10-01","2016-12-31",39160,39160,"2017-01-01","2017-03-31",39160,0,"2017-10-01","2017-03-31",39160,0,"2017-12-01","2017-03-31",39160,0,"2018-12-02","2017-02-28",39160,0,"2016-04-01","2016-04-30",1,0,0,{"$f":"IF('DA 1.2'!B360=2,0,IF(AN316=1,I316-J316,0))","v":0},null,4.1040000000000001,41.039700000000003]
[null,"2016-11-07",39160,11,30,1305.3333333333333,0.18340000000000001,0.15196000000000001,239.39813333333333,198.35845333333333,41.039680000000004,"2016-01-01","2016-09-30",38130,0,"2016-10-01","2016-12-31",39160,39160,"2017-01-01","2017-03-31",39160,0,"2017-10-01","2017-03-31",39160,0,"2017-12-01","2017-03-31",39160,0,"2018-12-02","2017-02-28",39160,0,"2016-04-01","2016-04-30",1,0,0,{"$f":"IF('DA 1.2'!B361=2,0,IF(AN317=1,I317-J317,0))","v":0},null,4.1040000000000001,41.039700000000003]
[null,"2016-11-08",39160,11,30,1305.3333333333333,0.18340000000000001,0.15196000000000001,239.39813333333333,198.35845333333333,41.039680000000004,"2016-01-01","2016-09-30",38130,0,"2016-10-01","2016-12-31",39160,39160,"2017-01-01","2017-03-31",39160,0,"2017-10-01","2017-03-31",39160,0,"2017-12-01","2017-03-31",39160,0,"2018-12-02","2017-02-28",39160,0,"2016-04-01","2016-04-30",1,0,0,{"$f":"IF('DA 1.2'!B362=2,0,IF(AN318=1,I318-J318,0))","v":0},null,4.1040000000000001,41.039700000000003]
[null,"2016-11-09",39160,11,30,1305.3333333333333,0.18340000000000001,0.15196000000000001,239.39813333333333,198.35845333333333,41.039680000000004,"2016-01-01","2016-09-30",38130,0,"2016-10-01","2016-12-31",39160,39160,"2017-01-01","2017-03-31",39160,0,"2017-10-01","2017-03-31",39160,0,"2017-12-01","2017-03-31",39160,0,"2018-12-02","2017-02-28",39160,0,"2016-04-01","2016-04-30",1,0,0,{"$f":"IF('DA 1.2'!B363=2,0,IF(AN319=1,I319-J319,0))","v":0},null,4.1040000000000001,41.039700000000003]
[null,"2016-11-10",39160,11,30,1305.3333333333333,0.18340000000000001,0.15196000000000001,239.39813333333333,198.35845333333333,41.039680000000004,"2016-01-01","2016-09-30",38130,0,"2016-10-01","2016-12-31",39160,39160,"2017-01-01","2017-03-31",39160,0,"2017-10-01","2017-03-31",39160,0,"2017-12-01","2017-03-31",39160,0,"2018-12-02","2017-02-28",39160,0,"2016-04-01","2016-04-30",1,0,0,{"$f":"IF('DA 1.2'!B364=2,0,IF(AN320=1,I320-J320,0))","v":0},null,4.1040000000000001,41.039700000000003]
[null,"2016-11-11",39160,11,30,1305.3333333333333,0.18340000000000001,0.15196000000000001,239.39813333333333,198.35845333333333,41.039680000000004,"2016-01-01","2016-09-30",38130,0,"2016-10-01","2016-12-31",39160,39160,"2017-01-01","2017-03-31",39160,0,"2017-10-01","2017-03-31",39160,0,"2017-12-01","2017-03-31",39160,0,"2018-12-02","2017-02-28",39160,0,"2016-04-01","2016-04-30",1,0,0,{"$f":"IF('DA 1.2'!B365=2,0,IF(AN321=1,I321-J321,0))","v":0},null,4.1040000000000001,41.039700000000003]
[null,"2016-11-12",39160,11,30,1305.3333333333333,0.18340000000000001,0.15196000000000001,239.39813333333333,198.35845333333333,41.039680000000004,"2016-01-01","2016-09-30",38130,0,"2016-10-01","2016-12-31",39160,39160,"2017-01-01","2017-03-31",39160,0,"2017-10-01","2017-03-31",39160,0,"2017-12-01","2017-03-31",39160,0,"2018-12-02","2017-02-28",39160,0,"2016-04-01","2016-04-30",1,0,0,{"$f":"IF('DA 1.2'!B366=2,0,IF(AN322=1,I322-J322,0))","v":0},null,4.1040000000000001,41.039700000000003]
[null,"2016-11-13",39160,11,30,1305.3333333333333,0.18340000000000001,0.15196000000000001,239.39813333333333,198.35845333333333,41.039680000000004,"2016-01-01","2016-09-30",38130,0,"2016-10-01","2016-12-31",39160,39160,"2017-01-01","2017-03-31",39160,0,"2017-10-01","2017-03-31",39160,0,"2017-12-01","2017-03-31",39160,0,"2018-12-02","2017-02-28",39160,0,"2016-04-01","2016-04-30",1,0,0,{"$f":"IF('DA 1.2'!B367=2,0,IF(AN323=1,I323-J323,0))","v":0},null,4.1040000000000001,41.039700000000003]
[null,"2016-11-14",39160,11,30,1305.3333333333333,0.18340000000000001,0.15196000000000001,239.39813333333333,198.35845333333333,41.039680000000004,"2016-01-01","2016-09-30",38130,0,"2016-10-01","2016-12-31",39160,39160,"2017-01-01","2017-03-31",39160,0,"2017-10-01","2017-03-31",39160,0,"2017-12-01","2017-03-31",39160,0,"2018-12-02","2017-02-28",39160,0,"2016-04-01","2016-04-30",1,0,0,{"$f":"IF('DA 1.2'!B368=2,0,IF(AN324=1,I324-J324,0))","v":0},null,4.1040000000000001,41.039700000000003]
[null,"2016-11-15",39160,11,30,1305.3333333333333,0.18340000000000001,0.15196000000000001,239.39813333333333,198.35845333333333,41.039680000000004,"2016-01-01","2016-09-30",38130,0,"2016-10-01","2016-12-31",39160,39160,"2017-01-01","2017-03-31",39160,0,"2017-10-01","2017-03-31",39160,0,"2017-12-01","2017-03-31",39160,0,"2018-12-02","2017-02-28",39160,0,"2016-04-01","2016-04-30",1,0,0,{"$f":"IF('DA 1.2'!B369=2,0,IF(AN325=1,I325-J325,0))","v":0},null,4.1040000000000001,41.039700000000003]
[null,"2016-11-16",39160,11,30,{"$f":"C326/E326","v":1305.3333333333333},0.18340000000000001,0.15196000000000001,{"$f":"F326*G326","v":239.39813333333333},{"$f":"F326*H326","v":198.35845333333333},41.039680000000004,"2016-01-01","2016-09-30",38130,0,"2016-10-01","2016-12-31",39160,39160,"2017-01-01","2017-03-31",39160,0,"2017-10-01","2017-03-31",39160,0,"2017-12-01","2017-03-31",39160,0,"2018-12-02","2017-02-28",39160,0,"2016-04-01","2016-04-30",1,0,0,{"$f":"IF('DA 1.2'!B370=2,0,IF(AN326=1,I326-J326,0))","v":0},null,4.1040000000000001,41.039700000000003]
[null,"2016-11-17",{"$f":"O327+S327+W327+AA327+AE327+AI327","v":39160},{"$f":"MONTH(B327)","v":11},{"$f":"IF(D327=1,31,IF(D327=2,28,IF(D327=3,31,IF(D327=5,31,IF(D327=7,31,IF(D327=8,31,IF(D327=10,31,IF(D327=12,31,30))))))))","v":30},1305.3333333333333,0.18340000000000001,0.15196000000000001,239.39813333333333,198.35845333333333,{"$f":"I327-J327","v":41.039680000000004},"2016-01-01","2016-09-30",38130,{"$f":"IF(M327>=B327,N327,0)","v":0},"2016-10-01","2016-12-31",39160,{"$f":"IF(O327>0,0,IF(Q327>=B327,R327,0))","v":39160},"2017-01-01","2017-03-31",39160,{"$f":"IF(T327>U327,0,IF(O327>0,0,IF(S327>0,0,IF(U327>=B327,V327,0))))","v":0},"2017-10-01","2017-03-31",39160,{"$f":"IF(X327>=Y327,0,IF(O327>0,0,IF(S327>0,0,IF(W327>0,0,IF(Y327>=B327,Z327,0)))))","v":0},"2017-12-01","2017-03-31",39160,{"$f":"IF(O327>0,0,IF(AB327>=AC327,0,IF(S327>0,0,IF(W327>0,0,IF(AA327>0,0,IF(AC327>=B327,AD327,0))))))","v":0},"2018-12-02","2017-02-28",39160,{"$f":"IF(O327>0,0,IF(S327>0,0,IF(AF327>=AG327,0,IF(W327>0,0,IF(AA327>0,0,IF(AE327>0,0,IF(AG327>=B327,AH327,0)))))))","v":0},"2016-04-01","2016-04-30",{"$f":"IF(B327>=AJ327,1,0)","v":1},{"$f":"IF(B327<=AK327,1,0)","v":0},{"$f":"IF(SUM(AL327:AM327)=2,1,0)","v":0},{"$f":"IF('DA 1.2'!B371=2,0,IF(AN327=1,I327-J327,0))","v":0},null,{"$f":"ROUND(K327*10%,3)","v":4.1040000000000001},{"$f":"ROUND(K327,4)","v":41.039700000000003}]
[null,"2016-11-18",39160,11,30,1305.3333333333333,{"$f":"G327","v":0.18340000000000001},0.15196000000000001,239.39813333333333,198.35845333333333,41.039680000000004,{"$f":"L327","v":"2016-01-01"},"2016-09-30",38130,0,{"$f":"P327","v":"2016-10-01"},"2016-12-31",39160,39160,{"$f":"T327","v":"2017-01-01"},"2017-03-31",39160,0,{"$f":"X327","v":"2017-10-01"},"2017-03-31",39160,0,{"$f":"AB327","v":"2017-12-01"},{"$f":"AC327","v":"2017-03-31"},{"$f":"AD327","v":39160},0,{"$f":"AF327","v":"2018-12-02"},{"$f":"AG327","v":"2017-02-28"},{"$f":"AH327","v":39160},0,{"$f":"AJ327","v":"2016-04-01"},"2016-04-30",1,0,0,{"$f":"IF('DA 1.2'!B372=2,0,IF(AN328=1,I328-J328,0))","v":0},null,4.1040000000000001,41.039700000000003]
[null,"2016-11-19",39160,11,30,1305.3333333333333,0.18340000000000001,0.15196000000000001,239.39813333333333,198.35845333333333,41.039680000000004,"2016-01-01","2016-09-30",38130,0,"2016-10-01","2016-12-31",39160,39160,"2017-01-01","2017-03-31",39160,0,"2017-10-01","2017-03-31",39160,0,"2017-12-01","2017-03-31",39160,0,"2018-12-02","2017-02-28",39160,0,"2016-04-01","2016-04-30",1,0,0,{"$f":"IF('DA 1.2'!B373=2,0,IF(AN329=1,I329-J329,0))","v":0},null,4.1040000000000001,41.039700000000003]
[null,"2016-11-20",39160,11,30,1305.3333333333333,0.18340000000000001,0.15196000000000001,239.39813333333333,198.35845333333333,41.039680000000004,"2016-01-01","2016-09-30",38130,0,"2016-10-01","2016-12-31",39160,39160,"2017-01-01","2017-03-31",39160,0,"2017-10-01","2017-03-31",39160,0,"2017-12-01","2017-03-31",39160,0,"2018-12-02","2017-02-28",39160,0,"2016-04-01","2016-04-30",1,0,0,{"$f":"IF('DA 1.2'!B374=2,0,IF(AN330=1,I330-J330,0))","v":0},null,4.1040000000000001,41.039700000000003]
[null,"2016-11-21",39160,11,30,1305.3333333333333,0.18340000000000001,0.15196000000000001,239.39813333333333,198.35845333333333,41.039680000000004,"2016-01-01","2016-09-30",38130,0,"2016-10-01","2016-12-31",39160,39160,"2017-01-01","2017-03-31",39160,0,"2017-10-01","2017-03-31",39160,0,"2017-12-01","2017-03-31",39160,0,"2018-12-02","2017-02-28",39160,0,"2016-04-01","2016-04-30",1,0,0,{"$f":"IF('DA 1.2'!B375=2,0,IF(AN331=1,I331-J331,0))","v":0},null,4.1040000000000001,41.039700000000003]
[null,"2016-11-22",39160,11,30,1305.3333333333333,0.18340000000000001,0.15196000000000001,239.39813333333333,198.35845333333333,41.039680000000004,"2016-01-01","2016-09-30",38130,0,"2016-10-01","2016-12-31",39160,39160,"2017-01-01","2017-03-31",39160,0,"2017-10-01","2017-03-31",39160,0,"2017-12-01","2017-03-31",39160,0,"2018-12-02","2017-02-28",39160,0,"2016-04-01","2016-04-30",1,0,0,{"$f":"IF('DA 1.2'!B376=2,0,IF(AN332=1,I332-J332,0))","v":0},null,4.1040000000000001,41.039700000000003]
[null,"2016-11-23",39160,11,30,1305.3333333333333,0.18340000000000001,0.15196000000000001,239.39813333333333,198.35845333333333,41.039680000000004,"2016-01-01","2016-09-30",38130,0,"2016-10-01","2016-12-31",39160,39160,"2017-01-01","2017-03-31",39160,0,"2017-10-01","2017-03-31",39160,0,"2017-12-01","2017-03-31",39160,0,"2018-12-02","2017-02-28",39160,0,"2016-04-01","2016-04-30",1,0,0,{"$f":"IF('DA 1.2'!B377=2,0,IF(AN333=1,I333-J333,0))","v":0},null,4.1040000000000001,41.039700000000003]
[null,"2016-11-24",39160,11,30,1305.3333333333333,0.18340000000000001,0.15196000000000001,239.39813333333333,198.35845333333333,41.039680000000004,"2016-01-01","2016-09-30",38130,0,"2016-10-01","2016-12-31",39160,39160,"2017-01-01","2017-03-31",39160,0,"2017-10-01","2017-03-31",39160,0,"2017-12-01","2017-03-31",39160,0,"2018-12-02","2017-02-28",39160,0,"2016-04-01","2016-04-30",1,0,0,{"$f":"IF('DA 1.2'!B378=2,0,IF(AN334=1,I334-J334,0))","v":0},null,4.1040000000000001,41.039700000000003]
[null,"2016-11-25",39160,11,30,1305.3333333333333,0.18340000000000001,0.15196000000000001,239.39813333333333,198.35845333333333,41.039680000000004,"2016-01-01","2016-09-30",38130,0,"2016-10-01","2016-12-31",39160,39160,"2017-01-01","2017-03-31",39160,0,"2017-10-01","2017-03-31",39160,0,"2017-12-01","2017-03-31",39160,0,"2018-12-02","2017-02-28",39160,0,"2016-04-01","2016-04-30",1,0,0,{"$f":"IF('DA 1.2'!B379=2,0,IF(AN335=1,I335-J335,0))","v":0},null,4.1040000000000001,41.039700000000003]
[null,"2016-11-26",39160,11,30,1305.3333333333333,0.18340000000000001,0.15196000000000001,239.39813333333333,198.35845333333333,41.039680000000004,"2016-01-01","2016-09-30",38130,0,"2016-10-01","2016-12-31",39160,39160,"2017-01-01","2017-03-31",39160,0,"2017-10-01","2017-03-31",39160,0,"2017-12-01","2017-03-31",39160,0,"2018-12-02","2017-02-28",39160,0,"2016-04-01","2016-04-30",1,0,0,{"$f":"IF('DA 1.2'!B380=2,0,IF(AN336=1,I336-J336,0))","v":0},null,4.1040000000000001,41.039700000000003]
[null,"2016-11-27",39160,11,30,1305.3333333333333,0.18340000000000001,0.15196000000000001,239.39813333333333,198.35845333333333,41.039680000000004,"2016-01-01","2016-09-30",38130,0,"2016-10-01","2016-12-31",39160,39160,"2017-01-01","2017-03-31",39160,0,"2017-10-01","2017-03-31",39160,0,"2017-12-01","2017-03-31",39160,0,"2018-12-02","2017-02-28",39160,0,"2016-04-01","2016-04-30",1,0,0,{"$f":"IF('DA 1.2'!B381=2,0,IF(AN337=1,I337-J337,0))","v":0},null,4.1040000000000001,41.039700000000003]
[null,"2016-11-28",39160,11,30,1305.3333333333333,0.18340000000000001,0.15196000000000001,239.39813333333333,198.35845333333333,41.039680000000004,"2016-01-01","2016-09-30",38130,0,"2016-10-01","2016-12-31",39160,39160,"2017-01-01","2017-03-31",39160,0,"2017-10-01","2017-03-31",39160,0,"2017-12-01","2017-03-31",39160,0,"2018-12-02","2017-02-28",39160,0,"2016-04-01","2016-04-30",1,0,0,{"$f":"IF('DA 1.2'!B382=2,0,IF(AN338=1,I338-J338,0))","v":0},null,4.1040000000000001,41.039700000000003]
[null,"2016-11-29",39160,11,30,1305.3333333333333,0.18340000000000001,0.15196000000000001,239.39813333333333,198.35845333333333,41.039680000000004,"2016-01-01","2016-09-30",38130,0,"2016-10-01","2016-12-31",39160,39160,"2017-01-01","2017-03-31",39160,0,"2017-10-01","2017-03-31",39160,0,"2017-12-01","2017-03-31",39160,0,"2018-12-02","2017-02-28",39160,0,"2016-04-01","2016-04-30",1,0,0,{"$f":"IF('DA 1.2'!B383=2,0,IF(AN339=1,I339-J339,0))","v":0},null,4.1040000000000001,41.039700000000003]
[null,"2016-11-30",39160,11,30,1305.3333333333333,0.18340000000000001,0.15196000000000001,239.39813333333333,198.35845333333333,41.039680000000004,"2016-01-01","2016-09-30",38130,0,"2016-10-01","2016-12-31",39160,39160,"2017-01-01","2017-03-31",39160,0,"2017-10-01","2017-03-31",39160,0,"2017-12-01","2017-03-31",39160,0,"2018-12-02","2017-02-28",39160,0,"2016-04-01","2016-04-30",1,0,0,{"$f":"IF('DA 1.2'!B384=2,0,IF(AN340=1,I340-J340,0))","v":0},null,4.1040000000000001,41.039700000000003]
[null,"2016-12-01",39160,12,31,1263.2258064516129,0.18340000000000001,0.15196000000000001,231.67561290322581,191.95979354838713,39.715819354838686,"2016-01-01","2016-09-30",38130,0,"2016-10-01","2016-12-31",39160,39160,"2017-01-01","2017-03-31",39160,0,"2017-10-01","2017-03-31",39160,0,"2017-12-01","2017-03-31",39160,0,"2018-12-02","2017-02-28",39160,0,"2016-04-01","2016-04-30",1,0,0,{"$f":"IF('DA 1.2'!B385=2,0,IF(AN341=1,I341-J341,0))","v":0},null,3.972,39.715800000000002]
[null,"2016-12-02",39160,12,31,1263.2258064516129,0.18340000000000001,0.15196000000000001,231.67561290322581,191.95979354838713,39.715819354838686,"2016-01-01","2016-09-30",38130,0,"2016-10-01","2016-12-31",39160,39160,"2017-01-01","2017-03-31",39160,0,"2017-10-01","2017-03-31",39160,0,"2017-12-01","2017-03-31",39160,0,"2018-12-02","2017-02-28",39160,0,"2016-04-01","2016-04-30",1,0,0,{"$f":"IF('DA 1.2'!B386=2,0,IF(AN342=1,I342-J342,0))","v":0},null,3.972,39.715800000000002]
[null,"2016-12-03",39160,12,31,1263.2258064516129,0.18340000000000001,0.15196000000000001,231.67561290322581,191.95979354838713,39.715819354838686,"2016-01-01","2016-09-30",38130,0,"2016-10-01","2016-12-31",39160,39160,"2017-01-01","2017-03-31",39160,0,"2017-10-01","2017-03-31",39160,0,"2017-12-01","2017-03-31",39160,0,"2018-12-02","2017-02-28",39160,0,"2016-04-01","2016-04-30",1,0,0,{"$f":"IF('DA 1.2'!B387=2,0,IF(AN343=1,I343-J343,0))","v":0},null,3.972,39.715800000000002]
[null,"2016-12-04",39160,12,31,1263.2258064516129,{"$f":"G343","v":0.18340000000000001},0.15196000000000001,231.67561290322581,191.95979354838713,39.715819354838686,{"$f":"L343","v":"2016-01-01"},"2016-09-30",38130,0,{"$f":"P343","v":"2016-10-01"},"2016-12-31",39160,39160,{"$f":"T343","v":"2017-01-01"},"2017-03-31",39160,0,{"$f":"X343","v":"2017-10-01"},"2017-03-31",39160,0,"2017-12-01","2017-03-31",39160,0,"2018-12-02","2017-02-28",39160,0,{"$f":"AJ343","v":"2016-04-01"},"2016-04-30",1,0,0,{"$f":"IF('DA 1.2'!B388=2,0,IF(AN344=1,I344-J344,0))","v":0},null,3.972,39.715800000000002]
[null,"2016-12-05",39160,12,31,1263.2258064516129,0.18340000000000001,0.15196000000000001,231.67561290322581,191.95979354838713,39.715819354838686,"2016-01-01","2016-09-30",38130,0,"2016-10-01","2016-12-31",39160,39160,"2017-01-01","2017-03-31",39160,0,"2017-10-01","2017-03-31",39160,0,"2017-12-01","2017-03-31",39160,0,"2018-12-02","2017-02-28",39160,0,"2016-04-01","2016-04-30",1,0,0,{"$f":"IF('DA 1.2'!B389=2,0,IF(AN345=1,I345-J345,0))","v":0},null,3.972,39.715800000000002]
[null,"2016-12-06",39160,12,31,1263.2258064516129,0.18340000000000001,0.15196000000000001,231.67561290322581,191.95979354838713,39.715819354838686,"2016-01-01","2016-09-30",38130,0,"2016-10-01","2016-12-31",39160,39160,"2017-01-01","2017-03-31",39160,0,"2017-10-01","2017-03-31",39160,0,"2017-12-01","2017-03-31",39160,0,"2018-12-02","2017-02-28",39160,0,"2016-04-01","2016-04-30",1,0,0,{"$f":"IF('DA 1.2'!B390=2,0,IF(AN346=1,I346-J346,0))","v":0},null,3.972,39.715800000000002]
[null,"2016-12-07",39160,12,31,1263.2258064516129,0.18340000000000001,0.15196000000000001,231.67561290322581,191.95979354838713,39.715819354838686,"2016-01-01","2016-09-30",38130,0,"2016-10-01","2016-12-31",39160,39160,"2017-01-01","2017-03-31",39160,0,"2017-10-01","2017-03-31",39160,0,"2017-12-01","2017-03-31",39160,0,"2018-12-02","2017-02-28",39160,0,"2016-04-01","2016-04-30",1,0,0,{"$f":"IF('DA 1.2'!B391=2,0,IF(AN347=1,I347-J347,0))","v":0},null,3.972,39.715800000000002]
[null,"2016-12-08",39160,12,31,1263.2258064516129,0.18340000000000001,0.15196000000000001,231.67561290322581,191.95979354838713,39.715819354838686,"2016-01-01","2016-09-30",38130,0,"2016-10-01","2016-12-31",39160,39160,"2017-01-01","2017-03-31",39160,0,"2017-10-01","2017-03-31",39160,0,"2017-12-01","2017-03-31",39160,0,"2018-12-02","2017-02-28",39160,0,"2016-04-01","2016-04-30",1,0,0,{"$f":"IF('DA 1.2'!B392=2,0,IF(AN348=1,I348-J348,0))","v":0},null,3.972,39.715800000000002]
[null,"2016-12-09",39160,12,31,1263.2258064516129,0.18340000000000001,0.15196000000000001,231.67561290322581,191.95979354838713,39.715819354838686,"2016-01-01","2016-09-30",38130,0,"2016-10-01","2016-12-31",39160,39160,"2017-01-01","2017-03-31",39160,0,"2017-10-01","2017-03-31",39160,0,"2017-12-01","2017-03-31",39160,0,"2018-12-02","2017-02-28",39160,0,"2016-04-01","2016-04-30",1,0,0,{"$f":"IF('DA 1.2'!B393=2,0,IF(AN349=1,I349-J349,0))","v":0},null,3.972,39.715800000000002]
[null,"2016-12-10",39160,12,31,1263.2258064516129,0.18340000000000001,0.15196000000000001,231.67561290322581,191.95979354838713,39.715819354838686,"2016-01-01","2016-09-30",38130,0,"2016-10-01","2016-12-31",39160,39160,"2017-01-01","2017-03-31",39160,0,"2017-10-01","2017-03-31",39160,0,"2017-12-01","2017-03-31",39160,0,"2018-12-02","2017-02-28",39160,0,"2016-04-01","2016-04-30",1,0,0,{"$f":"IF('DA 1.2'!B394=2,0,IF(AN350=1,I350-J350,0))","v":0},null,3.972,39.715800000000002]
[null,"2016-12-11",39160,12,31,1263.2258064516129,0.18340000000000001,0.15196000000000001,231.67561290322581,191.95979354838713,39.715819354838686,"2016-01-01","2016-09-30",38130,0,"2016-10-01","2016-12-31",39160,39160,"2017-01-01","2017-03-31",39160,0,"2017-10-01","2017-03-31",39160,0,"2017-12-01","2017-03-31",39160,0,"2018-12-02","2017-02-28",39160,0,"2016-04-01","2016-04-30",1,0,0,{"$f":"IF('DA 1.2'!B395=2,0,IF(AN351=1,I351-J351,0))","v":0},null,3.972,39.715800000000002]
[null,"2016-12-12",39160,12,31,1263.2258064516129,0.18340000000000001,0.15196000000000001,231.67561290322581,191.95979354838713,39.715819354838686,"2016-01-01","2016-09-30",38130,0,"2016-10-01","2016-12-31",39160,39160,"2017-01-01","2017-03-31",39160,0,"2017-10-01","2017-03-31",39160,0,"2017-12-01","2017-03-31",39160,0,"2018-12-02","2017-02-28",39160,0,"2016-04-01","2016-04-30",1,0,0,{"$f":"IF('DA 1.2'!B396=2,0,IF(AN352=1,I352-J352,0))","v":0},null,3.972,39.715800000000002]
[null,"2016-12-13",39160,12,31,1263.2258064516129,0.18340000000000001,0.15196000000000001,231.67561290322581,191.95979354838713,39.715819354838686,"2016-01-01","2016-09-30",38130,0,"2016-10-01","2016-12-31",39160,39160,"2017-01-01","2017-03-31",39160,0,"2017-10-01","2017-03-31",39160,0,"2017-12-01","2017-03-31",39160,0,"2018-12-02","2017-02-28",39160,0,"2016-04-01","2016-04-30",1,0,0,{"$f":"IF('DA 1.2'!B397=2,0,IF(AN353=1,I353-J353,0))","v":0},null,3.972,39.715800000000002]
[null,"2016-12-14",39160,12,31,1263.2258064516129,0.18340000000000001,0.15196000000000001,231.67561290322581,191.95979354838713,39.715819354838686,"2016-01-01","2016-09-30",38130,0,"2016-10-01","2016-12-31",39160,39160,"2017-01-01","2017-03-31",39160,0,"2017-10-01","2017-03-31",39160,0,"2017-12-01","2017-03-31",39160,0,"2018-12-02","2017-02-28",39160,0,"2016-04-01","2016-04-30",1,0,0,{"$f":"IF('DA 1.2'!B398=2,0,IF(AN354=1,I354-J354,0))","v":0},null,3.972,39.715800000000002]
[null,"2016-12-15",39160,12,31,1263.2258064516129,0.18340000000000001,0.15196000000000001,231.67561290322581,191.95979354838713,39.715819354838686,"2016-01-01","2016-09-30",38130,0,"2016-10-01","2016-12-31",39160,39160,"2017-01-01","2017-03-31",39160,0,"2017-10-01","2017-03-31",39160,0,"2017-12-01","2017-03-31",39160,0,"2018-12-02","2017-02-28",39160,0,"2016-04-01","2016-04-30",1,0,0,{"$f":"IF('DA 1.2'!B399=2,0,IF(AN355=1,I355-J355,0))","v":0},null,3.972,39.715800000000002]
[null,"2016-12-16",39160,12,31,1263.2258064516129,0.18340000000000001,0.15196000000000001,231.67561290322581,191.95979354838713,39.715819354838686,"2016-01-01","2016-09-30",38130,0,"2016-10-01","2016-12-31",39160,39160,"2017-01-01","2017-03-31",39160,0,"2017-10-01","2017-03-31",39160,0,"2017-12-01","2017-03-31",39160,0,"2018-12-02","2017-02-28",39160,0,"2016-04-01","2016-04-30",1,0,0,{"$f":"IF('DA 1.2'!B400=2,0,IF(AN356=1,I356-J356,0))","v":0},null,3.972,39.715800000000002]
[null,"2016-12-17",39160,12,31,1263.2258064516129,0.18340000000000001,0.15196000000000001,231.67561290322581,191.95979354838713,39.715819354838686,"2016-01-01","2016-09-30",38130,0,"2016-10-01","2016-12-31",39160,39160,"2017-01-01","2017-03-31",39160,0,"2017-10-01","2017-03-31",39160,0,"2017-12-01","2017-03-31",39160,0,"2018-12-02","2017-02-28",39160,0,"2016-04-01","2016-04-30",1,0,0,{"$f":"IF('DA 1.2'!B401=2,0,IF(AN357=1,I357-J357,0))","v":0},null,3.972,39.715800000000002]
[null,"2016-12-18",39160,12,31,1263.2258064516129,0.18340000000000001,0.15196000000000001,231.67561290322581,191.95979354838713,39.715819354838686,"2016-01-01","2016-09-30",38130,0,"2016-10-01","2016-12-31",39160,39160,"2017-01-01","2017-03-31",39160,0,"2017-10-01","2017-03-31",39160,0,"2017-12-01","2017-03-31",39160,0,"2018-12-02","2017-02-28",39160,0,"2016-04-01","2016-04-30",1,0,0,{"$f":"IF('DA 1.2'!B402=2,0,IF(AN358=1,I358-J358,0))","v":0},null,3.972,39.715800000000002]
[null,"2016-12-19",39160,12,31,1263.2258064516129,0.18340000000000001,0.15196000000000001,231.67561290322581,191.95979354838713,39.715819354838686,"2016-01-01","2016-09-30",38130,0,"2016-10-01","2016-12-31",39160,39160,"2017-01-01","2017-03-31",39160,0,"2017-10-01","2017-03-31",39160,0,"2017-12-01","2017-03-31",39160,0,"2018-12-02","2017-02-28",39160,0,"2016-04-01","2016-04-30",1,0,0,{"$f":"IF('DA 1.2'!B403=2,0,IF(AN359=1,I359-J359,0))","v":0},null,3.972,39.715800000000002]
[null,"2016-12-20",39160,12,31,1263.2258064516129,{"$f":"G359","v":0.18340000000000001},0.15196000000000001,231.67561290322581,191.95979354838713,39.715819354838686,{"$f":"L359","v":"2016-01-01"},"2016-09-30",38130,0,{"$f":"P359","v":"2016-10-01"},"2016-12-31",39160,39160,{"$f":"T359","v":"2017-01-01"},"2017-03-31",39160,0,{"$f":"X359","v":"2017-10-01"},"2017-03-31",39160,0,"2017-12-01","2017-03-31",39160,0,"2018-12-02","2017-02-28",39160,0,{"$f":"AJ359","v":"2016-04-01"},"2016-04-30",1,0,0,{"$f":"IF('DA 1.2'!B404=2,0,IF(AN360=1,I360-J360,0))","v":0},null,3.972,39.715800000000002]
[null,"2016-12-21",39160,12,31,1263.2258064516129,0.18340000000000001,0.15196000000000001,231.67561290322581,191.95979354838713,39.715819354838686,"2016-01-01","2016-09-30",38130,0,"2016-10-01","2016-12-31",39160,39160,"2017-01-01","2017-03-31",39160,0,"2017-10-01","2017-03-31",39160,0,"2017-12-01","2017-03-31",39160,0,"2018-12-02","2017-02-28",39160,0,"2016-04-01","2016-04-30",1,0,0,{"$f":"IF('DA 1.2'!B405=2,0,IF(AN361=1,I361-J361,0))","v":0},null,3.972,39.715800000000002]
[null,"2016-12-22",39160,12,31,1263.2258064516129,0.18340000000000001,0.15196000000000001,231.67561290322581,191.95979354838713,39.715819354838686,"2016-01-01","2016-09-30",38130,0,"2016-10-01","2016-12-31",39160,39160,"2017-01-01","2017-03-31",39160,0,"2017-10-01","2017-03-31",39160,0,"2017-12-01","2017-03-31",39160,0,"2018-12-02","2017-02-28",39160,0,"2016-04-01","2016-04-30",1,0,0,{"$f":"IF('DA 1.2'!B406=2,0,IF(AN362=1,I362-J362,0))","v":0},null,3.972,39.715800000000002]
[null,"2016-12-23",39160,12,31,1263.2258064516129,0.18340000000000001,0.15196000000000001,231.67561290322581,191.95979354838713,39.715819354838686,"2016-01-01","2016-09-30",38130,0,"2016-10-01","2016-12-31",39160,39160,"2017-01-01","2017-03-31",39160,0,"2017-10-01","2017-03-31",39160,0,"2017-12-01","2017-03-31",39160,0,"2018-12-02","2017-02-28",39160,0,"2016-04-01","2016-04-30",1,0,0,{"$f":"IF('DA 1.2'!B407=2,0,IF(AN363=1,I363-J363,0))","v":0},null,3.972,39.715800000000002]
[null,"2016-12-24",39160,12,31,1263.2258064516129,0.18340000000000001,0.15196000000000001,231.67561290322581,191.95979354838713,39.715819354838686,"2016-01-01","2016-09-30",38130,0,"2016-10-01","2016-12-31",39160,39160,"2017-01-01","2017-03-31",39160,0,"2017-10-01","2017-03-31",39160,0,"2017-12-01","2017-03-31",39160,0,"2018-12-02","2017-02-28",39160,0,"2016-04-01","2016-04-30",1,0,0,{"$f":"IF('DA 1.2'!B408=2,0,IF(AN364=1,I364-J364,0))","v":0},null,3.972,39.715800000000002]
[null,"2016-12-25",39160,12,31,1263.2258064516129,0.18340000000000001,0.15196000000000001,231.67561290322581,191.95979354838713,39.715819354838686,"2016-01-01","2016-09-30",38130,0,"2016-10-01","2016-12-31",39160,39160,"2017-01-01","2017-03-31",39160,0,"2017-10-01","2017-03-31",39160,0,"2017-12-01","2017-03-31",39160,0,"2018-12-02","2017-02-28",39160,0,"2016-04-01","2016-04-30",1,0,0,{"$f":"IF('DA 1.2'!B409=2,0,IF(AN365=1,I365-J365,0))","v":0},null,3.972,39.715800000000002]
[null,"2016-12-26",39160,12,31,1263.2258064516129,0.18340000000000001,0.15196000000000001,231.67561290322581,191.95979354838713,39.715819354838686,"2016-01-01","2016-09-30",38130,0,"2016-10-01","2016-12-31",39160,39160,"2017-01-01","2017-03-31",39160,0,"2017-10-01","2017-03-31",39160,0,"2017-12-01","2017-03-31",39160,0,"2018-12-02","2017-02-28",39160,0,"2016-04-01","2016-04-30",1,0,0,{"$f":"IF('DA 1.2'!B410=2,0,IF(AN366=1,I366-J366,0))","v":0},null,3.972,39.715800000000002]
[null,"2016-12-27",39160,12,31,1263.2258064516129,0.18340000000000001,0.15196000000000001,231.67561290322581,191.95979354838713,39.715819354838686,"2016-01-01","2016-09-30",38130,0,"2016-10-01","2016-12-31",39160,39160,"2017-01-01","2017-03-31",39160,0,"2017-10-01","2017-03-31",39160,0,"2017-12-01","2017-03-31",39160,0,"2018-12-02","2017-02-28",39160,0,"2016-04-01","2016-04-30",1,0,0,{"$f":"IF('DA 1.2'!B411=2,0,IF(AN367=1,I367-J367,0))","v":0},null,3.972,39.715800000000002]
[null,"2016-12-28",39160,12,31,1263.2258064516129,0.18340000000000001,0.15196000000000001,231.67561290322581,191.95979354838713,39.715819354838686,"2016-01-01","2016-09-30",38130,0,"2016-10-01","2016-12-31",39160,39160,"2017-01-01","2017-03-31",39160,0,"2017-10-01","2017-03-31",39160,0,"2017-12-01","2017-03-31",39160,0,"2018-12-02","2017-02-28",39160,0,"2016-04-01","2016-04-30",1,0,0,{"$f":"IF('DA 1.2'!B412=2,0,IF(AN368=1,I368-J368,0))","v":0},null,3.972,39.715800000000002]
[null,"2016-12-29",39160,12,31,1263.2258064516129,0.18340000000000001,0.15196000000000001,231.67561290322581,191.95979354838713,39.715819354838686,"2016-01-01","2016-09-30",38130,0,"2016-10-01","2016-12-31",39160,39160,"2017-01-01","2017-03-31",39160,0,"2017-10-01","2017-03-31",39160,0,"2017-12-01","2017-03-31",39160,0,"2018-12-02","2017-02-28",39160,0,"2016-04-01","2016-04-30",1,0,0,{"$f":"IF('DA 1.2'!B413=2,0,IF(AN369=1,I369-J369,0))","v":0},null,3.972,39.715800000000002]
[null,"2016-12-30",39160,12,31,1263.2258064516129,0.18340000000000001,0.15196000000000001,231.67561290322581,191.95979354838713,39.715819354838686,"2016-01-01","2016-09-30",38130,0,"2016-10-01","2016-12-31",39160,39160,"2017-01-01","2017-03-31",39160,0,"2017-10-01","2017-03-31",39160,0,"2017-12-01","2017-03-31",39160,0,"2018-12-02","2017-02-28",39160,0,"2016-04-01","2016-04-30",1,0,0,{"$f":"IF('DA 1.2'!B414=2,0,IF(AN370=1,I370-J370,0))","v":0},null,3.972,39.715800000000002]
[null,"2016-12-31",39160,12,31,1263.2258064516129,0.18340000000000001,0.15196000000000001,231.67561290322581,191.95979354838713,39.715819354838686,"2016-01-01","2016-09-30",38130,0,"2016-10-01","2016-12-31",39160,39160,"2017-01-01","2017-03-31",39160,0,"2017-10-01","2017-03-31",39160,{"$f":"IF(X371>=Y371,0,IF(O371>0,0,IF(S371>0,0,IF(W371>0,0,IF(Y371>=B371,Z371,0)))))","v":0},"2017-12-01","2017-03-31",39160,0,"2018-12-02","2017-02-28",39160,0,"2016-04-01","2016-04-30",1,0,0,{"$f":"IF('DA 1.2'!B415=2,0,IF(AN371=1,I371-J371,0))","v":0},null,3.972,39.715800000000002]
[null,"2017-01-01",39160,1,31,1263.2258064516129,0.18340000000000001,0.15196000000000001,231.67561290322581,191.95979354838713,39.715819354838686,"2016-01-01","2016-09-30",38130,0,"2016-10-01","2016-12-31",39160,0,"2017-01-01","2017-03-31",39160,39160,"2017-10-01","2017-03-31",39160,0,"2017-12-01","2017-03-31",39160,0,"2018-12-02","2017-02-28",39160,0,"2016-04-01","2016-04-30",1,0,0,{"$f":"IF('DA 1.2'!B416=2,0,IF(AN372=1,I372-J372,0))","v":0},null,3.972,39.715800000000002]
[null,"2017-01-02",39160,1,31,1263.2258064516129,0.18340000000000001,0.15196000000000001,231.67561290322581,191.95979354838713,39.715819354838686,"2016-01-01","2016-09-30",38130,0,"2016-10-01","2016-12-31",39160,0,"2017-01-01","2017-03-31",39160,39160,"2017-10-01","2017-03-31",39160,0,"2017-12-01","2017-03-31",39160,0,"2018-12-02","2017-02-28",39160,0,"2016-04-01","2016-04-30",1,0,0,{"$f":"IF('DA 1.2'!B417=2,0,IF(AN373=1,I373-J373,0))","v":0},null,3.972,39.715800000000002]
[null,"2017-01-03",39160,1,31,1263.2258064516129,0.18340000000000001,0.15196000000000001,231.67561290322581,191.95979354838713,39.715819354838686,"2016-01-01","2016-09-30",38130,0,"2016-10-01","2016-12-31",39160,0,"2017-01-01","2017-03-31",39160,39160,"2017-10-01","2017-03-31",39160,0,"2017-12-01","2017-03-31",39160,0,"2018-12-02","2017-02-28",39160,0,"2016-04-01","2016-04-30",1,0,0,{"$f":"IF('DA 1.2'!B418=2,0,IF(AN374=1,I374-J374,0))","v":0},null,3.972,39.715800000000002]
[null,"2017-01-04",39160,1,31,1263.2258064516129,0.18340000000000001,0.15196000000000001,231.67561290322581,191.95979354838713,39.715819354838686,"2016-01-01","2016-09-30",38130,0,"2016-10-01","2016-12-31",39160,0,"2017-01-01","2017-03-31",39160,39160,"2017-10-01","2017-03-31",39160,0,"2017-12-01","2017-03-31",39160,0,"2018-12-02","2017-02-28",39160,0,"2016-04-01","2016-04-30",1,0,0,{"$f":"IF('DA 1.2'!B419=2,0,IF(AN375=1,I375-J375,0))","v":0},null,3.972,39.715800000000002]
[null,"2017-01-05",39160,1,31,1263.2258064516129,{"$f":"G375","v":0.18340000000000001},0.15196000000000001,231.67561290322581,191.95979354838713,39.715819354838686,{"$f":"L375","v":"2016-01-01"},"2016-09-30",38130,0,{"$f":"P375","v":"2016-10-01"},"2016-12-31",39160,0,{"$f":"T375","v":"2017-01-01"},"2017-03-31",39160,39160,{"$f":"X375","v":"2017-10-01"},"2017-03-31",39160,0,"2017-12-01","2017-03-31",39160,0,"2018-12-02","2017-02-28",39160,0,{"$f":"AJ375","v":"2016-04-01"},"2016-04-30",1,0,0,{"$f":"IF('DA 1.2'!B420=2,0,IF(AN376=1,I376-J376,0))","v":0},null,3.972,39.715800000000002]
[null,"2017-01-06",39160,1,31,1263.2258064516129,0.18340000000000001,0.15196000000000001,231.67561290322581,191.95979354838713,39.715819354838686,"2016-01-01","2016-09-30",38130,0,"2016-10-01","2016-12-31",39160,0,"2017-01-01","2017-03-31",39160,39160,"2017-10-01","2017-03-31",39160,0,"2017-12-01","2017-03-31",39160,0,"2018-12-02","2017-02-28",39160,0,"2016-04-01","2016-04-30",1,0,0,{"$f":"IF('DA 1.2'!B421=2,0,IF(AN377=1,I377-J377,0))","v":0},null,3.972,39.715800000000002]
[null,"2017-01-07",39160,1,31,1263.2258064516129,0.18340000000000001,0.15196000000000001,231.67561290322581,191.95979354838713,39.715819354838686,"2016-01-01","2016-09-30",38130,0,"2016-10-01","2016-12-31",39160,0,"2017-01-01","2017-03-31",39160,39160,"2017-10-01","2017-03-31",39160,0,"2017-12-01","2017-03-31",39160,0,"2018-12-02","2017-02-28",39160,0,"2016-04-01","2016-04-30",1,0,0,{"$f":"IF('DA 1.2'!B422=2,0,IF(AN378=1,I378-J378,0))","v":0},null,3.972,39.715800000000002]
[null,"2017-01-08",39160,1,31,1263.2258064516129,0.18340000000000001,0.15196000000000001,231.67561290322581,191.95979354838713,39.715819354838686,"2016-01-01","2016-09-30",38130,0,"2016-10-01","2016-12-31",39160,0,"2017-01-01","2017-03-31",39160,39160,"2017-10-01","2017-03-31",39160,0,"2017-12-01","2017-03-31",39160,0,"2018-12-02","2017-02-28",39160,0,"2016-04-01","2016-04-30",1,0,0,{"$f":"IF('DA 1.2'!B423=2,0,IF(AN379=1,I379-J379,0))","v":0},null,3.972,39.715800000000002]
[null,"2017-01-09",39160,1,31,1263.2258064516129,0.18340000000000001,0.15196000000000001,231.67561290322581,191.95979354838713,39.715819354838686,"2016-01-01","2016-09-30",38130,0,"2016-10-01","2016-12-31",39160,0,"2017-01-01","2017-03-31",39160,39160,"2017-10-01","2017-03-31",39160,0,"2017-12-01","2017-03-31",39160,0,"2018-12-02","2017-02-28",39160,0,"2016-04-01","2016-04-30",1,0,0,{"$f":"IF('DA 1.2'!B424=2,0,IF(AN380=1,I380-J380,0))","v":0},null,3.972,39.715800000000002]
[null,"2017-01-10",39160,1,31,1263.2258064516129,0.18340000000000001,0.15196000000000001,231.67561290322581,191.95979354838713,39.715819354838686,"2016-01-01","2016-09-30",38130,0,"2016-10-01","2016-12-31",39160,0,"2017-01-01","2017-03-31",39160,39160,"2017-10-01","2017-03-31",39160,0,"2017-12-01","2017-03-31",39160,0,"2018-12-02","2017-02-28",39160,0,"2016-04-01","2016-04-30",1,0,0,{"$f":"IF('DA 1.2'!B425=2,0,IF(AN381=1,I381-J381,0))","v":0},null,3.972,39.715800000000002]
[null,"2017-01-11",39160,1,31,1263.2258064516129,0.18340000000000001,0.15196000000000001,231.67561290322581,191.95979354838713,39.715819354838686,"2016-01-01","2016-09-30",38130,0,"2016-10-01","2016-12-31",39160,0,"2017-01-01","2017-03-31",39160,39160,"2017-10-01","2017-03-31",39160,0,"2017-12-01","2017-03-31",39160,0,"2018-12-02","2017-02-28",39160,0,"2016-04-01","2016-04-30",1,0,0,{"$f":"IF('DA 1.2'!B426=2,0,IF(AN382=1,I382-J382,0))","v":0},null,3.972,39.715800000000002]
[null,"2017-01-12",39160,1,31,1263.2258064516129,0.18340000000000001,0.15196000000000001,231.67561290322581,191.95979354838713,39.715819354838686,"2016-01-01","2016-09-30",38130,0,"2016-10-01","2016-12-31",39160,0,"2017-01-01","2017-03-31",39160,39160,"2017-10-01","2017-03-31",39160,0,"2017-12-01","2017-03-31",39160,0,"2018-12-02","2017-02-28",39160,0,"2016-04-01","2016-04-30",1,0,0,{"$f":"IF('DA 1.2'!B427=2,0,IF(AN383=1,I383-J383,0))","v":0},null,3.972,39.715800000000002]
[null,"2017-01-13",39160,1,31,1263.2258064516129,0.18340000000000001,0.15196000000000001,231.67561290322581,191.95979354838713,39.715819354838686,"2016-01-01","2016-09-30",38130,0,"2016-10-01","2016-12-31",39160,0,"2017-01-01","2017-03-31",39160,39160,"2017-10-01","2017-03-31",39160,0,"2017-12-01","2017-03-31",39160,0,"2018-12-02","2017-02-28",39160,0,"2016-04-01","2016-04-30",1,0,0,{"$f":"IF('DA 1.2'!B428=2,0,IF(AN384=1,I384-J384,0))","v":0},null,3.972,39.715800000000002]
[null,"2017-01-14",39160,1,31,1263.2258064516129,0.18340000000000001,0.15196000000000001,231.67561290322581,191.95979354838713,39.715819354838686,"2016-01-01","2016-09-30",38130,0,"2016-10-01","2016-12-31",39160,0,"2017-01-01","2017-03-31",39160,39160,"2017-10-01","2017-03-31",39160,0,"2017-12-01","2017-03-31",39160,0,"2018-12-02","2017-02-28",39160,0,"2016-04-01","2016-04-30",1,0,0,{"$f":"IF('DA 1.2'!B429=2,0,IF(AN385=1,I385-J385,0))","v":0},null,3.972,39.715800000000002]
[null,"2017-01-15",39160,1,31,1263.2258064516129,0.18340000000000001,0.15196000000000001,231.67561290322581,191.95979354838713,39.715819354838686,"2016-01-01","2016-09-30",38130,0,"2016-10-01","2016-12-31",39160,0,"2017-01-01","2017-03-31",39160,39160,"2017-10-01","2017-03-31",39160,0,"2017-12-01","2017-03-31",39160,0,"2018-12-02","2017-02-28",39160,0,"2016-04-01","2016-04-30",1,0,0,{"$f":"IF('DA 1.2'!B430=2,0,IF(AN386=1,I386-J386,0))","v":0},null,3.972,39.715800000000002]
[null,"2017-01-16",39160,1,31,1263.2258064516129,0.18340000000000001,0.15196000000000001,231.67561290322581,191.95979354838713,39.715819354838686,"2016-01-01","2016-09-30",38130,0,"2016-10-01","2016-12-31",39160,0,"2017-01-01","2017-03-31",39160,39160,"2017-10-01","2017-03-31",39160,0,"2017-12-01","2017-03-31",39160,0,"2018-12-02","2017-02-28",39160,0,"2016-04-01","2016-04-30",1,0,0,{"$f":"IF('DA 1.2'!B431=2,0,IF(AN387=1,I387-J387,0))","v":0},null,3.972,39.715800000000002]
[null,"2017-01-17",39160,1,31,1263.2258064516129,0.18340000000000001,0.15196000000000001,231.67561290322581,191.95979354838713,39.715819354838686,"2016-01-01","2016-09-30",38130,0,"2016-10-01","2016-12-31",39160,0,"2017-01-01","2017-03-31",39160,39160,"2017-10-01","2017-03-31",39160,0,"2017-12-01","2017-03-31",39160,0,"2018-12-02","2017-02-28",39160,0,"2016-04-01","2016-04-30",1,0,0,{"$f":"IF('DA 1.2'!B432=2,0,IF(AN388=1,I388-J388,0))","v":0},null,3.972,39.715800000000002]
[null,"2017-01-18",39160,1,31,1263.2258064516129,0.18340000000000001,0.15196000000000001,231.67561290322581,191.95979354838713,39.715819354838686,"2016-01-01","2016-09-30",38130,0,"2016-10-01","2016-12-31",39160,0,"2017-01-01","2017-03-31",39160,39160,"2017-10-01","2017-03-31",39160,0,"2017-12-01","2017-03-31",39160,0,"2018-12-02","2017-02-28",39160,0,"2016-04-01","2016-04-30",1,0,0,{"$f":"IF('DA 1.2'!B433=2,0,IF(AN389=1,I389-J389,0))","v":0},null,3.972,39.715800000000002]
[null,"2017-01-19",39160,1,31,{"$f":"C390/E390","v":1263.2258064516129},0.18340000000000001,0.15196000000000001,{"$f":"F390*G390","v":231.67561290322581},{"$f":"F390*H390","v":191.95979354838713},39.715819354838686,"2016-01-01","2016-09-30",38130,0,"2016-10-01","2016-12-31",39160,0,"2017-01-01","2017-03-31",39160,39160,"2017-10-01","2017-03-31",39160,0,"2017-12-01","2017-03-31",39160,0,"2018-12-02","2017-02-28",39160,0,"2016-04-01","2016-04-30",1,0,0,{"$f":"IF('DA 1.2'!B434=2,0,IF(AN390=1,I390-J390,0))","v":0},null,3.972,39.715800000000002]
[null,"2017-01-20",{"$f":"O391+S391+W391+AA391+AE391+AI391","v":39160},{"$f":"MONTH(B391)","v":1},{"$f":"IF(D391=1,31,IF(D391=2,28,IF(D391=3,31,IF(D391=5,31,IF(D391=7,31,IF(D391=8,31,IF(D391=10,31,IF(D391=12,31,30))))))))","v":31},1263.2258064516129,0.18340000000000001,0.15196000000000001,231.67561290322581,191.95979354838713,{"$f":"I391-J391","v":39.715819354838686},"2016-01-01","2016-09-30",38130,{"$f":"IF(M391>=B391,N391,0)","v":0},"2016-10-01","2016-12-31",39160,{"$f":"IF(O391>0,0,IF(Q391>=B391,R391,0))","v":0},"2017-01-01","2017-03-31",39160,{"$f":"IF(T391>U391,0,IF(O391>0,0,IF(S391>0,0,IF(U391>=B391,V391,0))))","v":39160},"2017-10-01","2017-03-31",39160,{"$f":"IF(X391>=Y391,0,IF(O391>0,0,IF(S391>0,0,IF(W391>0,0,IF(Y391>=B391,Z391,0)))))","v":0},"2017-12-01","2017-03-31",39160,{"$f":"IF(O391>0,0,IF(AB391>=AC391,0,IF(S391>0,0,IF(W391>0,0,IF(AA391>0,0,IF(AC391>=B391,AD391,0))))))","v":0},"2018-12-02","2017-02-28",39160,{"$f":"IF(O391>0,0,IF(S391>0,0,IF(AF391>=AG391,0,IF(W391>0,0,IF(AA391>0,0,IF(AE391>0,0,IF(AG391>=B391,AH391,0)))))))","v":0},"2016-04-01","2016-04-30",{"$f":"IF(B391>=AJ391,1,0)","v":1},{"$f":"IF(B391<=AK391,1,0)","v":0},{"$f":"IF(SUM(AL391:AM391)=2,1,0)","v":0},{"$f":"IF('DA 1.2'!B435=2,0,IF(AN391=1,I391-J391,0))","v":0},null,{"$f":"ROUND(K391*10%,3)","v":3.972},{"$f":"ROUND(K391,4)","v":39.715800000000002}]
[null,"2017-01-21",39160,1,31,1263.2258064516129,{"$f":"G391","v":0.18340000000000001},0.15196000000000001,231.67561290322581,191.95979354838713,39.715819354838686,{"$f":"L391","v":"2016-01-01"},"2016-09-30",38130,0,{"$f":"P391","v":"2016-10-01"},"2016-12-31",39160,0,{"$f":"T391","v":"2017-01-01"},"2017-03-31",39160,39160,{"$f":"X391","v":"2017-10-01"},"2017-03-31",39160,0,{"$f":"AB391","v":"2017-12-01"},{"$f":"AC391","v":"2017-03-31"},{"$f":"AD391","v":39160},0,{"$f":"AF391","v":"2018-12-02"},{"$f":"AG391","v":"2017-02-28"},{"$f":"AH391","v":39160},0,{"$f":"AJ391","v":"2016-04-01"},"2016-04-30",1,0,0,{"$f":"IF('DA 1.2'!B436=2,0,IF(AN392=1,I392-J392,0))","v":0},null,3.972,39.715800000000002]
[null,"2017-01-22",39160,1,31,1263.2258064516129,0.18340000000000001,0.15196000000000001,231.67561290322581,191.95979354838713,39.715819354838686,"2016-01-01","2016-09-30",38130,0,"2016-10-01","2016-12-31",39160,0,"2017-01-01","2017-03-31",39160,39160,"2017-10-01","2017-03-31",39160,0,"2017-12-01","2017-03-31",39160,0,"2018-12-02","2017-02-28",39160,0,"2016-04-01","2016-04-30",1,0,0,{"$f":"IF('DA 1.2'!B437=2,0,IF(AN393=1,I393-J393,0))","v":0},null,3.972,39.715800000000002]
[null,"2017-01-23",39160,1,31,1263.2258064516129,0.18340000000000001,0.15196000000000001,231.67561290322581,191.95979354838713,39.715819354838686,"2016-01-01","2016-09-30",38130,0,"2016-10-01","2016-12-31",39160,0,"2017-01-01","2017-03-31",39160,39160,"2017-10-01","2017-03-31",39160,0,"2017-12-01","2017-03-31",39160,0,"2018-12-02","2017-02-28",39160,0,"2016-04-01","2016-04-30",1,0,0,{"$f":"IF('DA 1.2'!B438=2,0,IF(AN394=1,I394-J394,0))","v":0},null,3.972,39.715800000000002]
[null,"2017-01-24",39160,1,31,1263.2258064516129,0.18340000000000001,0.15196000000000001,231.67561290322581,191.95979354838713,39.715819354838686,"2016-01-01","2016-09-30",38130,0,"2016-10-01","2016-12-31",39160,0,"2017-01-01","2017-03-31",39160,39160,"2017-10-01","2017-03-31",39160,0,"2017-12-01","2017-03-31",39160,0,"2018-12-02","2017-02-28",39160,0,"2016-04-01","2016-04-30",1,0,0,{"$f":"IF('DA 1.2'!B439=2,0,IF(AN395=1,I395-J395,0))","v":0},null,3.972,39.715800000000002]
[null,"2017-01-25",39160,1,31,1263.2258064516129,0.18340000000000001,0.15196000000000001,231.67561290322581,191.95979354838713,39.715819354838686,"2016-01-01","2016-09-30",38130,0,"2016-10-01","2016-12-31",39160,0,"2017-01-01","2017-03-31",39160,39160,"2017-10-01","2017-03-31",39160,0,"2017-12-01","2017-03-31",39160,0,"2018-12-02","2017-02-28",39160,0,"2016-04-01","2016-04-30",1,0,0,{"$f":"IF('DA 1.2'!B440=2,0,IF(AN396=1,I396-J396,0))","v":0},null,3.972,39.715800000000002]
[null,"2017-01-26",39160,1,31,1263.2258064516129,0.18340000000000001,0.15196000000000001,231.67561290322581,191.95979354838713,39.715819354838686,"2016-01-01","2016-09-30",38130,0,"2016-10-01","2016-12-31",39160,0,"2017-01-01","2017-03-31",39160,39160,"2017-10-01","2017-03-31",39160,0,"2017-12-01","2017-03-31",39160,0,"2018-12-02","2017-02-28",39160,0,"2016-04-01","2016-04-30",1,0,0,{"$f":"IF('DA 1.2'!B441=2,0,IF(AN397=1,I397-J397,0))","v":0},null,3.972,39.715800000000002]
[null,"2017-01-27",39160,1,31,1263.2258064516129,0.18340000000000001,0.15196000000000001,231.67561290322581,191.95979354838713,39.715819354838686,"2016-01-01","2016-09-30",38130,0,"2016-10-01","2016-12-31",39160,0,"2017-01-01","2017-03-31",39160,39160,"2017-10-01","2017-03-31",39160,0,"2017-12-01","2017-03-31",39160,0,"2018-12-02","2017-02-28",39160,0,"2016-04-01","2016-04-30",1,0,0,{"$f":"IF('DA 1.2'!B442=2,0,IF(AN398=1,I398-J398,0))","v":0},null,3.972,39.715800000000002]
[null,"2017-01-28",39160,1,31,1263.2258064516129,0.18340000000000001,0.15196000000000001,231.67561290322581,191.95979354838713,39.715819354838686,"2016-01-01","2016-09-30",38130,0,"2016-10-01","2016-12-31",39160,0,"2017-01-01","2017-03-31",39160,39160,"2017-10-01","2017-03-31",39160,0,"2017-12-01","2017-03-31",39160,0,"2018-12-02","2017-02-28",39160,0,"2016-04-01","2016-04-30",1,0,0,{"$f":"IF('DA 1.2'!B443=2,0,IF(AN399=1,I399-J399,0))","v":0},null,3.972,39.715800000000002]
[null,"2017-01-29",39160,1,31,1263.2258064516129,0.18340000000000001,0.15196000000000001,231.67561290322581,191.95979354838713,39.715819354838686,"2016-01-01","2016-09-30",38130,0,"2016-10-01","2016-12-31",39160,0,"2017-01-01","2017-03-31",39160,39160,"2017-10-01","2017-03-31",39160,0,"2017-12-01","2017-03-31",39160,0,"2018-12-02","2017-02-28",39160,0,"2016-04-01","2016-04-30",1,0,0,{"$f":"IF('DA 1.2'!B444=2,0,IF(AN400=1,I400-J400,0))","v":0},null,3.972,39.715800000000002]
[null,"2017-01-30",39160,1,31,1263.2258064516129,0.18340000000000001,0.15196000000000001,231.67561290322581,191.95979354838713,39.715819354838686,"2016-01-01","2016-09-30",38130,0,"2016-10-01","2016-12-31",39160,0,"2017-01-01","2017-03-31",39160,39160,"2017-10-01","2017-03-31",39160,0,"2017-12-01","2017-03-31",39160,0,"2018-12-02","2017-02-28",39160,0,"2016-04-01","2016-04-30",1,0,0,{"$f":"IF('DA 1.2'!B445=2,0,IF(AN401=1,I401-J401,0))","v":0},null,3.972,39.715800000000002]
[null,"2017-01-31",39160,1,{"$f":"IF(D402=1,31,IF(D402=2,29,IF(D402=3,31,IF(D402=5,31,IF(D402=7,31,IF(D402=8,31,IF(D402=10,31,IF(D402=12,31,30))))))))","v":31},1263.2258064516129,0.18340000000000001,0.15196000000000001,231.67561290322581,191.95979354838713,39.715819354838686,"2016-01-01","2016-09-30",38130,0,"2016-10-01","2016-12-31",39160,0,"2017-01-01","2017-03-31",39160,39160,"2017-10-01","2017-03-31",39160,0,"2017-12-01","2017-03-31",39160,0,"2018-12-02","2017-02-28",39160,0,"2016-04-01","2016-04-30",1,0,0,{"$f":"IF('DA 1.2'!B446=2,0,IF(AN402=1,I402-J402,0))","v":0},null,3.972,39.715800000000002]
[null,"2017-02-01",39160,2,{"$f":"IF(D403=1,31,IF(D403=2,28,IF(D403=3,31,IF(D403=5,31,IF(D403=7,31,IF(D403=8,31,IF(D403=10,31,IF(D403=12,31,30))))))))","v":28},1398.5714285714287,0.18340000000000001,0.15196000000000001,256.49800000000005,212.52691428571433,43.971085714285721,"2016-01-01","2016-09-30",38130,0,"2016-10-01","2016-12-31",39160,0,"2017-01-01","2017-03-31",39160,39160,"2017-10-01","2017-03-31",39160,0,"2017-12-01","2017-03-31",39160,0,"2018-12-02","2017-02-28",39160,0,"2016-04-01","2016-04-30",1,0,0,{"$f":"IF('DA 1.2'!B447=2,0,IF(AN403=1,I403-J403,0))","v":0},null,4.3970000000000002,43.9711]
[null,"2017-02-02",39160,2,{"$f":"IF(D404=1,31,IF(D404=2,28,IF(D404=3,31,IF(D404=5,31,IF(D404=7,31,IF(D404=8,31,IF(D404=10,31,IF(D404=12,31,30))))))))","v":28},1398.5714285714287,0.18340000000000001,0.15196000000000001,256.49800000000005,212.52691428571433,43.971085714285721,"2016-01-01","2016-09-30",38130,0,"2016-10-01","2016-12-31",39160,0,"2017-01-01","2017-03-31",39160,39160,"2017-10-01","2017-03-31",39160,0,"2017-12-01","2017-03-31",39160,0,"2018-12-02","2017-02-28",39160,0,"2016-04-01","2016-04-30",1,0,0,{"$f":"IF('DA 1.2'!B448=2,0,IF(AN404=1,I404-J404,0))","v":0},null,4.3970000000000002,43.9711]
[null,"2017-02-03",39160,2,28,1398.5714285714287,0.18340000000000001,0.15196000000000001,256.49800000000005,212.52691428571433,43.971085714285721,"2016-01-01","2016-09-30",38130,0,"2016-10-01","2016-12-31",39160,0,"2017-01-01","2017-03-31",39160,39160,"2017-10-01","2017-03-31",39160,0,"2017-12-01","2017-03-31",39160,0,"2018-12-02","2017-02-28",39160,0,"2016-04-01","2016-04-30",1,0,0,{"$f":"IF('DA 1.2'!B449=2,0,IF(AN405=1,I405-J405,0))","v":0},null,4.3970000000000002,43.9711]
[null,"2017-02-04",39160,2,28,1398.5714285714287,0.18340000000000001,0.15196000000000001,256.49800000000005,212.52691428571433,43.971085714285721,"2016-01-01","2016-09-30",38130,0,"2016-10-01","2016-12-31",39160,0,"2017-01-01","2017-03-31",39160,39160,"2017-10-01","2017-03-31",39160,0,"2017-12-01","2017-03-31",39160,0,"2018-12-02","2017-02-28",39160,0,"2016-04-01","2016-04-30",1,0,0,{"$f":"IF('DA 1.2'!B450=2,0,IF(AN406=1,I406-J406,0))","v":0},null,4.3970000000000002,43.9711]
[null,"2017-02-05",39160,2,28,1398.5714285714287,0.18340000000000001,0.15196000000000001,256.49800000000005,212.52691428571433,43.971085714285721,"2016-01-01","2016-09-30",38130,0,"2016-10-01","2016-12-31",39160,0,"2017-01-01","2017-03-31",39160,39160,"2017-10-01","2017-03-31",39160,0,"2017-12-01","2017-03-31",39160,0,"2018-12-02","2017-02-28",39160,0,"2016-04-01","2016-04-30",1,0,0,{"$f":"IF('DA 1.2'!B451=2,0,IF(AN407=1,I407-J407,0))","v":0},null,4.3970000000000002,43.9711]
[null,"2017-02-06",39160,2,28,1398.5714285714287,{"$f":"G407","v":0.18340000000000001},0.15196000000000001,256.49800000000005,212.52691428571433,43.971085714285721,{"$f":"L407","v":"2016-01-01"},"2016-09-30",38130,0,{"$f":"P407","v":"2016-10-01"},"2016-12-31",39160,0,{"$f":"T407","v":"2017-01-01"},"2017-03-31",39160,39160,{"$f":"X407","v":"2017-10-01"},"2017-03-31",39160,0,"2017-12-01","2017-03-31",39160,0,"2018-12-02","2017-02-28",39160,0,{"$f":"AJ407","v":"2016-04-01"},"2016-04-30",1,0,0,{"$f":"IF('DA 1.2'!B452=2,0,IF(AN408=1,I408-J408,0))","v":0},null,4.3970000000000002,43.9711]
[null,"2017-02-07",39160,2,28,1398.5714285714287,0.18340000000000001,0.15196000000000001,256.49800000000005,212.52691428571433,43.971085714285721,"2016-01-01","2016-09-30",38130,0,"2016-10-01","2016-12-31",39160,0,"2017-01-01","2017-03-31",39160,39160,"2017-10-01","2017-03-31",39160,0,"2017-12-01","2017-03-31",39160,0,"2018-12-02","2017-02-28",39160,0,"2016-04-01","2016-04-30",1,0,0,{"$f":"IF('DA 1.2'!B453=2,0,IF(AN409=1,I409-J409,0))","v":0},null,4.3970000000000002,43.9711]
[null,"2017-02-08",39160,2,28,1398.5714285714287,0.18340000000000001,0.15196000000000001,256.49800000000005,212.52691428571433,43.971085714285721,"2016-01-01","2016-09-30",38130,0,"2016-10-01","2016-12-31",39160,0,"2017-01-01","2017-03-31",39160,39160,"2017-10-01","2017-03-31",39160,0,"2017-12-01","2017-03-31",39160,0,"2018-12-02","2017-02-28",39160,0,"2016-04-01","2016-04-30",1,0,0,{"$f":"IF('DA 1.2'!B454=2,0,IF(AN410=1,I410-J410,0))","v":0},null,4.3970000000000002,43.9711]
[null,"2017-02-09",39160,2,28,1398.5714285714287,0.18340000000000001,0.15196000000000001,256.49800000000005,212.52691428571433,43.971085714285721,"2016-01-01","2016-09-30",38130,0,"2016-10-01","2016-12-31",39160,0,"2017-01-01","2017-03-31",39160,39160,"2017-10-01","2017-03-31",39160,0,"2017-12-01","2017-03-31",39160,0,"2018-12-02","2017-02-28",39160,0,"2016-04-01","2016-04-30",1,0,0,{"$f":"IF('DA 1.2'!B455=2,0,IF(AN411=1,I411-J411,0))","v":0},null,4.3970000000000002,43.9711]
[null,"2017-02-10",39160,2,28,1398.5714285714287,0.18340000000000001,0.15196000000000001,256.49800000000005,212.52691428571433,43.971085714285721,"2016-01-01","2016-09-30",38130,0,"2016-10-01","2016-12-31",39160,0,"2017-01-01","2017-03-31",39160,39160,"2017-10-01","2017-03-31",39160,0,"2017-12-01","2017-03-31",39160,0,"2018-12-02","2017-02-28",39160,0,"2016-04-01","2016-04-30",1,0,0,{"$f":"IF('DA 1.2'!B456=2,0,IF(AN412=1,I412-J412,0))","v":0},null,4.3970000000000002,43.9711]
[null,"2017-02-11",39160,2,28,1398.5714285714287,0.18340000000000001,0.15196000000000001,256.49800000000005,212.52691428571433,43.971085714285721,"2016-01-01","2016-09-30",38130,0,"2016-10-01","2016-12-31",39160,0,"2017-01-01","2017-03-31",39160,39160,"2017-10-01","2017-03-31",39160,0,"2017-12-01","2017-03-31",39160,0,"2018-12-02","2017-02-28",39160,0,"2016-04-01","2016-04-30",1,0,0,{"$f":"IF('DA 1.2'!B457=2,0,IF(AN413=1,I413-J413,0))","v":0},null,4.3970000000000002,43.9711]
[null,"2017-02-12",39160,2,28,1398.5714285714287,0.18340000000000001,0.15196000000000001,256.49800000000005,212.52691428571433,43.971085714285721,"2016-01-01","2016-09-30",38130,0,"2016-10-01","2016-12-31",39160,0,"2017-01-01","2017-03-31",39160,39160,"2017-10-01","2017-03-31",39160,0,"2017-12-01","2017-03-31",39160,0,"2018-12-02","2017-02-28",39160,0,"2016-04-01","2016-04-30",1,0,0,{"$f":"IF('DA 1.2'!B458=2,0,IF(AN414=1,I414-J414,0))","v":0},null,4.3970000000000002,43.9711]
[null,"2017-02-13",39160,2,28,1398.5714285714287,0.18340000000000001,0.15196000000000001,256.49800000000005,212.52691428571433,43.971085714285721,"2016-01-01","2016-09-30",38130,0,"2016-10-01","2016-12-31",39160,0,"2017-01-01","2017-03-31",39160,39160,"2017-10-01","2017-03-31",39160,0,"2017-12-01","2017-03-31",39160,0,"2018-12-02","2017-02-28",39160,0,"2016-04-01","2016-04-30",1,0,0,{"$f":"IF('DA 1.2'!B459=2,0,IF(AN415=1,I415-J415,0))","v":0},null,4.3970000000000002,43.9711]
[null,"2017-02-14",39160,2,28,1398.5714285714287,0.18340000000000001,0.15196000000000001,256.49800000000005,212.52691428571433,43.971085714285721,"2016-01-01","2016-09-30",38130,0,"2016-10-01","2016-12-31",39160,0,"2017-01-01","2017-03-31",39160,39160,"2017-10-01","2017-03-31",39160,0,"2017-12-01","2017-03-31",39160,0,"2018-12-02","2017-02-28",39160,0,"2016-04-01","2016-04-30",1,0,0,{"$f":"IF('DA 1.2'!B460=2,0,IF(AN416=1,I416-J416,0))","v":0},null,4.3970000000000002,43.9711]
[null,"2017-02-15",39160,2,28,1398.5714285714287,0.18340000000000001,0.15196000000000001,256.49800000000005,212.52691428571433,43.971085714285721,"2016-01-01","2016-09-30",38130,0,"2016-10-01","2016-12-31",39160,0,"2017-01-01","2017-03-31",39160,39160,"2017-10-01","2017-03-31",39160,0,"2017-12-01","2017-03-31",39160,0,"2018-12-02","2017-02-28",39160,0,"2016-04-01","2016-04-30",1,0,0,{"$f":"IF('DA 1.2'!B461=2,0,IF(AN417=1,I417-J417,0))","v":0},null,4.3970000000000002,43.9711]
[null,"2017-02-16",39160,2,28,1398.5714285714287,0.18340000000000001,0.15196000000000001,256.49800000000005,212.52691428571433,43.971085714285721,"2016-01-01","2016-09-30",38130,0,"2016-10-01","2016-12-31",39160,0,"2017-01-01","2017-03-31",39160,39160,"2017-10-01","2017-03-31",39160,0,"2017-12-01","2017-03-31",39160,0,"2018-12-02","2017-02-28",39160,0,"2016-04-01","2016-04-30",1,0,0,{"$f":"IF('DA 1.2'!B462=2,0,IF(AN418=1,I418-J418,0))","v":0},null,4.3970000000000002,43.9711]
[null,"2017-02-17",39160,2,28,1398.5714285714287,0.18340000000000001,0.15196000000000001,256.49800000000005,212.52691428571433,43.971085714285721,"2016-01-01","2016-09-30",38130,0,"2016-10-01","2016-12-31",39160,0,"2017-01-01","2017-03-31",39160,39160,"2017-10-01","2017-03-31",39160,0,"2017-12-01","2017-03-31",39160,0,"2018-12-02","2017-02-28",39160,0,"2016-04-01","2016-04-30",1,0,0,{"$f":"IF('DA 1.2'!B463=2,0,IF(AN419=1,I419-J419,0))","v":0},null,4.3970000000000002,43.9711]
[null,"2017-02-18",39160,2,28,1398.5714285714287,0.18340000000000001,0.15196000000000001,256.49800000000005,212.52691428571433,43.971085714285721,"2016-01-01","2016-09-30",38130,0,"2016-10-01","2016-12-31",39160,0,"2017-01-01","2017-03-31",39160,39160,"2017-10-01","2017-03-31",39160,0,"2017-12-01","2017-03-31",39160,0,"2018-12-02","2017-02-28",39160,0,"2016-04-01","2016-04-30",1,0,0,{"$f":"IF('DA 1.2'!B464=2,0,IF(AN420=1,I420-J420,0))","v":0},null,4.3970000000000002,43.9711]
[null,"2017-02-19",39160,2,28,1398.5714285714287,0.18340000000000001,0.15196000000000001,256.49800000000005,212.52691428571433,43.971085714285721,"2016-01-01","2016-09-30",38130,0,"2016-10-01","2016-12-31",39160,0,"2017-01-01","2017-03-31",39160,39160,"2017-10-01","2017-03-31",39160,0,"2017-12-01","2017-03-31",39160,0,"2018-12-02","2017-02-28",39160,0,"2016-04-01","2016-04-30",1,0,0,{"$f":"IF('DA 1.2'!B465=2,0,IF(AN421=1,I421-J421,0))","v":0},null,4.3970000000000002,43.9711]
[null,"2017-02-20",39160,2,28,1398.5714285714287,0.18340000000000001,0.15196000000000001,256.49800000000005,212.52691428571433,43.971085714285721,"2016-01-01","2016-09-30",38130,0,"2016-10-01","2016-12-31",39160,0,"2017-01-01","2017-03-31",39160,39160,"2017-10-01","2017-03-31",39160,0,"2017-12-01","2017-03-31",39160,0,"2018-12-02","2017-02-28",39160,0,"2016-04-01","2016-04-30",1,0,0,{"$f":"IF('DA 1.2'!B466=2,0,IF(AN422=1,I422-J422,0))","v":0},null,4.3970000000000002,43.9711]
[null,"2017-02-21",39160,2,28,1398.5714285714287,0.18340000000000001,0.15196000000000001,256.49800000000005,212.52691428571433,43.971085714285721,"2016-01-01","2016-09-30",38130,0,"2016-10-01","2016-12-31",39160,0,"2017-01-01","2017-03-31",39160,39160,"2017-10-01","2017-03-31",39160,0,"2017-12-01","2017-03-31",39160,0,"2018-12-02","2017-02-28",39160,0,"2016-04-01","2016-04-30",1,0,0,{"$f":"IF('DA 1.2'!B467=2,0,IF(AN423=1,I423-J423,0))","v":0},null,4.3970000000000002,43.9711]
[null,"2017-02-22",39160,2,28,1398.5714285714287,{"$f":"G423","v":0.18340000000000001},0.15196000000000001,256.49800000000005,212.52691428571433,43.971085714285721,{"$f":"L423","v":"2016-01-01"},"2016-09-30",38130,0,{"$f":"P423","v":"2016-10-01"},"2016-12-31",39160,0,{"$f":"T423","v":"2017-01-01"},"2017-03-31",39160,39160,{"$f":"X423","v":"2017-10-01"},"2017-03-31",39160,0,"2017-12-01","2017-03-31",39160,0,"2018-12-02","2017-02-28",39160,0,{"$f":"AJ423","v":"2016-04-01"},"2016-04-30",1,0,0,{"$f":"IF('DA 1.2'!B468=2,0,IF(AN424=1,I424-J424,0))","v":0},null,4.3970000000000002,43.9711]
[null,"2017-02-23",39160,2,28,1398.5714285714287,0.18340000000000001,0.15196000000000001,256.49800000000005,212.52691428571433,43.971085714285721,"2016-01-01","2016-09-30",38130,0,"2016-10-01","2016-12-31",39160,0,"2017-01-01","2017-03-31",39160,39160,"2017-10-01","2017-03-31",39160,0,"2017-12-01","2017-03-31",39160,0,"2018-12-02","2017-02-28",39160,0,"2016-04-01","2016-04-30",1,0,0,{"$f":"IF('DA 1.2'!B469=2,0,IF(AN425=1,I425-J425,0))","v":0},null,4.3970000000000002,43.9711]
[null,"2017-02-24",39160,2,28,1398.5714285714287,0.18340000000000001,0.15196000000000001,256.49800000000005,212.52691428571433,43.971085714285721,"2016-01-01","2016-09-30",38130,0,"2016-10-01","2016-12-31",39160,0,"2017-01-01","2017-03-31",39160,39160,"2017-10-01","2017-03-31",39160,0,"2017-12-01","2017-03-31",39160,0,"2018-12-02","2017-02-28",39160,0,"2016-04-01","2016-04-30",1,0,0,{"$f":"IF('DA 1.2'!B470=2,0,IF(AN426=1,I426-J426,0))","v":0},null,4.3970000000000002,43.9711]
[null,"2017-02-25",39160,2,28,1398.5714285714287,0.18340000000000001,0.15196000000000001,256.49800000000005,212.52691428571433,43.971085714285721,"2016-01-01","2016-09-30",38130,0,"2016-10-01","2016-12-31",39160,0,"2017-01-01","2017-03-31",39160,39160,"2017-10-01","2017-03-31",39160,0,"2017-12-01","2017-03-31",39160,0,"2018-12-02","2017-02-28",39160,0,"2016-04-01","2016-04-30",1,0,0,{"$f":"IF('DA 1.2'!B471=2,0,IF(AN427=1,I427-J427,0))","v":0},null,4.3970000000000002,43.9711]
[null,"2017-02-26",39160,2,28,1398.5714285714287,0.18340000000000001,0.15196000000000001,256.49800000000005,212.52691428571433,43.971085714285721,"2016-01-01","2016-09-30",38130,0,"2016-10-01","2016-12-31",39160,0,"2017-01-01","2017-03-31",39160,39160,"2017-10-01","2017-03-31",39160,0,"2017-12-01","2017-03-31",39160,0,"2018-12-02","2017-02-28",39160,0,"2016-04-01","2016-04-30",1,0,0,{"$f":"IF('DA 1.2'!B472=2,0,IF(AN428=1,I428-J428,0))","v":0},null,4.3970000000000002,43.9711]
[null,"2017-02-27",39160,2,28,1398.5714285714287,0.18340000000000001,0.15196000000000001,256.49800000000005,212.52691428571433,43.971085714285721,"2016-01-01","2016-09-30",38130,0,"2016-10-01","2016-12-31",39160,0,"2017-01-01","2017-03-31",39160,39160,"2017-10-01","2017-03-31",39160,0,"2017-12-01","2017-03-31",39160,0,"2018-12-02","2017-02-28",39160,0,"2016-04-01","2016-04-30",1,0,0,{"$f":"IF('DA 1.2'!B473=2,0,IF(AN429=1,I429-J429,0))","v":0},null,4.3970000000000002,43.9711]
[null,"2017-02-28",39160,2,28,1398.5714285714287,0.18340000000000001,0.15196000000000001,256.49800000000005,212.52691428571433,43.971085714285721,"2016-01-01","2016-09-30",38130,0,"2016-10-01","2016-12-31",39160,0,"2017-01-01","2017-03-31",39160,39160,"2017-10-01","2017-03-31",39160,0,"2017-12-01","2017-03-31",39160,0,"2018-12-02","2017-02-28",39160,0,"2016-04-01","2016-04-30",1,0,0,{"$f":"IF('DA 1.2'!B474=2,0,IF(AN430=1,I430-J430,0))","v":0},null,4.3970000000000002,43.9711]
[null,"2017-03-01",39160,3,{"$f":"IF(D431=1,31,IF(D431=2,29,IF(D431=3,31,IF(D431=5,31,IF(D431=7,31,IF(D431=8,31,IF(D431=10,31,IF(D431=12,31,30))))))))","v":31},1263.2258064516129,0.18340000000000001,0.15196000000000001,231.67561290322581,191.95979354838713,39.715819354838686,"2016-01-01","2016-09-30",38130,0,"2016-10-01","2016-12-31",39160,0,"2017-01-01","2017-03-31",39160,39160,"2017-10-01","2017-03-31",39160,0,"2017-12-01","2017-03-31",39160,0,"2018-12-02","2017-02-28",39160,0,"2016-04-01","2016-04-30",1,0,0,{"$f":"IF('DA 1.2'!B475=2,0,IF(AN431=1,I431-J431,0))","v":0},null,3.972,39.715800000000002]
[null,"2017-03-02",39160,3,31,1263.2258064516129,0.18340000000000001,0.15196000000000001,231.67561290322581,191.95979354838713,39.715819354838686,"2016-01-01","2016-09-30",38130,0,"2016-10-01","2016-12-31",39160,0,"2017-01-01","2017-03-31",39160,39160,"2017-10-01","2017-03-31",39160,0,"2017-12-01","2017-03-31",39160,0,"2018-12-02","2017-02-28",39160,0,"2016-04-01","2016-04-30",1,0,0,{"$f":"IF('DA 1.2'!B476=2,0,IF(AN432=1,I432-J432,0))","v":0},null,3.972,39.715800000000002]
[null,"2017-03-03",39160,3,31,1263.2258064516129,0.18340000000000001,0.15196000000000001,231.67561290322581,191.95979354838713,39.715819354838686,"2016-01-01","2016-09-30",38130,0,"2016-10-01","2016-12-31",39160,0,"2017-01-01","2017-03-31",39160,39160,"2017-10-01","2017-03-31",39160,0,"2017-12-01","2017-03-31",39160,0,"2018-12-02","2017-02-28",39160,0,"2016-04-01","2016-04-30",1,0,0,{"$f":"IF('DA 1.2'!B477=2,0,IF(AN433=1,I433-J433,0))","v":0},null,3.972,39.715800000000002]
[null,"2017-03-04",39160,3,31,1263.2258064516129,0.18340000000000001,0.15196000000000001,231.67561290322581,191.95979354838713,39.715819354838686,"2016-01-01","2016-09-30",38130,0,"2016-10-01","2016-12-31",39160,0,"2017-01-01","2017-03-31",39160,39160,"2017-10-01","2017-03-31",39160,0,"2017-12-01","2017-03-31",39160,0,"2018-12-02","2017-02-28",39160,0,"2016-04-01","2016-04-30",1,0,0,{"$f":"IF('DA 1.2'!B478=2,0,IF(AN434=1,I434-J434,0))","v":0},null,3.972,39.715800000000002]
[null,"2017-03-05",39160,3,31,1263.2258064516129,0.18340000000000001,0.15196000000000001,231.67561290322581,191.95979354838713,39.715819354838686,"2016-01-01","2016-09-30",38130,0,"2016-10-01","2016-12-31",39160,0,"2017-01-01","2017-03-31",39160,39160,"2017-10-01","2017-03-31",39160,0,"2017-12-01","2017-03-31",39160,0,"2018-12-02","2017-02-28",39160,0,"2016-04-01","2016-04-30",1,0,0,{"$f":"IF('DA 1.2'!B479=2,0,IF(AN435=1,I435-J435,0))","v":0},null,3.972,39.715800000000002]
[null,"2017-03-06",39160,3,31,1263.2258064516129,0.18340000000000001,0.15196000000000001,231.67561290322581,191.95979354838713,39.715819354838686,"2016-01-01","2016-09-30",38130,0,"2016-10-01","2016-12-31",39160,0,"2017-01-01","2017-03-31",39160,39160,"2017-10-01","2017-03-31",39160,0,"2017-12-01","2017-03-31",39160,0,"2018-12-02","2017-02-28",39160,0,"2016-04-01","2016-04-30",1,0,0,{"$f":"IF('DA 1.2'!B480=2,0,IF(AN436=1,I436-J436,0))","v":0},null,3.972,39.715800000000002]
[null,"2017-03-07",39160,3,31,1263.2258064516129,0.18340000000000001,0.15196000000000001,231.67561290322581,191.95979354838713,39.715819354838686,"2016-01-01","2016-09-30",38130,0,"2016-10-01","2016-12-31",39160,0,"2017-01-01","2017-03-31",39160,39160,"2017-10-01","2017-03-31",39160,0,"2017-12-01","2017-03-31",39160,0,"2018-12-02","2017-02-28",39160,0,"2016-04-01","2016-04-30",1,0,0,{"$f":"IF('DA 1.2'!B481=2,0,IF(AN437=1,I437-J437,0))","v":0},null,3.972,39.715800000000002]
[null,"2017-03-08",39160,3,31,1263.2258064516129,0.18340000000000001,0.15196000000000001,231.67561290322581,191.95979354838713,39.715819354838686,"2016-01-01","2016-09-30",38130,0,"2016-10-01","2016-12-31",39160,0,"2017-01-01","2017-03-31",39160,39160,"2017-10-01","2017-03-31",39160,0,"2017-12-01","2017-03-31",39160,0,"2018-12-02","2017-02-28",39160,0,"2016-04-01","2016-04-30",1,0,0,{"$f":"IF('DA 1.2'!B482=2,0,IF(AN438=1,I438-J438,0))","v":0},null,3.972,39.715800000000002]
[null,"2017-03-09",39160,3,31,1263.2258064516129,0.18340000000000001,0.15196000000000001,231.67561290322581,191.95979354838713,39.715819354838686,"2016-01-01","2016-09-30",38130,0,"2016-10-01","2016-12-31",39160,0,"2017-01-01","2017-03-31",39160,39160,"2017-10-01","2017-03-31",39160,0,"2017-12-01","2017-03-31",39160,0,"2018-12-02","2017-02-28",39160,0,"2016-04-01","2016-04-30",1,0,0,{"$f":"IF('DA 1.2'!B483=2,0,IF(AN439=1,I439-J439,0))","v":0},null,3.972,39.715800000000002]
[null,"2017-03-10",39160,3,31,1263.2258064516129,{"$f":"G439","v":0.18340000000000001},0.15196000000000001,231.67561290322581,191.95979354838713,39.715819354838686,{"$f":"L439","v":"2016-01-01"},"2016-09-30",38130,0,{"$f":"P439","v":"2016-10-01"},"2016-12-31",39160,0,{"$f":"T439","v":"2017-01-01"},"2017-03-31",39160,39160,{"$f":"X439","v":"2017-10-01"},"2017-03-31",39160,0,"2017-12-01","2017-03-31",39160,0,"2018-12-02","2017-02-28",39160,0,{"$f":"AJ439","v":"2016-04-01"},"2016-04-30",1,0,0,{"$f":"IF('DA 1.2'!B484=2,0,IF(AN440=1,I440-J440,0))","v":0},null,3.972,39.715800000000002]
[null,"2017-03-11",39160,3,31,1263.2258064516129,0.18340000000000001,0.15196000000000001,231.67561290322581,191.95979354838713,39.715819354838686,"2016-01-01","2016-09-30",38130,0,"2016-10-01","2016-12-31",39160,0,"2017-01-01","2017-03-31",39160,39160,"2017-10-01","2017-03-31",39160,0,"2017-12-01","2017-03-31",39160,0,"2018-12-02","2017-02-28",39160,0,"2016-04-01","2016-04-30",1,0,0,{"$f":"IF('DA 1.2'!B485=2,0,IF(AN441=1,I441-J441,0))","v":0},null,3.972,39.715800000000002]
[null,"2017-03-12",39160,3,31,1263.2258064516129,0.18340000000000001,0.15196000000000001,231.67561290322581,191.95979354838713,39.715819354838686,"2016-01-01","2016-09-30",38130,0,"2016-10-01","2016-12-31",39160,0,"2017-01-01","2017-03-31",39160,39160,"2017-10-01","2017-03-31",39160,0,"2017-12-01","2017-03-31",39160,0,"2018-12-02","2017-02-28",39160,0,"2016-04-01","2016-04-30",1,0,0,{"$f":"IF('DA 1.2'!B486=2,0,IF(AN442=1,I442-J442,0))","v":0},null,3.972,39.715800000000002]
[null,"2017-03-13",39160,3,31,1263.2258064516129,0.18340000000000001,0.15196000000000001,231.67561290322581,191.95979354838713,39.715819354838686,"2016-01-01","2016-09-30",38130,0,"2016-10-01","2016-12-31",39160,0,"2017-01-01","2017-03-31",39160,39160,"2017-10-01","2017-03-31",39160,0,"2017-12-01","2017-03-31",39160,0,"2018-12-02","2017-02-28",39160,0,"2016-04-01","2016-04-30",1,0,0,{"$f":"IF('DA 1.2'!B487=2,0,IF(AN443=1,I443-J443,0))","v":0},null,3.972,39.715800000000002]
[null,"2017-03-14",39160,3,31,1263.2258064516129,0.18340000000000001,0.15196000000000001,231.67561290322581,191.95979354838713,39.715819354838686,"2016-01-01","2016-09-30",38130,0,"2016-10-01","2016-12-31",39160,0,"2017-01-01","2017-03-31",39160,39160,"2017-10-01","2017-03-31",39160,0,"2017-12-01","2017-03-31",39160,0,"2018-12-02","2017-02-28",39160,0,"2016-04-01","2016-04-30",1,0,0,{"$f":"IF('DA 1.2'!B488=2,0,IF(AN444=1,I444-J444,0))","v":0},null,3.972,39.715800000000002]
[null,"2017-03-15",39160,3,31,1263.2258064516129,0.18340000000000001,0.15196000000000001,231.67561290322581,191.95979354838713,39.715819354838686,"2016-01-01","2016-09-30",38130,0,"2016-10-01","2016-12-31",39160,0,"2017-01-01","2017-03-31",39160,39160,"2017-10-01","2017-03-31",39160,0,"2017-12-01","2017-03-31",39160,0,"2018-12-02","2017-02-28",39160,0,"2016-04-01","2016-04-30",1,0,0,{"$f":"IF('DA 1.2'!B489=2,0,IF(AN445=1,I445-J445,0))","v":0},null,3.972,39.715800000000002]
[null,"2017-03-16",39160,3,31,1263.2258064516129,0.18340000000000001,0.15196000000000001,231.67561290322581,191.95979354838713,39.715819354838686,"2016-01-01","2016-09-30",38130,0,"2016-10-01","2016-12-31",39160,0,"2017-01-01","2017-03-31",39160,39160,"2017-10-01","2017-03-31",39160,0,"2017-12-01","2017-03-31",39160,0,"2018-12-02","2017-02-28",39160,0,"2016-04-01","2016-04-30",1,0,0,{"$f":"IF('DA 1.2'!B490=2,0,IF(AN446=1,I446-J446,0))","v":0},null,3.972,39.715800000000002]
[null,"2017-03-17",39160,3,31,1263.2258064516129,0.18340000000000001,0.15196000000000001,231.67561290322581,191.95979354838713,39.715819354838686,"2016-01-01","2016-09-30",38130,0,"2016-10-01","2016-12-31",39160,0,"2017-01-01","2017-03-31",39160,39160,"2017-10-01","2017-03-31",39160,0,"2017-12-01","2017-03-31",39160,0,"2018-12-02","2017-02-28",39160,0,"2016-04-01","2016-04-30",1,0,0,{"$f":"IF('DA 1.2'!B491=2,0,IF(AN447=1,I447-J447,0))","v":0},null,3.972,39.715800000000002]
[null,"2017-03-18",39160,3,31,1263.2258064516129,0.18340000000000001,0.15196000000000001,231.67561290322581,191.95979354838713,39.715819354838686,"2016-01-01","2016-09-30",38130,0,"2016-10-01","2016-12-31",39160,0,"2017-01-01","2017-03-31",39160,39160,"2017-10-01","2017-03-31",39160,0,"2017-12-01","2017-03-31",39160,0,"2018-12-02","2017-02-28",39160,0,"2016-04-01","2016-04-30",1,0,0,{"$f":"IF('DA 1.2'!B492=2,0,IF(AN448=1,I448-J448,0))","v":0},null,3.972,39.715800000000002]
[null,"2017-03-19",39160,3,31,1263.2258064516129,0.18340000000000001,0.15196000000000001,231.67561290322581,191.95979354838713,39.715819354838686,"2016-01-01","2016-09-30",38130,0,"2016-10-01","2016-12-31",39160,0,"2017-01-01","2017-03-31",39160,39160,"2017-10-01","2017-03-31",39160,0,"2017-12-01","2017-03-31",39160,0,"2018-12-02","2017-02-28",39160,0,"2016-04-01","2016-04-30",1,0,0,{"$f":"IF('DA 1.2'!B493=2,0,IF(AN449=1,I449-J449,0))","v":0},null,3.972,39.715800000000002]
[null,"2017-03-20",39160,3,31,1263.2258064516129,0.18340000000000001,0.15196000000000001,231.67561290322581,191.95979354838713,39.715819354838686,"2016-01-01","2016-09-30",38130,0,"2016-10-01","2016-12-31",39160,0,"2017-01-01","2017-03-31",39160,39160,"2017-10-01","2017-03-31",39160,0,"2017-12-01","2017-03-31",39160,0,"2018-12-02","2017-02-28",39160,0,"2016-04-01","2016-04-30",1,0,0,{"$f":"IF('DA 1.2'!B494=2,0,IF(AN450=1,I450-J450,0))","v":0},null,3.972,39.715800000000002]
[null,"2017-03-21",39160,3,31,1263.2258064516129,0.18340000000000001,0.15196000000000001,231.67561290322581,191.95979354838713,39.715819354838686,"2016-01-01","2016-09-30",38130,0,"2016-10-01","2016-12-31",39160,0,"2017-01-01","2017-03-31",39160,39160,"2017-10-01","2017-03-31",39160,0,"2017-12-01","2017-03-31",39160,0,"2018-12-02","2017-02-28",39160,0,"2016-04-01","2016-04-30",1,0,0,{"$f":"IF('DA 1.2'!B495=2,0,IF(AN451=1,I451-J451,0))","v":0},null,3.972,39.715800000000002]
[null,"2017-03-22",39160,3,31,1263.2258064516129,0.18340000000000001,0.15196000000000001,231.67561290322581,191.95979354838713,39.715819354838686,"2016-01-01","2016-09-30",38130,0,"2016-10-01","2016-12-31",39160,0,"2017-01-01","2017-03-31",39160,39160,"2017-10-01","2017-03-31",39160,0,"2017-12-01","2017-03-31",39160,0,"2018-12-02","2017-02-28",39160,0,"2016-04-01","2016-04-30",1,0,0,{"$f":"IF('DA 1.2'!B496=2,0,IF(AN452=1,I452-J452,0))","v":0},null,3.972,39.715800000000002]
[null,"2017-03-23",39160,3,31,1263.2258064516129,0.18340000000000001,0.15196000000000001,231.67561290322581,191.95979354838713,39.715819354838686,"2016-01-01","2016-09-30",38130,0,"2016-10-01","2016-12-31",39160,0,"2017-01-01","2017-03-31",39160,39160,"2017-10-01","2017-03-31",39160,0,"2017-12-01","2017-03-31",39160,0,"2018-12-02","2017-02-28",39160,0,"2016-04-01","2016-04-30",1,0,0,{"$f":"IF('DA 1.2'!B497=2,0,IF(AN453=1,I453-J453,0))","v":0},null,3.972,39.715800000000002]
[null,"2017-03-24",39160,3,31,{"$f":"C454/E454","v":1263.2258064516129},0.18340000000000001,0.15196000000000001,{"$f":"F454*G454","v":231.67561290322581},{"$f":"F454*H454","v":191.95979354838713},39.715819354838686,"2016-01-01","2016-09-30",38130,0,"2016-10-01","2016-12-31",39160,0,"2017-01-01","2017-03-31",39160,39160,"2017-10-01","2017-03-31",39160,0,"2017-12-01","2017-03-31",39160,0,"2018-12-02","2017-02-28",39160,0,"2016-04-01","2016-04-30",1,0,0,{"$f":"IF('DA 1.2'!B498=2,0,IF(AN454=1,I454-J454,0))","v":0},null,3.972,39.715800000000002]
[null,"2017-03-25",{"$f":"O455+S455+W455+AA455+AE455+AI455","v":39160},{"$f":"MONTH(B455)","v":3},31,1263.2258064516129,0.18340000000000001,0.15196000000000001,231.67561290322581,191.95979354838713,{"$f":"I455-J455","v":39.715819354838686},"2016-01-01","2016-09-30",38130,{"$f":"IF(M455>=B455,N455,0)","v":0},"2016-10-01","2016-12-31",39160,{"$f":"IF(O455>0,0,IF(Q455>=B455,R455,0))","v":0},"2017-01-01","2017-03-31",39160,{"$f":"IF(T455>U455,0,IF(O455>0,0,IF(S455>0,0,IF(U455>=B455,V455,0))))","v":39160},"2017-10-01","2017-03-31",39160,{"$f":"IF(X455>=Y455,0,IF(O455>0,0,IF(S455>0,0,IF(W455>0,0,IF(Y455>=B455,Z455,0)))))","v":0},"2017-12-01","2017-03-31",39160,{"$f":"IF(O455>0,0,IF(AB455>=AC455,0,IF(S455>0,0,IF(W455>0,0,IF(AA455>0,0,IF(AC455>=B455,AD455,0))))))","v":0},"2018-12-02","2017-02-28",39160,{"$f":"IF(O455>0,0,IF(S455>0,0,IF(AF455>=AG455,0,IF(W455>0,0,IF(AA455>0,0,IF(AE455>0,0,IF(AG455>=B455,AH455,0)))))))","v":0},"2016-04-01","2016-04-30",{"$f":"IF(B455>=AJ455,1,0)","v":1},{"$f":"IF(B455<=AK455,1,0)","v":0},{"$f":"IF(SUM(AL455:AM455)=2,1,0)","v":0},{"$f":"IF('DA 1.2'!B499=2,0,IF(AN455=1,I455-J455,0))","v":0},null,{"$f":"ROUND(K455*10%,3)","v":3.972},{"$f":"ROUND(K455,4)","v":39.715800000000002}]
[null,"2017-03-26",39160,3,31,1263.2258064516129,{"$f":"G455","v":0.18340000000000001},0.15196000000000001,231.67561290322581,191.95979354838713,39.715819354838686,{"$f":"L455","v":"2016-01-01"},"2016-09-30",38130,0,{"$f":"P455","v":"2016-10-01"},"2016-12-31",39160,0,{"$f":"T455","v":"2017-01-01"},"2017-03-31",39160,39160,{"$f":"X455","v":"2017-10-01"},"2017-03-31",39160,0,{"$f":"AB455","v":"2017-12-01"},{"$f":"AC455","v":"2017-03-31"},{"$f":"AD455","v":39160},0,{"$f":"AF455","v":"2018-12-02"},{"$f":"AG455","v":"2017-02-28"},{"$f":"AH455","v":39160},0,{"$f":"AJ455","v":"2016-04-01"},"2016-04-30",1,0,0,{"$f":"IF('DA 1.2'!B500=2,0,IF(AN456=1,I456-J456,0))","v":0},null,3.972,39.715800000000002]
[null,"2017-03-27",39160,3,31,1263.2258064516129,0.18340000000000001,0.15196000000000001,231.67561290322581,191.95979354838713,39.715819354838686,"2016-01-01","2016-09-30",38130,0,"2016-10-01","2016-12-31",39160,0,"2017-01-01","2017-03-31",39160,39160,"2017-10-01","2017-03-31",39160,0,"2017-12-01","2017-03-31",39160,0,"2018-12-02","2017-02-28",39160,0,"2016-04-01","2016-04-30",1,0,0,{"$f":"IF('DA 1.2'!B501=2,0,IF(AN457=1,I457-J457,0))","v":0},null,3.972,39.715800000000002]
[null,"2017-03-28",39160,3,31,1263.2258064516129,0.18340000000000001,0.15196000000000001,231.67561290322581,191.95979354838713,39.715819354838686,"2016-01-01","2016-09-30",38130,0,"2016-10-01","2016-12-31",39160,0,"2017-01-01","2017-03-31",39160,39160,"2017-10-01","2017-03-31",39160,0,"2017-12-01","2017-03-31",39160,0,"2018-12-02","2017-02-28",39160,0,"2016-04-01","2016-04-30",1,0,0,{"$f":"IF('DA 1.2'!B502=2,0,IF(AN458=1,I458-J458,0))","v":0},null,3.972,39.715800000000002]
[null,"2017-03-29",39160,3,31,1263.2258064516129,0.18340000000000001,0.15196000000000001,231.67561290322581,191.95979354838713,39.715819354838686,"2016-01-01","2016-09-30",38130,0,"2016-10-01","2016-12-31",39160,0,"2017-01-01","2017-03-31",39160,39160,"2017-10-01","2017-03-31",39160,0,"2017-12-01","2017-03-31",39160,0,"2018-12-02","2017-02-28",39160,0,"2016-04-01","2016-04-30",1,0,0,{"$f":"IF('DA 1.2'!B503=2,0,IF(AN459=1,I459-J459,0))","v":0},null,3.972,39.715800000000002]
[null,"2017-03-30",39160,3,31,1263.2258064516129,0.18340000000000001,0.15196000000000001,231.67561290322581,191.95979354838713,39.715819354838686,"2016-01-01","2016-09-30",38130,0,"2016-10-01","2016-12-31",39160,0,"2017-01-01","2017-03-31",39160,39160,"2017-10-01","2017-03-31",39160,0,"2017-12-01","2017-03-31",39160,0,"2018-12-02","2017-02-28",39160,0,"2016-04-01","2016-04-30",1,0,0,{"$f":"IF('DA 1.2'!B504=2,0,IF(AN460=1,I460-J460,0))","v":0},null,3.972,39.715800000000002]
[null,"2017-03-31",39160,3,31,1263.2258064516129,0.18340000000000001,0.15196000000000001,231.67561290322581,191.95979354838713,39.715819354838686,"2016-01-01","2016-09-30",38130,0,"2016-10-01","2016-12-31",39160,0,"2017-01-01","2017-03-31",39160,39160,"2017-10-01","2017-03-31",39160,0,"2017-12-01","2017-03-31",39160,0,"2018-12-02","2017-02-28",39160,0,"2016-04-01","2016-04-30",1,0,0,{"$f":"IF('DA 1.2'!B505=2,0,IF(AN461=1,I461-J461,0))","v":0},null,3.972,39.715800000000002]
[null,"2017-04-01",0,4,30,0,0.18340000000000001,0.15196000000000001,0,0,0,"2016-01-01","2016-09-30",38130,0,"2016-10-01","2016-12-31",39160,0,"2017-01-01","2017-03-31",39160,0,"2017-10-01","2017-03-31",39160,{"$f":"IF(X462>=Y462,0,IF(O462>0,0,IF(S462>0,0,IF(W462>0,0,IF(Y462>=B462,Z462,0)))))","v":0},"2017-12-01","2017-03-31",39160,0,"2018-12-02","2017-02-28",39160,0,"2016-04-01","2016-04-30",1,0,0,{"$f":"IF('DA 1.2'!B506=2,0,IF(AN462=1,I462-J462,0))","v":0},null,0,0]
[null,"2017-04-02",0,4,30,0,0.18340000000000001,0.15196000000000001,0,0,0,"2016-01-01","2016-09-30",38130,0,"2016-10-01","2016-12-31",39160,0,"2017-01-01","2017-03-31",39160,0,"2017-10-01","2017-03-31",39160,0,"2017-12-01","2017-03-31",39160,0,"2018-12-02","2017-02-28",39160,0,"2016-04-01","2016-04-30",1,0,0,{"$f":"IF('DA 1.2'!B507=2,0,IF(AN463=1,I463-J463,0))","v":0},null,0,0]
[null,"2017-04-03",0,4,30,0,0.18340000000000001,0.15196000000000001,0,0,0,"2016-01-01","2016-09-30",38130,0,"2016-10-01","2016-12-31",39160,0,"2017-01-01","2017-03-31",39160,0,"2017-10-01","2017-03-31",39160,0,"2017-12-01","2017-03-31",39160,0,"2018-12-02","2017-02-28",39160,0,"2016-04-01","2016-04-30",1,0,0,{"$f":"IF('DA 1.2'!B508=2,0,IF(AN464=1,I464-J464,0))","v":0},null,0,0]
[null,"2017-04-04",0,4,30,0,0.18340000000000001,0.15196000000000001,0,0,0,"2016-01-01","2016-09-30",38130,0,"2016-10-01","2016-12-31",39160,0,"2017-01-01","2017-03-31",39160,0,"2017-10-01","2017-03-31",39160,0,"2017-12-01","2017-03-31",39160,0,"2018-12-02","2017-02-28",39160,0,"2016-04-01","2016-04-30",1,0,0,{"$f":"IF('DA 1.2'!B509=2,0,IF(AN465=1,I465-J465,0))","v":0},null,0,0]
[null,"2017-04-05",0,4,30,0,0.18340000000000001,0.15196000000000001,0,0,0,"2016-01-01","2016-09-30",38130,0,"2016-10-01","2016-12-31",39160,0,"2017-01-01","2017-03-31",39160,0,"2017-10-01","2017-03-31",39160,0,"2017-12-01","2017-03-31",39160,0,"2018-12-02","2017-02-28",39160,0,"2016-04-01","2016-04-30",1,0,0,{"$f":"IF('DA 1.2'!B510=2,0,IF(AN466=1,I466-J466,0))","v":0},null,0,0]
[null,"2017-04-06",0,4,{"$f":"IF(D467=1,31,IF(D467=2,29,IF(D467=3,31,IF(D467=5,31,IF(D467=7,31,IF(D467=8,31,IF(D467=10,31,IF(D467=12,31,30))))))))","v":30},0,0.18340000000000001,0.15196000000000001,0,0,0,"2016-01-01","2016-09-30",38130,0,"2016-10-01","2016-12-31",39160,0,"2017-01-01","2017-03-31",39160,0,"2017-10-01","2017-03-31",39160,0,"2017-12-01","2017-03-31",39160,0,"2018-12-02","2017-02-28",39160,0,"2016-04-01","2016-04-30",1,0,0,{"$f":"IF('DA 1.2'!B511=2,0,IF(AN467=1,I467-J467,0))","v":0},null,0,0]
[null,"2017-04-07",0,4,30,0,0.18340000000000001,0.15196000000000001,0,0,0,"2016-01-01","2016-09-30",38130,0,"2016-10-01","2016-12-31",39160,0,"2017-01-01","2017-03-31",39160,0,"2017-10-01","2017-03-31",39160,0,"2017-12-01","2017-03-31",39160,0,"2018-12-02","2017-02-28",39160,0,"2016-04-01","2016-04-30",1,0,0,{"$f":"IF('DA 1.2'!B512=2,0,IF(AN468=1,I468-J468,0))","v":0},null,0,0]
[null,"2017-04-08",0,4,30,0,0.18340000000000001,0.15196000000000001,0,0,0,"2016-01-01","2016-09-30",38130,0,"2016-10-01","2016-12-31",39160,0,"2017-01-01","2017-03-31",39160,0,"2017-10-01","2017-03-31",39160,0,"2017-12-01","2017-03-31",39160,0,"2018-12-02","2017-02-28",39160,0,"2016-04-01","2016-04-30",1,0,0,{"$f":"IF('DA 1.2'!B513=2,0,IF(AN469=1,I469-J469,0))","v":0},null,0,0]
[null,"2017-04-09",0,4,30,0,0.18340000000000001,0.15196000000000001,0,0,0,"2016-01-01","2016-09-30",38130,0,"2016-10-01","2016-12-31",39160,0,"2017-01-01","2017-03-31",39160,0,"2017-10-01","2017-03-31",39160,0,"2017-12-01","2017-03-31",39160,0,"2018-12-02","2017-02-28",39160,0,"2016-04-01","2016-04-30",1,0,0,{"$f":"IF('DA 1.2'!B514=2,0,IF(AN470=1,I470-J470,0))","v":0},null,0,0]
[null,"2017-04-10",0,4,30,0,0.18340000000000001,0.15196000000000001,0,0,0,"2016-01-01","2016-09-30",38130,0,"2016-10-01","2016-12-31",39160,0,"2017-01-01","2017-03-31",39160,0,"2017-10-01","2017-03-31",39160,0,"2017-12-01","2017-03-31",39160,0,"2018-12-02","2017-02-28",39160,0,"2016-04-01","2016-04-30",1,0,0,{"$f":"IF('DA 1.2'!B515=2,0,IF(AN471=1,I471-J471,0))","v":0},null,0,0]
[null,"2017-04-11",0,4,30,0,{"$f":"G471","v":0.18340000000000001},0.15196000000000001,0,0,0,{"$f":"L471","v":"2016-01-01"},"2016-09-30",38130,0,{"$f":"P471","v":"2016-10-01"},"2016-12-31",39160,0,{"$f":"T471","v":"2017-01-01"},"2017-03-31",39160,0,{"$f":"X471","v":"2017-10-01"},"2017-03-31",39160,0,"2017-12-01","2017-03-31",39160,0,"2018-12-02","2017-02-28",39160,0,{"$f":"AJ471","v":"2016-04-01"},"2016-04-30",1,0,0,{"$f":"IF('DA 1.2'!B516=2,0,IF(AN472=1,I472-J472,0))","v":0},null,0,0]
[null,"2017-04-12",0,4,30,0,0.18340000000000001,0.15196000000000001,0,0,0,"2016-01-01","2016-09-30",38130,0,"2016-10-01","2016-12-31",39160,0,"2017-01-01","2017-03-31",39160,0,"2017-10-01","2017-03-31",39160,0,"2017-12-01","2017-03-31",39160,0,"2018-12-02","2017-02-28",39160,0,"2016-04-01","2016-04-30",1,0,0,{"$f":"IF('DA 1.2'!B517=2,0,IF(AN473=1,I473-J473,0))","v":0},null,0,0]
[null,"2017-04-13",0,4,30,0,0.18340000000000001,0.15196000000000001,0,0,0,"2016-01-01","2016-09-30",38130,0,"2016-10-01","2016-12-31",39160,0,"2017-01-01","2017-03-31",39160,0,"2017-10-01","2017-03-31",39160,0,"2017-12-01","2017-03-31",39160,0,"2018-12-02","2017-02-28",39160,0,"2016-04-01","2016-04-30",1,0,0,{"$f":"IF('DA 1.2'!B518=2,0,IF(AN474=1,I474-J474,0))","v":0},null,0,0]
[null,"2017-04-14",0,4,30,0,0.18340000000000001,0.15196000000000001,0,0,0,"2016-01-01","2016-09-30",38130,0,"2016-10-01","2016-12-31",39160,0,"2017-01-01","2017-03-31",39160,0,"2017-10-01","2017-03-31",39160,0,"2017-12-01","2017-03-31",39160,0,"2018-12-02","2017-02-28",39160,0,"2016-04-01","2016-04-30",1,0,0,{"$f":"IF('DA 1.2'!B519=2,0,IF(AN475=1,I475-J475,0))","v":0},null,0,0]
[null,"2017-04-15",0,4,30,0,0.18340000000000001,0.15196000000000001,0,0,0,"2016-01-01","2016-09-30",38130,0,"2016-10-01","2016-12-31",39160,0,"2017-01-01","2017-03-31",39160,0,"2017-10-01","2017-03-31",39160,0,"2017-12-01","2017-03-31",39160,0,"2018-12-02","2017-02-28",39160,0,"2016-04-01","2016-04-30",1,0,0,{"$f":"IF('DA 1.2'!B520=2,0,IF(AN476=1,I476-J476,0))","v":0},null,0,0]
[null,"2017-04-16",{"$f":"O477+S477+W477+AA477+AE477+AI477","v":0},4,30,0,0.18340000000000001,0.15196000000000001,0,0,0,"2016-01-01","2016-09-30",38130,0,"2016-10-01","2016-12-31",39160,0,"2017-01-01","2017-03-31",39160,0,"2017-10-01","2017-03-31",39160,0,"2017-12-01","2017-03-31",39160,0,"2018-12-02","2017-02-28",39160,0,"2016-04-01","2016-04-30",1,0,0,{"$f":"IF('DA 1.2'!B521=2,0,IF(AN477=1,I477-J477,0))","v":0},null,0,0]
[null,"2017-04-17",0,4,30,0,0.18340000000000001,0.15196000000000001,0,0,0,"2016-01-01","2016-09-30",38130,0,"2016-10-01","2016-12-31",39160,0,"2017-01-01","2017-03-31",39160,0,"2017-10-01","2017-03-31",39160,0,"2017-12-01","2017-03-31",39160,0,"2018-12-02","2017-02-28",39160,0,"2016-04-01","2016-04-30",1,0,0,{"$f":"IF('DA 1.2'!B522=2,0,IF(AN478=1,I478-J478,0))","v":0},null,0,0]
[null,"2017-04-18",0,4,30,0,0.18340000000000001,0.15196000000000001,0,0,0,"2016-01-01","2016-09-30",38130,0,"2016-10-01","2016-12-31",39160,0,"2017-01-01","2017-03-31",39160,0,"2017-10-01","2017-03-31",39160,0,"2017-12-01","2017-03-31",39160,0,"2018-12-02","2017-02-28",39160,0,"2016-04-01","2016-04-30",1,0,0,{"$f":"IF('DA 1.2'!B523=2,0,IF(AN479=1,I479-J479,0))","v":0},null,0,0]
[null,"2017-04-19",0,4,30,0,0.18340000000000001,0.15196000000000001,0,0,0,"2016-01-01","2016-09-30",38130,0,"2016-10-01","2016-12-31",39160,0,"2017-01-01","2017-03-31",39160,0,"2017-10-01","2017-03-31",39160,0,"2017-12-01","2017-03-31",39160,0,"2018-12-02","2017-02-28",39160,0,"2016-04-01","2016-04-30",1,0,0,{"$f":"IF('DA 1.2'!B524=2,0,IF(AN480=1,I480-J480,0))","v":0},null,0,0]
[null,"2017-04-20",0,4,30,0,0.18340000000000001,0.15196000000000001,0,0,0,"2016-01-01","2016-09-30",38130,0,"2016-10-01","2016-12-31",39160,0,"2017-01-01","2017-03-31",39160,0,"2017-10-01","2017-03-31",39160,0,"2017-12-01","2017-03-31",39160,0,"2018-12-02","2017-02-28",39160,0,"2016-04-01","2016-04-30",1,0,0,{"$f":"IF('DA 1.2'!B525=2,0,IF(AN481=1,I481-J481,0))","v":0},null,0,0]
[null,"2017-04-21",0,4,30,0,0.18340000000000001,0.15196000000000001,0,0,0,"2016-01-01","2016-09-30",38130,0,"2016-10-01","2016-12-31",39160,0,"2017-01-01","2017-03-31",39160,0,"2017-10-01","2017-03-31",39160,0,"2017-12-01","2017-03-31",39160,0,"2018-12-02","2017-02-28",39160,0,"2016-04-01","2016-04-30",1,0,0,{"$f":"IF('DA 1.2'!B526=2,0,IF(AN482=1,I482-J482,0))","v":0},null,0,0]
[null,"2017-04-22",0,4,30,0,0.18340000000000001,0.15196000000000001,0,0,0,"2016-01-01","2016-09-30",38130,0,"2016-10-01","2016-12-31",39160,0,"2017-01-01","2017-03-31",39160,0,"2017-10-01","2017-03-31",39160,0,"2017-12-01","2017-03-31",39160,0,"2018-12-02","2017-02-28",39160,0,"2016-04-01","2016-04-30",1,0,0,{"$f":"IF('DA 1.2'!B527=2,0,IF(AN483=1,I483-J483,0))","v":0},null,0,0]
[null,"2017-04-23",0,4,30,0,0.18340000000000001,0.15196000000000001,0,0,0,"2016-01-01","2016-09-30",38130,0,"2016-10-01","2016-12-31",39160,0,"2017-01-01","2017-03-31",39160,0,"2017-10-01","2017-03-31",39160,0,"2017-12-01","2017-03-31",39160,0,"2018-12-02","2017-02-28",39160,0,"2016-04-01","2016-04-30",1,0,0,{"$f":"IF('DA 1.2'!B528=2,0,IF(AN484=1,I484-J484,0))","v":0},null,0,0]
[null,"2017-04-24",0,4,30,0,0.18340000000000001,0.15196000000000001,0,0,0,"2016-01-01","2016-09-30",38130,0,"2016-10-01","2016-12-31",39160,0,"2017-01-01","2017-03-31",39160,0,"2017-10-01","2017-03-31",39160,0,"2017-12-01","2017-03-31",39160,0,"2018-12-02","2017-02-28",39160,0,"2016-04-01","2016-04-30",1,0,0,{"$f":"IF('DA 1.2'!B529=2,0,IF(AN485=1,I485-J485,0))","v":0},null,0,0]
[null,"2017-04-25",0,4,30,0,0.18340000000000001,0.15196000000000001,0,0,0,"2016-01-01","2016-09-30",38130,0,"2016-10-01","2016-12-31",39160,0,"2017-01-01","2017-03-31",39160,0,"2017-10-01","2017-03-31",39160,0,"2017-12-01","2017-03-31",39160,0,"2018-12-02","2017-02-28",39160,0,"2016-04-01","2016-04-30",1,0,0,{"$f":"IF('DA 1.2'!B530=2,0,IF(AN486=1,I486-J486,0))","v":0},null,0,0]
[null,"2017-04-26",0,4,30,0,0.18340000000000001,0.15196000000000001,0,0,0,"2016-01-01","2016-09-30",38130,0,"2016-10-01","2016-12-31",39160,0,"2017-01-01","2017-03-31",39160,0,"2017-10-01","2017-03-31",39160,0,"2017-12-01","2017-03-31",39160,0,"2018-12-02","2017-02-28",39160,0,"2016-04-01","2016-04-30",1,0,0,{"$f":"IF('DA 1.2'!B531=2,0,IF(AN487=1,I487-J487,0))","v":0},null,0,0]
[null,"2017-04-27",0,4,30,0,{"$f":"G487","v":0.18340000000000001},0.15196000000000001,0,0,0,{"$f":"L487","v":"2016-01-01"},"2016-09-30",38130,0,{"$f":"P487","v":"2016-10-01"},"2016-12-31",39160,0,{"$f":"T487","v":"2017-01-01"},"2017-03-31",39160,0,{"$f":"X487","v":"2017-10-01"},"2017-03-31",39160,0,"2017-12-01","2017-03-31",39160,0,"2018-12-02","2017-02-28",39160,0,{"$f":"AJ487","v":"2016-04-01"},"2016-04-30",1,0,0,{"$f":"IF('DA 1.2'!B532=2,0,IF(AN488=1,I488-J488,0))","v":0},null,0,0]
[null,"2017-04-28",0,4,30,0,0.18340000000000001,0.15196000000000001,0,0,0,"2016-01-01","2016-09-30",38130,0,"2016-10-01","2016-12-31",39160,0,"2017-01-01","2017-03-31",39160,0,"2017-10-01","2017-03-31",39160,0,"2017-12-01","2017-03-31",39160,0,"2018-12-02","2017-02-28",39160,0,"2016-04-01","2016-04-30",1,0,0,{"$f":"IF('DA 1.2'!B533=2,0,IF(AN489=1,I489-J489,0))","v":0},null,0,0]
[null,"2017-04-29",0,4,30,0,0.18340000000000001,0.15196000000000001,0,0,0,"2016-01-01","2016-09-30",38130,0,"2016-10-01","2016-12-31",39160,0,"2017-01-01","2017-03-31",39160,0,"2017-10-01","2017-03-31",39160,0,"2017-12-01","2017-03-31",39160,0,"2018-12-02","2017-02-28",39160,0,"2016-04-01","2016-04-30",1,0,0,{"$f":"IF('DA 1.2'!B534=2,0,IF(AN490=1,I490-J490,0))","v":0},null,0,0]
[null,"2017-04-30",0,4,30,0,0.18340000000000001,0.15196000000000001,0,0,0,"2016-01-01","2016-09-30",38130,0,"2016-10-01","2016-12-31",39160,0,"2017-01-01","2017-03-31",39160,0,"2017-10-01","2017-03-31",39160,0,"2017-12-01","2017-03-31",39160,0,"2018-12-02","2017-02-28",39160,0,"2016-04-01","2016-04-30",1,0,0,{"$f":"IF('DA 1.2'!B535=2,0,IF(AN491=1,I491-J491,0))","v":0},null,0,0]
[null,"2017-05-01",0,5,31,0,0.18340000000000001,0.15196000000000001,0,0,0,"2016-01-01","2016-09-30",38130,0,"2016-10-01","2016-12-31",39160,0,"2017-01-01","2017-03-31",39160,0,"2017-10-01","2017-03-31",39160,0,"2017-12-01","2017-03-31",39160,0,"2018-12-02","2017-02-28",39160,0,"2016-04-01","2016-04-30",1,0,0,{"$f":"IF('DA 1.2'!B536=2,0,IF(AN492=1,I492-J492,0))","v":0},null,0,0]
[null,"2017-05-02",0,5,31,0,0.18340000000000001,0.15196000000000001,0,0,0,"2016-01-01","2016-09-30",38130,0,"2016-10-01","2016-12-31",39160,0,"2017-01-01","2017-03-31",39160,0,"2017-10-01","2017-03-31",39160,0,"2017-12-01","2017-03-31",39160,0,"2018-12-02","2017-02-28",39160,0,"2016-04-01","2016-04-30",1,0,0,{"$f":"IF('DA 1.2'!B537=2,0,IF(AN493=1,I493-J493,0))","v":0},null,0,0]
[null,"2017-05-03",0,5,31,0,0.18340000000000001,0.15196000000000001,0,0,0,"2016-01-01","2016-09-30",38130,0,"2016-10-01","2016-12-31",39160,0,"2017-01-01","2017-03-31",39160,0,"2017-10-01","2017-03-31",39160,0,"2017-12-01","2017-03-31",39160,0,"2018-12-02","2017-02-28",39160,0,"2016-04-01","2016-04-30",1,0,0,{"$f":"IF('DA 1.2'!B538=2,0,IF(AN494=1,I494-J494,0))","v":0},null,0,0]
[null,"2017-05-04",0,5,31,0,0.18340000000000001,0.15196000000000001,0,0,0,"2016-01-01","2016-09-30",38130,0,"2016-10-01","2016-12-31",39160,0,"2017-01-01","2017-03-31",39160,0,"2017-10-01","2017-03-31",39160,0,"2017-12-01","2017-03-31",39160,0,"2018-12-02","2017-02-28",39160,0,"2016-04-01","2016-04-30",1,0,0,{"$f":"IF('DA 1.2'!B539=2,0,IF(AN495=1,I495-J495,0))","v":0},null,0,0]
[null,"2017-05-05",0,5,31,0,0.18340000000000001,0.15196000000000001,0,0,0,"2016-01-01","2016-09-30",38130,0,"2016-10-01","2016-12-31",39160,0,"2017-01-01","2017-03-31",39160,0,"2017-10-01","2017-03-31",39160,0,"2017-12-01","2017-03-31",39160,0,"2018-12-02","2017-02-28",39160,0,"2016-04-01","2016-04-30",1,0,0,{"$f":"IF('DA 1.2'!B540=2,0,IF(AN496=1,I496-J496,0))","v":0},null,0,0]
[null,"2017-05-06",0,5,31,0,0.18340000000000001,0.15196000000000001,0,0,0,"2016-01-01","2016-09-30",38130,0,"2016-10-01","2016-12-31",39160,0,"2017-01-01","2017-03-31",39160,0,"2017-10-01","2017-03-31",39160,0,"2017-12-01","2017-03-31",39160,0,"2018-12-02","2017-02-28",39160,0,"2016-04-01","2016-04-30",1,0,0,{"$f":"IF('DA 1.2'!B541=2,0,IF(AN497=1,I497-J497,0))","v":0},null,0,0]
[null,"2017-05-07",0,5,31,0,0.18340000000000001,0.15196000000000001,0,0,0,"2016-01-01","2016-09-30",38130,0,"2016-10-01","2016-12-31",39160,0,"2017-01-01","2017-03-31",39160,0,"2017-10-01","2017-03-31",39160,0,"2017-12-01","2017-03-31",39160,0,"2018-12-02","2017-02-28",39160,0,"2016-04-01","2016-04-30",1,0,0,{"$f":"IF('DA 1.2'!B542=2,0,IF(AN498=1,I498-J498,0))","v":0},null,0,0]
[null,"2017-05-08",0,5,31,0,0.18340000000000001,0.15196000000000001,0,0,0,"2016-01-01","2016-09-30",38130,0,"2016-10-01","2016-12-31",39160,0,"2017-01-01","2017-03-31",39160,0,"2017-10-01","2017-03-31",39160,0,"2017-12-01","2017-03-31",39160,0,"2018-12-02","2017-02-28",39160,0,"2016-04-01","2016-04-30",1,0,0,{"$f":"IF('DA 1.2'!B543=2,0,IF(AN499=1,I499-J499,0))","v":0},null,0,0]
[null,"2017-05-09",0,5,31,0,0.18340000000000001,0.15196000000000001,0,0,0,"2016-01-01","2016-09-30",38130,0,"2016-10-01","2016-12-31",39160,0,"2017-01-01","2017-03-31",39160,0,"2017-10-01","2017-03-31",39160,0,"2017-12-01","2017-03-31",39160,0,"2018-12-02","2017-02-28",39160,0,"2016-04-01","2016-04-30",1,0,0,{"$f":"IF('DA 1.2'!B544=2,0,IF(AN500=1,I500-J500,0))","v":0},null,0,0]
[null,"2017-05-10",0,5,31,0,0.18340000000000001,0.15196000000000001,0,0,0,"2016-01-01","2016-09-30",38130,0,"2016-10-01","2016-12-31",39160,0,"2017-01-01","2017-03-31",39160,0,"2017-10-01","2017-03-31",39160,0,"2017-12-01","2017-03-31",39160,0,"2018-12-02","2017-02-28",39160,0,"2016-04-01","2016-04-30",1,0,0,{"$f":"IF('DA 1.2'!B545=2,0,IF(AN501=1,I501-J501,0))","v":0},null,0,0]
[null,"2017-05-11",0,5,31,0,0.18340000000000001,0.15196000000000001,0,0,0,"2016-01-01","2016-09-30",38130,0,"2016-10-01","2016-12-31",39160,0,"2017-01-01","2017-03-31",39160,0,"2017-10-01","2017-03-31",39160,0,"2017-12-01","2017-03-31",39160,0,"2018-12-02","2017-02-28",39160,0,"2016-04-01","2016-04-30",1,0,0,{"$f":"IF('DA 1.2'!B546=2,0,IF(AN502=1,I502-J502,0))","v":0},null,0,0]
[null,"2017-05-12",0,5,31,0,0.18340000000000001,0.15196000000000001,0,0,0,"2016-01-01","2016-09-30",38130,0,"2016-10-01","2016-12-31",39160,0,"2017-01-01","2017-03-31",39160,0,"2017-10-01","2017-03-31",39160,0,"2017-12-01","2017-03-31",39160,0,"2018-12-02","2017-02-28",39160,0,"2016-04-01","2016-04-30",1,0,0,{"$f":"IF('DA 1.2'!B547=2,0,IF(AN503=1,I503-J503,0))","v":0},null,0,0]
[null,"2017-05-13",0,5,31,0,{"$f":"G503","v":0.18340000000000001},0.15196000000000001,0,0,0,{"$f":"L503","v":"2016-01-01"},"2016-09-30",38130,0,{"$f":"P503","v":"2016-10-01"},"2016-12-31",39160,0,{"$f":"T503","v":"2017-01-01"},"2017-03-31",39160,0,{"$f":"X503","v":"2017-10-01"},"2017-03-31",39160,0,"2017-12-01","2017-03-31",39160,0,"2018-12-02","2017-02-28",39160,0,{"$f":"AJ503","v":"2016-04-01"},"2016-04-30",1,0,0,{"$f":"IF('DA 1.2'!B548=2,0,IF(AN504=1,I504-J504,0))","v":0},null,0,0]
[null,"2017-05-14",0,5,31,0,0.18340000000000001,0.15196000000000001,0,0,0,"2016-01-01","2016-09-30",38130,0,"2016-10-01","2016-12-31",39160,0,"2017-01-01","2017-03-31",39160,0,"2017-10-01","2017-03-31",39160,0,"2017-12-01","2017-03-31",39160,0,"2018-12-02","2017-02-28",39160,0,"2016-04-01","2016-04-30",1,0,0,{"$f":"IF('DA 1.2'!B549=2,0,IF(AN505=1,I505-J505,0))","v":0},null,0,0]
[null,"2017-05-15",0,5,31,0,0.18340000000000001,0.15196000000000001,0,0,0,"2016-01-01","2016-09-30",38130,0,"2016-10-01","2016-12-31",39160,0,"2017-01-01","2017-03-31",39160,0,"2017-10-01","2017-03-31",39160,0,"2017-12-01","2017-03-31",39160,0,"2018-12-02","2017-02-28",39160,0,"2016-04-01","2016-04-30",1,0,0,{"$f":"IF('DA 1.2'!B550=2,0,IF(AN506=1,I506-J506,0))","v":0},null,0,0]
[null,"2017-05-16",0,5,31,0,0.18340000000000001,0.15196000000000001,0,0,0,"2016-01-01","2016-09-30",38130,0,"2016-10-01","2016-12-31",39160,0,"2017-01-01","2017-03-31",39160,0,"2017-10-01","2017-03-31",39160,0,"2017-12-01","2017-03-31",39160,0,"2018-12-02","2017-02-28",39160,0,"2016-04-01","2016-04-30",1,0,0,{"$f":"IF('DA 1.2'!B551=2,0,IF(AN507=1,I507-J507,0))","v":0},null,0,0]
[null,"2017-05-17",0,5,31,0,0.18340000000000001,0.15196000000000001,0,0,0,"2016-01-01","2016-09-30",38130,0,"2016-10-01","2016-12-31",39160,0,"2017-01-01","2017-03-31",39160,0,"2017-10-01","2017-03-31",39160,0,"2017-12-01","2017-03-31",39160,0,"2018-12-02","2017-02-28",39160,0,"2016-04-01","2016-04-30",1,0,0,{"$f":"IF('DA 1.2'!B552=2,0,IF(AN508=1,I508-J508,0))","v":0},null,0,0]
[null,"2017-05-18",0,5,31,0,0.18340000000000001,0.15196000000000001,0,0,0,"2016-01-01","2016-09-30",38130,0,"2016-10-01","2016-12-31",39160,0,"2017-01-01","2017-03-31",39160,0,"2017-10-01","2017-03-31",39160,0,"2017-12-01","2017-03-31",39160,0,"2018-12-02","2017-02-28",39160,0,"2016-04-01","2016-04-30",1,0,0,{"$f":"IF('DA 1.2'!B553=2,0,IF(AN509=1,I509-J509,0))","v":0},null,0,0]
[null,"2017-05-19",0,5,31,0,0.18340000000000001,0.15196000000000001,0,0,0,"2016-01-01","2016-09-30",38130,0,"2016-10-01","2016-12-31",39160,0,"2017-01-01","2017-03-31",39160,0,"2017-10-01","2017-03-31",39160,0,"2017-12-01","2017-03-31",39160,0,"2018-12-02","2017-02-28",39160,0,"2016-04-01","2016-04-30",1,0,0,{"$f":"IF('DA 1.2'!B554=2,0,IF(AN510=1,I510-J510,0))","v":0},null,0,0]
[null,"2017-05-20",0,5,31,0,0.18340000000000001,0.15196000000000001,0,0,0,"2016-01-01","2016-09-30",38130,0,"2016-10-01","2016-12-31",39160,0,"2017-01-01","2017-03-31",39160,0,"2017-10-01","2017-03-31",39160,0,"2017-12-01","2017-03-31",39160,0,"2018-12-02","2017-02-28",39160,0,"2016-04-01","2016-04-30",1,0,0,{"$f":"IF('DA 1.2'!B555=2,0,IF(AN511=1,I511-J511,0))","v":0},null,0,0]
[null,"2017-05-21",0,5,31,0,0.18340000000000001,0.15196000000000001,0,0,0,"2016-01-01","2016-09-30",38130,0,"2016-10-01","2016-12-31",39160,0,"2017-01-01","2017-03-31",39160,0,"2017-10-01","2017-03-31",39160,0,"2017-12-01","2017-03-31",39160,0,"2018-12-02","2017-02-28",39160,0,"2016-04-01","2016-04-30",1,0,0,{"$f":"IF('DA 1.2'!B556=2,0,IF(AN512=1,I512-J512,0))","v":0},null,0,0]
[null,"2017-05-22",0,5,31,0,0.18340000000000001,0.15196000000000001,0,0,0,"2016-01-01","2016-09-30",38130,0,"2016-10-01","2016-12-31",39160,0,"2017-01-01","2017-03-31",39160,0,"2017-10-01","2017-03-31",39160,0,"2017-12-01","2017-03-31",39160,0,"2018-12-02","2017-02-28",39160,0,"2016-04-01","2016-04-30",1,0,0,{"$f":"IF('DA 1.2'!B557=2,0,IF(AN513=1,I513-J513,0))","v":0},null,0,0]
[null,"2017-05-23",0,5,31,0,0.18340000000000001,0.15196000000000001,0,0,0,"2016-01-01","2016-09-30",38130,0,"2016-10-01","2016-12-31",39160,0,"2017-01-01","2017-03-31",39160,0,"2017-10-01","2017-03-31",39160,0,"2017-12-01","2017-03-31",39160,0,"2018-12-02","2017-02-28",39160,0,"2016-04-01","2016-04-30",1,0,0,{"$f":"IF('DA 1.2'!B558=2,0,IF(AN514=1,I514-J514,0))","v":0},null,0,0]
[null,"2017-05-24",0,5,31,0,0.18340000000000001,0.15196000000000001,0,0,0,"2016-01-01","2016-09-30",38130,0,"2016-10-01","2016-12-31",39160,0,"2017-01-01","2017-03-31",39160,0,"2017-10-01","2017-03-31",39160,0,"2017-12-01","2017-03-31",39160,0,"2018-12-02","2017-02-28",39160,0,"2016-04-01","2016-04-30",1,0,0,{"$f":"IF('DA 1.2'!B559=2,0,IF(AN515=1,I515-J515,0))","v":0},null,0,0]
[null,"2017-05-25",0,5,31,0,0.18340000000000001,0.15196000000000001,0,0,0,"2016-01-01","2016-09-30",38130,0,"2016-10-01","2016-12-31",39160,0,"2017-01-01","2017-03-31",39160,0,"2017-10-01","2017-03-31",39160,0,"2017-12-01","2017-03-31",39160,0,"2018-12-02","2017-02-28",39160,0,"2016-04-01","2016-04-30",1,0,0,{"$f":"IF('DA 1.2'!B560=2,0,IF(AN516=1,I516-J516,0))","v":0},null,0,0]
[null,"2017-05-26",0,5,31,0,0.18340000000000001,0.15196000000000001,0,0,0,"2016-01-01","2016-09-30",38130,0,"2016-10-01","2016-12-31",39160,0,"2017-01-01","2017-03-31",39160,0,"2017-10-01","2017-03-31",39160,0,"2017-12-01","2017-03-31",39160,0,"2018-12-02","2017-02-28",39160,0,"2016-04-01","2016-04-30",1,0,0,{"$f":"IF('DA 1.2'!B561=2,0,IF(AN517=1,I517-J517,0))","v":0},null,0,0]
[null,"2017-05-27",0,5,31,{"$f":"C518/E518","v":0},0.18340000000000001,0.15196000000000001,{"$f":"F518*G518","v":0},{"$f":"F518*H518","v":0},0,"2016-01-01","2016-09-30",38130,0,"2016-10-01","2016-12-31",39160,0,"2017-01-01","2017-03-31",39160,0,"2017-10-01","2017-03-31",39160,0,"2017-12-01","2017-03-31",39160,0,"2018-12-02","2017-02-28",39160,0,"2016-04-01","2016-04-30",1,0,0,{"$f":"IF('DA 1.2'!B562=2,0,IF(AN518=1,I518-J518,0))","v":0},null,0,0]
[null,"2017-05-28",{"$f":"O519+S519+W519+AA519+AE519+AI519","v":0},{"$f":"MONTH(B519)","v":5},31,0,0.18340000000000001,0.15196000000000001,0,0,{"$f":"I519-J519","v":0},"2016-01-01","2016-09-30",38130,{"$f":"IF(M519>=B519,N519,0)","v":0},"2016-10-01","2016-12-31",39160,{"$f":"IF(O519>0,0,IF(Q519>=B519,R519,0))","v":0},"2017-01-01","2017-03-31",39160,{"$f":"IF(T519>U519,0,IF(O519>0,0,IF(S519>0,0,IF(U519>=B519,V519,0))))","v":0},"2017-10-01","2017-03-31",39160,{"$f":"IF(X519>=Y519,0,IF(O519>0,0,IF(S519>0,0,IF(W519>0,0,IF(Y519>=B519,Z519,0)))))","v":0},"2017-12-01","2017-03-31",39160,{"$f":"IF(O519>0,0,IF(AB519>=AC519,0,IF(S519>0,0,IF(W519>0,0,IF(AA519>0,0,IF(AC519>=B519,AD519,0))))))","v":0},"2018-12-02","2017-02-28",39160,{"$f":"IF(O519>0,0,IF(S519>0,0,IF(AF519>=AG519,0,IF(W519>0,0,IF(AA519>0,0,IF(AE519>0,0,IF(AG519>=B519,AH519,0)))))))","v":0},"2016-04-01","2016-04-30",{"$f":"IF(B519>=AJ519,1,0)","v":1},{"$f":"IF(B519<=AK519,1,0)","v":0},{"$f":"IF(SUM(AL519:AM519)=2,1,0)","v":0},{"$f":"IF('DA 1.2'!B563=2,0,IF(AN519=1,I519-J519,0))","v":0},null,{"$f":"ROUND(K519*10%,3)","v":0},{"$f":"ROUND(K519,4)","v":0}]
[null,"2017-05-29",0,5,31,0,{"$f":"G519","v":0.18340000000000001},0.15196000000000001,0,0,0,{"$f":"L519","v":"2016-01-01"},"2016-09-30",38130,0,{"$f":"P519","v":"2016-10-01"},"2016-12-31",39160,0,{"$f":"T519","v":"2017-01-01"},"2017-03-31",39160,0,{"$f":"X519","v":"2017-10-01"},"2017-03-31",39160,0,{"$f":"AB519","v":"2017-12-01"},{"$f":"AC519","v":"2017-03-31"},{"$f":"AD519","v":39160},0,{"$f":"AF519","v":"2018-12-02"},{"$f":"AG519","v":"2017-02-28"},{"$f":"AH519","v":39160},0,{"$f":"AJ519","v":"2016-04-01"},"2016-04-30",1,0,0,{"$f":"IF('DA 1.2'!B564=2,0,IF(AN520=1,I520-J520,0))","v":0},null,0,0]
[null,"2017-05-30",0,5,31,0,0.18340000000000001,0.15196000000000001,0,0,0,"2016-01-01","2016-09-30",38130,0,"2016-10-01","2016-12-31",39160,0,"2017-01-01","2017-03-31",39160,0,"2017-10-01","2017-03-31",39160,0,"2017-12-01","2017-03-31",39160,0,"2018-12-02","2017-02-28",39160,0,"2016-04-01","2016-04-30",1,0,0,{"$f":"IF('DA 1.2'!B565=2,0,IF(AN521=1,I521-J521,0))","v":0},null,0,0]
[null,"2017-05-31",0,5,31,0,0.18340000000000001,0.15196000000000001,0,0,0,"2016-01-01","2016-09-30",38130,0,"2016-10-01","2016-12-31",39160,0,"2017-01-01","2017-03-31",39160,0,"2017-10-01","2017-03-31",39160,0,"2017-12-01","2017-03-31",39160,0,"2018-12-02","2017-02-28",39160,0,"2016-04-01","2016-04-30",1,0,0,{"$f":"IF('DA 1.2'!B566=2,0,IF(AN522=1,I522-J522,0))","v":0},null,0,0]
[null,"2017-06-01",0,6,30,0,0.18340000000000001,0.15196000000000001,0,0,0,"2016-01-01","2016-09-30",38130,0,"2016-10-01","2016-12-31",39160,0,"2017-01-01","2017-03-31",39160,0,"2017-10-01","2017-03-31",39160,0,"2017-12-01","2017-03-31",39160,0,"2018-12-02","2017-02-28",39160,0,"2016-04-01","2016-04-30",1,0,0,{"$f":"IF('DA 1.2'!B567=2,0,IF(AN523=1,I523-J523,0))","v":0},null,0,0]
[null,"2017-06-02",0,6,30,0,0.18340000000000001,0.15196000000000001,0,0,0,"2016-01-01","2016-09-30",38130,0,"2016-10-01","2016-12-31",39160,0,"2017-01-01","2017-03-31",39160,0,"2017-10-01","2017-03-31",39160,0,"2017-12-01","2017-03-31",39160,0,"2018-12-02","2017-02-28",39160,0,"2016-04-01","2016-04-30",1,0,0,{"$f":"IF('DA 1.2'!B568=2,0,IF(AN524=1,I524-J524,0))","v":0},null,0,0]
[null,"2017-06-03",0,6,30,0,0.18340000000000001,0.15196000000000001,0,0,0,"2016-01-01","2016-09-30",38130,0,"2016-10-01","2016-12-31",39160,0,"2017-01-01","2017-03-31",39160,0,"2017-10-01","2017-03-31",39160,0,"2017-12-01","2017-03-31",39160,0,"2018-12-02","2017-02-28",39160,0,"2016-04-01","2016-04-30",1,0,0,{"$f":"IF('DA 1.2'!B569=2,0,IF(AN525=1,I525-J525,0))","v":0},null,0,0]
[null,"2017-06-04",0,6,30,0,0.18340000000000001,0.15196000000000001,0,0,0,"2016-01-01","2016-09-30",38130,0,"2016-10-01","2016-12-31",39160,0,"2017-01-01","2017-03-31",39160,0,"2017-10-01","2017-03-31",39160,0,"2017-12-01","2017-03-31",39160,0,"2018-12-02","2017-02-28",39160,0,"2016-04-01","2016-04-30",1,0,0,{"$f":"IF('DA 1.2'!B570=2,0,IF(AN526=1,I526-J526,0))","v":0},null,0,0]
[null,"2017-06-05",0,6,30,0,0.18340000000000001,0.15196000000000001,0,0,0,"2016-01-01","2016-09-30",38130,0,"2016-10-01","2016-12-31",39160,0,"2017-01-01","2017-03-31",39160,0,"2017-10-01","2017-03-31",39160,0,"2017-12-01","2017-03-31",39160,0,"2018-12-02","2017-02-28",39160,0,"2016-04-01","2016-04-30",1,0,0,{"$f":"IF('DA 1.2'!B571=2,0,IF(AN527=1,I527-J527,0))","v":0},null,0,0]
[null,"2017-06-06",0,6,30,0,0.18340000000000001,0.15196000000000001,0,0,0,"2016-01-01","2016-09-30",38130,0,"2016-10-01","2016-12-31",39160,0,"2017-01-01","2017-03-31",39160,0,"2017-10-01","2017-03-31",39160,0,"2017-12-01","2017-03-31",39160,0,"2018-12-02","2017-02-28",39160,0,"2016-04-01","2016-04-30",1,0,0,{"$f":"IF('DA 1.2'!B572=2,0,IF(AN528=1,I528-J528,0))","v":0},null,0,0]
[null,"2017-06-07",0,6,30,0,0.18340000000000001,0.15196000000000001,0,0,0,"2016-01-01","2016-09-30",38130,0,"2016-10-01","2016-12-31",39160,0,"2017-01-01","2017-03-31",39160,0,"2017-10-01","2017-03-31",39160,0,"2017-12-01","2017-03-31",39160,0,"2018-12-02","2017-02-28",39160,0,"2016-04-01","2016-04-30",1,0,0,{"$f":"IF('DA 1.2'!B573=2,0,IF(AN529=1,I529-J529,0))","v":0},null,0,0]
[null,"2017-06-08",0,6,30,0,0.18340000000000001,0.15196000000000001,0,0,0,"2016-01-01","2016-09-30",38130,0,"2016-10-01","2016-12-31",39160,0,"2017-01-01","2017-03-31",39160,0,"2017-10-01","2017-03-31",39160,0,"2017-12-01","2017-03-31",39160,0,"2018-12-02","2017-02-28",39160,0,"2016-04-01","2016-04-30",1,0,0,{"$f":"IF('DA 1.2'!B574=2,0,IF(AN530=1,I530-J530,0))","v":0},null,0,0]
[null,"2017-06-09",0,6,{"$f":"IF(D531=1,31,IF(D531=2,29,IF(D531=3,31,IF(D531=5,31,IF(D531=7,31,IF(D531=8,31,IF(D531=10,31,IF(D531=12,31,30))))))))","v":30},0,0.18340000000000001,0.15196000000000001,0,0,0,"2016-01-01","2016-09-30",38130,0,"2016-10-01","2016-12-31",39160,0,"2017-01-01","2017-03-31",39160,0,"2017-10-01","2017-03-31",39160,0,"2017-12-01","2017-03-31",39160,0,"2018-12-02","2017-02-28",39160,0,"2016-04-01","2016-04-30",1,0,0,{"$f":"IF('DA 1.2'!B575=2,0,IF(AN531=1,I531-J531,0))","v":0},null,0,0]
[null,"2017-06-10",0,6,30,0,0.18340000000000001,0.15196000000000001,0,0,0,"2016-01-01","2016-09-30",38130,0,"2016-10-01","2016-12-31",39160,0,"2017-01-01","2017-03-31",39160,0,"2017-10-01","2017-03-31",39160,0,"2017-12-01","2017-03-31",39160,0,"2018-12-02","2017-02-28",39160,0,"2016-04-01","2016-04-30",1,0,0,{"$f":"IF('DA 1.2'!B576=2,0,IF(AN532=1,I532-J532,0))","v":0},null,0,0]
[null,"2017-06-11",0,6,30,0,0.18340000000000001,0.15196000000000001,0,0,0,"2016-01-01","2016-09-30",38130,0,"2016-10-01","2016-12-31",39160,0,"2017-01-01","2017-03-31",39160,0,"2017-10-01","2017-03-31",39160,0,"2017-12-01","2017-03-31",39160,0,"2018-12-02","2017-02-28",39160,0,"2016-04-01","2016-04-30",1,0,0,{"$f":"IF('DA 1.2'!B577=2,0,IF(AN533=1,I533-J533,0))","v":0},null,0,0]
[null,"2017-06-12",0,6,30,0,0.18340000000000001,0.15196000000000001,0,0,0,"2016-01-01","2016-09-30",38130,0,"2016-10-01","2016-12-31",39160,0,"2017-01-01","2017-03-31",39160,0,"2017-10-01","2017-03-31",39160,0,"2017-12-01","2017-03-31",39160,0,"2018-12-02","2017-02-28",39160,0,"2016-04-01","2016-04-30",1,0,0,{"$f":"IF('DA 1.2'!B578=2,0,IF(AN534=1,I534-J534,0))","v":0},null,0,0]
[null,"2017-06-13",0,6,30,0,0.18340000000000001,0.15196000000000001,0,0,0,"2016-01-01","2016-09-30",38130,0,"2016-10-01","2016-12-31",39160,0,"2017-01-01","2017-03-31",39160,0,"2017-10-01","2017-03-31",39160,0,"2017-12-01","2017-03-31",39160,0,"2018-12-02","2017-02-28",39160,0,"2016-04-01","2016-04-30",1,0,0,{"$f":"IF('DA 1.2'!B579=2,0,IF(AN535=1,I535-J535,0))","v":0},null,0,0]
[null,"2017-06-14",0,6,30,0,{"$f":"G535","v":0.18340000000000001},0.15196000000000001,0,0,0,{"$f":"L535","v":"2016-01-01"},"2016-09-30",38130,0,{"$f":"P535","v":"2016-10-01"},"2016-12-31",39160,0,{"$f":"T535","v":"2017-01-01"},"2017-03-31",39160,0,{"$f":"X535","v":"2017-10-01"},"2017-03-31",39160,0,"2017-12-01","2017-03-31",39160,0,"2018-12-02","2017-02-28",39160,0,{"$f":"AJ535","v":"2016-04-01"},"2016-04-30",1,0,0,{"$f":"IF('DA 1.2'!B580=2,0,IF(AN536=1,I536-J536,0))","v":0},null,0,0]
[null,"2017-06-15",0,6,30,0,0.18340000000000001,0.15196000000000001,0,0,0,"2016-01-01","2016-09-30",38130,0,"2016-10-01","2016-12-31",39160,0,"2017-01-01","2017-03-31",39160,0,"2017-10-01","2017-03-31",39160,0,"2017-12-01","2017-03-31",39160,0,"2018-12-02","2017-02-28",39160,0,"2016-04-01","2016-04-30",1,0,0,{"$f":"IF('DA 1.2'!B581=2,0,IF(AN537=1,I537-J537,0))","v":0},null,0,0]
[null,"2017-06-16",0,6,30,0,0.18340000000000001,0.15196000000000001,0,0,0,"2016-01-01","2016-09-30",38130,0,"2016-10-01","2016-12-31",39160,0,"2017-01-01","2017-03-31",39160,0,"2017-10-01","2017-03-31",39160,0,"2017-12-01","2017-03-31",39160,0,"2018-12-02","2017-02-28",39160,0,"2016-04-01","2016-04-30",1,0,0,{"$f":"IF('DA 1.2'!B582=2,0,IF(AN538=1,I538-J538,0))","v":0},null,0,0]
[null,"2017-06-17",0,6,30,0,0.18340000000000001,0.15196000000000001,0,0,0,"2016-01-01","2016-09-30",38130,0,"2016-10-01","2016-12-31",39160,0,"2017-01-01","2017-03-31",39160,0,"2017-10-01","2017-03-31",39160,0,"2017-12-01","2017-03-31",39160,0,"2018-12-02","2017-02-28",39160,0,"2016-04-01","2016-04-30",1,0,0,{"$f":"IF('DA 1.2'!B583=2,0,IF(AN539=1,I539-J539,0))","v":0},null,0,0]
[null,"2017-06-18",0,6,30,0,0.18340000000000001,0.15196000000000001,0,0,0,"2016-01-01","2016-09-30",38130,0,"2016-10-01","2016-12-31",39160,0,"2017-01-01","2017-03-31",39160,0,"2017-10-01","2017-03-31",39160,0,"2017-12-01","2017-03-31",39160,0,"2018-12-02","2017-02-28",39160,0,"2016-04-01","2016-04-30",1,0,0,{"$f":"IF('DA 1.2'!B584=2,0,IF(AN540=1,I540-J540,0))","v":0},null,0,0]
[null,"2017-06-19",0,6,30,0,0.18340000000000001,0.15196000000000001,0,0,0,"2016-01-01","2016-09-30",38130,0,"2016-10-01","2016-12-31",39160,0,"2017-01-01","2017-03-31",39160,0,"2017-10-01","2017-03-31",39160,0,"2017-12-01","2017-03-31",39160,0,"2018-12-02","2017-02-28",39160,0,"2016-04-01","2016-04-30",1,0,0,{"$f":"IF('DA 1.2'!B585=2,0,IF(AN541=1,I541-J541,0))","v":0},null,0,0]
[null,"2017-06-20",0,6,30,0,0.18340000000000001,0.15196000000000001,0,0,0,"2016-01-01","2016-09-30",38130,0,"2016-10-01","2016-12-31",39160,0,"2017-01-01","2017-03-31",39160,0,"2017-10-01","2017-03-31",39160,0,"2017-12-01","2017-03-31",39160,0,"2018-12-02","2017-02-28",39160,0,"2016-04-01","2016-04-30",1,0,0,{"$f":"IF('DA 1.2'!B586=2,0,IF(AN542=1,I542-J542,0))","v":0},null,0,0]
[null,"2017-06-21",0,6,30,0,0.18340000000000001,0.15196000000000001,0,0,0,"2016-01-01","2016-09-30",38130,0,"2016-10-01","2016-12-31",39160,0,"2017-01-01","2017-03-31",39160,0,"2017-10-01","2017-03-31",39160,0,"2017-12-01","2017-03-31",39160,0,"2018-12-02","2017-02-28",39160,0,"2016-04-01","2016-04-30",1,0,0,{"$f":"IF('DA 1.2'!B587=2,0,IF(AN543=1,I543-J543,0))","v":0},null,0,0]
[null,"2017-06-22",0,6,30,0,0.18340000000000001,0.15196000000000001,0,0,0,"2016-01-01","2016-09-30",38130,0,"2016-10-01","2016-12-31",39160,0,"2017-01-01","2017-03-31",39160,0,"2017-10-01","2017-03-31",39160,0,"2017-12-01","2017-03-31",39160,0,"2018-12-02","2017-02-28",39160,0,"2016-04-01","2016-04-30",1,0,0,{"$f":"IF('DA 1.2'!B588=2,0,IF(AN544=1,I544-J544,0))","v":0},null,0,0]
[null,"2017-06-23",0,6,30,0,0.18340000000000001,0.15196000000000001,0,0,0,"2016-01-01","2016-09-30",38130,0,"2016-10-01","2016-12-31",39160,0,"2017-01-01","2017-03-31",39160,0,"2017-10-01","2017-03-31",39160,0,"2017-12-01","2017-03-31",39160,0,"2018-12-02","2017-02-28",39160,0,"2016-04-01","2016-04-30",1,0,0,{"$f":"IF('DA 1.2'!B589=2,0,IF(AN545=1,I545-J545,0))","v":0},null,0,0]
[null,"2017-06-24",0,6,30,0,0.18340000000000001,0.15196000000000001,0,0,0,"2016-01-01","2016-09-30",38130,0,"2016-10-01","2016-12-31",39160,0,"2017-01-01","2017-03-31",39160,0,"2017-10-01","2017-03-31",39160,0,"2017-12-01","2017-03-31",39160,0,"2018-12-02","2017-02-28",39160,0,"2016-04-01","2016-04-30",1,0,0,{"$f":"IF('DA 1.2'!B590=2,0,IF(AN546=1,I546-J546,0))","v":0},null,0,0]
[null,"2017-06-25",0,6,30,0,0.18340000000000001,0.15196000000000001,0,0,0,"2016-01-01","2016-09-30",38130,0,"2016-10-01","2016-12-31",39160,0,"2017-01-01","2017-03-31",39160,0,"2017-10-01","2017-03-31",39160,0,"2017-12-01","2017-03-31",39160,0,"2018-12-02","2017-02-28",39160,0,"2016-04-01","2016-04-30",1,0,0,{"$f":"IF('DA 1.2'!B591=2,0,IF(AN547=1,I547-J547,0))","v":0},null,0,0]
[null,"2017-06-26",0,6,30,0,0.18340000000000001,0.15196000000000001,0,0,0,"2016-01-01","2016-09-30",38130,0,"2016-10-01","2016-12-31",39160,0,"2017-01-01","2017-03-31",39160,0,"2017-10-01","2017-03-31",39160,0,"2017-12-01","2017-03-31",39160,0,"2018-12-02","2017-02-28",39160,0,"2016-04-01","2016-04-30",1,0,0,{"$f":"IF('DA 1.2'!B592=2,0,IF(AN548=1,I548-J548,0))","v":0},null,0,0]
[null,"2017-06-27",0,6,30,0,0.18340000000000001,0.15196000000000001,0,0,0,"2016-01-01","2016-09-30",38130,0,"2016-10-01","2016-12-31",39160,0,"2017-01-01","2017-03-31",39160,0,"2017-10-01","2017-03-31",39160,0,"2017-12-01","2017-03-31",39160,0,"2018-12-02","2017-02-28",39160,0,"2016-04-01","2016-04-30",1,0,0,{"$f":"IF('DA 1.2'!B593=2,0,IF(AN549=1,I549-J549,0))","v":0},null,0,0]
[null,"2017-06-28",0,6,30,0,0.18340000000000001,0.15196000000000001,0,0,0,"2016-01-01","2016-09-30",38130,0,"2016-10-01","2016-12-31",39160,0,"2017-01-01","2017-03-31",39160,0,"2017-10-01","2017-03-31",39160,0,"2017-12-01","2017-03-31",39160,0,"2018-12-02","2017-02-28",39160,0,"2016-04-01","2016-04-30",1,0,0,{"$f":"IF('DA 1.2'!B594=2,0,IF(AN550=1,I550-J550,0))","v":0},null,0,0]
[null,"2017-06-29",0,6,30,0,0.18340000000000001,0.15196000000000001,0,0,0,"2016-01-01","2016-09-30",38130,0,"2016-10-01","2016-12-31",39160,0,"2017-01-01","2017-03-31",39160,0,"2017-10-01","2017-03-31",39160,0,"2017-12-01","2017-03-31",39160,0,"2018-12-02","2017-02-28",39160,0,"2016-04-01","2016-04-30",1,0,0,{"$f":"IF('DA 1.2'!B595=2,0,IF(AN551=1,I551-J551,0))","v":0},null,0,0]
[null,"2017-06-30",0,6,30,0,{"$f":"G551","v":0.18340000000000001},0.15196000000000001,0,0,0,{"$f":"L551","v":"2016-01-01"},"2016-09-30",38130,0,{"$f":"P551","v":"2016-10-01"},"2016-12-31",39160,0,{"$f":"T551","v":"2017-01-01"},"2017-03-31",39160,0,{"$f":"X551","v":"2017-10-01"},"2017-03-31",39160,0,"2017-12-01","2017-03-31",39160,0,"2018-12-02","2017-02-28",39160,0,{"$f":"AJ551","v":"2016-04-01"},"2016-04-30",1,0,0,{"$f":"IF('DA 1.2'!B596=2,0,IF(AN552=1,I552-J552,0))","v":0},null,0,0]
[null,"2017-07-01",0,7,31,0,0.18340000000000001,0.15196000000000001,0,0,0,"2016-01-01","2016-09-30",38130,0,"2016-10-01","2016-12-31",39160,0,"2017-01-01","2017-03-31",39160,0,"2017-10-01","2017-03-31",39160,0,"2017-12-01","2017-03-31",39160,0,"2018-12-02","2017-02-28",39160,0,"2016-04-01","2016-04-30",1,0,0,{"$f":"IF('DA 1.2'!B597=2,0,IF(AN553=1,I553-J553,0))","v":0},null,0,0]
[null,"2017-07-02",0,7,31,0,0.18340000000000001,0.15196000000000001,0,0,0,"2016-01-01","2016-09-30",38130,0,"2016-10-01","2016-12-31",39160,0,"2017-01-01","2017-03-31",39160,0,"2017-10-01","2017-03-31",39160,0,"2017-12-01","2017-03-31",39160,0,"2018-12-02","2017-02-28",39160,0,"2016-04-01","2016-04-30",1,0,0,{"$f":"IF('DA 1.2'!B598=2,0,IF(AN554=1,I554-J554,0))","v":0},null,0,0]
[null,"2017-07-03",0,7,31,0,0.18340000000000001,0.15196000000000001,0,0,0,"2016-01-01","2016-09-30",38130,0,"2016-10-01","2016-12-31",39160,0,"2017-01-01","2017-03-31",39160,0,"2017-10-01","2017-03-31",39160,0,"2017-12-01","2017-03-31",39160,0,"2018-12-02","2017-02-28",39160,0,"2016-04-01","2016-04-30",1,0,0,{"$f":"IF('DA 1.2'!B599=2,0,IF(AN555=1,I555-J555,0))","v":0},null,0,0]
[null,"2017-07-04",0,7,31,0,0.18340000000000001,0.15196000000000001,0,0,0,"2016-01-01","2016-09-30",38130,0,"2016-10-01","2016-12-31",39160,0,"2017-01-01","2017-03-31",39160,0,"2017-10-01","2017-03-31",39160,0,"2017-12-01","2017-03-31",39160,0,"2018-12-02","2017-02-28",39160,0,"2016-04-01","2016-04-30",1,0,0,{"$f":"IF('DA 1.2'!B600=2,0,IF(AN556=1,I556-J556,0))","v":0},null,0,0]
[null,"2017-07-05",0,7,31,0,0.18340000000000001,0.15196000000000001,0,0,0,"2016-01-01","2016-09-30",38130,0,"2016-10-01","2016-12-31",39160,0,"2017-01-01","2017-03-31",39160,0,"2017-10-01","2017-03-31",39160,0,"2017-12-01","2017-03-31",39160,0,"2018-12-02","2017-02-28",39160,0,"2016-04-01","2016-04-30",1,0,0,{"$f":"IF('DA 1.2'!B601=2,0,IF(AN557=1,I557-J557,0))","v":0},null,0,0]
[null,"2017-07-06",0,7,31,0,0.18340000000000001,0.15196000000000001,0,0,0,"2016-01-01","2016-09-30",38130,0,"2016-10-01","2016-12-31",39160,0,"2017-01-01","2017-03-31",39160,0,"2017-10-01","2017-03-31",39160,0,"2017-12-01","2017-03-31",39160,0,"2018-12-02","2017-02-28",39160,0,"2016-04-01","2016-04-30",1,0,0,{"$f":"IF('DA 1.2'!B602=2,0,IF(AN558=1,I558-J558,0))","v":0},null,0,0]
[null,"2017-07-07",0,7,31,0,0.18340000000000001,0.15196000000000001,0,0,0,"2016-01-01","2016-09-30",38130,0,"2016-10-01","2016-12-31",39160,0,"2017-01-01","2017-03-31",39160,0,"2017-10-01","2017-03-31",39160,0,"2017-12-01","2017-03-31",39160,0,"2018-12-02","2017-02-28",39160,0,"2016-04-01","2016-04-30",1,0,0,{"$f":"IF('DA 1.2'!B603=2,0,IF(AN559=1,I559-J559,0))","v":0},null,0,0]
[null,"2017-07-08",0,7,31,0,0.18340000000000001,0.15196000000000001,0,0,0,"2016-01-01","2016-09-30",38130,0,"2016-10-01","2016-12-31",39160,0,"2017-01-01","2017-03-31",39160,0,"2017-10-01","2017-03-31",39160,0,"2017-12-01","2017-03-31",39160,0,"2018-12-02","2017-02-28",39160,0,"2016-04-01","2016-04-30",1,0,0,{"$f":"IF('DA 1.2'!B604=2,0,IF(AN560=1,I560-J560,0))","v":0},null,0,0]
[null,"2017-07-09",0,7,31,0,0.18340000000000001,0.15196000000000001,0,0,0,"2016-01-01","2016-09-30",38130,0,"2016-10-01","2016-12-31",39160,0,"2017-01-01","2017-03-31",39160,0,"2017-10-01","2017-03-31",39160,0,"2017-12-01","2017-03-31",39160,0,"2018-12-02","2017-02-28",39160,0,"2016-04-01","2016-04-30",1,0,0,{"$f":"IF('DA 1.2'!B605=2,0,IF(AN561=1,I561-J561,0))","v":0},null,0,0]
[null,"2017-07-10",0,7,31,0,0.18340000000000001,0.15196000000000001,0,0,0,"2016-01-01","2016-09-30",38130,0,"2016-10-01","2016-12-31",39160,0,"2017-01-01","2017-03-31",39160,0,"2017-10-01","2017-03-31",39160,0,"2017-12-01","2017-03-31",39160,0,"2018-12-02","2017-02-28",39160,0,"2016-04-01","2016-04-30",1,0,0,{"$f":"IF('DA 1.2'!B606=2,0,IF(AN562=1,I562-J562,0))","v":0},null,0,0]
[null,"2017-07-11",0,7,31,0,0.18340000000000001,0.15196000000000001,0,0,0,"2016-01-01","2016-09-30",38130,0,"2016-10-01","2016-12-31",39160,0,"2017-01-01","2017-03-31",39160,0,"2017-10-01","2017-03-31",39160,0,"2017-12-01","2017-03-31",39160,0,"2018-12-02","2017-02-28",39160,0,"2016-04-01","2016-04-30",1,0,0,{"$f":"IF('DA 1.2'!B607=2,0,IF(AN563=1,I563-J563,0))","v":0},null,0,0]
[null,"2017-07-12",0,7,31,0,0.18340000000000001,0.15196000000000001,0,0,0,"2016-01-01","2016-09-30",38130,0,"2016-10-01","2016-12-31",39160,0,"2017-01-01","2017-03-31",39160,0,"2017-10-01","2017-03-31",39160,0,"2017-12-01","2017-03-31",39160,0,"2018-12-02","2017-02-28",39160,0,"2016-04-01","2016-04-30",1,0,0,{"$f":"IF('DA 1.2'!B608=2,0,IF(AN564=1,I564-J564,0))","v":0},null,0,0]
[null,"2017-07-13",0,7,31,0,0.18340000000000001,0.15196000000000001,0,0,0,"2016-01-01","2016-09-30",38130,0,"2016-10-01","2016-12-31",39160,0,"2017-01-01","2017-03-31",39160,0,"2017-10-01","2017-03-31",39160,0,"2017-12-01","2017-03-31",39160,0,"2018-12-02","2017-02-28",39160,0,"2016-04-01","2016-04-30",1,0,0,{"$f":"IF('DA 1.2'!B609=2,0,IF(AN565=1,I565-J565,0))","v":0},null,0,0]
[null,"2017-07-14",0,7,31,0,0.18340000000000001,0.15196000000000001,0,0,0,"2016-01-01","2016-09-30",38130,0,"2016-10-01","2016-12-31",39160,0,"2017-01-01","2017-03-31",39160,0,"2017-10-01","2017-03-31",39160,0,"2017-12-01","2017-03-31",39160,0,"2018-12-02","2017-02-28",39160,0,"2016-04-01","2016-04-30",1,0,0,{"$f":"IF('DA 1.2'!B610=2,0,IF(AN566=1,I566-J566,0))","v":0},null,0,0]
[null,"2017-07-15",0,7,31,0,0.18340000000000001,0.15196000000000001,0,0,0,"2016-01-01","2016-09-30",38130,0,"2016-10-01","2016-12-31",39160,0,"2017-01-01","2017-03-31",39160,0,"2017-10-01","2017-03-31",39160,0,"2017-12-01","2017-03-31",39160,0,"2018-12-02","2017-02-28",39160,0,"2016-04-01","2016-04-30",1,0,0,{"$f":"IF('DA 1.2'!B611=2,0,IF(AN567=1,I567-J567,0))","v":0},null,0,0]
[null,"2017-07-16",0,7,31,0,{"$f":"G567","v":0.18340000000000001},0.15196000000000001,0,0,0,{"$f":"L567","v":"2016-01-01"},"2016-09-30",38130,0,{"$f":"P567","v":"2016-10-01"},"2016-12-31",39160,0,{"$f":"T567","v":"2017-01-01"},"2017-03-31",39160,0,{"$f":"X567","v":"2017-10-01"},"2017-03-31",39160,0,"2017-12-01","2017-03-31",39160,0,"2018-12-02","2017-02-28",39160,0,{"$f":"AJ567","v":"2016-04-01"},"2016-04-30",1,0,0,{"$f":"IF('DA 1.2'!B612=2,0,IF(AN568=1,I568-J568,0))","v":0},null,0,0]
[null,"2017-07-17",0,7,31,0,0.18340000000000001,0.15196000000000001,0,0,0,"2016-01-01","2016-09-30",38130,0,"2016-10-01","2016-12-31",39160,0,"2017-01-01","2017-03-31",39160,0,"2017-10-01","2017-03-31",39160,0,"2017-12-01","2017-03-31",39160,0,"2018-12-02","2017-02-28",39160,0,"2016-04-01","2016-04-30",1,0,0,{"$f":"IF('DA 1.2'!B613=2,0,IF(AN569=1,I569-J569,0))","v":0},null,0,0]
[null,"2017-07-18",0,7,31,0,0.18340000000000001,0.15196000000000001,0,0,0,"2016-01-01","2016-09-30",38130,0,"2016-10-01","2016-12-31",39160,0,"2017-01-01","2017-03-31",39160,0,"2017-10-01","2017-03-31",39160,0,"2017-12-01","2017-03-31",39160,0,"2018-12-02","2017-02-28",39160,0,"2016-04-01","2016-04-30",1,0,0,{"$f":"IF('DA 1.2'!B614=2,0,IF(AN570=1,I570-J570,0))","v":0},null,0,0]
[null,"2017-07-19",0,7,31,0,0.18340000000000001,0.15196000000000001,0,0,0,"2016-01-01","2016-09-30",38130,0,"2016-10-01","2016-12-31",39160,0,"2017-01-01","2017-03-31",39160,0,"2017-10-01","2017-03-31",39160,0,"2017-12-01","2017-03-31",39160,0,"2018-12-02","2017-02-28",39160,0,"2016-04-01","2016-04-30",1,0,0,{"$f":"IF('DA 1.2'!B615=2,0,IF(AN571=1,I571-J571,0))","v":0},null,0,0]
[null,"2017-07-20",0,7,31,0,0.18340000000000001,0.15196000000000001,0,0,0,"2016-01-01","2016-09-30",38130,0,"2016-10-01","2016-12-31",39160,0,"2017-01-01","2017-03-31",39160,0,"2017-10-01","2017-03-31",39160,0,"2017-12-01","2017-03-31",39160,0,"2018-12-02","2017-02-28",39160,0,"2016-04-01","2016-04-30",1,0,0,{"$f":"IF('DA 1.2'!B616=2,0,IF(AN572=1,I572-J572,0))","v":0},null,0,0]
[null,"2017-07-21",0,7,31,0,0.18340000000000001,0.15196000000000001,0,0,0,"2016-01-01","2016-09-30",38130,0,"2016-10-01","2016-12-31",39160,0,"2017-01-01","2017-03-31",39160,0,"2017-10-01","2017-03-31",39160,0,"2017-12-01","2017-03-31",39160,0,"2018-12-02","2017-02-28",39160,0,"2016-04-01","2016-04-30",1,0,0,{"$f":"IF('DA 1.2'!B617=2,0,IF(AN573=1,I573-J573,0))","v":0},null,0,0]
[null,"2017-07-22",0,7,31,0,0.18340000000000001,0.15196000000000001,0,0,0,"2016-01-01","2016-09-30",38130,0,"2016-10-01","2016-12-31",39160,0,"2017-01-01","2017-03-31",39160,0,"2017-10-01","2017-03-31",39160,0,"2017-12-01","2017-03-31",39160,0,"2018-12-02","2017-02-28",39160,0,"2016-04-01","2016-04-30",1,0,0,{"$f":"IF('DA 1.2'!B618=2,0,IF(AN574=1,I574-J574,0))","v":0},null,0,0]
[null,"2017-07-23",0,7,31,0,0.18340000000000001,0.15196000000000001,0,0,0,"2016-01-01","2016-09-30",38130,0,"2016-10-01","2016-12-31",39160,0,"2017-01-01","2017-03-31",39160,0,"2017-10-01","2017-03-31",39160,0,"2017-12-01","2017-03-31",39160,0,"2018-12-02","2017-02-28",39160,0,"2016-04-01","2016-04-30",1,0,0,{"$f":"IF('DA 1.2'!B619=2,0,IF(AN575=1,I575-J575,0))","v":0},null,0,0]
[null,"2017-07-24",0,7,31,0,0.18340000000000001,0.15196000000000001,0,0,0,"2016-01-01","2016-09-30",38130,0,"2016-10-01","2016-12-31",39160,0,"2017-01-01","2017-03-31",39160,0,"2017-10-01","2017-03-31",39160,0,"2017-12-01","2017-03-31",39160,0,"2018-12-02","2017-02-28",39160,0,"2016-04-01","2016-04-30",1,0,0,{"$f":"IF('DA 1.2'!B620=2,0,IF(AN576=1,I576-J576,0))","v":0},null,0,0]
[null,"2017-07-25",0,7,31,0,0.18340000000000001,0.15196000000000001,0,0,0,"2016-01-01","2016-09-30",38130,0,"2016-10-01","2016-12-31",39160,0,"2017-01-01","2017-03-31",39160,0,"2017-10-01","2017-03-31",39160,0,"2017-12-01","2017-03-31",39160,0,"2018-12-02","2017-02-28",39160,0,"2016-04-01","2016-04-30",1,0,0,{"$f":"IF('DA 1.2'!B621=2,0,IF(AN577=1,I577-J577,0))","v":0},null,0,0]
[null,"2017-07-26",0,7,31,0,0.18340000000000001,0.15196000000000001,0,0,0,"2016-01-01","2016-09-30",38130,0,"2016-10-01","2016-12-31",39160,0,"2017-01-01","2017-03-31",39160,0,"2017-10-01","2017-03-31",39160,0,"2017-12-01","2017-03-31",39160,0,"2018-12-02","2017-02-28",39160,0,"2016-04-01","2016-04-30",1,0,0,{"$f":"IF('DA 1.2'!B622=2,0,IF(AN578=1,I578-J578,0))","v":0},null,0,0]
[null,"2017-07-27",0,7,31,0,0.18340000000000001,0.15196000000000001,0,0,0,"2016-01-01","2016-09-30",38130,0,"2016-10-01","2016-12-31",39160,0,"2017-01-01","2017-03-31",39160,0,"2017-10-01","2017-03-31",39160,0,"2017-12-01","2017-03-31",39160,0,"2018-12-02","2017-02-28",39160,0,"2016-04-01","2016-04-30",1,0,0,{"$f":"IF('DA 1.2'!B623=2,0,IF(AN579=1,I579-J579,0))","v":0},null,0,0]
[null,"2017-07-28",0,7,31,0,0.18340000000000001,0.15196000000000001,0,0,0,"2016-01-01","2016-09-30",38130,0,"2016-10-01","2016-12-31",39160,0,"2017-01-01","2017-03-31",39160,0,"2017-10-01","2017-03-31",39160,0,"2017-12-01","2017-03-31",39160,0,"2018-12-02","2017-02-28",39160,0,"2016-04-01","2016-04-30",1,0,0,{"$f":"IF('DA 1.2'!B624=2,0,IF(AN580=1,I580-J580,0))","v":0},null,0,0]
[null,"2017-07-29",0,7,31,0,0.18340000000000001,0.15196000000000001,0,0,0,"2016-01-01","2016-09-30",38130,0,"2016-10-01","2016-12-31",39160,0,"2017-01-01","2017-03-31",39160,0,"2017-10-01","2017-03-31",39160,0,"2017-12-01","2017-03-31",39160,0,"2018-12-02","2017-02-28",39160,0,"2016-04-01","2016-04-30",1,0,0,{"$f":"IF('DA 1.2'!B625=2,0,IF(AN581=1,I581-J581,0))","v":0},null,0,0]
[null,"2017-07-30",0,7,31,{"$f":"C582/E582","v":0},0.18340000000000001,0.15196000000000001,{"$f":"F582*G582","v":0},{"$f":"F582*H582","v":0},0,"2016-01-01","2016-09-30",38130,0,"2016-10-01","2016-12-31",39160,0,"2017-01-01","2017-03-31",39160,0,"2017-10-01","2017-03-31",39160,0,"2017-12-01","2017-03-31",39160,0,"2018-12-02","2017-02-28",39160,0,"2016-04-01","2016-04-30",1,0,0,{"$f":"IF('DA 1.2'!B626=2,0,IF(AN582=1,I582-J582,0))","v":0},null,0,0]
[null,"2017-07-31",{"$f":"O583+S583+W583+AA583+AE583+AI583","v":0},{"$f":"MONTH(B583)","v":7},31,0,0.18340000000000001,0.15196000000000001,0,0,{"$f":"I583-J583","v":0},"2016-01-01","2016-09-30",38130,{"$f":"IF(M583>=B583,N583,0)","v":0},"2016-10-01","2016-12-31",39160,{"$f":"IF(O583>0,0,IF(Q583>=B583,R583,0))","v":0},"2017-01-01","2017-03-31",39160,{"$f":"IF(T583>U583,0,IF(O583>0,0,IF(S583>0,0,IF(U583>=B583,V583,0))))","v":0},"2017-10-01","2017-03-31",39160,{"$f":"IF(X583>=Y583,0,IF(O583>0,0,IF(S583>0,0,IF(W583>0,0,IF(Y583>=B583,Z583,0)))))","v":0},"2017-12-01","2017-03-31",39160,{"$f":"IF(O583>0,0,IF(AB583>=AC583,0,IF(S583>0,0,IF(W583>0,0,IF(AA583>0,0,IF(AC583>=B583,AD583,0))))))","v":0},"2018-12-02","2017-02-28",39160,{"$f":"IF(O583>0,0,IF(S583>0,0,IF(AF583>=AG583,0,IF(W583>0,0,IF(AA583>0,0,IF(AE583>0,0,IF(AG583>=B583,AH583,0)))))))","v":0},"2016-04-01","2016-04-30",{"$f":"IF(B583>=AJ583,1,0)","v":1},{"$f":"IF(B583<=AK583,1,0)","v":0},{"$f":"IF(SUM(AL583:AM583)=2,1,0)","v":0},{"$f":"IF('DA 1.2'!B627=2,0,IF(AN583=1,I583-J583,0))","v":0},null,{"$f":"ROUND(K583*10%,3)","v":0},{"$f":"ROUND(K583,4)","v":0}]
[null,"2017-08-01",0,8,31,0,{"$f":"G583","v":0.18340000000000001},0.15196000000000001,0,0,0,{"$f":"L583","v":"2016-01-01"},"2016-09-30",38130,0,{"$f":"P583","v":"2016-10-01"},"2016-12-31",39160,0,{"$f":"T583","v":"2017-01-01"},"2017-03-31",39160,0,{"$f":"X583","v":"2017-10-01"},"2017-03-31",39160,0,{"$f":"AB583","v":"2017-12-01"},{"$f":"AC583","v":"2017-03-31"},{"$f":"AD583","v":39160},0,{"$f":"AF583","v":"2018-12-02"},{"$f":"AG583","v":"2017-02-28"},{"$f":"AH583","v":39160},0,{"$f":"AJ583","v":"2016-04-01"},"2016-04-30",1,0,0,{"$f":"IF('DA 1.2'!B628=2,0,IF(AN584=1,I584-J584,0))","v":0},null,0,0]
[null,"2017-08-02",0,8,31,0,0.18340000000000001,0.15196000000000001,0,0,0,"2016-01-01","2016-09-30",38130,0,"2016-10-01","2016-12-31",39160,0,"2017-01-01","2017-03-31",39160,0,"2017-10-01","2017-03-31",39160,0,"2017-12-01","2017-03-31",39160,0,"2018-12-02","2017-02-28",39160,0,"2016-04-01","2016-04-30",1,0,0,{"$f":"IF('DA 1.2'!B629=2,0,IF(AN585=1,I585-J585,0))","v":0},null,0,0]
[null,"2017-08-03",0,8,31,0,0.18340000000000001,0.15196000000000001,0,0,0,"2016-01-01","2016-09-30",38130,0,"2016-10-01","2016-12-31",39160,0,"2017-01-01","2017-03-31",39160,0,"2017-10-01","2017-03-31",39160,0,"2017-12-01","2017-03-31",39160,0,"2018-12-02","2017-02-28",39160,0,"2016-04-01","2016-04-30",1,0,0,{"$f":"IF('DA 1.2'!B630=2,0,IF(AN586=1,I586-J586,0))","v":0},null,0,0]
[null,"2017-08-04",0,8,31,0,0.18340000000000001,0.15196000000000001,0,0,0,"2016-01-01","2016-09-30",38130,0,"2016-10-01","2016-12-31",39160,0,"2017-01-01","2017-03-31",39160,0,"2017-10-01","2017-03-31",39160,0,"2017-12-01","2017-03-31",39160,0,"2018-12-02","2017-02-28",39160,0,"2016-04-01","2016-04-30",1,0,0,{"$f":"IF('DA 1.2'!B631=2,0,IF(AN587=1,I587-J587,0))","v":0},null,0,0]
[null,"2017-08-05",0,8,31,0,0.18340000000000001,0.15196000000000001,0,0,0,"2016-01-01","2016-09-30",38130,0,"2016-10-01","2016-12-31",39160,0,"2017-01-01","2017-03-31",39160,0,"2017-10-01","2017-03-31",39160,0,"2017-12-01","2017-03-31",39160,0,"2018-12-02","2017-02-28",39160,0,"2016-04-01","2016-04-30",1,0,0,{"$f":"IF('DA 1.2'!B632=2,0,IF(AN588=1,I588-J588,0))","v":0},null,0,0]
[null,"2017-08-06",0,8,31,0,0.18340000000000001,0.15196000000000001,0,0,0,"2016-01-01","2016-09-30",38130,0,"2016-10-01","2016-12-31",39160,0,"2017-01-01","2017-03-31",39160,0,"2017-10-01","2017-03-31",39160,0,"2017-12-01","2017-03-31",39160,0,"2018-12-02","2017-02-28",39160,0,"2016-04-01","2016-04-30",1,0,0,{"$f":"IF('DA 1.2'!B633=2,0,IF(AN589=1,I589-J589,0))","v":0},null,0,0]
[null,"2017-08-07",0,8,31,0,0.18340000000000001,0.15196000000000001,0,0,0,"2016-01-01","2016-09-30",38130,0,"2016-10-01","2016-12-31",39160,0,"2017-01-01","2017-03-31",39160,0,"2017-10-01","2017-03-31",39160,0,"2017-12-01","2017-03-31",39160,0,"2018-12-02","2017-02-28",39160,0,"2016-04-01","2016-04-30",1,0,0,{"$f":"IF('DA 1.2'!B634=2,0,IF(AN590=1,I590-J590,0))","v":0},null,0,0]
[null,"2017-08-08",0,8,31,0,0.18340000000000001,0.15196000000000001,0,0,0,"2016-01-01","2016-09-30",38130,0,"2016-10-01","2016-12-31",39160,0,"2017-01-01","2017-03-31",39160,0,"2017-10-01","2017-03-31",39160,0,"2017-12-01","2017-03-31",39160,0,"2018-12-02","2017-02-28",39160,0,"2016-04-01","2016-04-30",1,0,0,{"$f":"IF('DA 1.2'!B635=2,0,IF(AN591=1,I591-J591,0))","v":0},null,0,0]
[null,"2017-08-09",0,8,31,0,0.18340000000000001,0.15196000000000001,0,0,0,"2016-01-01","2016-09-30",38130,0,"2016-10-01","2016-12-31",39160,0,"2017-01-01","2017-03-31",39160,0,"2017-10-01","2017-03-31",39160,0,"2017-12-01","2017-03-31",39160,0,"2018-12-02","2017-02-28",39160,0,"2016-04-01","2016-04-30",1,0,0,{"$f":"IF('DA 1.2'!B636=2,0,IF(AN592=1,I592-J592,0))","v":0},null,0,0]
[null,"2017-08-10",0,8,31,0,0.18340000000000001,0.15196000000000001,0,0,0,"2016-01-01","2016-09-30",38130,0,"2016-10-01","2016-12-31",39160,0,"2017-01-01","2017-03-31",39160,0,"2017-10-01","2017-03-31",39160,0,"2017-12-01","2017-03-31",39160,0,"2018-12-02","2017-02-28",39160,0,"2016-04-01","2016-04-30",1,0,0,{"$f":"IF('DA 1.2'!B637=2,0,IF(AN593=1,I593-J593,0))","v":0},null,0,0]
[null,"2017-08-11",0,8,31,0,0.18340000000000001,0.15196000000000001,0,0,0,"2016-01-01","2016-09-30",38130,0,"2016-10-01","2016-12-31",39160,0,"2017-01-01","2017-03-31",39160,0,"2017-10-01","2017-03-31",39160,0,"2017-12-01","2017-03-31",39160,0,"2018-12-02","2017-02-28",39160,0,"2016-04-01","2016-04-30",1,0,0,{"$f":"IF('DA 1.2'!B638=2,0,IF(AN594=1,I594-J594,0))","v":0},null,0,0]
[null,"2017-08-12",0,8,{"$f":"IF(D595=1,31,IF(D595=2,29,IF(D595=3,31,IF(D595=5,31,IF(D595=7,31,IF(D595=8,31,IF(D595=10,31,IF(D595=12,31,30))))))))","v":31},0,0.18340000000000001,0.15196000000000001,0,0,0,"2016-01-01","2016-09-30",38130,0,"2016-10-01","2016-12-31",39160,0,"2017-01-01","2017-03-31",39160,0,"2017-10-01","2017-03-31",39160,0,"2017-12-01","2017-03-31",39160,0,"2018-12-02","2017-02-28",39160,0,"2016-04-01","2016-04-30",1,0,0,{"$f":"IF('DA 1.2'!B639=2,0,IF(AN595=1,I595-J595,0))","v":0},null,0,0]
[null,"2017-08-13",0,8,31,0,0.18340000000000001,0.15196000000000001,0,0,0,"2016-01-01","2016-09-30",38130,0,"2016-10-01","2016-12-31",39160,0,"2017-01-01","2017-03-31",39160,0,"2017-10-01","2017-03-31",39160,0,"2017-12-01","2017-03-31",39160,0,"2018-12-02","2017-02-28",39160,0,"2016-04-01","2016-04-30",1,0,0,{"$f":"IF('DA 1.2'!B640=2,0,IF(AN596=1,I596-J596,0))","v":0},null,0,0]
[null,"2017-08-14",0,8,31,0,0.18340000000000001,0.15196000000000001,0,0,0,"2016-01-01","2016-09-30",38130,0,"2016-10-01","2016-12-31",39160,0,"2017-01-01","2017-03-31",39160,0,"2017-10-01","2017-03-31",39160,0,"2017-12-01","2017-03-31",39160,0,"2018-12-02","2017-02-28",39160,0,"2016-04-01","2016-04-30",1,0,0,{"$f":"IF('DA 1.2'!B641=2,0,IF(AN597=1,I597-J597,0))","v":0},null,0,0]
[null,"2017-08-15",0,8,31,0,0.18340000000000001,0.15196000000000001,0,0,0,"2016-01-01","2016-09-30",38130,0,"2016-10-01","2016-12-31",39160,0,"2017-01-01","2017-03-31",39160,0,"2017-10-01","2017-03-31",39160,0,"2017-12-01","2017-03-31",39160,0,"2018-12-02","2017-02-28",39160,0,"2016-04-01","2016-04-30",1,0,0,{"$f":"IF('DA 1.2'!B642=2,0,IF(AN598=1,I598-J598,0))","v":0},null,0,0]
[null,"2017-08-16",0,8,31,0,0.18340000000000001,0.15196000000000001,0,0,0,"2016-01-01","2016-09-30",38130,0,"2016-10-01","2016-12-31",39160,0,"2017-01-01","2017-03-31",39160,0,"2017-10-01","2017-03-31",39160,0,"2017-12-01","2017-03-31",39160,0,"2018-12-02","2017-02-28",39160,0,"2016-04-01","2016-04-30",1,0,0,{"$f":"IF('DA 1.2'!B643=2,0,IF(AN599=1,I599-J599,0))","v":0},null,0,0]
[null,"2017-08-17",0,8,31,0,{"$f":"G599","v":0.18340000000000001},0.15196000000000001,0,0,0,{"$f":"L599","v":"2016-01-01"},"2016-09-30",38130,0,{"$f":"P599","v":"2016-10-01"},"2016-12-31",39160,0,{"$f":"T599","v":"2017-01-01"},"2017-03-31",39160,0,{"$f":"X599","v":"2017-10-01"},"2017-03-31",39160,0,"2017-12-01","2017-03-31",39160,0,"2018-12-02","2017-02-28",39160,0,{"$f":"AJ599","v":"2016-04-01"},"2016-04-30",1,0,0,{"$f":"IF('DA 1.2'!B644=2,0,IF(AN600=1,I600-J600,0))","v":0},null,0,0]
[null,"2017-08-18",0,8,31,0,0.18340000000000001,0.15196000000000001,0,0,0,"2016-01-01","2016-09-30",38130,0,"2016-10-01","2016-12-31",39160,0,"2017-01-01","2017-03-31",39160,0,"2017-10-01","2017-03-31",39160,0,"2017-12-01","2017-03-31",39160,0,"2018-12-02","2017-02-28",39160,0,"2016-04-01","2016-04-30",1,0,0,{"$f":"IF('DA 1.2'!B645=2,0,IF(AN601=1,I601-J601,0))","v":0},null,0,0]
[null,"2017-08-19",0,8,31,0,0.18340000000000001,0.15196000000000001,0,0,0,"2016-01-01","2016-09-30",38130,0,"2016-10-01","2016-12-31",39160,0,"2017-01-01","2017-03-31",39160,0,"2017-10-01","2017-03-31",39160,0,"2017-12-01","2017-03-31",39160,0,"2018-12-02","2017-02-28",39160,0,"2016-04-01","2016-04-30",1,0,0,{"$f":"IF('DA 1.2'!B646=2,0,IF(AN602=1,I602-J602,0))","v":0},null,0,0]
[null,"2017-08-20",0,8,31,0,0.18340000000000001,0.15196000000000001,0,0,0,"2016-01-01","2016-09-30",38130,0,"2016-10-01","2016-12-31",39160,0,"2017-01-01","2017-03-31",39160,0,"2017-10-01","2017-03-31",39160,0,"2017-12-01","2017-03-31",39160,0,"2018-12-02","2017-02-28",39160,0,"2016-04-01","2016-04-30",1,0,0,{"$f":"IF('DA 1.2'!B647=2,0,IF(AN603=1,I603-J603,0))","v":0},null,0,0]
[null,"2017-08-21",0,8,31,0,0.18340000000000001,0.15196000000000001,0,0,0,"2016-01-01","2016-09-30",38130,0,"2016-10-01","2016-12-31",39160,0,"2017-01-01","2017-03-31",39160,0,"2017-10-01","2017-03-31",39160,0,"2017-12-01","2017-03-31",39160,0,"2018-12-02","2017-02-28",39160,0,"2016-04-01","2016-04-30",1,0,0,{"$f":"IF('DA 1.2'!B648=2,0,IF(AN604=1,I604-J604,0))","v":0},null,0,0]
[null,"2017-08-22",0,8,31,0,0.18340000000000001,0.15196000000000001,0,0,0,"2016-01-01","2016-09-30",38130,0,"2016-10-01","2016-12-31",39160,0,"2017-01-01","2017-03-31",39160,0,"2017-10-01","2017-03-31",39160,0,"2017-12-01","2017-03-31",39160,0,"2018-12-02","2017-02-28",39160,0,"2016-04-01","2016-04-30",1,0,0,{"$f":"IF('DA 1.2'!B649=2,0,IF(AN605=1,I605-J605,0))","v":0},null,0,0]
[null,"2017-08-23",0,8,31,0,0.18340000000000001,0.15196000000000001,0,0,0,"2016-01-01","2016-09-30",38130,0,"2016-10-01","2016-12-31",39160,0,"2017-01-01","2017-03-31",39160,0,"2017-10-01","2017-03-31",39160,0,"2017-12-01","2017-03-31",39160,0,"2018-12-02","2017-02-28",39160,0,"2016-04-01","2016-04-30",1,0,0,{"$f":"IF('DA 1.2'!B650=2,0,IF(AN606=1,I606-J606,0))","v":0},null,0,0]
[null,"2017-08-24",0,8,31,0,0.18340000000000001,0.15196000000000001,0,0,0,"2016-01-01","2016-09-30",38130,0,"2016-10-01","2016-12-31",39160,0,"2017-01-01","2017-03-31",39160,0,"2017-10-01","2017-03-31",39160,0,"2017-12-01","2017-03-31",39160,0,"2018-12-02","2017-02-28",39160,0,"2016-04-01","2016-04-30",1,0,0,{"$f":"IF('DA 1.2'!B651=2,0,IF(AN607=1,I607-J607,0))","v":0},null,0,0]
[null,"2017-08-25",0,8,31,0,0.18340000000000001,0.15196000000000001,0,0,0,"2016-01-01","2016-09-30",38130,0,"2016-10-01","2016-12-31",39160,0,"2017-01-01","2017-03-31",39160,0,"2017-10-01","2017-03-31",39160,0,"2017-12-01","2017-03-31",39160,0,"2018-12-02","2017-02-28",39160,0,"2016-04-01","2016-04-30",1,0,0,{"$f":"IF('DA 1.2'!B652=2,0,IF(AN608=1,I608-J608,0))","v":0},null,0,0]
[null,"2017-08-26",0,8,31,0,0.18340000000000001,0.15196000000000001,0,0,0,"2016-01-01","2016-09-30",38130,0,"2016-10-01","2016-12-31",39160,0,"2017-01-01","2017-03-31",39160,0,"2017-10-01","2017-03-31",39160,0,"2017-12-01","2017-03-31",39160,0,"2018-12-02","2017-02-28",39160,0,"2016-04-01","2016-04-30",1,0,0,{"$f":"IF('DA 1.2'!B653=2,0,IF(AN609=1,I609-J609,0))","v":0},null,0,0]
[null,"2017-08-27",0,8,31,0,0.18340000000000001,0.15196000000000001,0,0,0,"2016-01-01","2016-09-30",38130,0,"2016-10-01","2016-12-31",39160,0,"2017-01-01","2017-03-31",39160,0,"2017-10-01","2017-03-31",39160,0,"2017-12-01","2017-03-31",39160,0,"2018-12-02","2017-02-28",39160,0,"2016-04-01","2016-04-30",1,0,0,{"$f":"IF('DA 1.2'!B654=2,0,IF(AN610=1,I610-J610,0))","v":0},null,0,0]
[null,"2017-08-28",0,8,31,0,0.18340000000000001,0.15196000000000001,0,0,0,"2016-01-01","2016-09-30",38130,0,"2016-10-01","2016-12-31",39160,0,"2017-01-01","2017-03-31",39160,0,"2017-10-01","2017-03-31",39160,0,"2017-12-01","2017-03-31",39160,0,"2018-12-02","2017-02-28",39160,0,"2016-04-01","2016-04-30",1,0,0,{"$f":"IF('DA 1.2'!B655=2,0,IF(AN611=1,I611-J611,0))","v":0},null,0,0]
[null,"2017-08-29",0,8,31,0,0.18340000000000001,0.15196000000000001,0,0,0,"2016-01-01","2016-09-30",38130,0,"2016-10-01","2016-12-31",39160,0,"2017-01-01","2017-03-31",39160,0,"2017-10-01","2017-03-31",39160,0,"2017-12-01","2017-03-31",39160,0,"2018-12-02","2017-02-28",39160,0,"2016-04-01","2016-04-30",1,0,0,{"$f":"IF('DA 1.2'!B656=2,0,IF(AN612=1,I612-J612,0))","v":0},null,0,0]
[null,"2017-08-30",0,8,31,0,0.18340000000000001,0.15196000000000001,0,0,0,"2016-01-01","2016-09-30",38130,0,"2016-10-01","2016-12-31",39160,0,"2017-01-01","2017-03-31",39160,0,"2017-10-01","2017-03-31",39160,0,"2017-12-01","2017-03-31",39160,0,"2018-12-02","2017-02-28",39160,0,"2016-04-01","2016-04-30",1,0,0,{"$f":"IF('DA 1.2'!B657=2,0,IF(AN613=1,I613-J613,0))","v":0},null,0,0]
[null,"2017-08-31",0,8,31,0,0.18340000000000001,0.15196000000000001,0,0,0,"2016-01-01","2016-09-30",38130,0,"2016-10-01","2016-12-31",39160,0,"2017-01-01","2017-03-31",39160,0,"2017-10-01","2017-03-31",39160,0,"2017-12-01","2017-03-31",39160,0,"2018-12-02","2017-02-28",39160,0,"2016-04-01","2016-04-30",1,0,0,{"$f":"IF('DA 1.2'!B658=2,0,IF(AN614=1,I614-J614,0))","v":0},null,0,0]
[null,"2017-09-01",0,9,30,0,0.18340000000000001,0.15196000000000001,0,0,0,"2016-01-01","2016-09-30",38130,0,"2016-10-01","2016-12-31",39160,0,"2017-01-01","2017-03-31",39160,0,"2017-10-01","2017-03-31",39160,0,"2017-12-01","2017-03-31",39160,0,"2018-12-02","2017-02-28",39160,0,"2016-04-01","2016-04-30",1,0,0,{"$f":"IF('DA 1.2'!B659=2,0,IF(AN615=1,I615-J615,0))","v":0},null,0,0]
[null,"2017-09-02",0,9,30,0,{"$f":"G615","v":0.18340000000000001},0.15196000000000001,0,0,0,{"$f":"L615","v":"2016-01-01"},"2016-09-30",38130,0,{"$f":"P615","v":"2016-10-01"},"2016-12-31",39160,0,{"$f":"T615","v":"2017-01-01"},"2017-03-31",39160,0,{"$f":"X615","v":"2017-10-01"},"2017-03-31",39160,0,"2017-12-01","2017-03-31",39160,0,"2018-12-02","2017-02-28",39160,0,{"$f":"AJ615","v":"2016-04-01"},"2016-04-30",1,0,0,{"$f":"IF('DA 1.2'!B660=2,0,IF(AN616=1,I616-J616,0))","v":0},null,0,0]
[null,"2017-09-03",0,9,30,0,0.18340000000000001,0.15196000000000001,0,0,0,"2016-01-01","2016-09-30",38130,0,"2016-10-01","2016-12-31",39160,0,"2017-01-01","2017-03-31",39160,0,"2017-10-01","2017-03-31",39160,0,"2017-12-01","2017-03-31",39160,0,"2018-12-02","2017-02-28",39160,0,"2016-04-01","2016-04-30",1,0,0,{"$f":"IF('DA 1.2'!B661=2,0,IF(AN617=1,I617-J617,0))","v":0},null,0,0]
[null,"2017-09-04",0,9,30,0,0.18340000000000001,0.15196000000000001,0,0,0,"2016-01-01","2016-09-30",38130,0,"2016-10-01","2016-12-31",39160,0,"2017-01-01","2017-03-31",39160,0,"2017-10-01","2017-03-31",39160,0,"2017-12-01","2017-03-31",39160,0,"2018-12-02","2017-02-28",39160,0,"2016-04-01","2016-04-30",1,0,0,{"$f":"IF('DA 1.2'!B662=2,0,IF(AN618=1,I618-J618,0))","v":0},null,0,0]
[null,"2017-09-05",0,9,30,0,0.18340000000000001,0.15196000000000001,0,0,0,"2016-01-01","2016-09-30",38130,0,"2016-10-01","2016-12-31",39160,0,"2017-01-01","2017-03-31",39160,0,"2017-10-01","2017-03-31",39160,0,"2017-12-01","2017-03-31",39160,0,"2018-12-02","2017-02-28",39160,0,"2016-04-01","2016-04-30",1,0,0,{"$f":"IF('DA 1.2'!B663=2,0,IF(AN619=1,I619-J619,0))","v":0},null,0,0]
[null,"2017-09-06",0,9,30,0,0.18340000000000001,0.15196000000000001,0,0,0,"2016-01-01","2016-09-30",38130,0,"2016-10-01","2016-12-31",39160,0,"2017-01-01","2017-03-31",39160,0,"2017-10-01","2017-03-31",39160,0,"2017-12-01","2017-03-31",39160,0,"2018-12-02","2017-02-28",39160,0,"2016-04-01","2016-04-30",1,0,0,{"$f":"IF('DA 1.2'!B664=2,0,IF(AN620=1,I620-J620,0))","v":0},null,0,0]
[null,"2017-09-07",0,9,30,0,0.18340000000000001,0.15196000000000001,0,0,0,"2016-01-01","2016-09-30",38130,0,"2016-10-01","2016-12-31",39160,0,"2017-01-01","2017-03-31",39160,0,"2017-10-01","2017-03-31",39160,0,"2017-12-01","2017-03-31",39160,0,"2018-12-02","2017-02-28",39160,0,"2016-04-01","2016-04-30",1,0,0,{"$f":"IF('DA 1.2'!B665=2,0,IF(AN621=1,I621-J621,0))","v":0},null,0,0]
[null,"2017-09-08",0,9,30,0,0.18340000000000001,0.15196000000000001,0,0,0,"2016-01-01","2016-09-30",38130,0,"2016-10-01","2016-12-31",39160,0,"2017-01-01","2017-03-31",39160,0,"2017-10-01","2017-03-31",39160,0,"2017-12-01","2017-03-31",39160,0,"2018-12-02","2017-02-28",39160,0,"2016-04-01","2016-04-30",1,0,0,{"$f":"IF('DA 1.2'!B666=2,0,IF(AN622=1,I622-J622,0))","v":0},null,0,0]
[null,"2017-09-09",0,9,30,0,0.18340000000000001,0.15196000000000001,0,0,0,"2016-01-01","2016-09-30",38130,0,"2016-10-01","2016-12-31",39160,0,"2017-01-01","2017-03-31",39160,0,"2017-10-01","2017-03-31",39160,0,"2017-12-01","2017-03-31",39160,0,"2018-12-02","2017-02-28",39160,0,"2016-04-01","2016-04-30",1,0,0,{"$f":"IF('DA 1.2'!B667=2,0,IF(AN623=1,I623-J623,0))","v":0},null,0,0]
[null,"2017-09-10",0,9,30,0,0.18340000000000001,0.15196000000000001,0,0,0,"2016-01-01","2016-09-30",38130,0,"2016-10-01","2016-12-31",39160,0,"2017-01-01","2017-03-31",39160,0,"2017-10-01","2017-03-31",39160,0,"2017-12-01","2017-03-31",39160,0,"2018-12-02","2017-02-28",39160,0,"2016-04-01","2016-04-30",1,0,0,{"$f":"IF('DA 1.2'!B668=2,0,IF(AN624=1,I624-J624,0))","v":0},null,0,0]
[null,"2017-09-11",0,9,30,0,0.18340000000000001,0.15196000000000001,0,0,0,"2016-01-01","2016-09-30",38130,0,"2016-10-01","2016-12-31",39160,0,"2017-01-01","2017-03-31",39160,0,"2017-10-01","2017-03-31",39160,0,"2017-12-01","2017-03-31",39160,0,"2018-12-02","2017-02-28",39160,0,"2016-04-01","2016-04-30",1,0,0,{"$f":"IF('DA 1.2'!B669=2,0,IF(AN625=1,I625-J625,0))","v":0},null,0,0]
[null,"2017-09-12",0,9,30,0,0.18340000000000001,0.15196000000000001,0,0,0,"2016-01-01","2016-09-30",38130,0,"2016-10-01","2016-12-31",39160,0,"2017-01-01","2017-03-31",39160,0,"2017-10-01","2017-03-31",39160,0,"2017-12-01","2017-03-31",39160,0,"2018-12-02","2017-02-28",39160,0,"2016-04-01","2016-04-30",1,0,0,{"$f":"IF('DA 1.2'!B670=2,0,IF(AN626=1,I626-J626,0))","v":0},null,0,0]
[null,"2017-09-13",0,9,30,0,0.18340000000000001,0.15196000000000001,0,0,0,"2016-01-01","2016-09-30",38130,0,"2016-10-01","2016-12-31",39160,0,"2017-01-01","2017-03-31",39160,0,"2017-10-01","2017-03-31",39160,0,"2017-12-01","2017-03-31",39160,0,"2018-12-02","2017-02-28",39160,0,"2016-04-01","2016-04-30",1,0,0,{"$f":"IF('DA 1.2'!B671=2,0,IF(AN627=1,I627-J627,0))","v":0},null,0,0]
[null,"2017-09-14",0,9,30,0,0.18340000000000001,0.15196000000000001,0,0,0,"2016-01-01","2016-09-30",38130,0,"2016-10-01","2016-12-31",39160,0,"2017-01-01","2017-03-31",39160,0,"2017-10-01","2017-03-31",39160,0,"2017-12-01","2017-03-31",39160,0,"2018-12-02","2017-02-28",39160,0,"2016-04-01","2016-04-30",1,0,0,{"$f":"IF('DA 1.2'!B672=2,0,IF(AN628=1,I628-J628,0))","v":0},null,0,0]
[null,"2017-09-15",0,9,30,0,0.18340000000000001,0.15196000000000001,0,0,0,"2016-01-01","2016-09-30",38130,0,"2016-10-01","2016-12-31",39160,0,"2017-01-01","2017-03-31",39160,0,"2017-10-01","2017-03-31",39160,0,"2017-12-01","2017-03-31",39160,0,"2018-12-02","2017-02-28",39160,0,"2016-04-01","2016-04-30",1,0,0,{"$f":"IF('DA 1.2'!B673=2,0,IF(AN629=1,I629-J629,0))","v":0},null,0,0]
[null,"2017-09-16",0,9,30,0,0.18340000000000001,0.15196000000000001,0,0,0,"2016-01-01","2016-09-30",38130,0,"2016-10-01","2016-12-31",39160,0,"2017-01-01","2017-03-31",39160,0,"2017-10-01","2017-03-31",39160,0,"2017-12-01","2017-03-31",39160,0,"2018-12-02","2017-02-28",39160,0,"2016-04-01","2016-04-30",1,0,0,{"$f":"IF('DA 1.2'!B674=2,0,IF(AN630=1,I630-J630,0))","v":0},null,0,0]
[null,"2017-09-17",0,9,30,0,0.18340000000000001,0.15196000000000001,0,0,0,"2016-01-01","2016-09-30",38130,0,"2016-10-01","2016-12-31",39160,0,"2017-01-01","2017-03-31",39160,0,"2017-10-01","2017-03-31",39160,0,"2017-12-01","2017-03-31",39160,0,"2018-12-02","2017-02-28",39160,0,"2016-04-01","2016-04-30",1,0,0,{"$f":"IF('DA 1.2'!B675=2,0,IF(AN631=1,I631-J631,0))","v":0},null,0,0]
[null,"2017-09-18",0,9,30,0,{"$f":"G631","v":0.18340000000000001},0.15196000000000001,0,0,0,{"$f":"L631","v":"2016-01-01"},"2016-09-30",38130,0,{"$f":"P631","v":"2016-10-01"},"2016-12-31",39160,0,{"$f":"T631","v":"2017-01-01"},"2017-03-31",39160,0,{"$f":"X631","v":"2017-10-01"},"2017-03-31",39160,0,"2017-12-01","2017-03-31",39160,0,"2018-12-02","2017-02-28",39160,0,{"$f":"AJ631","v":"2016-04-01"},"2016-04-30",1,0,0,{"$f":"IF('DA 1.2'!B676=2,0,IF(AN632=1,I632-J632,0))","v":0},null,0,0]
[null,"2017-09-19",0,9,30,0,0.18340000000000001,0.15196000000000001,0,0,0,"2016-01-01","2016-09-30",38130,0,"2016-10-01","2016-12-31",39160,0,"2017-01-01","2017-03-31",39160,0,"2017-10-01","2017-03-31",39160,0,"2017-12-01","2017-03-31",39160,0,"2018-12-02","2017-02-28",39160,0,"2016-04-01","2016-04-30",1,0,0,{"$f":"IF('DA 1.2'!B677=2,0,IF(AN633=1,I633-J633,0))","v":0},null,0,0]
[null,"2017-09-20",0,9,30,0,0.18340000000000001,0.15196000000000001,0,0,0,"2016-01-01","2016-09-30",38130,0,"2016-10-01","2016-12-31",39160,0,"2017-01-01","2017-03-31",39160,0,"2017-10-01","2017-03-31",39160,0,"2017-12-01","2017-03-31",39160,0,"2018-12-02","2017-02-28",39160,0,"2016-04-01","2016-04-30",1,0,0,{"$f":"IF('DA 1.2'!B678=2,0,IF(AN634=1,I634-J634,0))","v":0},null,0,0]
[null,"2017-09-21",0,9,30,0,0.18340000000000001,0.15196000000000001,0,0,0,"2016-01-01","2016-09-30",38130,0,"2016-10-01","2016-12-31",39160,0,"2017-01-01","2017-03-31",39160,0,"2017-10-01","2017-03-31",39160,0,"2017-12-01","2017-03-31",39160,0,"2018-12-02","2017-02-28",39160,0,"2016-04-01","2016-04-30",1,0,0,{"$f":"IF('DA 1.2'!B679=2,0,IF(AN635=1,I635-J635,0))","v":0},null,0,0]
[null,"2017-09-22",0,9,30,0,0.18340000000000001,0.15196000000000001,0,0,0,"2016-01-01","2016-09-30",38130,0,"2016-10-01","2016-12-31",39160,0,"2017-01-01","2017-03-31",39160,0,"2017-10-01","2017-03-31",39160,0,"2017-12-01","2017-03-31",39160,0,"2018-12-02","2017-02-28",39160,0,"2016-04-01","2016-04-30",1,0,0,{"$f":"IF('DA 1.2'!B680=2,0,IF(AN636=1,I636-J636,0))","v":0},null,0,0]
[null,"2017-09-23",0,9,30,0,0.18340000000000001,0.15196000000000001,0,0,0,"2016-01-01","2016-09-30",38130,0,"2016-10-01","2016-12-31",39160,0,"2017-01-01","2017-03-31",39160,0,"2017-10-01","2017-03-31",39160,0,"2017-12-01","2017-03-31",39160,0,"2018-12-02","2017-02-28",39160,0,"2016-04-01","2016-04-30",1,0,0,{"$f":"IF('DA 1.2'!B681=2,0,IF(AN637=1,I637-J637,0))","v":0},null,0,0]
[null,"2017-09-24",0,9,30,0,0.18340000000000001,0.15196000000000001,0,0,0,"2016-01-01","2016-09-30",38130,0,"2016-10-01","2016-12-31",39160,0,"2017-01-01","2017-03-31",39160,0,"2017-10-01","2017-03-31",39160,0,"2017-12-01","2017-03-31",39160,0,"2018-12-02","2017-02-28",39160,0,"2016-04-01","2016-04-30",1,0,0,{"$f":"IF('DA 1.2'!B682=2,0,IF(AN638=1,I638-J638,0))","v":0},null,0,0]
[null,"2017-09-25",0,9,30,0,0.18340000000000001,0.15196000000000001,0,0,0,"2016-01-01","2016-09-30",38130,0,"2016-10-01","2016-12-31",39160,0,"2017-01-01","2017-03-31",39160,0,"2017-10-01","2017-03-31",39160,0,"2017-12-01","2017-03-31",39160,0,"2018-12-02","2017-02-28",39160,0,"2016-04-01","2016-04-30",1,0,0,{"$f":"IF('DA 1.2'!B683=2,0,IF(AN639=1,I639-J639,0))","v":0},null,0,0]
[null,"2017-09-26",0,9,30,0,0.18340000000000001,0.15196000000000001,0,0,0,"2016-01-01","2016-09-30",38130,0,"2016-10-01","2016-12-31",39160,0,"2017-01-01","2017-03-31",39160,0,"2017-10-01","2017-03-31",39160,0,"2017-12-01","2017-03-31",39160,0,"2018-12-02","2017-02-28",39160,0,"2016-04-01","2016-04-30",1,0,0,{"$f":"IF('DA 1.2'!B684=2,0,IF(AN640=1,I640-J640,0))","v":0},null,0,0]
[null,"2017-09-27",0,9,30,0,0.18340000000000001,0.15196000000000001,0,0,0,"2016-01-01","2016-09-30",38130,0,"2016-10-01","2016-12-31",39160,0,"2017-01-01","2017-03-31",39160,0,"2017-10-01","2017-03-31",39160,0,"2017-12-01","2017-03-31",39160,0,"2018-12-02","2017-02-28",39160,0,"2016-04-01","2016-04-30",1,0,0,{"$f":"IF('DA 1.2'!B685=2,0,IF(AN641=1,I641-J641,0))","v":0},null,0,0]
[null,"2017-09-28",0,9,30,0,0.18340000000000001,0.15196000000000001,0,0,0,"2016-01-01","2016-09-30",38130,0,"2016-10-01","2016-12-31",39160,0,"2017-01-01","2017-03-31",39160,0,"2017-10-01","2017-03-31",39160,0,"2017-12-01","2017-03-31",39160,0,"2018-12-02","2017-02-28",39160,0,"2016-04-01","2016-04-30",1,0,0,{"$f":"IF('DA 1.2'!B686=2,0,IF(AN642=1,I642-J642,0))","v":0},null,0,0]
[null,"2017-09-29",0,9,30,0,0.18340000000000001,0.15196000000000001,0,0,0,"2016-01-01","2016-09-30",38130,0,"2016-10-01","2016-12-31",39160,0,"2017-01-01","2017-03-31",39160,0,"2017-10-01","2017-03-31",39160,0,"2017-12-01","2017-03-31",39160,0,"2018-12-02","2017-02-28",39160,0,"2016-04-01","2016-04-30",1,0,0,{"$f":"IF('DA 1.2'!B687=2,0,IF(AN643=1,I643-J643,0))","v":0},null,0,0]
[null,"2017-09-30",0,9,30,0,0.18340000000000001,0.15196000000000001,0,0,0,"2016-01-01","2016-09-30",38130,0,"2016-10-01","2016-12-31",39160,0,"2017-01-01","2017-03-31",39160,0,"2017-10-01","2017-03-31",39160,0,"2017-12-01","2017-03-31",39160,0,"2018-12-02","2017-02-28",39160,0,"2016-04-01","2016-04-30",1,0,0,{"$f":"IF('DA 1.2'!B688=2,0,IF(AN644=1,I644-J644,0))","v":0},null,0,0]
[null,"2017-10-01",0,10,31,0,0.18340000000000001,0.15196000000000001,0,0,0,"2016-01-01","2016-09-30",38130,0,"2016-10-01","2016-12-31",39160,0,"2017-01-01","2017-03-31",39160,0,"2017-10-01","2017-03-31",39160,0,"2017-12-01","2017-03-31",39160,0,"2018-12-02","2017-02-28",39160,0,"2016-04-01","2016-04-30",1,0,0,{"$f":"IF('DA 1.2'!B689=2,0,IF(AN645=1,I645-J645,0))","v":0},null,0,0]
[null,"2017-10-02",0,10,31,{"$f":"C646/E646","v":0},0.18340000000000001,0.15196000000000001,{"$f":"F646*G646","v":0},{"$f":"F646*H646","v":0},0,"2016-01-01","2016-09-30",38130,0,"2016-10-01","2016-12-31",39160,0,"2017-01-01","2017-03-31",39160,0,"2017-10-01","2017-03-31",39160,0,"2017-12-01","2017-03-31",39160,0,"2018-12-02","2017-02-28",39160,0,"2016-04-01","2016-04-30",1,0,0,{"$f":"IF('DA 1.2'!B690=2,0,IF(AN646=1,I646-J646,0))","v":0},null,0,0]
[null,"2017-10-03",{"$f":"O647+S647+W647+AA647+AE647+AI647","v":0},{"$f":"MONTH(B647)","v":10},31,0,0.18340000000000001,0.15196000000000001,0,0,{"$f":"I647-J647","v":0},"2016-01-01","2016-09-30",38130,{"$f":"IF(M647>=B647,N647,0)","v":0},"2016-10-01","2016-12-31",39160,{"$f":"IF(O647>0,0,IF(Q647>=B647,R647,0))","v":0},"2017-01-01","2017-03-31",39160,{"$f":"IF(T647>U647,0,IF(O647>0,0,IF(S647>0,0,IF(U647>=B647,V647,0))))","v":0},"2017-10-01","2017-03-31",39160,{"$f":"IF(X647>=Y647,0,IF(O647>0,0,IF(S647>0,0,IF(W647>0,0,IF(Y647>=B647,Z647,0)))))","v":0},"2017-12-01","2017-03-31",39160,{"$f":"IF(O647>0,0,IF(AB647>=AC647,0,IF(S647>0,0,IF(W647>0,0,IF(AA647>0,0,IF(AC647>=B647,AD647,0))))))","v":0},"2018-12-02","2017-02-28",39160,{"$f":"IF(O647>0,0,IF(S647>0,0,IF(AF647>=AG647,0,IF(W647>0,0,IF(AA647>0,0,IF(AE647>0,0,IF(AG647>=B647,AH647,0)))))))","v":0},"2016-04-01","2016-04-30",{"$f":"IF(B647>=AJ647,1,0)","v":1},{"$f":"IF(B647<=AK647,1,0)","v":0},{"$f":"IF(SUM(AL647:AM647)=2,1,0)","v":0},{"$f":"IF('DA 1.2'!B691=2,0,IF(AN647=1,I647-J647,0))","v":0},null,{"$f":"ROUND(K647*10%,3)","v":0},{"$f":"ROUND(K647,4)","v":0}]
[null,"2017-10-04",0,10,31,0,{"$f":"G647","v":0.18340000000000001},0.15196000000000001,0,0,0,{"$f":"L647","v":"2016-01-01"},"2016-09-30",38130,0,{"$f":"P647","v":"2016-10-01"},"2016-12-31",39160,0,{"$f":"T647","v":"2017-01-01"},"2017-03-31",39160,0,{"$f":"X647","v":"2017-10-01"},"2017-03-31",39160,0,{"$f":"AB647","v":"2017-12-01"},{"$f":"AC647","v":"2017-03-31"},{"$f":"AD647","v":39160},0,{"$f":"AF647","v":"2018-12-02"},{"$f":"AG647","v":"2017-02-28"},{"$f":"AH647","v":39160},0,{"$f":"AJ647","v":"2016-04-01"},"2016-04-30",1,0,0,{"$f":"IF('DA 1.2'!B692=2,0,IF(AN648=1,I648-J648,0))","v":0},null,0,0]
[null,"2017-10-05",0,10,31,0,0.18340000000000001,0.15196000000000001,0,0,0,"2016-01-01","2016-09-30",38130,0,"2016-10-01","2016-12-31",39160,0,"2017-01-01","2017-03-31",39160,0,"2017-10-01","2017-03-31",39160,0,"2017-12-01","2017-03-31",39160,0,"2018-12-02","2017-02-28",39160,0,"2016-04-01","2016-04-30",1,0,0,{"$f":"IF('DA 1.2'!B693=2,0,IF(AN649=1,I649-J649,0))","v":0},null,0,0]
[null,"2017-10-06",0,10,31,0,0.18340000000000001,0.15196000000000001,0,0,0,"2016-01-01","2016-09-30",38130,0,"2016-10-01","2016-12-31",39160,0,"2017-01-01","2017-03-31",39160,0,"2017-10-01","2017-03-31",39160,0,"2017-12-01","2017-03-31",39160,0,"2018-12-02","2017-02-28",39160,0,"2016-04-01","2016-04-30",1,0,0,{"$f":"IF('DA 1.2'!B694=2,0,IF(AN650=1,I650-J650,0))","v":0},null,0,0]
[null,"2017-10-07",0,10,31,0,0.18340000000000001,0.15196000000000001,0,0,0,"2016-01-01","2016-09-30",38130,0,"2016-10-01","2016-12-31",39160,0,"2017-01-01","2017-03-31",39160,0,"2017-10-01","2017-03-31",39160,0,"2017-12-01","2017-03-31",39160,0,"2018-12-02","2017-02-28",39160,0,"2016-04-01","2016-04-30",1,0,0,{"$f":"IF('DA 1.2'!B695=2,0,IF(AN651=1,I651-J651,0))","v":0},null,0,0]
[null,"2017-10-08",0,10,31,0,0.18340000000000001,0.15196000000000001,0,0,0,"2016-01-01","2016-09-30",38130,0,"2016-10-01","2016-12-31",39160,0,"2017-01-01","2017-03-31",39160,0,"2017-10-01","2017-03-31",39160,0,"2017-12-01","2017-03-31",39160,0,"2018-12-02","2017-02-28",39160,0,"2016-04-01","2016-04-30",1,0,0,{"$f":"IF('DA 1.2'!B696=2,0,IF(AN652=1,I652-J652,0))","v":0},null,0,0]
[null,"2017-10-09",0,10,31,0,0.18340000000000001,0.15196000000000001,0,0,0,"2016-01-01","2016-09-30",38130,0,"2016-10-01","2016-12-31",39160,0,"2017-01-01","2017-03-31",39160,0,"2017-10-01","2017-03-31",39160,0,"2017-12-01","2017-03-31",39160,0,"2018-12-02","2017-02-28",39160,0,"2016-04-01","2016-04-30",1,0,0,{"$f":"IF('DA 1.2'!B697=2,0,IF(AN653=1,I653-J653,0))","v":0},null,0,0]
[null,"2017-10-10",0,10,31,0,0.18340000000000001,0.15196000000000001,0,0,0,"2016-01-01","2016-09-30",38130,0,"2016-10-01","2016-12-31",39160,0,"2017-01-01","2017-03-31",39160,0,"2017-10-01","2017-03-31",39160,0,"2017-12-01","2017-03-31",39160,0,"2018-12-02","2017-02-28",39160,0,"2016-04-01","2016-04-30",1,0,0,{"$f":"IF('DA 1.2'!B698=2,0,IF(AN654=1,I654-J654,0))","v":0},null,0,0]
[null,"2017-10-11",0,10,31,0,0.18340000000000001,0.15196000000000001,0,0,0,"2016-01-01","2016-09-30",38130,0,"2016-10-01","2016-12-31",39160,0,"2017-01-01","2017-03-31",39160,0,"2017-10-01","2017-03-31",39160,0,"2017-12-01","2017-03-31",39160,0,"2018-12-02","2017-02-28",39160,0,"2016-04-01","2016-04-30",1,0,0,{"$f":"IF('DA 1.2'!B699=2,0,IF(AN655=1,I655-J655,0))","v":0},null,0,0]
[null,"2017-10-12",0,10,31,0,0.18340000000000001,0.15196000000000001,0,0,0,"2016-01-01","2016-09-30",38130,0,"2016-10-01","2016-12-31",39160,0,"2017-01-01","2017-03-31",39160,0,"2017-10-01","2017-03-31",39160,0,"2017-12-01","2017-03-31",39160,0,"2018-12-02","2017-02-28",39160,0,"2016-04-01","2016-04-30",1,0,0,{"$f":"IF('DA 1.2'!B700=2,0,IF(AN656=1,I656-J656,0))","v":0},null,0,0]
[null,"2017-10-13",0,10,31,0,0.18340000000000001,0.15196000000000001,0,0,0,"2016-01-01","2016-09-30",38130,0,"2016-10-01","2016-12-31",39160,0,"2017-01-01","2017-03-31",39160,0,"2017-10-01","2017-03-31",39160,0,"2017-12-01","2017-03-31",39160,0,"2018-12-02","2017-02-28",39160,0,"2016-04-01","2016-04-30",1,0,0,{"$f":"IF('DA 1.2'!B701=2,0,IF(AN657=1,I657-J657,0))","v":0},null,0,0]
[null,"2017-10-14",0,10,31,0,0.18340000000000001,0.15196000000000001,0,0,0,"2016-01-01","2016-09-30",38130,0,"2016-10-01","2016-12-31",39160,0,"2017-01-01","2017-03-31",39160,0,"2017-10-01","2017-03-31",39160,0,"2017-12-01","2017-03-31",39160,0,"2018-12-02","2017-02-28",39160,0,"2016-04-01","2016-04-30",1,0,0,{"$f":"IF('DA 1.2'!B702=2,0,IF(AN658=1,I658-J658,0))","v":0},null,0,0]
[null,"2017-10-15",0,10,{"$f":"IF(D659=1,31,IF(D659=2,29,IF(D659=3,31,IF(D659=5,31,IF(D659=7,31,IF(D659=8,31,IF(D659=10,31,IF(D659=12,31,30))))))))","v":31},0,0.18340000000000001,0.15196000000000001,0,0,0,"2016-01-01","2016-09-30",38130,0,"2016-10-01","2016-12-31",39160,0,"2017-01-01","2017-03-31",39160,0,"2017-10-01","2017-03-31",39160,0,"2017-12-01","2017-03-31",39160,0,"2018-12-02","2017-02-28",39160,0,"2016-04-01","2016-04-30",1,0,0,{"$f":"IF('DA 1.2'!B703=2,0,IF(AN659=1,I659-J659,0))","v":0},null,0,0]
[null,"2017-10-16",0,10,31,0,0.18340000000000001,0.15196000000000001,0,0,0,"2016-01-01","2016-09-30",38130,0,"2016-10-01","2016-12-31",39160,0,"2017-01-01","2017-03-31",39160,0,"2017-10-01","2017-03-31",39160,0,"2017-12-01","2017-03-31",39160,0,"2018-12-02","2017-02-28",39160,0,"2016-04-01","2016-04-30",1,0,0,{"$f":"IF('DA 1.2'!B704=2,0,IF(AN660=1,I660-J660,0))","v":0},null,0,0]
[null,"2017-10-17",0,10,31,0,0.18340000000000001,0.15196000000000001,0,0,0,"2016-01-01","2016-09-30",38130,0,"2016-10-01","2016-12-31",39160,0,"2017-01-01","2017-03-31",39160,0,"2017-10-01","2017-03-31",39160,0,"2017-12-01","2017-03-31",39160,0,"2018-12-02","2017-02-28",39160,0,"2016-04-01","2016-04-30",1,0,0,{"$f":"IF('DA 1.2'!B705=2,0,IF(AN661=1,I661-J661,0))","v":0},null,0,0]
[null,"2017-10-18",0,10,31,0,0.18340000000000001,0.15196000000000001,0,0,0,"2016-01-01","2016-09-30",38130,0,"2016-10-01","2016-12-31",39160,0,"2017-01-01","2017-03-31",39160,0,"2017-10-01","2017-03-31",39160,0,"2017-12-01","2017-03-31",39160,0,"2018-12-02","2017-02-28",39160,0,"2016-04-01","2016-04-30",1,0,0,{"$f":"IF('DA 1.2'!B706=2,0,IF(AN662=1,I662-J662,0))","v":0},null,0,0]
[null,"2017-10-19",0,10,31,0,0.18340000000000001,0.15196000000000001,0,0,0,"2016-01-01","2016-09-30",38130,0,"2016-10-01","2016-12-31",39160,0,"2017-01-01","2017-03-31",39160,0,"2017-10-01","2017-03-31",39160,0,"2017-12-01","2017-03-31",39160,0,"2018-12-02","2017-02-28",39160,0,"2016-04-01","2016-04-30",1,0,0,{"$f":"IF('DA 1.2'!B707=2,0,IF(AN663=1,I663-J663,0))","v":0},null,0,0]
[null,"2017-10-20",0,10,31,0,{"$f":"G663","v":0.18340000000000001},0.15196000000000001,0,0,0,{"$f":"L663","v":"2016-01-01"},"2016-09-30",38130,0,{"$f":"P663","v":"2016-10-01"},"2016-12-31",39160,0,{"$f":"T663","v":"2017-01-01"},"2017-03-31",39160,0,{"$f":"X663","v":"2017-10-01"},"2017-03-31",39160,0,"2017-12-01","2017-03-31",39160,0,"2018-12-02","2017-02-28",39160,0,{"$f":"AJ663","v":"2016-04-01"},"2016-04-30",1,0,0,{"$f":"IF('DA 1.2'!B708=2,0,IF(AN664=1,I664-J664,0))","v":0},null,0,0]
[null,"2017-10-21",0,10,31,0,0.18340000000000001,0.15196000000000001,0,0,0,"2016-01-01","2016-09-30",38130,0,"2016-10-01","2016-12-31",39160,0,"2017-01-01","2017-03-31",39160,0,"2017-10-01","2017-03-31",39160,0,"2017-12-01","2017-03-31",39160,0,"2018-12-02","2017-02-28",39160,0,"2016-04-01","2016-04-30",1,0,0,{"$f":"IF('DA 1.2'!B709=2,0,IF(AN665=1,I665-J665,0))","v":0},null,0,0]
[null,"2017-10-22",0,10,31,0,0.18340000000000001,0.15196000000000001,0,0,0,"2016-01-01","2016-09-30",38130,0,"2016-10-01","2016-12-31",39160,0,"2017-01-01","2017-03-31",39160,0,"2017-10-01","2017-03-31",39160,0,"2017-12-01","2017-03-31",39160,0,"2018-12-02","2017-02-28",39160,0,"2016-04-01","2016-04-30",1,0,0,{"$f":"IF('DA 1.2'!B710=2,0,IF(AN666=1,I666-J666,0))","v":0},null,0,0]
[null,"2017-10-23",0,10,31,0,0.18340000000000001,0.15196000000000001,0,0,0,"2016-01-01","2016-09-30",38130,0,"2016-10-01","2016-12-31",39160,0,"2017-01-01","2017-03-31",39160,0,"2017-10-01","2017-03-31",39160,0,"2017-12-01","2017-03-31",39160,0,"2018-12-02","2017-02-28",39160,0,"2016-04-01","2016-04-30",1,0,0,{"$f":"IF('DA 1.2'!B711=2,0,IF(AN667=1,I667-J667,0))","v":0},null,0,0]
[null,"2017-10-24",0,10,31,0,0.18340000000000001,0.15196000000000001,0,0,0,"2016-01-01","2016-09-30",38130,0,"2016-10-01","2016-12-31",39160,0,"2017-01-01","2017-03-31",39160,0,"2017-10-01","2017-03-31",39160,0,"2017-12-01","2017-03-31",39160,0,"2018-12-02","2017-02-28",39160,0,"2016-04-01","2016-04-30",1,0,0,{"$f":"IF('DA 1.2'!B712=2,0,IF(AN668=1,I668-J668,0))","v":0},null,0,0]
[null,"2017-10-25",0,10,31,0,0.18340000000000001,0.15196000000000001,0,0,0,"2016-01-01","2016-09-30",38130,0,"2016-10-01","2016-12-31",39160,0,"2017-01-01","2017-03-31",39160,0,"2017-10-01","2017-03-31",39160,0,"2017-12-01","2017-03-31",39160,0,"2018-12-02","2017-02-28",39160,0,"2016-04-01","2016-04-30",1,0,0,{"$f":"IF('DA 1.2'!B713=2,0,IF(AN669=1,I669-J669,0))","v":0},null,0,0]
[null,"2017-10-26",0,10,31,0,0.18340000000000001,0.15196000000000001,0,0,0,"2016-01-01","2016-09-30",38130,0,"2016-10-01","2016-12-31",39160,0,"2017-01-01","2017-03-31",39160,0,"2017-10-01","2017-03-31",39160,0,"2017-12-01","2017-03-31",39160,0,"2018-12-02","2017-02-28",39160,0,"2016-04-01","2016-04-30",1,0,0,{"$f":"IF('DA 1.2'!B714=2,0,IF(AN670=1,I670-J670,0))","v":0},null,0,0]
[null,"2017-10-27",0,10,31,0,0.18340000000000001,0.15196000000000001,0,0,0,"2016-01-01","2016-09-30",38130,0,"2016-10-01","2016-12-31",39160,0,"2017-01-01","2017-03-31",39160,0,"2017-10-01","2017-03-31",39160,0,"2017-12-01","2017-03-31",39160,0,"2018-12-02","2017-02-28",39160,0,"2016-04-01","2016-04-30",1,0,0,{"$f":"IF('DA 1.2'!B715=2,0,IF(AN671=1,I671-J671,0))","v":0},null,0,0]
[null,"2017-10-28",0,10,31,0,0.18340000000000001,0.15196000000000001,0,0,0,"2016-01-01","2016-09-30",38130,0,"2016-10-01","2016-12-31",39160,0,"2017-01-01","2017-03-31",39160,0,"2017-10-01","2017-03-31",39160,0,"2017-12-01","2017-03-31",39160,0,"2018-12-02","2017-02-28",39160,0,"2016-04-01","2016-04-30",1,0,0,{"$f":"IF('DA 1.2'!B716=2,0,IF(AN672=1,I672-J672,0))","v":0},null,0,0]
[null,"2017-10-29",0,10,31,0,0.18340000000000001,0.15196000000000001,0,0,0,"2016-01-01","2016-09-30",38130,0,"2016-10-01","2016-12-31",39160,0,"2017-01-01","2017-03-31",39160,0,"2017-10-01","2017-03-31",39160,0,"2017-12-01","2017-03-31",39160,0,"2018-12-02","2017-02-28",39160,0,"2016-04-01","2016-04-30",1,0,0,{"$f":"IF('DA 1.2'!B717=2,0,IF(AN673=1,I673-J673,0))","v":0},null,0,0]
[null,"2017-10-30",0,10,31,0,0.18340000000000001,0.15196000000000001,0,0,0,"2016-01-01","2016-09-30",38130,0,"2016-10-01","2016-12-31",39160,0,"2017-01-01","2017-03-31",39160,0,"2017-10-01","2017-03-31",39160,0,"2017-12-01","2017-03-31",39160,0,"2018-12-02","2017-02-28",39160,0,"2016-04-01","2016-04-30",1,0,0,{"$f":"IF('DA 1.2'!B718=2,0,IF(AN674=1,I674-J674,0))","v":0},null,0,0]
[null,"2017-10-31",0,10,31,0,0.18340000000000001,0.15196000000000001,0,0,0,"2016-01-01","2016-09-30",38130,0,"2016-10-01","2016-12-31",39160,0,"2017-01-01","2017-03-31",39160,0,"2017-10-01","2017-03-31",39160,0,"2017-12-01","2017-03-31",39160,0,"2018-12-02","2017-02-28",39160,0,"2016-04-01","2016-04-30",1,0,0,{"$f":"IF('DA 1.2'!B719=2,0,IF(AN675=1,I675-J675,0))","v":0},null,0,0]
[null,"2017-11-01",0,11,30,0,0.18340000000000001,0.15196000000000001,0,0,0,"2016-01-01","2016-09-30",38130,0,"2016-10-01","2016-12-31",39160,0,"2017-01-01","2017-03-31",39160,0,"2017-10-01","2017-03-31",39160,0,"2017-12-01","2017-03-31",39160,0,"2018-12-02","2017-02-28",39160,0,"2016-04-01","2016-04-30",1,0,0,{"$f":"IF('DA 1.2'!B720=2,0,IF(AN676=1,I676-J676,0))","v":0},null,0,0]
[null,"2017-11-02",0,11,30,0,0.18340000000000001,0.15196000000000001,0,0,0,"2016-01-01","2016-09-30",38130,0,"2016-10-01","2016-12-31",39160,0,"2017-01-01","2017-03-31",39160,0,"2017-10-01","2017-03-31",39160,0,"2017-12-01","2017-03-31",39160,0,"2018-12-02","2017-02-28",39160,0,"2016-04-01","2016-04-30",1,0,0,{"$f":"IF('DA 1.2'!B721=2,0,IF(AN677=1,I677-J677,0))","v":0},null,0,0]
[null,"2017-11-03",0,11,30,0,0.18340000000000001,0.15196000000000001,0,0,0,"2016-01-01","2016-09-30",38130,0,"2016-10-01","2016-12-31",39160,0,"2017-01-01","2017-03-31",39160,0,"2017-10-01","2017-03-31",39160,0,"2017-12-01","2017-03-31",39160,0,"2018-12-02","2017-02-28",39160,0,"2016-04-01","2016-04-30",1,0,0,{"$f":"IF('DA 1.2'!B722=2,0,IF(AN678=1,I678-J678,0))","v":0},null,0,0]
[null,"2017-11-04",0,11,30,0,0.18340000000000001,0.15196000000000001,0,0,0,"2016-01-01","2016-09-30",38130,0,"2016-10-01","2016-12-31",39160,0,"2017-01-01","2017-03-31",39160,0,"2017-10-01","2017-03-31",39160,0,"2017-12-01","2017-03-31",39160,0,"2018-12-02","2017-02-28",39160,0,"2016-04-01","2016-04-30",1,0,0,{"$f":"IF('DA 1.2'!B723=2,0,IF(AN679=1,I679-J679,0))","v":0},null,0,0]
[null,"2017-11-05",0,11,30,0,{"$f":"G679","v":0.18340000000000001},0.15196000000000001,0,0,0,{"$f":"L679","v":"2016-01-01"},"2016-09-30",38130,0,{"$f":"P679","v":"2016-10-01"},"2016-12-31",39160,0,{"$f":"T679","v":"2017-01-01"},"2017-03-31",39160,0,{"$f":"X679","v":"2017-10-01"},"2017-03-31",39160,0,"2017-12-01","2017-03-31",39160,0,"2018-12-02","2017-02-28",39160,0,{"$f":"AJ679","v":"2016-04-01"},"2016-04-30",1,0,0,{"$f":"IF('DA 1.2'!B724=2,0,IF(AN680=1,I680-J680,0))","v":0},null,0,0]
[null,"2017-11-06",0,11,30,0,0.18340000000000001,0.15196000000000001,0,0,0,"2016-01-01","2016-09-30",38130,0,"2016-10-01","2016-12-31",39160,0,"2017-01-01","2017-03-31",39160,0,"2017-10-01","2017-03-31",39160,0,"2017-12-01","2017-03-31",39160,0,"2018-12-02","2017-02-28",39160,0,"2016-04-01","2016-04-30",1,0,0,{"$f":"IF('DA 1.2'!B725=2,0,IF(AN681=1,I681-J681,0))","v":0},null,0,0]
[null,"2017-11-07",0,11,30,0,0.18340000000000001,0.15196000000000001,0,0,0,"2016-01-01","2016-09-30",38130,0,"2016-10-01","2016-12-31",39160,0,"2017-01-01","2017-03-31",39160,0,"2017-10-01","2017-03-31",39160,0,"2017-12-01","2017-03-31",39160,0,"2018-12-02","2017-02-28",39160,0,"2016-04-01","2016-04-30",1,0,0,{"$f":"IF('DA 1.2'!B726=2,0,IF(AN682=1,I682-J682,0))","v":0},null,0,0]
[null,"2017-11-08",0,11,30,0,0.18340000000000001,0.15196000000000001,0,0,0,"2016-01-01","2016-09-30",38130,0,"2016-10-01","2016-12-31",39160,0,"2017-01-01","2017-03-31",39160,0,"2017-10-01","2017-03-31",39160,0,"2017-12-01","2017-03-31",39160,0,"2018-12-02","2017-02-28",39160,0,"2016-04-01","2016-04-30",1,0,0,{"$f":"IF('DA 1.2'!B727=2,0,IF(AN683=1,I683-J683,0))","v":0},null,0,0]
[null,"2017-11-09",0,11,30,0,0.18340000000000001,0.15196000000000001,0,0,0,"2016-01-01","2016-09-30",38130,0,"2016-10-01","2016-12-31",39160,0,"2017-01-01","2017-03-31",39160,0,"2017-10-01","2017-03-31",39160,0,"2017-12-01","2017-03-31",39160,0,"2018-12-02","2017-02-28",39160,0,"2016-04-01","2016-04-30",1,0,0,{"$f":"IF('DA 1.2'!B728=2,0,IF(AN684=1,I684-J684,0))","v":0},null,0,0]
[null,"2017-11-10",0,11,30,0,0.18340000000000001,0.15196000000000001,0,0,0,"2016-01-01","2016-09-30",38130,0,"2016-10-01","2016-12-31",39160,0,"2017-01-01","2017-03-31",39160,0,"2017-10-01","2017-03-31",39160,0,"2017-12-01","2017-03-31",39160,0,"2018-12-02","2017-02-28",39160,0,"2016-04-01","2016-04-30",1,0,0,{"$f":"IF('DA 1.2'!B729=2,0,IF(AN685=1,I685-J685,0))","v":0},null,0,0]
[null,"2017-11-11",0,11,30,0,0.18340000000000001,0.15196000000000001,0,0,0,"2016-01-01","2016-09-30",38130,0,"2016-10-01","2016-12-31",39160,0,"2017-01-01","2017-03-31",39160,0,"2017-10-01","2017-03-31",39160,0,"2017-12-01","2017-03-31",39160,0,"2018-12-02","2017-02-28",39160,0,"2016-04-01","2016-04-30",1,0,0,{"$f":"IF('DA 1.2'!B730=2,0,IF(AN686=1,I686-J686,0))","v":0},null,0,0]
[null,"2017-11-12",0,11,30,0,0.18340000000000001,0.15196000000000001,0,0,0,"2016-01-01","2016-09-30",38130,0,"2016-10-01","2016-12-31",39160,0,"2017-01-01","2017-03-31",39160,0,"2017-10-01","2017-03-31",39160,0,"2017-12-01","2017-03-31",39160,0,"2018-12-02","2017-02-28",39160,0,"2016-04-01","2016-04-30",1,0,0,{"$f":"IF('DA 1.2'!B731=2,0,IF(AN687=1,I687-J687,0))","v":0},null,0,0]
[null,"2017-11-13",0,11,30,0,0.18340000000000001,0.15196000000000001,0,0,0,"2016-01-01","2016-09-30",38130,0,"2016-10-01","2016-12-31",39160,0,"2017-01-01","2017-03-31",39160,0,"2017-10-01","2017-03-31",39160,0,"2017-12-01","2017-03-31",39160,0,"2018-12-02","2017-02-28",39160,0,"2016-04-01","2016-04-30",1,0,0,{"$f":"IF('DA 1.2'!B732=2,0,IF(AN688=1,I688-J688,0))","v":0},null,0,0]
[null,"2017-11-14",0,11,30,0,0.18340000000000001,0.15196000000000001,0,0,0,"2016-01-01","2016-09-30",38130,0,"2016-10-01","2016-12-31",39160,0,"2017-01-01","2017-03-31",39160,0,"2017-10-01","2017-03-31",39160,0,"2017-12-01","2017-03-31",39160,0,"2018-12-02","2017-02-28",39160,0,"2016-04-01","2016-04-30",1,0,0,{"$f":"IF('DA 1.2'!B733=2,0,IF(AN689=1,I689-J689,0))","v":0},null,0,0]
[null,"2017-11-15",0,11,30,0,0.18340000000000001,0.15196000000000001,0,0,0,"2016-01-01","2016-09-30",38130,0,"2016-10-01","2016-12-31",39160,0,"2017-01-01","2017-03-31",39160,0,"2017-10-01","2017-03-31",39160,0,"2017-12-01","2017-03-31",39160,0,"2018-12-02","2017-02-28",39160,0,"2016-04-01","2016-04-30",1,0,0,{"$f":"IF('DA 1.2'!B734=2,0,IF(AN690=1,I690-J690,0))","v":0},null,0,0]
[null,"2017-11-16",0,11,30,0,0.18340000000000001,0.15196000000000001,0,0,0,"2016-01-01","2016-09-30",38130,0,"2016-10-01","2016-12-31",39160,0,"2017-01-01","2017-03-31",39160,0,"2017-10-01","2017-03-31",39160,0,"2017-12-01","2017-03-31",39160,0,"2018-12-02","2017-02-28",39160,0,"2016-04-01","2016-04-30",1,0,0,{"$f":"IF('DA 1.2'!B735=2,0,IF(AN691=1,I691-J691,0))","v":0},null,0,0]
[null,"2017-11-17",0,11,30,0,0.18340000000000001,0.15196000000000001,0,0,0,"2016-01-01","2016-09-30",38130,0,"2016-10-01","2016-12-31",39160,0,"2017-01-01","2017-03-31",39160,0,"2017-10-01","2017-03-31",39160,0,"2017-12-01","2017-03-31",39160,0,"2018-12-02","2017-02-28",39160,0,"2016-04-01","2016-04-30",1,0,0,{"$f":"IF('DA 1.2'!B736=2,0,IF(AN692=1,I692-J692,0))","v":0},null,0,0]
[null,"2017-11-18",0,11,30,0,0.18340000000000001,0.15196000000000001,0,0,0,"2016-01-01","2016-09-30",38130,0,"2016-10-01","2016-12-31",39160,0,"2017-01-01","2017-03-31",39160,0,"2017-10-01","2017-03-31",39160,0,"2017-12-01","2017-03-31",39160,0,"2018-12-02","2017-02-28",39160,0,"2016-04-01","2016-04-30",1,0,0,{"$f":"IF('DA 1.2'!B737=2,0,IF(AN693=1,I693-J693,0))","v":0},null,0,0]
[null,"2017-11-19",0,11,30,0,0.18340000000000001,0.15196000000000001,0,0,0,"2016-01-01","2016-09-30",38130,0,"2016-10-01","2016-12-31",39160,0,"2017-01-01","2017-03-31",39160,0,"2017-10-01","2017-03-31",39160,0,"2017-12-01","2017-03-31",39160,0,"2018-12-02","2017-02-28",39160,0,"2016-04-01","2016-04-30",1,0,0,{"$f":"IF('DA 1.2'!B738=2,0,IF(AN694=1,I694-J694,0))","v":0},null,0,0]
[null,"2017-11-20",0,11,30,0,0.18340000000000001,0.15196000000000001,0,0,0,"2016-01-01","2016-09-30",38130,0,"2016-10-01","2016-12-31",39160,0,"2017-01-01","2017-03-31",39160,0,"2017-10-01","2017-03-31",39160,0,"2017-12-01","2017-03-31",39160,0,"2018-12-02","2017-02-28",39160,0,"2016-04-01","2016-04-30",1,0,0,{"$f":"IF('DA 1.2'!B739=2,0,IF(AN695=1,I695-J695,0))","v":0},null,0,0]
[null,"2017-11-21",0,11,30,0,{"$f":"G695","v":0.18340000000000001},0.15196000000000001,0,0,0,{"$f":"L695","v":"2016-01-01"},"2016-09-30",38130,0,{"$f":"P695","v":"2016-10-01"},"2016-12-31",39160,0,{"$f":"T695","v":"2017-01-01"},"2017-03-31",39160,0,{"$f":"X695","v":"2017-10-01"},"2017-03-31",39160,0,"2017-12-01","2017-03-31",39160,0,"2018-12-02","2017-02-28",39160,0,{"$f":"AJ695","v":"2016-04-01"},"2016-04-30",1,0,0,{"$f":"IF('DA 1.2'!B740=2,0,IF(AN696=1,I696-J696,0))","v":0},null,0,0]
[null,"2017-11-22",0,11,30,0,0.18340000000000001,0.15196000000000001,0,0,0,"2016-01-01","2016-09-30",38130,0,"2016-10-01","2016-12-31",39160,0,"2017-01-01","2017-03-31",39160,0,"2017-10-01","2017-03-31",39160,0,"2017-12-01","2017-03-31",39160,0,"2018-12-02","2017-02-28",39160,0,"2016-04-01","2016-04-30",1,0,0,{"$f":"IF('DA 1.2'!B741=2,0,IF(AN697=1,I697-J697,0))","v":0},null,0,0]
[null,"2017-11-23",0,11,30,0,0.18340000000000001,0.15196000000000001,0,0,0,"2016-01-01","2016-09-30",38130,0,"2016-10-01","2016-12-31",39160,0,"2017-01-01","2017-03-31",39160,0,"2017-10-01","2017-03-31",39160,0,"2017-12-01","2017-03-31",39160,0,"2018-12-02","2017-02-28",39160,0,"2016-04-01","2016-04-30",1,0,0,{"$f":"IF('DA 1.2'!B742=2,0,IF(AN698=1,I698-J698,0))","v":0},null,0,0]
[null,"2017-11-24",0,11,30,0,0.18340000000000001,0.15196000000000001,0,0,0,"2016-01-01","2016-09-30",38130,0,"2016-10-01","2016-12-31",39160,0,"2017-01-01","2017-03-31",39160,0,"2017-10-01","2017-03-31",39160,0,"2017-12-01","2017-03-31",39160,0,"2018-12-02","2017-02-28",39160,0,"2016-04-01","2016-04-30",1,0,0,{"$f":"IF('DA 1.2'!B743=2,0,IF(AN699=1,I699-J699,0))","v":0},null,0,0]
[null,"2017-11-25",0,11,30,0,0.18340000000000001,0.15196000000000001,0,0,0,"2016-01-01","2016-09-30",38130,0,"2016-10-01","2016-12-31",39160,0,"2017-01-01","2017-03-31",39160,0,"2017-10-01","2017-03-31",39160,0,"2017-12-01","2017-03-31",39160,0,"2018-12-02","2017-02-28",39160,0,"2016-04-01","2016-04-30",1,0,0,{"$f":"IF('DA 1.2'!B744=2,0,IF(AN700=1,I700-J700,0))","v":0},null,0,0]
[null,"2017-11-26",0,11,30,0,0.18340000000000001,0.15196000000000001,0,0,0,"2016-01-01","2016-09-30",38130,0,"2016-10-01","2016-12-31",39160,0,"2017-01-01","2017-03-31",39160,0,"2017-10-01","2017-03-31",39160,0,"2017-12-01","2017-03-31",39160,0,"2018-12-02","2017-02-28",39160,0,"2016-04-01","2016-04-30",1,0,0,{"$f":"IF('DA 1.2'!B745=2,0,IF(AN701=1,I701-J701,0))","v":0},null,0,0]
[null,"2017-11-27",0,11,30,0,0.18340000000000001,0.15196000000000001,0,0,0,"2016-01-01","2016-09-30",38130,0,"2016-10-01","2016-12-31",39160,0,"2017-01-01","2017-03-31",39160,0,"2017-10-01","2017-03-31",39160,0,"2017-12-01","2017-03-31",39160,0,"2018-12-02","2017-02-28",39160,0,"2016-04-01","2016-04-30",1,0,0,{"$f":"IF('DA 1.2'!B746=2,0,IF(AN702=1,I702-J702,0))","v":0},null,0,0]
[null,"2017-11-28",0,11,30,0,0.18340000000000001,0.15196000000000001,0,0,0,"2016-01-01","2016-09-30",38130,0,"2016-10-01","2016-12-31",39160,0,"2017-01-01","2017-03-31",39160,0,"2017-10-01","2017-03-31",39160,0,"2017-12-01","2017-03-31",39160,0,"2018-12-02","2017-02-28",39160,0,"2016-04-01","2016-04-30",1,0,0,{"$f":"IF('DA 1.2'!B747=2,0,IF(AN703=1,I703-J703,0))","v":0},null,0,0]
[null,"2017-11-29",0,11,30,0,0.18340000000000001,0.15196000000000001,0,0,0,"2016-01-01","2016-09-30",38130,0,"2016-10-01","2016-12-31",39160,0,"2017-01-01","2017-03-31",39160,0,"2017-10-01","2017-03-31",39160,0,"2017-12-01","2017-03-31",39160,0,"2018-12-02","2017-02-28",39160,0,"2016-04-01","2016-04-30",1,0,0,{"$f":"IF('DA 1.2'!B748=2,0,IF(AN704=1,I704-J704,0))","v":0},null,0,0]
[null,"2017-11-30",0,11,30,0,0.18340000000000001,0.15196000000000001,0,0,0,"2016-01-01","2016-09-30",38130,0,"2016-10-01","2016-12-31",39160,0,"2017-01-01","2017-03-31",39160,0,"2017-10-01","2017-03-31",39160,0,"2017-12-01","2017-03-31",39160,0,"2018-12-02","2017-02-28",39160,0,"2016-04-01","2016-04-30",1,0,0,{"$f":"IF('DA 1.2'!B749=2,0,IF(AN705=1,I705-J705,0))","v":0},null,0,0]
[null,"2017-12-01",0,12,31,0,0.18340000000000001,0.15196000000000001,0,0,0,"2016-01-01","2016-09-30",38130,0,"2016-10-01","2016-12-31",39160,0,"2017-01-01","2017-03-31",39160,0,"2017-10-01","2017-03-31",39160,0,"2017-12-01","2017-03-31",39160,0,"2018-12-02","2017-02-28",39160,0,"2016-04-01","2016-04-30",1,0,0,{"$f":"IF('DA 1.2'!B750=2,0,IF(AN706=1,I706-J706,0))","v":0},null,0,0]
[null,"2017-12-02",0,12,31,0,0.18340000000000001,0.15196000000000001,0,0,0,"2016-01-01","2016-09-30",38130,0,"2016-10-01","2016-12-31",39160,0,"2017-01-01","2017-03-31",39160,0,"2017-10-01","2017-03-31",39160,0,"2017-12-01","2017-03-31",39160,0,"2018-12-02","2017-02-28",39160,0,"2016-04-01","2016-04-30",1,0,0,{"$f":"IF('DA 1.2'!B751=2,0,IF(AN707=1,I707-J707,0))","v":0},null,0,0]
[null,"2017-12-03",0,12,31,0,0.18340000000000001,0.15196000000000001,0,0,0,"2016-01-01","2016-09-30",38130,0,"2016-10-01","2016-12-31",39160,0,"2017-01-01","2017-03-31",39160,0,"2017-10-01","2017-03-31",39160,0,"2017-12-01","2017-03-31",39160,0,"2018-12-02","2017-02-28",39160,0,"2016-04-01","2016-04-30",1,0,0,{"$f":"IF('DA 1.2'!B752=2,0,IF(AN708=1,I708-J708,0))","v":0},null,0,0]
[null,"2017-12-04",0,12,31,0,0.18340000000000001,0.15196000000000001,0,0,0,"2016-01-01","2016-09-30",38130,0,"2016-10-01","2016-12-31",39160,0,"2017-01-01","2017-03-31",39160,0,"2017-10-01","2017-03-31",39160,0,"2017-12-01","2017-03-31",39160,0,"2018-12-02","2017-02-28",39160,0,"2016-04-01","2016-04-30",1,0,0,{"$f":"IF('DA 1.2'!B753=2,0,IF(AN709=1,I709-J709,0))","v":0},null,0,0]
[null,"2017-12-05",0,12,31,{"$f":"C710/E710","v":0},0.18340000000000001,0.15196000000000001,{"$f":"F710*G710","v":0},{"$f":"F710*H710","v":0},0,"2016-01-01","2016-09-30",38130,0,"2016-10-01","2016-12-31",39160,0,"2017-01-01","2017-03-31",39160,0,"2017-10-01","2017-03-31",39160,0,"2017-12-01","2017-03-31",39160,0,"2018-12-02","2017-02-28",39160,0,"2016-04-01","2016-04-30",1,0,0,{"$f":"IF('DA 1.2'!B754=2,0,IF(AN710=1,I710-J710,0))","v":0},null,0,0]
[null,"2017-12-06",{"$f":"O711+S711+W711+AA711+AE711+AI711","v":0},{"$f":"MONTH(B711)","v":12},31,0,0.18340000000000001,0.15196000000000001,0,0,{"$f":"I711-J711","v":0},"2016-01-01","2016-09-30",38130,{"$f":"IF(M711>=B711,N711,0)","v":0},"2016-10-01","2016-12-31",39160,{"$f":"IF(O711>0,0,IF(Q711>=B711,R711,0))","v":0},"2017-01-01","2017-03-31",39160,{"$f":"IF(T711>U711,0,IF(O711>0,0,IF(S711>0,0,IF(U711>=B711,V711,0))))","v":0},"2017-10-01","2017-03-31",39160,{"$f":"IF(X711>=Y711,0,IF(O711>0,0,IF(S711>0,0,IF(W711>0,0,IF(Y711>=B711,Z711,0)))))","v":0},"2017-12-01","2017-03-31",39160,{"$f":"IF(O711>0,0,IF(AB711>=AC711,0,IF(S711>0,0,IF(W711>0,0,IF(AA711>0,0,IF(AC711>=B711,AD711,0))))))","v":0},"2018-12-02","2017-02-28",39160,{"$f":"IF(O711>0,0,IF(S711>0,0,IF(AF711>=AG711,0,IF(W711>0,0,IF(AA711>0,0,IF(AE711>0,0,IF(AG711>=B711,AH711,0)))))))","v":0},"2016-04-01","2016-04-30",{"$f":"IF(B711>=AJ711,1,0)","v":1},{"$f":"IF(B711<=AK711,1,0)","v":0},{"$f":"IF(SUM(AL711:AM711)=2,1,0)","v":0},{"$f":"IF('DA 1.2'!B755=2,0,IF(AN711=1,I711-J711,0))","v":0},null,{"$f":"ROUND(K711*10%,3)","v":0},{"$f":"ROUND(K711,4)","v":0}]
[null,"2017-12-07",0,12,31,0,{"$f":"G711","v":0.18340000000000001},0.15196000000000001,0,0,0,{"$f":"L711","v":"2016-01-01"},"2016-09-30",38130,0,{"$f":"P711","v":"2016-10-01"},"2016-12-31",39160,0,{"$f":"T711","v":"2017-01-01"},"2017-03-31",39160,0,{"$f":"X711","v":"2017-10-01"},"2017-03-31",39160,0,{"$f":"AB711","v":"2017-12-01"},{"$f":"AC711","v":"2017-03-31"},{"$f":"AD711","v":39160},0,{"$f":"AF711","v":"2018-12-02"},{"$f":"AG711","v":"2017-02-28"},{"$f":"AH711","v":39160},0,{"$f":"AJ711","v":"2016-04-01"},"2016-04-30",1,0,0,{"$f":"IF('DA 1.2'!B756=2,0,IF(AN712=1,I712-J712,0))","v":0},null,0,0]
[null,"2017-12-08",0,12,31,0,0.18340000000000001,0.15196000000000001,0,0,0,"2016-01-01","2016-09-30",38130,0,"2016-10-01","2016-12-31",39160,0,"2017-01-01","2017-03-31",39160,0,"2017-10-01","2017-03-31",39160,0,"2017-12-01","2017-03-31",39160,0,"2018-12-02","2017-02-28",39160,0,"2016-04-01","2016-04-30",1,0,0,{"$f":"IF('DA 1.2'!B757=2,0,IF(AN713=1,I713-J713,0))","v":0},null,0,0]
[null,"2017-12-09",0,12,31,0,0.18340000000000001,0.15196000000000001,0,0,0,"2016-01-01","2016-09-30",38130,0,"2016-10-01","2016-12-31",39160,0,"2017-01-01","2017-03-31",39160,0,"2017-10-01","2017-03-31",39160,0,"2017-12-01","2017-03-31",39160,0,"2018-12-02","2017-02-28",39160,0,"2016-04-01","2016-04-30",1,0,0,{"$f":"IF('DA 1.2'!B758=2,0,IF(AN714=1,I714-J714,0))","v":0},null,0,0]
[null,"2017-12-10",0,12,31,0,0.18340000000000001,0.15196000000000001,0,0,0,"2016-01-01","2016-09-30",38130,0,"2016-10-01","2016-12-31",39160,0,"2017-01-01","2017-03-31",39160,0,"2017-10-01","2017-03-31",39160,0,"2017-12-01","2017-03-31",39160,0,"2018-12-02","2017-02-28",39160,0,"2016-04-01","2016-04-30",1,0,0,{"$f":"IF('DA 1.2'!B759=2,0,IF(AN715=1,I715-J715,0))","v":0},null,0,0]
[null,"2017-12-11",0,12,31,0,0.18340000000000001,0.15196000000000001,0,0,0,"2016-01-01","2016-09-30",38130,0,"2016-10-01","2016-12-31",39160,0,"2017-01-01","2017-03-31",39160,0,"2017-10-01","2017-03-31",39160,0,"2017-12-01","2017-03-31",39160,0,"2018-12-02","2017-02-28",39160,0,"2016-04-01","2016-04-30",1,0,0,{"$f":"IF('DA 1.2'!B760=2,0,IF(AN716=1,I716-J716,0))","v":0},null,0,0]
[null,"2017-12-12",0,12,31,0,0.18340000000000001,0.15196000000000001,0,0,0,"2016-01-01","2016-09-30",38130,0,"2016-10-01","2016-12-31",39160,0,"2017-01-01","2017-03-31",39160,0,"2017-10-01","2017-03-31",39160,0,"2017-12-01","2017-03-31",39160,0,"2018-12-02","2017-02-28",39160,0,"2016-04-01","2016-04-30",1,0,0,{"$f":"IF('DA 1.2'!B761=2,0,IF(AN717=1,I717-J717,0))","v":0},null,0,0]
[null,"2017-12-13",0,12,31,0,0.18340000000000001,0.15196000000000001,0,0,0,"2016-01-01","2016-09-30",38130,0,"2016-10-01","2016-12-31",39160,0,"2017-01-01","2017-03-31",39160,0,"2017-10-01","2017-03-31",39160,0,"2017-12-01","2017-03-31",39160,0,"2018-12-02","2017-02-28",39160,0,"2016-04-01","2016-04-30",1,0,0,{"$f":"IF('DA 1.2'!B762=2,0,IF(AN718=1,I718-J718,0))","v":0},null,0,0]
[null,"2017-12-14",0,12,31,0,0.18340000000000001,0.15196000000000001,0,0,0,"2016-01-01","2016-09-30",38130,0,"2016-10-01","2016-12-31",39160,0,"2017-01-01","2017-03-31",39160,0,"2017-10-01","2017-03-31",39160,0,"2017-12-01","2017-03-31",39160,0,"2018-12-02","2017-02-28",39160,0,"2016-04-01","2016-04-30",1,0,0,{"$f":"IF('DA 1.2'!B763=2,0,IF(AN719=1,I719-J719,0))","v":0},null,0,0]
[null,"2017-12-15",0,12,31,0,0.18340000000000001,0.15196000000000001,0,0,0,"2016-01-01","2016-09-30",38130,0,"2016-10-01","2016-12-31",39160,0,"2017-01-01","2017-03-31",39160,0,"2017-10-01","2017-03-31",39160,0,"2017-12-01","2017-03-31",39160,0,"2018-12-02","2017-02-28",39160,0,"2016-04-01","2016-04-30",1,0,0,{"$f":"IF('DA 1.2'!B764=2,0,IF(AN720=1,I720-J720,0))","v":0},null,0,0]
[null,"2017-12-16",0,12,31,0,0.18340000000000001,0.15196000000000001,0,0,0,"2016-01-01","2016-09-30",38130,0,"2016-10-01","2016-12-31",39160,0,"2017-01-01","2017-03-31",39160,0,"2017-10-01","2017-03-31",39160,0,"2017-12-01","2017-03-31",39160,0,"2018-12-02","2017-02-28",39160,0,"2016-04-01","2016-04-30",1,0,0,{"$f":"IF('DA 1.2'!B765=2,0,IF(AN721=1,I721-J721,0))","v":0},null,0,0]
[null,"2017-12-17",0,12,31,0,0.18340000000000001,0.15196000000000001,0,0,0,"2016-01-01","2016-09-30",38130,0,"2016-10-01","2016-12-31",39160,0,"2017-01-01","2017-03-31",39160,0,"2017-10-01","2017-03-31",39160,0,"2017-12-01","2017-03-31",39160,0,"2018-12-02","2017-02-28",39160,0,"2016-04-01","2016-04-30",1,0,0,{"$f":"IF('DA 1.2'!B766=2,0,IF(AN722=1,I722-J722,0))","v":0},null,0,0]
[null,"2017-12-18",0,12,{"$f":"IF(D723=1,31,IF(D723=2,29,IF(D723=3,31,IF(D723=5,31,IF(D723=7,31,IF(D723=8,31,IF(D723=10,31,IF(D723=12,31,30))))))))","v":31},0,0.18340000000000001,0.15196000000000001,0,0,0,"2016-01-01","2016-09-30",38130,0,"2016-10-01","2016-12-31",39160,0,"2017-01-01","2017-03-31",39160,0,"2017-10-01","2017-03-31",39160,0,"2017-12-01","2017-03-31",39160,0,"2018-12-02","2017-02-28",39160,0,"2016-04-01","2016-04-30",1,0,0,{"$f":"IF('DA 1.2'!B767=2,0,IF(AN723=1,I723-J723,0))","v":0},null,0,0]
[null,"2017-12-19",0,12,31,0,0.18340000000000001,0.15196000000000001,0,0,0,"2016-01-01","2016-09-30",38130,0,"2016-10-01","2016-12-31",39160,0,"2017-01-01","2017-03-31",39160,0,"2017-10-01","2017-03-31",39160,0,"2017-12-01","2017-03-31",39160,0,"2018-12-02","2017-02-28",39160,0,"2016-04-01","2016-04-30",1,0,0,{"$f":"IF('DA 1.2'!B768=2,0,IF(AN724=1,I724-J724,0))","v":0},null,0,0]
[null,"2017-12-20",0,12,31,0,0.18340000000000001,0.15196000000000001,0,0,0,"2016-01-01","2016-09-30",38130,0,"2016-10-01","2016-12-31",39160,0,"2017-01-01","2017-03-31",39160,0,"2017-10-01","2017-03-31",39160,0,"2017-12-01","2017-03-31",39160,0,"2018-12-02","2017-02-28",39160,0,"2016-04-01","2016-04-30",1,0,0,{"$f":"IF('DA 1.2'!B769=2,0,IF(AN725=1,I725-J725,0))","v":0},null,0,0]
[null,"2017-12-21",0,12,31,0,0.18340000000000001,0.15196000000000001,0,0,0,"2016-01-01","2016-09-30",38130,0,"2016-10-01","2016-12-31",39160,0,"2017-01-01","2017-03-31",39160,0,"2017-10-01","2017-03-31",39160,0,"2017-12-01","2017-03-31",39160,0,"2018-12-02","2017-02-28",39160,0,"2016-04-01","2016-04-30",1,0,0,{"$f":"IF('DA 1.2'!B770=2,0,IF(AN726=1,I726-J726,0))","v":0},null,0,0]
[null,"2017-12-22",0,12,31,0,0.18340000000000001,0.15196000000000001,0,0,0,"2016-01-01","2016-09-30",38130,0,"2016-10-01","2016-12-31",39160,0,"2017-01-01","2017-03-31",39160,0,"2017-10-01","2017-03-31",39160,0,"2017-12-01","2017-03-31",39160,0,"2018-12-02","2017-02-28",39160,0,"2016-04-01","2016-04-30",1,0,0,{"$f":"IF('DA 1.2'!B771=2,0,IF(AN727=1,I727-J727,0))","v":0},null,0,0]
[null,"2017-12-23",0,12,31,0,{"$f":"G727","v":0.18340000000000001},0.15196000000000001,0,0,0,{"$f":"L727","v":"2016-01-01"},"2016-09-30",38130,0,{"$f":"P727","v":"2016-10-01"},"2016-12-31",39160,0,{"$f":"T727","v":"2017-01-01"},"2017-03-31",39160,0,{"$f":"X727","v":"2017-10-01"},"2017-03-31",39160,0,"2017-12-01","2017-03-31",39160,0,"2018-12-02","2017-02-28",39160,0,{"$f":"AJ727","v":"2016-04-01"},"2016-04-30",1,0,0,{"$f":"IF('DA 1.2'!B772=2,0,IF(AN728=1,I728-J728,0))","v":0},null,0,0]
[null,"2017-12-24",0,12,31,0,0.18340000000000001,0.15196000000000001,0,0,0,"2016-01-01","2016-09-30",38130,0,"2016-10-01","2016-12-31",39160,0,"2017-01-01","2017-03-31",39160,0,"2017-10-01","2017-03-31",39160,0,"2017-12-01","2017-03-31",39160,0,"2018-12-02","2017-02-28",39160,0,"2016-04-01","2016-04-30",1,0,0,{"$f":"IF('DA 1.2'!B773=2,0,IF(AN729=1,I729-J729,0))","v":0},null,0,0]
[null,"2017-12-25",0,12,31,0,0.18340000000000001,0.15196000000000001,0,0,0,"2016-01-01","2016-09-30",38130,0,"2016-10-01","2016-12-31",39160,0,"2017-01-01","2017-03-31",39160,0,"2017-10-01","2017-03-31",39160,0,"2017-12-01","2017-03-31",39160,0,"2018-12-02","2017-02-28",39160,0,"2016-04-01","2016-04-30",1,0,0,{"$f":"IF('DA 1.2'!B774=2,0,IF(AN730=1,I730-J730,0))","v":0},null,0,0]
[null,"2017-12-26",0,12,31,0,0.18340000000000001,0.15196000000000001,0,0,0,"2016-01-01","2016-09-30",38130,0,"2016-10-01","2016-12-31",39160,0,"2017-01-01","2017-03-31",39160,0,"2017-10-01","2017-03-31",39160,0,"2017-12-01","2017-03-31",39160,0,"2018-12-02","2017-02-28",39160,0,"2016-04-01","2016-04-30",1,0,0,{"$f":"IF('DA 1.2'!B775=2,0,IF(AN731=1,I731-J731,0))","v":0},null,0,0]
[null,"2017-12-27",0,12,31,0,0.18340000000000001,0.15196000000000001,0,0,0,"2016-01-01","2016-09-30",38130,0,"2016-10-01","2016-12-31",39160,0,"2017-01-01","2017-03-31",39160,0,"2017-10-01","2017-03-31",39160,0,"2017-12-01","2017-03-31",39160,0,"2018-12-02","2017-02-28",39160,0,"2016-04-01","2016-04-30",1,0,0,{"$f":"IF('DA 1.2'!B776=2,0,IF(AN732=1,I732-J732,0))","v":0},null,0,0]
[null,"2017-12-28",0,12,31,0,0.18340000000000001,0.15196000000000001,0,0,0,"2016-01-01","2016-09-30",38130,0,"2016-10-01","2016-12-31",39160,0,"2017-01-01","2017-03-31",39160,0,"2017-10-01","2017-03-31",39160,0,"2017-12-01","2017-03-31",39160,0,"2018-12-02","2017-02-28",39160,0,"2016-04-01","2016-04-30",1,0,0,{"$f":"IF('DA 1.2'!B777=2,0,IF(AN733=1,I733-J733,0))","v":0},null,0,0]
[null,"2017-12-29",0,12,31,0,0.18340000000000001,0.15196000000000001,0,0,0,"2016-01-01","2016-09-30",38130,0,"2016-10-01","2016-12-31",39160,0,"2017-01-01","2017-03-31",39160,0,"2017-10-01","2017-03-31",39160,0,"2017-12-01","2017-03-31",39160,0,"2018-12-02","2017-02-28",39160,0,"2016-04-01","2016-04-30",1,0,0,{"$f":"IF('DA 1.2'!B778=2,0,IF(AN734=1,I734-J734,0))","v":0},null,0,0]
[null,"2017-12-30",0,12,31,0,0.18340000000000001,0.15196000000000001,0,0,0,"2016-01-01","2016-09-30",38130,0,"2016-10-01","2016-12-31",39160,0,"2017-01-01","2017-03-31",39160,0,"2017-10-01","2017-03-31",39160,0,"2017-12-01","2017-03-31",39160,0,"2018-12-02","2017-02-28",39160,0,"2016-04-01","2016-04-30",1,0,0,{"$f":"IF('DA 1.2'!B779=2,0,IF(AN735=1,I735-J735,0))","v":0},null,0,0]
[null,"2017-12-31",0,12,31,0,0.18340000000000001,0.15196000000000001,0,0,0,"2016-01-01","2016-09-30",38130,0,"2016-10-01","2016-12-31",39160,0,"2017-01-01","2017-03-31",39160,0,"2017-10-01","2017-03-31",39160,0,"2017-12-01","2017-03-31",39160,0,"2018-12-02","2017-02-28",39160,0,"2016-04-01","2016-04-30",1,0,0,{"$f":"IF('DA 1.2'!B780=2,0,IF(AN736=1,I736-J736,0))","v":0},null,0,0]
[null,"2018-01-01",0,1,31,0,0.18340000000000001,0.15196000000000001,0,0,0,"2016-01-01","2016-09-30",38130,0,"2016-10-01","2016-12-31",39160,0,"2017-01-01","2017-03-31",39160,0,"2017-10-01","2017-03-31",39160,0,"2017-12-01","2017-03-31",39160,0,"2018-12-02","2017-02-28",39160,0,"2016-04-01","2016-04-30",1,0,0,{"$f":"IF('DA 1.2'!B781=2,0,IF(AN737=1,I737-J737,0))","v":0},null,0,0]
[null,"2018-01-02",0,1,31,0,0.18340000000000001,0.15196000000000001,0,0,0,"2016-01-01","2016-09-30",38130,0,"2016-10-01","2016-12-31",39160,0,"2017-01-01","2017-03-31",39160,0,"2017-10-01","2017-03-31",39160,0,"2017-12-01","2017-03-31",39160,0,"2018-12-02","2017-02-28",39160,0,"2016-04-01","2016-04-30",1,0,0,{"$f":"IF('DA 1.2'!B782=2,0,IF(AN738=1,I738-J738,0))","v":0},null,0,0]
[null,"2018-01-03",0,1,31,0,0.18340000000000001,0.15196000000000001,0,0,0,"2016-01-01","2016-09-30",38130,0,"2016-10-01","2016-12-31",39160,0,"2017-01-01","2017-03-31",39160,0,"2017-10-01","2017-03-31",39160,0,"2017-12-01","2017-03-31",39160,0,"2018-12-02","2017-02-28",39160,0,"2016-04-01","2016-04-30",1,0,0,{"$f":"IF('DA 1.2'!B783=2,0,IF(AN739=1,I739-J739,0))","v":0},null,0,0]
[null,"2018-01-04",0,1,31,0,0.18340000000000001,0.15196000000000001,0,0,0,"2016-01-01","2016-09-30",38130,0,"2016-10-01","2016-12-31",39160,0,"2017-01-01","2017-03-31",39160,0,"2017-10-01","2017-03-31",39160,0,"2017-12-01","2017-03-31",39160,0,"2018-12-02","2017-02-28",39160,0,"2016-04-01","2016-04-30",1,0,0,{"$f":"IF('DA 1.2'!B784=2,0,IF(AN740=1,I740-J740,0))","v":0},null,0,0]
[null,"2018-01-05",0,1,31,0,0.18340000000000001,0.15196000000000001,0,0,0,"2016-01-01","2016-09-30",38130,0,"2016-10-01","2016-12-31",39160,0,"2017-01-01","2017-03-31",39160,0,"2017-10-01","2017-03-31",39160,0,"2017-12-01","2017-03-31",39160,0,"2018-12-02","2017-02-28",39160,0,"2016-04-01","2016-04-30",1,0,0,{"$f":"IF('DA 1.2'!B785=2,0,IF(AN741=1,I741-J741,0))","v":0},null,0,0]
[null,"2018-01-06",0,1,31,0,0.18340000000000001,0.15196000000000001,0,0,0,"2016-01-01","2016-09-30",38130,0,"2016-10-01","2016-12-31",39160,0,"2017-01-01","2017-03-31",39160,0,"2017-10-01","2017-03-31",39160,0,"2017-12-01","2017-03-31",39160,0,"2018-12-02","2017-02-28",39160,0,"2016-04-01","2016-04-30",1,0,0,{"$f":"IF('DA 1.2'!B786=2,0,IF(AN742=1,I742-J742,0))","v":0},null,0,0]
[null,"2018-01-07",0,1,31,0,0.18340000000000001,0.15196000000000001,0,0,0,"2016-01-01","2016-09-30",38130,0,"2016-10-01","2016-12-31",39160,0,"2017-01-01","2017-03-31",39160,0,"2017-10-01","2017-03-31",39160,0,"2017-12-01","2017-03-31",39160,0,"2018-12-02","2017-02-28",39160,0,"2016-04-01","2016-04-30",1,0,0,{"$f":"IF('DA 1.2'!B787=2,0,IF(AN743=1,I743-J743,0))","v":0},null,0,0]
[null,"2018-01-08",0,1,31,0,{"$f":"G743","v":0.18340000000000001},0.15196000000000001,0,0,0,{"$f":"L743","v":"2016-01-01"},"2016-09-30",38130,0,{"$f":"P743","v":"2016-10-01"},"2016-12-31",39160,0,{"$f":"T743","v":"2017-01-01"},"2017-03-31",39160,0,{"$f":"X743","v":"2017-10-01"},"2017-03-31",39160,0,"2017-12-01","2017-03-31",39160,0,"2018-12-02","2017-02-28",39160,0,{"$f":"AJ743","v":"2016-04-01"},"2016-04-30",1,0,0,{"$f":"IF('DA 1.2'!B788=2,0,IF(AN744=1,I744-J744,0))","v":0},null,0,0]
[null,"2018-01-09",0,1,31,0,0.18340000000000001,0.15196000000000001,0,0,0,"2016-01-01","2016-09-30",38130,0,"2016-10-01","2016-12-31",39160,0,"2017-01-01","2017-03-31",39160,0,"2017-10-01","2017-03-31",39160,0,"2017-12-01","2017-03-31",39160,0,"2018-12-02","2017-02-28",39160,0,"2016-04-01","2016-04-30",1,0,0,{"$f":"IF('DA 1.2'!B789=2,0,IF(AN745=1,I745-J745,0))","v":0},null,0,0]
[null,"2018-01-10",0,1,31,0,0.18340000000000001,0.15196000000000001,0,0,0,"2016-01-01","2016-09-30",38130,0,"2016-10-01","2016-12-31",39160,0,"2017-01-01","2017-03-31",39160,0,"2017-10-01","2017-03-31",39160,0,"2017-12-01","2017-03-31",39160,0,"2018-12-02","2017-02-28",39160,0,"2016-04-01","2016-04-30",1,0,0,{"$f":"IF('DA 1.2'!B790=2,0,IF(AN746=1,I746-J746,0))","v":0},null,0,0]
[null,"2018-01-11",0,1,31,0,0.18340000000000001,0.15196000000000001,0,0,0,"2016-01-01","2016-09-30",38130,0,"2016-10-01","2016-12-31",39160,0,"2017-01-01","2017-03-31",39160,0,"2017-10-01","2017-03-31",39160,0,"2017-12-01","2017-03-31",39160,0,"2018-12-02","2017-02-28",39160,0,"2016-04-01","2016-04-30",1,0,0,{"$f":"IF('DA 1.2'!B791=2,0,IF(AN747=1,I747-J747,0))","v":0},null,0,0]
[null,"2018-01-12",0,1,31,0,0.18340000000000001,0.15196000000000001,0,0,0,"2016-01-01","2016-09-30",38130,0,"2016-10-01","2016-12-31",39160,0,"2017-01-01","2017-03-31",39160,0,"2017-10-01","2017-03-31",39160,0,"2017-12-01","2017-03-31",39160,0,"2018-12-02","2017-02-28",39160,0,"2016-04-01","2016-04-30",1,0,0,{"$f":"IF('DA 1.2'!B792=2,0,IF(AN748=1,I748-J748,0))","v":0},null,0,0]
[null,"2018-01-13",0,1,31,0,0.18340000000000001,0.15196000000000001,0,0,0,"2016-01-01","2016-09-30",38130,0,"2016-10-01","2016-12-31",39160,0,"2017-01-01","2017-03-31",39160,0,"2017-10-01","2017-03-31",39160,0,"2017-12-01","2017-03-31",39160,0,"2018-12-02","2017-02-28",39160,0,"2016-04-01","2016-04-30",1,0,0,{"$f":"IF('DA 1.2'!B793=2,0,IF(AN749=1,I749-J749,0))","v":0},null,0,0]
[null,"2018-01-14",0,1,31,0,0.18340000000000001,0.15196000000000001,0,0,0,"2016-01-01","2016-09-30",38130,0,"2016-10-01","2016-12-31",39160,0,"2017-01-01","2017-03-31",39160,0,"2017-10-01","2017-03-31",39160,0,"2017-12-01","2017-03-31",39160,0,"2018-12-02","2017-02-28",39160,0,"2016-04-01","2016-04-30",1,0,0,{"$f":"IF('DA 1.2'!B794=2,0,IF(AN750=1,I750-J750,0))","v":0},null,0,0]
[null,"2018-01-15",0,1,31,0,0.18340000000000001,0.15196000000000001,0,0,0,"2016-01-01","2016-09-30",38130,0,"2016-10-01","2016-12-31",39160,0,"2017-01-01","2017-03-31",39160,0,"2017-10-01","2017-03-31",39160,0,"2017-12-01","2017-03-31",39160,0,"2018-12-02","2017-02-28",39160,0,"2016-04-01","2016-04-30",1,0,0,{"$f":"IF('DA 1.2'!B795=2,0,IF(AN751=1,I751-J751,0))","v":0},null,0,0]
[null,"2018-01-16",0,1,31,0,0.18340000000000001,0.15196000000000001,0,0,0,"2016-01-01","2016-09-30",38130,0,"2016-10-01","2016-12-31",39160,0,"2017-01-01","2017-03-31",39160,0,"2017-10-01","2017-03-31",39160,0,"2017-12-01","2017-03-31",39160,0,"2018-12-02","2017-02-28",39160,0,"2016-04-01","2016-04-30",1,0,0,{"$f":"IF('DA 1.2'!B796=2,0,IF(AN752=1,I752-J752,0))","v":0},null,0,0]
[null,"2018-01-17",0,1,31,0,0.18340000000000001,0.15196000000000001,0,0,0,"2016-01-01","2016-09-30",38130,0,"2016-10-01","2016-12-31",39160,0,"2017-01-01","2017-03-31",39160,0,"2017-10-01","2017-03-31",39160,0,"2017-12-01","2017-03-31",39160,0,"2018-12-02","2017-02-28",39160,0,"2016-04-01","2016-04-30",1,0,0,{"$f":"IF('DA 1.2'!B797=2,0,IF(AN753=1,I753-J753,0))","v":0},null,0,0]
[null,"2018-01-18",0,1,31,0,0.18340000000000001,0.15196000000000001,0,0,0,"2016-01-01","2016-09-30",38130,0,"2016-10-01","2016-12-31",39160,0,"2017-01-01","2017-03-31",39160,0,"2017-10-01","2017-03-31",39160,0,"2017-12-01","2017-03-31",39160,0,"2018-12-02","2017-02-28",39160,0,"2016-04-01","2016-04-30",1,0,0,{"$f":"IF('DA 1.2'!B798=2,0,IF(AN754=1,I754-J754,0))","v":0},null,0,0]
[null,"2018-01-19",0,1,31,0,0.18340000000000001,0.15196000000000001,0,0,0,"2016-01-01","2016-09-30",38130,0,"2016-10-01","2016-12-31",39160,0,"2017-01-01","2017-03-31",39160,0,"2017-10-01","2017-03-31",39160,0,"2017-12-01","2017-03-31",39160,0,"2018-12-02","2017-02-28",39160,0,"2016-04-01","2016-04-30",1,0,0,{"$f":"IF('DA 1.2'!B799=2,0,IF(AN755=1,I755-J755,0))","v":0},null,0,0]
[null,"2018-01-20",0,1,31,0,0.18340000000000001,0.15196000000000001,0,0,0,"2016-01-01","2016-09-30",38130,0,"2016-10-01","2016-12-31",39160,0,"2017-01-01","2017-03-31",39160,0,"2017-10-01","2017-03-31",39160,0,"2017-12-01","2017-03-31",39160,0,"2018-12-02","2017-02-28",39160,0,"2016-04-01","2016-04-30",1,0,0,{"$f":"IF('DA 1.2'!B800=2,0,IF(AN756=1,I756-J756,0))","v":0},null,0,0]
[null,"2018-01-21",0,1,31,0,0.18340000000000001,0.15196000000000001,0,0,0,"2016-01-01","2016-09-30",38130,0,"2016-10-01","2016-12-31",39160,0,"2017-01-01","2017-03-31",39160,0,"2017-10-01","2017-03-31",39160,0,"2017-12-01","2017-03-31",39160,0,"2018-12-02","2017-02-28",39160,0,"2016-04-01","2016-04-30",1,0,0,{"$f":"IF('DA 1.2'!B801=2,0,IF(AN757=1,I757-J757,0))","v":0},null,0,0]
[null,"2018-01-22",0,1,31,0,0.18340000000000001,0.15196000000000001,0,0,0,"2016-01-01","2016-09-30",38130,0,"2016-10-01","2016-12-31",39160,0,"2017-01-01","2017-03-31",39160,0,"2017-10-01","2017-03-31",39160,0,"2017-12-01","2017-03-31",39160,0,"2018-12-02","2017-02-28",39160,0,"2016-04-01","2016-04-30",1,0,0,{"$f":"IF('DA 1.2'!B802=2,0,IF(AN758=1,I758-J758,0))","v":0},null,0,0]
[null,"2018-01-23",0,1,31,0,0.18340000000000001,0.15196000000000001,0,0,0,"2016-01-01","2016-09-30",38130,0,"2016-10-01","2016-12-31",39160,0,"2017-01-01","2017-03-31",39160,0,"2017-10-01","2017-03-31",39160,0,"2017-12-01","2017-03-31",39160,0,"2018-12-02","2017-02-28",39160,0,"2016-04-01","2016-04-30",1,0,0,{"$f":"IF('DA 1.2'!B803=2,0,IF(AN759=1,I759-J759,0))","v":0},null,0,0]
[null,"2018-01-24",0,1,31,0,{"$f":"G759","v":0.18340000000000001},0.15196000000000001,0,0,0,{"$f":"L759","v":"2016-01-01"},"2016-09-30",38130,0,{"$f":"P759","v":"2016-10-01"},"2016-12-31",39160,0,{"$f":"T759","v":"2017-01-01"},"2017-03-31",39160,0,{"$f":"X759","v":"2017-10-01"},"2017-03-31",39160,0,"2017-12-01","2017-03-31",39160,0,"2018-12-02","2017-02-28",39160,0,{"$f":"AJ759","v":"2016-04-01"},"2016-04-30",1,0,0,{"$f":"IF('DA 1.2'!B804=2,0,IF(AN760=1,I760-J760,0))","v":0},null,0,0]
[null,"2018-01-25",0,1,31,0,0.18340000000000001,0.15196000000000001,0,0,0,"2016-01-01","2016-09-30",38130,0,"2016-10-01","2016-12-31",39160,0,"2017-01-01","2017-03-31",39160,0,"2017-10-01","2017-03-31",39160,0,"2017-12-01","2017-03-31",39160,0,"2018-12-02","2017-02-28",39160,0,"2016-04-01","2016-04-30",1,0,0,{"$f":"IF('DA 1.2'!B805=2,0,IF(AN761=1,I761-J761,0))","v":0},null,0,0]
[null,"2018-01-26",0,1,31,0,0.18340000000000001,0.15196000000000001,0,0,0,"2016-01-01","2016-09-30",38130,0,"2016-10-01","2016-12-31",39160,0,"2017-01-01","2017-03-31",39160,0,"2017-10-01","2017-03-31",39160,0,"2017-12-01","2017-03-31",39160,0,"2018-12-02","2017-02-28",39160,0,"2016-04-01","2016-04-30",1,0,0,{"$f":"IF('DA 1.2'!B806=2,0,IF(AN762=1,I762-J762,0))","v":0},null,0,0]
[null,"2018-01-27",0,1,31,0,0.18340000000000001,0.15196000000000001,0,0,0,"2016-01-01","2016-09-30",38130,0,"2016-10-01","2016-12-31",39160,0,"2017-01-01","2017-03-31",39160,0,"2017-10-01","2017-03-31",39160,0,"2017-12-01","2017-03-31",39160,0,"2018-12-02","2017-02-28",39160,0,"2016-04-01","2016-04-30",1,0,0,{"$f":"IF('DA 1.2'!B807=2,0,IF(AN763=1,I763-J763,0))","v":0},null,0,0]
[null,"2018-01-28",0,1,31,0,0.18340000000000001,0.15196000000000001,0,0,0,"2016-01-01","2016-09-30",38130,0,"2016-10-01","2016-12-31",39160,0,"2017-01-01","2017-03-31",39160,0,"2017-10-01","2017-03-31",39160,0,"2017-12-01","2017-03-31",39160,0,"2018-12-02","2017-02-28",39160,0,"2016-04-01","2016-04-30",1,0,0,{"$f":"IF('DA 1.2'!B808=2,0,IF(AN764=1,I764-J764,0))","v":0},null,0,0]
[null,"2018-01-29",0,1,31,0,0.18340000000000001,0.15196000000000001,0,0,0,"2016-01-01","2016-09-30",38130,0,"2016-10-01","2016-12-31",39160,0,"2017-01-01","2017-03-31",39160,0,"2017-10-01","2017-03-31",39160,0,"2017-12-01","2017-03-31",39160,0,"2018-12-02","2017-02-28",39160,0,"2016-04-01","2016-04-30",1,0,0,{"$f":"IF('DA 1.2'!B809=2,0,IF(AN765=1,I765-J765,0))","v":0},null,0,0]
[null,"2018-01-30",0,1,31,0,0.18340000000000001,0.15196000000000001,0,0,0,"2016-01-01","2016-09-30",38130,0,"2016-10-01","2016-12-31",39160,0,"2017-01-01","2017-03-31",39160,0,"2017-10-01","2017-03-31",39160,0,"2017-12-01","2017-03-31",39160,0,"2018-12-02","2017-02-28",39160,0,"2016-04-01","2016-04-30",1,0,0,{"$f":"IF('DA 1.2'!B810=2,0,IF(AN766=1,I766-J766,0))","v":0},null,0,0]
[null,"2018-01-31",0,1,31,0,0.18340000000000001,0.15196000000000001,0,0,0,"2016-01-01","2016-09-30",38130,0,"2016-10-01","2016-12-31",39160,0,"2017-01-01","2017-03-31",39160,0,"2017-10-01","2017-03-31",39160,0,"2017-12-01","2017-03-31",39160,0,"2018-12-02","2017-02-28",39160,0,"2016-04-01","2016-04-30",1,0,0,{"$f":"IF('DA 1.2'!B811=2,0,IF(AN767=1,I767-J767,0))","v":0},null,0,0]

{"sheet":"welcome","index":6,"n_rows":16,"n_cols":17,"rows_kept":16,"cut":false,"hidden":false,"merged":[[0,16,1,18],[12,0,12,2],[15,4,15,9],[14,3,14,4],[15,13,15,15],[15,0,15,2]]}
[null,null,null,null,null,null,null,null,null,null,null,null,null,null,null,null,"     FORMS AVAILABLE …"]
[]
[]
[]
[null,null,null,"*This Software Works only in MS -Office 2007 and later versions. "]
[null,null,null,"*Use original file always and observe for updates of software on the following website."]
[null,null,null,"*Figures have to be verified with Pay Bill Register for further modifications."]
[null,null,null,"*Options are given to enter figures without software calculation (can be edited manually)."]
[null,null,null,"* Basic pays can be edited in Salary Earnings sheet & Salary - Arrears can be edited in Annexure - I."]
[null,null,null,"* Observe the instructions in Savings sheet."]
[null,null,null,"*Your suggestions and corrections are welcomed."]
[]
[]
[null,null,null,null,null,null,"Updated on:","25.11.2017"]
[null,null,null,"*Website: "]
["E-mail: johnsaenglish@gmail.com",null,null,null,null,null,null,null,null,null,null,null,null,"Contact No. 9059076177"]

{"sheet":"DATA","index":7,"n_rows":736,"n_cols":270,"rows_kept":281,"cut":true,"hidden":true,"merged":[[39,20,39,23],[31,6,31,8],[25,166,25,168],[25,169,25,171],[23,151,23,171],[25,151,25,153],[25,154,25,156],[25,157,25,159],[25,160,25,162],[25,163,25,165],[39,5,39,8],[28,7,28,8],[2,228,2,229],[24,151,24,153],[24,154,24,156],[24,157,24,159],[24,160,24,162],[24,163,24,165],[24,166,24,168],[24,169,24,171],[3,218,3,220],[3,215,3,217],[3,209,3,211],[2,202,3,208],[2,157,2,159],[2,151,2,153],[2,154,2,156],[2,169,2,171],[1,231,1,240],[16,2,16,3],[15,2,15,3],[14,2,14,3],[1,1,1,3],[3,2,3,3],[4,2,4,3],[5,2,5,3],[6,2,6,3],[7,2,7,3],[1,7,1,75],[8,2,8,3],[9,2,9,3],[3,98,3,109],[13,2,13,3],[1,154,1,156],[10,1,11,3],[1,151,1,153],[2,27,2,34],[2,40,2,72],[3,95,3,96],[3,77,3,79],[3,122,3,133],[2,166,2,168],[1,191,1,196],[1,172,1,174],[1,175,1,180],[2,175,2,180],[2,196,3,201],[2,172,2,174],[27,3,27,4],[0,264,0,266],[0,267,0,269],[47,23,47,26],[47,5,47,8],[0,250,0,263],[31,20,31,22],[2,8,2,11],[1,160,1,162],[2,160,2,162],[1,157,1,159],[1,163,1,165],[2,163,2,165],[1,181,1,189],[1,169,1,171],[1,166,1,168]],"bounds":{"rows_first":125,"rows_last":31,"rows_between":125,"halvings":4}}
[null,null,null,null,null,null,null,null,null,null,null,null,null,null,null,null,null,null,null,null,null,null,null,null,null,null,null,null,null,null,null,null,null,null,null,null,null,null,null,null,null,null,null,null,null,null,null,null,null,null,null,null,null,null,null,null,null,null,null,null,null,null,null,null,null,null,null,null,null,null,null,null,null,null,null,null,null,null,null,null,null,null,null,null,null,null,null,null,null,null,null,null,null,null,null,null,null,null,null,null,null,null,null,null,null,null,null,null,null,null,null,null,null,null,null,null,null,null,null,null,null,null,null,null,null,null,null,null,null,null,null,null,null,null,null,null,null,null,null,null,null,null,null,null,null,null,null,null,null,null,null,null,null,null,null,null,null,null,null,null,null,null,null,null,null,null,null,null,null,null,null,null,null,null,null,null,null,null,null,null,null,null,null,null,null,null,null,null,null,null,null,null,null,null,null,null,null,null,null,null,null,null,null,null,null,null,null,null,null,null,null,null,null,null,null,null,null,null,null,null,null,null,null,null,null,null,null,null,null,null,null,null,null,null,null,null,null,null,null,null,null,null,null,null,null,"old prc","new prc pays",null,"prc month",null,"prc upto the month of",null,null,null,null,null,null,null,null,null,null,null,null,null,"hra 2010",null,null,"hra 2015"]
[null,"     Employee Details",null,null,null,null,null,{"$f":"CONCATENATE(\"STATEMENT OF SALARY DRAWN (Including arrears) AND DEDUCTIONS from \",E25,\"  to \",E26)","v":"STATEMENT OF SALARY DRAWN (Including arrears) AND DEDUCTIONS from Mar, 2017  to Feb, 2018"},null,null,null,null,null,null,null,null,null,null,null,null,null,null,null,null,null,null,null,null,null,null,null,null,null,null,null,null,null,null,null,null,null,null,null,null,null,null,null,null,null,null,null,null,null,null,null,null,null,null,null,null,null,null,null,null,null,null,null,null,null,null,null,null,null,null,null,null,null,null,null,null,null,null,null,null,null,null,null,null,null,null,null,null,null,null,null,null,null,null,null,null,null,null,null,null,null,null,null,null,null,null,null,null,null,null,null,null,null,null,null,null,null,null,null,null,null,null,null,null,null,null,null,null,null,null,null,null,null,null,null,null,null,null,null,"hidden",null,null,null,null,null,null,null,"SP ",null,null,"PP",null,null,"CCA ",null,null,"HMA ",null,null,"SCA ",null,null,"READER ALLOWANCES",null,null,"AHRA",null,null,"other allowances",null,null,"PHA",null,null,null,null,null,"surrender leave",null,null,null,null,null,null,null,null,null,"HRA",null,null,null,null,null,null,null,null,null,null,null,null,null,{"$f":"VLOOKUP(GX5,GY6:GZ342,2)","v":{"$error":"#N/A"}},{"$f":"LEFT(GX2,5)","v":{"$error":"#N/A"}},{"$f":"LEFT(GY2,2)","v":{"$error":"#N/A"}},{"$f":"RIGHT(GY2,2)","v":{"$error":"#N/A"}},{"$f":"RIGHT(GX2,2)","v":{"$error":"#N/A"}},null,null,null,null,null,null,null,null,null,null,null,null,null,null,null,null,null,null,null,null,null,"Surrender Leave days",null,null,null,null,null,null,null,null,null,"days","month",{"$f":"IL2","v":13000},1,13000,14170,null,15,{"$f":"IF(IO2<=5,4,IO2)","v":15},null,null,null,1,"Jan, 15",null,null,null,null,null,null,null,"change from","old pay ends","max",0.3,"below 30%",0.3,"below 30%","max"]
[null,"Employee Name",{"$f":"IF('DATA 1'!D3=\"\",\"\",'DATA 1'!D3)","v":"Sri."},{"$f":"IF('DATA 1'!E3=\"\",\"\",UPPER('DATA 1'!E3))","v":""},null,null,null,null,null,null,null,null,null,null,null,null,null,null,null,null,null,null,null,null,null,null,null,null,null,null,null,null,null,null,null,null,null,null,null,null,null,null,null,null,null,null,null,null,null,null,null,null,null,null,null,null,null,null,null,null,null,null,null,null,null,null,null,null,null,null,null,null,null,null,null,null,null,null,null,null,null,null,null,null,null,null,null,null,null,null,null,null,null,null,null,null,null,null,null,null,null,null,null,"aas dates",null,null,null,null,null,null,null,null,null,null,null,null,null,null,null,null,null,null,null,null,null,null,null,null,null,null,null,null,null,null,null,null,null,null,null,null,"aas DA %",{"$f":"IF(EM3=1,0,IF(EM3=2,15.196%,IF(EM3=3,12.052%,IF(EM3=4,8.908%,0))))","v":0.12052},3,{"$f":"IF(CU5=1,\"\",\"Not Applicable\")","v":""},null,2,{"$f":"IF(DS5=1,\"\",\"Not applicable\")","v":""},"promo",null,null,null,"1 TO",null,null,"1 TO",null,null,"month",null,null,"month",null,null,"month",null,null,"month",null,null,"month",null,null,"month",null,null,"month",null,null,null,null,null,null,null,null,null,null,"month","days",null,null,null,null,null,null,null,null,"1 st change",null,null,null,null,null,"2 nd change",null,null,null,null,null,null,"HRA %",null,null,null,null,null,null,null,null,null,null,null,"S.NO.","MONTHS","HRA %","HRA 1","2+3","HRA 2","HRA 3","prc hra",null,null,"Not Claimed",null,{"$f":"HX3","v":"Not Claimed"},null,null,1,1,0,{"$f":"HZ3","v":"Not Claimed"},null,{"$f":"VLOOKUP(IC3,ID3:IE27,2)","v":0},{"$f":"IF(IC3=1,0,IC3/2)","v":0},{"$f":"IL3","v":13390},2,13390,14600,null,{"$f":"IO2","v":15},{"$f":"IF(IO3<=5,4,IO3)","v":15},null,null,{"$f":"IF(IO2=15,0,1)","v":0},2,"Feb, 15",{"$f":"IT3","v":2},{"$f":"IF(IP2=1,13,IP2)","v":15},1,{"$f":"IF(IS3=0,\"\",IF(IW3<14,VLOOKUP(IW3,IT2:IU14,2),\"\"))","v":""},3,{"$f":"VLOOKUP(IZ3,IX3:IY14,2)","v":""},{"$f":"IF(JA3=IU3,IV3,\"\")","v":""},{"$f":"IF(JD3=0,0,JD3+1)","v":0},{"$f":"JB15","v":0},{"$f":"IF(HB6<0.3,JG3,JF3)","v":8000},{"$f":"12000","v":12000},8000,20000,15000,{"$f":"IF(HB6<0.3,JI3,JH3)","v":15000}]
[null,"Treasury I.D.",{"$f":"IF('DATA 1'!D4=\"\",\"\",UPPER('DATA 1'!D4))","v":""},null,null,null,null,"S.No.","Month","PAY","actual","OLD","NEW","SP","1st","2nd","PP","1st","2nd","DA","DA %","HRA",null,"HRA 2ND HIKE DAYS","HRA","I.R","IR %","HMA","1st","2nd","Others","SCA","1ST ","2ND","AHRA","1ST","2ND","CCA","1ST","2ND","PHA",1,"2+3",2,3,"Reader.Allo","1ST","2ND","Others",1,2,"Gross Total",{"$f":"EN25","v":"CPS"},"PF 1","PF 2","CPS","APGLI","1ST","2ND","GIS ","1ST","2ND","EHS",1,2,"PT","LIC (SSS)",1,2,"OTHERS DEDUCTIONS",1,2,"SWF& EWF","Adva. Tax","Total Deductions","Net",null,"Master Basic Pay",null,null,"Month","Code","Basic","No. of Incre","Annual Incre","AAS incr","Promotion date","Promotion increment 1 from next incr. date","prom 2 incr. from promotion date",null,"pro incre ","Annual incremt applicable or not","OPTION PROMOTION DATE OR NOT","PRO MONTH","Inc month","Master Months",null,null,"AAS ARREARS- for days",null,null,null,null,null,null,null,null,null,null,null,null,null,null,null,null,null,null,null,null,null,null,null,"PROMOTION ARREARS",null,null,null,null,null,null,null,null,null,null,null,null,null,null,null,null,null,null,null,null,{"$f":"IF(CU5=1,\"\",\"22.008%\")","v":""},null,{"$f":"IF(EQ4=\"\",0,EP3)","v":0},{"$f":"IF(DS5=1,\"\",\"Increment Date\")","v":""},null,null,null,null,13,"1st sp","2nd sp",13,"1st sp","2nd sp",13,"1st ","2nd",13,"1st ","2nd",13,"1st ","2nd",13,"1st ","2nd",13,"1st ","2nd",13,"1st ","2nd",13,13,13,"1st ","2nd","3RD",1,1,0,1,"Not applicable",{"$f":"VLOOKUP(FZ4,GA4:GB28,2)","v":0},{"$f":"VLOOKUP(FZ4,GG4:GH28,2)","v":0},1,0,null,null,"original",null,null,"shorted date",null,null,null,null,null,null,null,null,null,null,null,null,null,"HRA 1ST PERIOD",null,null,null,null,null,"HRA 2nd  PERIOD",null,null,"HRA 3rd  PERIOD",null,null,2,2,{"$f":"HQ4+HR4","v":0.12},{"$f":"HB6","v":0.12},{"$f":"IF(HT4>0,HT4,HS4)","v":0},{"$f":"IF(JC3=0,0,IF(HO4>=JC3,HH6,0))","v":0},{"$f":"IF(HO4>=GW8,HK6,0)","v":0},"T.D.","A.D.",null,"Mar",{"$f":"HY5","v":2017},{"$f":"CONCATENATE(HX4,\", \",HY4)","v":"Mar, 2017"},{"$f":"HZ4","v":"Mar, 2017"},"15 Days",null,2,{"$f":"IF(IB4=\"15 Days\",1,2)","v":1},{"$f":"CONCATENATE(IA4,\" : \",IB4)","v":"Mar, 2017 : 15 Days"},null,{"$f":"IF(IH3=0,0,IF(IH3=1,0.5,1))","v":0},{"$f":"IF(II3=0,0,VLOOKUP(II3,#REF!,2))","v":"00:00:00"},13780,3,13780,15030,null,15,15,null,null,{"$f":"IS3","v":0},3,"Mar, 15",{"$f":"IT4","v":3},{"$f":"IF(IW3=1,13,IW3+1)","v":16},2,{"$f":"IF(IS4=0,\"\",IF(IW4<14,VLOOKUP(IW4,IT4:IU15,2),\"\"))","v":""},null,{"$f":"JA3","v":""},{"$f":"IF(JA4=IU4,IV4,\"\")","v":""},{"$f":"IF(JD4=0,0,JD4+1)","v":0},{"$f":"JD3","v":0},8000,12000,8000,20000,15000,15000]
[null,"House Address",{"$f":"IF('DATA 1'!D5=\"\",\"\",UPPER('DATA 1'!D5))","v":""},null,null,null,null,1,{"$f":"CS5","v":"2017-01-01"},{"$f":"IF(M5=0,L5,M5)","v":39160},{"$f":"IF('DATA 1'!AE4=2,Sheet4!E3,IF('DATA 1'!AA5>0,'DATA 1'!AA5,IF('DATA 1'!AA5=0,0,Sheet4!E3)))","v":39160},{"$f":"IF('DATA 1'!T5=0,Sheet4!F3,IF('DATA 1'!AE4=1,'DATA 1'!T5,CE5))","v":39160},0,null,null,null,null,null,null,{"$f":"ROUND(K5*U5,0)","v":3488},8.9080000000000006E-2,{"$f":"IF(H5<JC3,MIN(SUM(W5:Y5),JE3),MIN(SUM(W5:Y5),JJ3))","v":4699},null,null,{"$f":"ROUND(K5*HP5,0)","v":4699},null,0.27,null,null,null,null,null,null,null,null,null,null,null,null,null,null,null,null,null,null,null,null,null,null,null,null,{"$f":"T5","v":3488},null,null,null,null,null,null,null,null,null,null,null,null,null,null,null,null,null,null,null,null,null,null,{"$f":"SUM(BE5:BV5)+BA5","v":0},{"$f":"AZ5-BW5","v":3488},null,40,1,{"$f":"IL2","v":13000},{"$f":"CS5","v":"2017-01-01"},{"$f":"BZ5","v":40},{"$f":"VLOOKUP(CD5,CA5:CB84,2)","v":39160},null,null,null,null,null,null,null,null,{"$f":"IF(CO5=0,1,IF(CQ5>CP5,0,1))","v":1},{"$f":"IF(EP3=3,1,0)","v":0},{"$f":"EO7","v":0},10,1,"2017-01-01",null,1,1,"Not Applicable",1,"Not Applicable",{"$f":"IF(CU5=1,0,VLOOKUP(CU5,CV5:CW736,2))","v":0},{"$f":"DAY(CZ5)","v":0},{"$f":"MONTH(CZ5)","v":1},{"$f":"YEAR(CZ5)","v":1900},"DAYS",null,null,null,null,null,null,null,null,null,null,null,null,null,null,1,1,"Not Applicable",1,"Not Applicable",{"$f":"IF(DS5=1,0,VLOOKUP(DS5,DT5:DU736,2))","v":0},{"$f":"DAY(DX5)","v":0},{"$f":"MONTH(DX5)","v":1},{"$f":"YEAR(DX5)","v":1900},"DAYS",null,null,null,null,null,null,null,null,null,null,null,{"$f":"IF(CU5=1,\"\",\"18.34\"%)","v":""},null,{"$f":"EP4","v":0},{"$f":"IF(DS5=1,\"\",\"Promotion Date\")","v":""},null,null,null,null,{"$f":"EV4","v":13},{"$f":"'DATA 1'!J9","v":0},{"$f":"'DATA 1'!J10","v":0},{"$f":"EY4","v":13},{"$f":"'DATA 1'!J11","v":0},{"$f":"'DATA 1'!J12","v":0},{"$f":"FB4","v":13},{"$f":"'DATA 1'!$J$16","v":0},{"$f":"'DATA 1'!$J$17","v":0},{"$f":"FE4","v":13},{"$f":"'DATA 1'!J18","v":0},{"$f":"'DATA 1'!J19","v":0},{"$f":"FH4","v":13},{"$f":"'DATA 1'!J20","v":0},{"$f":"'DATA 1'!J21","v":0},{"$f":"FK4","v":13},{"$f":"'DATA 1'!$J$22","v":0},{"$f":"'DATA 1'!$J$23","v":0},{"$f":"FN4","v":13},{"$f":"'DATA 1'!$J$24","v":0},{"$f":"'DATA 1'!$J$25","v":0},{"$f":"FQ4","v":13},{"$f":"'DATA 1'!J26","v":0},{"$f":"'DATA 1'!J27","v":0},{"$f":"FT4","v":13},{"$f":"FU4","v":13},{"$f":"FV4","v":13},{"$f":"'DATA 1'!J28","v":0},{"$f":"'DATA 1'!J29","v":0},{"$f":"'DATA 1'!J30","v":0},null,2,3,2,"15 days in MAR, 17",{"$f":"GE4","v":0},{"$f":"GF4","v":0},2,15,null,1,"date",null,1,"Not applicable",{"$f":"VLOOKUP(GR5,GJ5:GK343,2)","v":"date"},null,{"$f":"DATE(GQ7,GP7,GO7)","v":{"$error":"#VALUE!"}},1,1,{"$f":"GN5","v":"Not applicable"},{"$f":"IF(GX5=1,\"DATE\",DATE(HB2,HA2,GZ2))","v":"DATE"},null,{"$f":"DATE(HB2,HA2,GZ2)","v":{"$error":"#N/A"}},1,1,"Not applicable",null,1,1,0.12,{"$f":"IF(GR5=1,\"\",HD5)","v":""},{"$f":"IF(GX5=1,\"\",HD5)","v":""},null,2,null,null,1,null,null,3,3,{"$f":"HQ5+HR5","v":0.12},{"$f":"HB6","v":0.12},{"$f":"IF(HT5>0,HT5,HS5)","v":0},0,{"$f":"IF(HO5>=GW8,HK6,0)","v":0},{"$f":"IF(GR5=1,HV5,IF(HH6=0,HV5,HH6))","v":0.12},{"$f":"HQ5","v":0.12},null,"Apr",2017,{"$f":"CONCATENATE(HX5,\", \",HY5)","v":"Apr, 2017"},{"$f":"IA4","v":"Mar, 2017"},"1 Month",null,3,2,{"$f":"CONCATENATE(IA5,\" : \",IB5)","v":"Mar, 2017 : 1 Month"},null,{"$f":"IH4","v":0},{"$f":"IF(II3=0,0,II4)","v":"00:00:00"},14170,4,14170,15460,null,15,15,1,"Apr, 15",0,4,"Apr, 15",4,{"$f":"IF(IW4=1,13,IW4+1)","v":17},3,"",null,{"$f":"JA4","v":""},"",0,{"$f":"JD4","v":0},8000,{"$f":"JF4","v":12000},{"$f":"JG4","v":8000},{"$f":"JH4","v":20000},{"$f":"JI4","v":15000},{"$f":"JJ4","v":15000}]
[null,"Working Place",{"$f":"IF('DATA 1'!D6=\"\",\"\",UPPER('DATA 1'!D6))","v":""},null,null,null,1,2,{"$f":"CS6","v":"2017-02-01"},{"$f":"IF(M6=0,L6,M6)","v":39160},{"$f":"IF('DATA 1'!AE5=2,Sheet4!E4,IF('DATA 1'!AA6>0,'DATA 1'!AA6,IF('DATA 1'!AA6=0,0,Sheet4!E4)))","v":39160},{"$f":"IF('DATA 1'!T6=0,Sheet4!F4,IF('DATA 1'!AE5=1,'DATA 1'!T6,CE6))","v":39160},0,null,null,null,null,null,null,{"$f":"ROUND(K6*U6,0)","v":3488},8.9080000000000006E-2,4699,null,null,{"$f":"ROUND(K6*HP5,0)","v":4699},null,0.27,null,null,null,null,null,null,null,null,null,null,null,null,null,null,null,null,null,null,null,null,null,null,null,null,{"$f":"T6","v":3488},null,null,null,null,null,null,null,null,null,null,null,null,null,null,null,null,null,null,null,null,null,null,0,3488,null,{"$f":"BZ5","v":40},2,{"$f":"IL3","v":13390},{"$f":"CS6","v":"2017-02-01"},{"$f":"CD5+CF6","v":40},{"$f":"VLOOKUP(CD6,CA5:CB84,2)","v":39160},{"$f":"SUM(CG6:CK6)","v":0},{"$f":"IF(CQ6=14,1,IF(CQ6=2,1,0))*CN6","v":0},{"$f":"IF(H6=DP7,1,0)","v":0},{"$f":"IF(H6=EN7,1,0)","v":0},{"$f":"IF(CQ6=CA6,CL6,0)","v":0},{"$f":"IF(EP3=3,IF(H6=EN7,1,0),0)","v":0},{"$f":"IF(CQ6<CP6,0,CM6)","v":0},{"$f":"IF(EP3=2,CG6,0)","v":0},{"$f":"IF(CO6=0,1,IF(CQ6>CP6,0,1))","v":1},{"$f":"IF(EP4=3,1,0)","v":0},{"$f":"CP5","v":0},{"$f":"CQ5","v":10},2,"2017-02-01",null,null,2,"2016-02-01",2,"01.02.2016",null,{"$f":"DA5","v":0},{"$f":"DB5","v":1},{"$f":"IF(DB6=1,13,DB6+1)","v":13},{"$f":"IF(DB6=1,31,IF(DB6=3,31,IF(DB6=5,31,IF(DB6=7,31,IF(DB6=8,31,IF(DB6=10,31,IF(DB6=12,31,IF(DB6=2,28,30))))))))","v":31},{"$f":"DA5","v":0},{"$f":"DD6-DE6+1","v":32},null,null,null,null,null,null,null,null,null,null,"FROM",null,null,2,"2016-02-01",2,"01.02.2016",null,{"$f":"DY5","v":0},{"$f":"DZ5","v":1},{"$f":"IF(DZ6=1,13,DZ6+1)","v":13},{"$f":"IF(DZ6=1,31,IF(DZ6=3,31,IF(DZ6=5,31,IF(DZ6=7,31,IF(DZ6=8,31,IF(DZ6=10,31,IF(DZ6=12,31,IF(DZ6=2,28,30))))))))","v":31},{"$f":"DY5","v":0},{"$f":"EB6-EC6+1","v":32},null,null,null,null,null,null,null,null,null,{"$f":"IF(CU5=1,\"\",\"15.196\"%)","v":""},"FROM",0,null,null,null,null,null,{"$f":"EV5","v":13},{"$f":"EW5","v":0},{"$f":"EX5","v":0},{"$f":"EY5","v":13},{"$f":"EZ5","v":0},{"$f":"FA5","v":0},{"$f":"FB5","v":13},{"$f":"FC5","v":0},{"$f":"FD5","v":0},{"$f":"FE5","v":13},{"$f":"FF5","v":0},{"$f":"FG5","v":0},13,{"$f":"FI5","v":0},{"$f":"FJ5","v":0},{"$f":"FK5","v":13},{"$f":"FL5","v":0},{"$f":"FM5","v":0},{"$f":"FN5","v":13},{"$f":"FO5","v":0},{"$f":"FP5","v":0},13,{"$f":"FR5","v":0},0,13,13,13,{"$f":"FW5","v":0},0,0,null,3,3,3,"30 days in MAR, 17",{"$f":"GE5","v":0},{"$f":"GF5","v":0},3,30,17,2,"2017-03-02",null,2,{"$f":"CONCATENATE(GD29,GF29,\".\",GE29,GG29,\".\",GH29)","v":"02.03.17"},"date","month","year",{"$f":"GR5","v":1},2,{"$f":"GN6","v":"02.03.17"},"date","month","year",{"$f":"IF(GX5=1,1,GX5+1)","v":1},2,{"$f":"IF(HA6=\"\",\"\",VLOOKUP(HA6,GS5:GT343,2))","v":"02.03.17"},{"$f":"GR5+1","v":2},{"$f":"VLOOKUP(HB5,HC5:HD9,2)","v":0.12},2,0.14499999999999999,{"$f":"IF(GR6=1,\"\",HD6)","v":""},{"$f":"IF(GX6=1,\"\",HD6)","v":""},null,{"$f":"IF(GR5=1,HB6,VLOOKUP(HH5,HC5:HD9,2))","v":0.12},null,null,{"$f":"IF(GX6=1,HH6,VLOOKUP(HK5,HC5:HD9,2))","v":0.12},null,null,4,4,{"$f":"HQ6+HR6","v":0.12},{"$f":"IF(HR6>0,0,HB6)","v":0.12},{"$f":"IF(HT6>0,HT6,HS6)","v":0},0,{"$f":"IF(HO6>=GW9,HK7,0)","v":0},{"$f":"HU5","v":0.12},{"$f":"HV5","v":0.12},null,"May",2017,"May, 2017",{"$f":"HZ5","v":"Apr, 2017"},"15 Days",null,4,1,"Apr, 2017 : 15 Days",null,{"$f":"IH5","v":0},{"$f":"IF(II3=0,0,II4)","v":"00:00:00"},14600,5,14600,15930,null,15,15,2,"Apr, 15",0,5,"May, 15",5,18,4,"",null,"","",0,0,8000,12000,8000,20000,15000,15000]
[null,"Designation",{"$f":"IF('DATA 1'!D7=\"\",\"\",UPPER('DATA 1'!D7))","v":""},null,null,3,2,3,"2017-03-01",{"$f":"IF(M7=0,L7,M7)","v":39160},{"$f":"IF('DATA 1'!AE6=2,Sheet4!E5,IF('DATA 1'!AA7>0,'DATA 1'!AA7,IF('DATA 1'!AA7=0,0,Sheet4!E5)))","v":39160},{"$f":"IF('DATA 1'!T7=0,Sheet4!F5,IF('DATA 1'!AE6=1,'DATA 1'!T7,CE7))","v":39160},{"$f":"IF(H7>=IP2,VLOOKUP(L7,IL2:IM81,2),0)","v":0},{"$f":"SUM(O7:P7)","v":0},{"$f":"IF(G7<=EV4,EW5,\"\")","v":0},{"$f":"IF(G7>EV4,EX5,\"\")","v":""},{"$f":"SUM(R7:S7)","v":0},{"$f":"IF(G7<=EY4,EZ5,\"\")","v":0},{"$f":"IF(G7>EY4,FA5,\"\")","v":""},{"$f":"ROUND(K7*U7,0)","v":5951},{"$f":"IF(I7<='DA 1.2'!C16,0.15196,0.1834)","v":0.15196000000000001},4699,null,{"$f":"IF(H7=GW23,GX40,0)","v":0},{"$f":"IF(H7=GW23,GU40,ROUND(K7*HP5,0))","v":4699},null,0.27,{"$f":"SUM(AC7:AD7)","v":0},{"$f":"IF(G7<=FE4,FF5,\"\")","v":0},{"$f":"IF(G7>FE4,FG5,\"\")","v":""},0,{"$f":"SUM(AG7:AH7)","v":0},{"$f":"IF(G7<=FH4,FI5,\"\")","v":0},{"$f":"IF(G7>FH4,FJ5,\"\")","v":""},{"$f":"SUM(AJ7:AK7)","v":0},{"$f":"IF(G7<=FN4,FO5,\"\")","v":0},{"$f":"IF(G7>FN4,FP5,\"\")","v":""},{"$f":"SUM(AM7:AN7)","v":0},{"$f":"IF(G7<=FB4,FC5,\"\")","v":0},{"$f":"IF(G7>FB4,FD5,\"\")","v":""},{"$f":"SUM(AP7:AQ7)","v":0},{"$f":"IF(G7<=FT4,FW5,\"\")","v":0},{"$f":"SUM(AR7:AS7)","v":0},{"$f":"IF(AS7=\"\",IF(G7>FT4,FX5,\"\"),\"\")","v":""},{"$f":"IF(G7>FU4,FY5,\"\")","v":""},{"$f":"SUM(AU7:AV7)","v":0},{"$f":"IF(G7<=FK4,FL5,\"\")","v":0},{"$f":"IF(G7>FK4,FM5,\"\")","v":""},{"$f":"SUM(AX7:AY7)","v":0},{"$f":"IF(G7<=FQ4,FR5,\"\")","v":0},{"$f":"IF(G7>FQ4,FS5,\"\")","v":""},{"$f":"K7+N7+Q7+T7+V7+Z7+AB7+AE7+AF7+AI7+AL7+AO7+AT7","v":49810},{"$f":"SUM(BB7:BD7)","v":4511},{"$f":"IF(G7<=EV28,EW28,\"\")","v":0},{"$f":"IF(G7>EV28,EX28,\"\")","v":""},{"$f":"IF(EN25=\"CPS\",ROUND((K7+T7)*0.1,0),0)","v":4511},{"$f":"SUM(BF7:BG7)","v":1400},{"$f":"IF(G7<=EY28,EZ28,\"\")","v":1400},{"$f":"IF(G7>EY28,FA28,\"\")","v":""},{"$f":"SUM(BI7:BJ7)","v":60},{"$f":"IF(G7<=FB28,FC28,\"\")","v":60},{"$f":"IF(G7>FB28,FD28,\"\")","v":""},{"$f":"SUM(BL7:BM7)","v":90},{"$f":"IF(G7<=FE28,FF28,\"\")","v":90},{"$f":"IF(G7>FE28,FG28,\"\")","v":""},{"$f":"IF(AO7>0,0,IF(AND(0<=AZ7,AZ7<=15000),0,IF(AND(15000<AZ7,AZ7<=20000),150,IF(AZ7>20000,200))))","v":200},{"$f":"SUM(BP7:BQ7)","v":0},{"$f":"IF(G7<=FH28,FI28,\"\")","v":0},{"$f":"IF(G7>FH28,FJ28,\"\")","v":""},null,null,null,{"$f":"'DATA 1'!O13","v":20},{"$f":"'DATA 1'!O18","v":0},7831,41979,null,{"$f":"BZ6","v":40},3,13780,"2017-03-01",{"$f":"CD6+CF7","v":40},{"$f":"VLOOKUP(CD7,CA5:CB84,2)","v":39160},{"$f":"SUM(CG7:CK7)","v":0},{"$f":"IF(CQ7=CR7,1,0)*CN7","v":0},0,0,{"$f":"IF(CQ7=CA7,CL7,0)","v":0},0,{"$f":"IF(CQ7<CP7,0,CM7)","v":0},{"$f":"IF(EP4=2,CG7,0)","v":0},1,0,{"$f":"CP6","v":0},{"$f":"CQ6","v":10},3,"2017-03-01",null,null,3,"2016-02-02",3,"02.02.2016",null,{"$f":"DA6","v":0},{"$f":"DB6","v":1},{"$f":"DC6","v":13},{"$f":"DD6","v":31},{"$f":"DE6","v":0},{"$f":"DF6","v":32},2,"Feb, 17",{"$f":"DG7","v":2},{"$f":"IF(DB6=1,13,DB6)","v":13},1,{"$f":"IF(DA5=0,\"\",DH7)","v":""},10,{"$f":"VLOOKUP(DM7,DK7:DL18,2)","v":""},{"$f":"IF(DN7=DH7,DI7,\"\")","v":""},{"$f":"IF(DQ7=0,0,DQ7+1)","v":0},{"$f":"DO19","v":0},0,null,3,"2016-02-02",3,"02.02.2016",null,{"$f":"DY6","v":0},{"$f":"DZ6","v":1},{"$f":"EA6","v":13},null,null,null,2,{"$f":"DH7","v":"Feb, 17"},{"$f":"EE7","v":2},{"$f":"IF(DZ6=1,13,DZ6)","v":13},1,{"$f":"IF(DY5=0,\"\",IF(EH7<14,VLOOKUP(EH7,EE7:EF18,2),\"\"))","v":""},2,{"$f":"VLOOKUP(EK7,EI7:EJ18,2)","v":""},{"$f":"IF(EL7=EF7,EG7,\"\")","v":""},{"$f":"IF(EO7=0,0,EO7+1)","v":0},{"$f":"EM19","v":0},0,null,null,null,null,null,13,{"$f":"EW6","v":0},{"$f":"EX6","v":0},13,{"$f":"EZ6","v":0},{"$f":"FA6","v":0},13,{"$f":"FC6","v":0},0,13,0,0,13,0,0,{"$f":"FK6","v":13},0,0,13,0,0,13,0,0,13,13,13,0,0,0,null,4,4,4,"15 days in APR, 17",0,0,4,15,17,3,"2017-03-03",null,3,{"$f":"CONCATENATE(GD30,GF30,\".\",GE30,GG30,\".\",GH30)","v":"03.03.17"},{"$f":"IF(GO5=\"DATE\",\"\",DAY(GO5))","v":""},{"$f":"IF(GO5=\"DATE\",\"\",MONTH(GO5))","v":""},{"$f":"YEAR(GO5)","v":{"$error":"#VALUE!"}},{"$f":"GR6","v":1},3,{"$f":"GN7","v":"03.03.17"},{"$f":"IF(GU5=\"DATE\",\"\",DAY(GU5))","v":""},{"$f":"IF(GU5=\"DATE\",\"\",MONTH(GU5))","v":""},{"$f":"YEAR(GU5)","v":{"$error":"#VALUE!"}},{"$f":"GX6","v":1},3,{"$f":"IF(HA7=\"\",\"\",VLOOKUP(HA7,GS6:GT344,2))","v":"03.03.17"},{"$f":"HA6+1","v":3},{"$f":"HB6","v":0.12},3,0.2,{"$f":"IF(GR7=1,\"\",HD7)","v":""},{"$f":"IF(GX7=1,\"\",HD7)","v":""},null,{"$f":"HH6","v":0.12},null,null,{"$f":"HK6","v":0.12},null,null,5,5,0.12,{"$f":"IF(HR7>0,0,HB7)","v":0.12},0,0,{"$f":"IF(HO7>=GW10,HK8,0)","v":0},{"$f":"HU6","v":0.12},{"$f":"HV6","v":0.12},null,"Jun",2017,"Jun, 2017",{"$f":"IA6","v":"Apr, 2017"},"1 Month",null,5,2,"Apr, 2017 : 1 Month",null,0,{"$f":"IF(II3=0,0,II4)","v":"00:00:00"},15030,6,15030,16400,null,15,15,3,"Apr, 15",0,6,"Jun, 15",6,19,5,"",null,"","",0,0,8000,12000,8000,20000,15000,15000]
[null,"District",{"$f":"IF('DATA 1'!D8=\"\",\"\",UPPER('DATA 1'!D8))","v":""},null,null,4,3,4,"2017-04-01",{"$f":"IF(M8=0,L8,M8)","v":39160},{"$f":"IF('DATA 1'!AE7=2,Sheet4!E6,IF('DATA 1'!AA8>0,'DATA 1'!AA8,IF('DATA 1'!AA8=0,0,Sheet4!E6)))","v":39160},{"$f":"IF('DATA 1'!T10=0,Sheet4!F6,IF('DATA 1'!AE7=1,'DATA 1'!T10,CE8))","v":39160},{"$f":"IF('DATA 1'!U10=0,Sheet4!G6,IF('DATA 1'!AE16=1,'DATA 1'!U10,S56))","v":0},0,0,"",{"$f":"SUM(R8:S8)","v":0},0,"",{"$f":"ROUND(K8*U8,0)","v":7182},{"$f":"IF('DA 2.2'!C15<DATA!I8,0.22008,IF(I8<='DA 1.2'!C16,0.15196,0.1834))","v":0.18340000000000001},4699,null,{"$f":"IF(H8=GW24,GX41,0)","v":0},{"$f":"IF(H8=GW24,GU41,ROUND(K8*HP6,0))","v":4699},null,{"$f":"IF(JC4=0,0.27,IF(H8>=JC4,0,0.27))","v":0.27},{"$f":"SUM(AC8:AD8)","v":0},0,"",0,{"$f":"SUM(AG8:AH8)","v":0},0,"",{"$f":"SUM(AJ8:AK8)","v":0},0,"",{"$f":"SUM(AM8:AN8)","v":0},{"$f":"IF(G8<=FB5,FC6,\"\")","v":0},{"$f":"IF(G8>FB5,FD6,\"\")","v":""},{"$f":"SUM(AP8:AQ8)","v":0},0,{"$f":"SUM(AR8:AS8)","v":0},"","",{"$f":"SUM(AU8:AV8)","v":0},0,"",{"$f":"SUM(AX8:AY8)","v":0},0,"",{"$f":"K8+N8+Q8+T8+V8+Z8+AB8+AE8+AF8+AI8+AL8+AO8+AT8","v":51041},{"$f":"SUM(BB8:BD8)","v":4634},0,"",{"$f":"IF(EN26=\"CPS\",ROUND((K8+T8)*0.1,0),0)","v":4634},{"$f":"SUM(BF8:BG8)","v":1400},1400,{"$f":"IF(G8>EY29,FA29,\"\")","v":""},{"$f":"SUM(BI8:BJ8)","v":60},60,"",{"$f":"SUM(BL8:BM8)","v":90},90,"",{"$f":"IF(AO8>0,0,IF(AND(0<=AZ8,AZ8<=15000),0,IF(AND(15000<AZ8,AZ8<=20000),150,IF(AZ8>20000,200))))","v":200},{"$f":"SUM(BP8:BQ8)","v":0},0,"",null,null,null,0,{"$f":"'DATA 1'!O19","v":0},7934,43107,null,40,4,14170,"2017-04-01",40,{"$f":"VLOOKUP(CD8,CA5:CB84,2)","v":39160},0,{"$f":"IF(CQ8=CR8,1,0)*CN8","v":0},0,0,0,0,0,0,1,0,0,10,4,"2017-04-01",null,null,4,"2016-02-03",4,"03.02.2016",null,0,1,{"$f":"DC7","v":13},31,{"$f":"DE7","v":0},{"$f":"DF7","v":32},3,"Mar, 17",{"$f":"DG8","v":3},{"$f":"IF(DJ7=1,13,DJ7+1)","v":14},2,{"$f":"IF(DA6=0,\"\",DH8)","v":""},null,{"$f":"DN7","v":""},{"$f":"IF(DN8=DH8,DI8,\"\")","v":""},{"$f":"IF(DQ8=0,0,DQ8+1)","v":0},{"$f":"DQ7","v":0},1,null,4,"2016-02-03",4,"03.02.2016",null,0,1,{"$f":"EA7","v":13},null,null,null,3,{"$f":"DH8","v":"Mar, 17"},{"$f":"EE8","v":3},{"$f":"IF(EH7=1,13,EH7+1)","v":14},2,{"$f":"IF(DY5=0,\"\",IF(EH8<14,VLOOKUP(EH8,EE8:EF19,2),\"\"))","v":""},null,{"$f":"EL7","v":""},{"$f":"IF(EL8=EF8,EG8,\"\")","v":""},{"$f":"IF(EO8=0,0,EO8+1)","v":0},{"$f":"EO7","v":0},0,null,null,null,null,null,13,0,0,13,0,0,13,0,0,13,0,0,13,0,0,{"$f":"FK7","v":13},0,0,13,0,0,13,0,0,13,13,13,0,0,0,null,5,4,5,"30 days in APR, 17",0,0,5,30,17,4,"2017-03-04",null,4,"04.03.17",{"$f":"GO7","v":""},{"$f":"IF(GO5=\"DATE\",\"\",IF(GO7>1,MONTH(GQ5)+1,MONTH(GQ5)))","v":""},{"$f":"IF(GP8=1,13,IF(GP8=2,14,IF(GP8=3,14,GP8)))","v":""},1,4,{"$f":"GN8","v":"04.03.17"},null,{"$f":"IF(GU5=\"DATE\",\"\",IF(GU7>1,MONTH(GW5)+1,MONTH(GW5)))","v":""},{"$f":"IF(GV8=1,13,IF(GV8=2,14,IF(GV8=3,14,GV8)))","v":""},{"$f":"GX7","v":1},4,{"$f":"IF(HA8=\"\",\"\",VLOOKUP(HA8,GS7:GT345,2))","v":"04.03.17"},{"$f":"HA7+1","v":4},{"$f":"HB7","v":0.12},4,0.3,{"$f":"IF(GR8=1,\"\",HD8)","v":""},{"$f":"IF(GX8=1,\"\",HD8)","v":""},null,{"$f":"HH7","v":0.12},null,null,{"$f":"HK7","v":0.12},null,null,6,6,0.12,0.12,0,0,0,0.12,0.12,null,"Jul",2017,"Jul, 2017",{"$f":"HZ6","v":"May, 2017"},"15 Days",null,6,1,"May, 2017 : 15 Days",null,0,{"$f":"IF(II3=0,0,II4)","v":"00:00:00"},15460,7,15460,16870,null,15,15,4,"Apr, 15",0,7,"Jul, 15",7,20,6,"",null,"","",0,0,8000,12000,8000,20000,15000,15000]
[null,"Mandal",{"$f":"IF('DATA 1'!D9=\"\",\"\",UPPER('DATA 1'!D9))","v":""},null,null,5,4,5,"2017-05-01",39160,{"$f":"IF('DATA 1'!AE8=2,Sheet4!E7,IF('DATA 1'!AA9>0,'DATA 1'!AA9,IF('DATA 1'!AA9=0,0,Sheet4!E7)))","v":39160},{"$f":"IF('DATA 1'!T11=0,Sheet4!F7,IF('DATA 1'!AE8=1,'DATA 1'!T11,CE9))","v":39160},{"$f":"IF('DATA 1'!U11=0,Sheet4!G7,IF('DATA 1'!AE17=1,'DATA 1'!U11,S57))","v":0},0,0,"",0,0,"",{"$f":"ROUND(K9*U9,0)","v":7182},{"$f":"IF('DA 2.2'!C16<DATA!I9,0.22008,IF(I9<='DA 1.2'!C17,0.15196,0.1834))","v":0.18340000000000001},4699,null,0,4699,null,0.27,0,0,"",0,0,0,"",0,0,"",0,0,"",0,0,0,"","",0,0,"",0,0,"",51041,4634,0,"",4634,1400,1400,"",60,60,"",90,90,"",200,0,0,"",null,null,null,0,{"$f":"'DATA 1'!O20","v":0},7934,43107,null,40,5,14600,"2017-05-01",40,{"$f":"VLOOKUP(CD9,CA5:CB84,2)","v":39160},0,0,0,0,0,0,0,0,1,0,0,10,5,"2017-05-01",null,null,5,"2016-02-04",5,"04.02.2016",null,0,1,13,31,0,32,4,"Apr, 17",4,{"$f":"IF(DJ8=1,13,DJ8+1)","v":15},3,"",null,{"$f":"DN8","v":""},"",0,{"$f":"DQ8","v":0},2,null,5,"2016-02-04",5,"04.02.2016",null,0,1,13,null,null,null,4,"Apr, 17",4,{"$f":"IF(EH8=1,13,EH8+1)","v":15},3,{"$f":"IF(DY6=0,\"\",IF(EH9<14,VLOOKUP(EH9,EE9:EF20,2),\"\"))","v":""},null,{"$f":"EL8","v":""},"",0,{"$f":"EO8","v":0},0,null,null,null,null,null,13,0,0,13,0,0,13,0,0,13,0,0,13,0,0,{"$f":"FK8","v":13},0,0,13,0,0,13,0,0,13,13,13,0,0,0,null,6,5,6,"15 days in MAY, 17",0,0,6,15,17,5,"2017-03-05",null,5,"05.03.17",null,{"$f":"GP8","v":""},{"$f":"IF(GP9=1,13,IF(GP9=2,14,IF(GP9=3,14,GP9)))","v":""},1,5,"05.03.17",null,{"$f":"GV8","v":""},{"$f":"IF(GV9=1,13,IF(GV9=2,14,IF(GV9=3,14,GV9)))","v":""},1,5,"05.03.17",5,0.12,5,0,{"$f":"IF(GR9=1,\"\",HD9)","v":""},{"$f":"IF(GX9=1,\"\",HD9)","v":""},null,0.12,null,null,0.12,null,null,7,7,0.12,0.12,0,0,0,0.12,0.12,null,"Aug",2017,"Aug, 2017",{"$f":"IA8","v":"May, 2017"},"1 Month",null,7,2,"May, 2017 : 1 Month",null,0,{"$f":"IF(II3=0,0,II4)","v":"00:00:00"},15930,8,15930,17380,null,15,15,5,"May, 15",0,8,"Aug, 15",8,21,7,"",null,"","",0,0,8000,12000,8000,20000,15000,15000]
[null,"PAN No.",{"$f":"IF('DATA 1'!D10=\"\",\"\",UPPER('DATA 1'!D10))","v":""},null,null,6,5,6,"2017-06-01",{"$f":"IF(M10=0,L10,M10)","v":39160},{"$f":"IF('DATA 1'!AE9=2,Sheet4!E8,IF('DATA 1'!AA10>0,'DATA 1'!AA10,IF('DATA 1'!AA10=0,0,Sheet4!E8)))","v":39160},{"$f":"IF('DATA 1'!T12=0,Sheet4!F8,IF('DATA 1'!AE9=1,'DATA 1'!T12,CE10))","v":39160},{"$f":"IF('DATA 1'!U12=0,Sheet4!G8,IF('DATA 1'!AE18=1,'DATA 1'!U12,S58))","v":0},0,0,"",0,0,"",7182,{"$f":"IF('DA 2.2'!C17<DATA!I10,0.22008,IF(I10<='DA 1.2'!C18,0.15196,0.1834))","v":0.18340000000000001},4699,null,0,4699,null,0.27,0,0,"",0,0,0,"",0,0,"",0,0,"",0,0,0,"","",0,0,"",0,0,"",51041,4634,0,"",4634,1400,1400,"",60,60,"",90,90,"",200,0,0,"",null,null,null,0,{"$f":"'DATA 1'!O21","v":0},7934,43107,null,40,6,15030,"2017-06-01",40,{"$f":"VLOOKUP(CD10,CA5:CB84,2)","v":39160},0,0,0,0,0,0,0,0,1,0,0,10,6,"2017-06-01",null,null,6,"2016-02-05",6,"05.02.2016",null,0,1,13,31,0,32,5,"May, 17",5,16,4,"",null,"","",0,0,3,null,6,"2016-02-05",6,"05.02.2016",null,0,1,13,null,null,null,5,"May, 17",5,16,4,"",null,"","",0,0,0,null,null,null,null,null,13,0,0,13,0,0,13,0,0,13,0,0,13,0,0,{"$f":"FK9","v":13},0,0,13,0,0,13,0,0,13,13,13,0,0,0,null,7,5,7,"30 days in MAY, 17",0,0,7,30,17,6,"2017-03-06",null,6,"06.03.17",null,{"$f":"GP9","v":""},"",1,6,"06.03.17",null,{"$f":"GV9","v":""},"",1,6,"06.03.17",6,0.12,null,null,null,null,null,0.12,null,null,0.12,null,null,8,8,0.12,0.12,0,0,0,0.12,0.12,null,"Sep",2017,"Sep, 2017",{"$f":"HZ7","v":"Jun, 2017"},"15 Days",null,8,1,"Jun, 2017 : 15 Days",null,0,{"$f":"IF(II3=0,0,II4)","v":"00:00:00"},16400,9,16400,17890,null,15,15,6,"Jun, 15",0,9,"Sep, 15",9,22,8,"",null,"","",0,0,8000,12000,8000,20000,15000,15000]
[null,"DDO  Details",null,null,null,7,6,7,"2017-07-01",39160,{"$f":"IF('DATA 1'!AE10=2,Sheet4!E9,IF('DATA 1'!AA11>0,'DATA 1'!AA11,IF('DATA 1'!AA11=0,0,Sheet4!E9)))","v":39160},{"$f":"IF('DATA 1'!T13=0,Sheet4!F9,IF('DATA 1'!AE10=1,'DATA 1'!T13,CE11))","v":39160},{"$f":"IF('DATA 1'!U13=0,Sheet4!G9,IF('DATA 1'!AE19=1,'DATA 1'!U13,S59))","v":0},0,0,"",0,0,"",7182,{"$f":"IF('DA 2.2'!C18<DATA!I11,0.22008,IF(I11<='DA 1.2'!C19,0.15196,0.1834))","v":0.18340000000000001},4699,null,0,4699,null,0.27,0,0,"",0,0,0,"",0,0,"",0,0,"",0,0,0,"","",0,0,"",0,0,"",51041,4634,0,"",4634,1400,1400,"",60,60,"",90,90,"",200,0,0,"",null,null,null,0,{"$f":"'DATA 1'!O22","v":0},7934,43107,null,40,7,15460,"2017-07-01",40,{"$f":"VLOOKUP(CD11,CA5:CB84,2)","v":39160},0,0,0,0,0,0,0,0,1,0,0,10,7,"2017-07-01",null,null,7,"2016-02-06",7,"06.02.2016",null,0,1,13,31,0,32,6,"Jun, 17",6,17,5,"",null,"","",0,0,4,null,7,"2016-02-06",7,"06.02.2016",null,0,1,13,null,null,null,6,"Jun, 17",6,17,5,"",null,"","",0,0,0,null,null,null,null,null,13,0,0,13,0,0,13,0,0,13,0,0,13,0,0,{"$f":"FK10","v":13},0,0,13,0,0,13,0,0,13,13,13,0,0,0,null,8,6,8,"15 days in JUN, 17",0,0,8,15,17,7,"2017-03-07",null,7,"07.03.17",null,"","",1,7,"07.03.17",null,"","",1,7,"07.03.17",7,0.12,null,null,null,null,null,0.12,null,null,0.12,null,null,9,9,0.12,0.12,0,0,0,0.12,0.12,null,"Oct",2017,"Oct, 2017",{"$f":"IA10","v":"Jun, 2017"},"1 Month",null,9,2,"Jun, 2017 : 1 Month",null,0,{"$f":"IF(II3=0,0,II4)","v":"00:00:00"},16870,10,16870,18400,null,15,15,7,"Jul, 15",0,10,"Oct, 15",10,23,9,"",null,"","",0,0,8000,12000,8000,20000,15000,15000]
[null,null,null,null,null,8,7,8,"2017-08-01",39160,{"$f":"IF('DATA 1'!AE11=2,Sheet4!E10,IF('DATA 1'!AA12>0,'DATA 1'!AA12,IF('DATA 1'!AA12=0,0,Sheet4!E10)))","v":39160},{"$f":"IF('DATA 1'!T14=0,Sheet4!F10,IF('DATA 1'!AE11=1,'DATA 1'!T14,CE12))","v":39160},{"$f":"IF('DATA 1'!U14=0,Sheet4!G10,IF('DATA 1'!AE20=1,'DATA 1'!U14,S60))","v":0},0,0,"",0,0,"",7182,{"$f":"IF('DA 2.2'!C19<DATA!I12,0.22008,IF(I12<='DA 1.2'!C20,0.15196,0.1834))","v":0.18340000000000001},4699,null,0,{"$f":"IF(H12=GW28,GU45,ROUND(K12*HP10,0))","v":4699},null,0.27,0,0,"",0,0,0,"",0,0,"",0,0,"",0,0,0,"","",0,0,"",0,0,"",51041,4634,0,"",4634,1400,1400,"",60,60,"",90,90,"",200,0,0,"",null,null,null,0,{"$f":"'DATA 1'!O23","v":0},7934,43107,null,40,8,15930,{"$f":"CS12","v":"2017-08-01"},40,{"$f":"VLOOKUP(CD12,CA5:CB84,2)","v":39160},0,0,0,0,0,0,0,0,1,0,0,10,8,"2017-08-01",null,null,8,"2016-02-07",8,"07.02.2016",null,0,1,13,31,0,32,7,"Jul, 17",7,18,6,"",null,"","",0,0,5,null,8,"2016-02-07",8,"07.02.2016",null,0,1,13,null,null,null,7,"Jul, 17",7,18,6,"",null,"","",0,0,0,null,null,null,null,null,13,0,0,13,0,0,13,0,0,13,0,0,13,0,0,{"$f":"FK11","v":13},0,0,13,0,0,13,0,0,13,13,13,0,0,0,null,9,6,9,"30 days in JUN, 17",0,0,9,30,17,8,"2017-03-08",null,8,"08.03.17",null,"","",1,8,"08.03.17",null,"","",1,8,"08.03.17",8,0.12,null,null,null,null,null,0.12,null,null,0.12,null,null,10,10,0.12,0.12,0,0,0,0.12,0.12,null,"Nov",{"$f":"HY13","v":2017},"Nov, 2017",{"$f":"HZ8","v":"Jul, 2017"},"15 Days",null,10,1,"Jul, 2017 : 15 Days",null,0,{"$f":"IF(II3=0,0,II4)","v":"00:00:00"},17380,11,17380,18950,null,15,15,8,"Aug, 15",0,11,"Nov, 15",11,24,10,"",null,"","",0,0,8000,12000,8000,20000,15000,15000]
[null,"DDO's Name",{"$f":"IF('DATA 1'!D11=\"\",\"\",'DATA 1'!D11)","v":"Sri."},{"$f":"IF('DATA 1'!E11=\"\",\"\",UPPER('DATA 1'!E11))","v":""},null,9,8,9,"2017-09-01",39160,{"$f":"IF('DATA 1'!AE12=2,Sheet4!E11,IF('DATA 1'!AA13>0,'DATA 1'!AA13,IF('DATA 1'!AA13=0,0,Sheet4!E11)))","v":39160},{"$f":"IF('DATA 1'!T15=0,Sheet4!F11,IF('DATA 1'!AE12=1,'DATA 1'!T15,CE13))","v":39160},{"$f":"IF('DATA 1'!U15=0,Sheet4!G11,IF('DATA 1'!AE21=1,'DATA 1'!U16,S61))","v":0},0,0,"",0,0,"",8618,{"$f":"IF('DA 2.2'!C20<DATA!I13,0.22008,IF(I13<='DA 1.2'!C21,0.15196,0.1834))","v":0.22008},4699,null,0,4699,null,0.27,0,0,"",0,0,0,"",0,0,"",0,0,"",0,0,0,"","",0,0,"",0,0,"",52477,4778,0,"",4778,1400,1400,"",60,60,"",90,90,"",200,0,0,"",null,null,null,0,{"$f":"'DATA 1'!O24","v":0},8078,44399,null,40,9,16400,"2017-09-01",40,{"$f":"VLOOKUP(CD13,CA5:CB84,2)","v":39160},0,0,0,0,0,0,0,0,1,0,0,10,9,"2017-09-01",null,null,9,"2016-02-08",9,"08.02.2016",null,0,1,13,31,0,32,8,"Aug, 17",8,19,7,"",null,"","",0,0,6,null,9,"2016-02-08",9,"08.02.2016",null,0,1,13,null,null,null,8,"Aug, 17",8,19,7,"",null,"","",0,0,0,null,null,null,null,null,13,0,0,13,0,0,13,0,0,13,0,0,13,0,0,{"$f":"FK12","v":13},0,0,13,0,0,{"$f":"FQ12","v":13},0,0,13,13,13,0,0,0,null,10,7,10,"15 days in JUL, 17",0,0,10,15,17,9,"2017-03-09",null,9,"09.03.17",null,"","",1,9,"09.03.17",null,"","",1,9,"09.03.17",9,0.12,null,null,null,null,null,0.12,null,null,0.12,null,null,11,11,0.12,0.12,0,0,0,0.12,0.12,null,"Dec",{"$f":"HY14-1","v":2017},"Dec, 2017",{"$f":"IA12","v":"Jul, 2017"},"1 Month",null,11,2,"Jul, 2017 : 1 Month",null,0,{"$f":"IF(II3=0,0,II4)","v":"00:00:00"},17890,12,17890,19500,null,15,15,9,"Sep, 15",0,12,"Dec, 15",12,25,11,"",null,"","",0,0,8000,12000,8000,20000,15000,15000]
[null,"DDO's Designation",{"$f":"IF('DATA 1'!D12=\"\",\"\",UPPER('DATA 1'!D12))","v":""},null,null,10,9,10,"2017-10-01",{"$f":"IF(M14=0,L14,M14)","v":40270},{"$f":"IF('DATA 1'!AE13=2,Sheet4!E12,IF('DATA 1'!AA14>0,'DATA 1'!AA14,IF('DATA 1'!AA14=0,0,Sheet4!E12)))","v":40270},{"$f":"IF('DATA 1'!T16=0,Sheet4!F12,IF('DATA 1'!AE13=1,'DATA 1'!T16,CE14))","v":40270},{"$f":"IF('DATA 1'!U16=0,Sheet4!G12,IF('DATA 1'!AE22=1,'DATA 1'!U16,S62))","v":0},0,0,"",0,0,"",8863,{"$f":"IF('DA 2.2'!C21<DATA!I14,0.22008,IF(I14<='DA 1.2'!C22,0.15196,0.1834))","v":0.22008},4832,null,0,4832,null,0.27,0,0,"",0,0,0,"",0,0,"",0,0,"",0,0,0,"","",0,0,"",0,0,"",53965,4913,0,"",4913,1400,1400,"",60,60,"",90,90,"",200,0,0,"",null,null,null,0,{"$f":"'DATA 1'!O25","v":0},8213,45752,null,40,10,16870,"2017-10-01",41,{"$f":"VLOOKUP(CD14,CA5:CB84,2)","v":40270},{"$f":"SUM(CG14:CK14)","v":1},1,0,0,0,0,0,0,1,0,0,10,10,"2017-10-01",null,null,10,"2016-02-09",10,"09.02.2016",null,0,1,13,31,0,32,9,"Sep, 17",9,20,8,"",null,"","",0,0,7,null,10,"2016-02-09",10,"09.02.2016",null,0,1,13,null,null,null,9,"Sep, 17",9,20,8,"",null,"","",0,0,0,null,null,null,null,null,13,{"$f":"EW13","v":0},{"$f":"EX13","v":0},13,{"$f":"EZ13","v":0},{"$f":"FA13","v":0},13,{"$f":"FC13","v":0},{"$f":"FD13","v":0},13,{"$f":"FF13","v":0},{"$f":"FG13","v":0},13,0,0,{"$f":"FK13","v":13},0,0,13,0,0,13,{"$f":"FR13","v":0},0,13,13,13,{"$f":"FW13","v":0},0,{"$f":"FY13","v":0},null,11,7,11,"30 days in JUL, 17",0,0,11,30,17,10,"2017-03-10",null,10,"10.03.17",null,"","",1,10,"10.03.17",null,"","",1,10,"10.03.17",10,0.12,null,null,null,null,null,0.12,null,null,0.12,null,null,12,12,0.12,0.12,0,0,0,0.12,0.12,null,"Jan",{"$f":"E24","v":2018},"Jan, 2018",{"$f":"HZ9","v":"Aug, 2017"},"15 Days",null,12,1,"Aug, 2017 : 15 Days",null,0,{"$f":"IF(II3=0,0,II4)","v":"00:00:00"},18400,13,18400,20050,null,15,15,10,"Oct, 15",0,13,"Jan, 16",13,26,12,"",null,"","",0,0,8000,12000,8000,20000,15000,15000]
[null,"DDO's Office",{"$f":"IF('DATA 1'!D13=\"\",\"\",UPPER('DATA 1'!D13))","v":""},null,null,11,10,11,"2017-11-01",40270,{"$f":"IF('DATA 1'!AE14=2,Sheet4!E13,IF('DATA 1'!AA15>0,'DATA 1'!AA15,IF('DATA 1'!AA15=0,0,Sheet4!E13)))","v":40270},{"$f":"IF('DATA 1'!T8=0,Sheet4!F13,IF('DATA 1'!AE14=1,'DATA 1'!T8,CE15))","v":40270},{"$f":"IF('DATA 1'!U8=0,Sheet4!G13,IF('DATA 1'!AE23=1,'DATA 1'!U8,S63))","v":0},0,0,"",0,0,"",8863,{"$f":"IF('DA 2.2'!C22<DATA!I15,0.22008,IF(I15<='DA 1.2'!C23,0.15196,0.1834))","v":0.22008},4832,null,0,4832,null,0.27,0,0,"",0,0,0,"",0,0,"",0,0,"",0,0,0,"","",0,0,"",0,0,"",53965,4913,0,"",4913,1400,1400,"",60,60,"",90,90,"",200,0,0,"",null,null,null,0,{"$f":"'DATA 1'!O26","v":0},8213,45752,null,40,11,17380,"2017-11-01",41,{"$f":"VLOOKUP(CD15,CA5:CB84,2)","v":40270},0,0,0,0,0,0,0,0,1,0,0,10,11,"2017-11-01",null,null,11,"2016-02-10",11,"10.02.2016",null,0,1,13,31,0,32,10,"Oct, 17",10,21,9,"",null,"","",0,0,8,null,11,"2016-02-10",11,"10.02.2016",null,0,1,13,null,null,null,10,"Oct, 17",10,21,9,"",null,"","",0,0,0,null,null,null,null,null,13,{"$f":"EW14","v":0},{"$f":"EX14","v":0},13,{"$f":"EZ14","v":0},{"$f":"FA14","v":0},13,{"$f":"FC14","v":0},0,13,0,0,13,0,0,{"$f":"FK14","v":13},0,0,13,0,0,{"$f":"FQ14","v":13},0,0,13,13,13,0,0,0,null,12,8,12,"15 days in AUG, 17",0,0,12,15,17,11,"2017-03-11",null,11,"11.03.17",null,"","",1,11,"11.03.17",null,"","",1,11,"11.03.17",11,0.12,null,null,null,null,null,0.12,null,null,0.12,null,null,13,13,0.12,0.12,0,0,0,0.12,0.12,null,"Feb",{"$f":"HY14","v":2018},"Feb, 2018",{"$f":"IA14","v":"Aug, 2017"},"1 Month",null,13,2,"Aug, 2017 : 1 Month",null,0,{"$f":"IF(II3=0,0,II4)","v":"00:00:00"},18950,14,18950,20640,null,15,15,11,"Nov, 15",null,null,null,null,null,null,"MONTH",null,{"$f":"JA14","v":""},{"$f":"SUM(JB3:JB14)","v":0},0,0,8000,12000,8000,20000,15000,15000]
[null,"DDO's PAN No.",{"$f":"IF('DATA 1'!D14=\"\",\"\",UPPER('DATA 1'!D14))","v":""},null,null,12,11,12,"2017-12-01",40270,{"$f":"IF('DATA 1'!AE15=2,Sheet4!E14,IF('DATA 1'!AA16>0,'DATA 1'!AA16,IF('DATA 1'!AA16=0,0,Sheet4!E14)))","v":40270},{"$f":"IF('DATA 1'!T9=0,Sheet4!F14,IF('DATA 1'!AE15=1,'DATA 1'!T9,CE16))","v":40270},{"$f":"IF('DATA 1'!U9=0,Sheet4!G14,IF('DATA 1'!AE24=1,'DATA 1'!U9,S64))","v":0},0,0,"",0,0,"",8863,{"$f":"IF('DA 2.2'!C23<DATA!I16,0.22008,IF(I16<='DA 1.2'!C24,0.15196,0.1834))","v":0.22008},4832,null,0,{"$f":"IF(H16=GW32,GU49,ROUND(K16*HP14,0))","v":4832},null,0.27,0,0,"",0,0,0,"",0,0,"",0,0,"",0,0,0,"","",0,0,"",0,0,"",53965,4913,0,"",4913,1400,1400,"",60,60,"",90,90,"",200,0,0,"",null,null,null,{"$f":"'DATA 1'!O14","v":50},{"$f":"'DATA 1'!O27","v":0},8263,45702,null,40,12,17890,"2017-12-01",41,{"$f":"VLOOKUP(CD16,CA5:CB84,2)","v":40270},0,0,0,0,0,0,0,0,1,0,0,10,12,"2017-12-01",null,null,12,"2016-02-11",12,"11.02.2016",null,0,1,13,31,0,32,11,"Nov, 17",11,22,10,"",null,"","",0,0,9,null,12,"2016-02-11",12,"11.02.2016",null,0,1,13,null,null,null,11,"Nov, 17",11,22,10,"",null,"","",0,0,0,null,null,null,null,null,13,0,0,13,0,0,13,0,0,13,{"$f":"FF15","v":0},0,13,0,0,{"$f":"FK15","v":13},0,0,13,0,0,{"$f":"FQ15","v":13},0,0,13,13,13,0,0,0,null,13,8,13,"30 days in AUG, 17",0,0,13,30,17,12,"2017-03-12",null,12,"12.03.17",null,"","",1,12,"12.03.17",null,"","",1,12,"12.03.17",12,0.12,null,null,null,null,null,0.12,null,null,0.12,null,null,14,14,0.12,0.12,0,0,0,0.12,0.12,null,null,null,null,{"$f":"HZ10","v":"Sep, 2017"},"15 Days",null,14,1,"Sep, 2017 : 15 Days",null,0,{"$f":"IF(II3=0,0,II4)","v":"00:00:00"},19500,15,19500,21230,null,15,15,12,"Dec, 15",null,null,null,null,null,null,null,null,null,{"$f":"IZ3","v":3},{"$f":"JC15","v":0},{"$f":"JD15","v":0},{"$f":"JE15","v":8000},12000,8000,20000,15000,{"$f":"JJ15","v":15000}]
[null,"DDO's TAN No.",{"$f":"IF('DATA 1'!D15=\"\",\"\",'DATA 1'!D15)","v":""},null,null,1,12,13,"2018-01-01",40270,{"$f":"IF('DATA 1'!AE16=2,Sheet4!E15,IF('DATA 1'!AA17>0,'DATA 1'!AA17,IF('DATA 1'!AA17=0,0,Sheet4!E15)))","v":40270},{"$f":"IF('DATA 1'!S35=0,Sheet4!F15,IF('DATA 1'!AE16=1,'DATA 1'!S35,CE17))","v":40270},{"$f":"IF('DATA 1'!T35=0,Sheet4!G15,IF('DATA 1'!AE25=1,'DATA 1'!T35,S65))","v":0},0,0,"",0,0,"",8863,{"$f":"IF('DA 2.2'!C24<DATA!I17,0.22008,IF(I17<='DA 1.2'!C25,0.15196,0.1834))","v":0.22008},4832,null,0,4832,null,0.27,0,0,"",0,0,0,"",0,0,"",0,0,"",0,0,0,"","",0,0,"",0,0,"",53965,4913,0,"",4913,1400,1400,"",60,60,"",90,90,"",200,0,0,"",null,null,null,0,{"$f":"'DATA 1'!O28","v":0},8213,45752,null,40,13,18400,"2018-01-01",41,{"$f":"VLOOKUP(CD17,CA5:CB84,2)","v":40270},0,0,0,0,0,0,0,0,1,0,0,10,13,"2018-01-01",null,null,13,"2016-02-12",13,"12.02.2016",null,0,1,13,31,0,32,12,"Dec, 17",12,23,11,"",null,"","",0,0,10,null,13,"2016-02-12",13,"12.02.2016",null,0,1,13,null,null,null,12,"Dec, 17",12,23,11,"",null,"","",0,0,0,null,null,null,null,null,13,0,0,13,0,0,13,0,0,13,0,0,13,0,0,13,0,0,13,0,0,{"$f":"FQ16","v":13},0,0,13,13,13,0,0,0,null,14,9,14,"15 days in SEP, 17",0,0,14,15,17,13,"2017-03-13",null,13,"13.03.17",null,"","",1,13,"13.03.17",null,"","",1,13,"13.03.17",13,0.12,null,null,null,null,null,0.12,null,null,0.12,null,null,null,null,null,null,null,null,null,null,null,null,null,null,null,{"$f":"IA16","v":"Sep, 2017"},"1 Month",null,15,2,"Sep, 2017 : 1 Month",null,0,null,{"$f":"IL17","v":20050},16,20050,21820,null,15,15,13,"Jan, 16",null,null,null,null,null,null,null,null,null,{"$f":"JB15-IZ3","v":-3},{"$f":"JC16","v":0},{"$f":"JD16","v":0}]
[null,null,{"$f":"IF(D19=\"\",\"\",\",\")","v":""},{"$f":"IF(C6=C15,C15,CONCATENATE(C6,\", \",C15))","v":""},null,2,13,14,"2018-02-01",40270,{"$f":"IF('DATA 1'!AE17=2,Sheet4!E16,IF('DATA 1'!AA18>0,'DATA 1'!AA18,IF('DATA 1'!AA18=0,0,Sheet4!E16)))","v":40270},{"$f":"IF('DATA 1'!S38=0,Sheet4!F16,IF('DATA 1'!AE17=1,'DATA 1'!S38,CE18))","v":40270},{"$f":"IF('DATA 1'!T38=0,Sheet4!G16,IF('DATA 1'!AE26=1,'DATA 1'!T38,S66))","v":0},0,0,"",0,0,"",8863,{"$f":"IF('DA 2.2'!C25<DATA!I18,0.22008,IF(I18<='DA 1.2'!C26,0.15196,0.1834))","v":0.22008},4832,null,0,4832,null,0.27,0,0,"",0,0,0,"",0,0,"",0,0,"",0,0,0,"","",0,0,"",0,0,"",53965,4913,{"$f":"IF(G18<=EV39,EW39,\"\")","v":0},"",{"$f":"IF(EN36=\"CPS\",ROUND((K18+T18)*0.1,0),0)","v":4913},1400,1400,"",60,60,"",90,90,"",200,0,0,"",null,null,null,0,{"$f":"'DATA 1'!O29","v":0},8213,45752,null,40,14,18950,"2018-02-01",41,{"$f":"VLOOKUP(CD18,CA5:CB84,2)","v":40270},0,0,0,0,0,0,0,0,1,0,0,10,14,"2018-02-01",null,null,14,"2016-02-13",14,"13.02.2016",null,0,1,13,31,0,32,13,"Jan, 18",13,24,12,"",null,"","",0,0,11,null,14,"2016-02-13",14,"13.02.2016",null,0,1,13,null,null,null,13,"Jan, 18",13,24,12,"",null,"","",0,0,{"$f":"EP17","v":0},null,null,null,null,null,null,0,0,null,0,0,null,0,0,null,0,0,null,0,0,null,{"$f":"FL17","v":0},0,null,{"$f":"FO17","v":0},0,null,0,0,null,null,null,0,0,0,null,15,9,15,"30 days in SEP, 17",0,0,15,30,17,14,"2017-03-14",null,14,"14.03.17",null,"","",1,14,"14.03.17",null,"","",1,14,"14.03.17",14,0.12,null,null,null,null,null,0.12,null,null,0.12,null,null,null,null,null,null,null,null,null,null,null,null,null,null,null,{"$f":"HZ11","v":"Oct, 2017"},"15 Days",null,16,1,"Oct, 2017 : 15 Days",null,0,null,20640,17,20640,22460,null,15,15,14,"FEb, 16",null,null,null,null,null,null,null,null,null,{"$f":"IF(JB17>0,JB17,0)","v":0},0,0]
[null,null,null,{"$f":"IF(C9=\"\",\"\",CONCATENATE(C9,\" \",\"(M), \",C8,\" \",\"(Dt.)\"))","v":""},null,null,null,"DA Arrear1",null,{"$f":"IF(M19=\"\",L19,M19)","v":0},null,null,null,null,null,null,null,null,null,{"$f":"'DA 1.3'!K3","v":18177},null,null,null,null,null,null,null,null,null,null,null,null,null,null,null,null,null,null,null,null,null,null,null,null,null,null,null,null,null,null,null,{"$f":"J19+N19+Q19+T19+V19+Z19+AB19+AE19+AF19+AI19+AL19+AO19+AT19","v":18177},{"$f":"IF(EN36=\"cps\",0,'DA 1.3'!L3)","v":0},null,null,{"$f":"IF(EN36=\"zppf\",0,IF('DA 1.3'!E2=2,'DA 1.3'!M3,'DA 1.3'!D3))","v":1818},null,null,null,null,null,null,null,null,null,null,null,null,null,null,null,null,null,null,{"$f":"SUM(BD19:BU19)+BA19","v":1818},16359,null,null,15,19500,"Not applicable",null,null,null,null,null,null,null,{"$f":"SUM(CK6:CK18)","v":0},null,null,null,null,0,10,15,"Not Applicable",null,null,15,"2016-02-14",15,"14.02.2016",null,0,1,13,31,0,32,null,null,null,null,null,"MONTH",null,{"$f":"DN18","v":""},{"$f":"SUM(DO7:DO18)","v":0},0,0,12,null,15,"2016-02-14",15,"14.02.2016",null,0,1,13,null,null,null,null,null,null,null,null,"MONTH",null,{"$f":"EL18","v":""},{"$f":"SUM(EM7:EM18)","v":0},0,0,0,null,null,null,null,null,null,0,0,null,0,0,null,0,0,null,0,0,null,0,0,null,0,0,null,0,0,null,0,0,null,null,null,0,0,0,null,16,10,16,"15 days in OCT, 17",{"$f":"GE18","v":0},0,16,15,17,15,"2017-03-15",null,15,"15.03.17",null,"","",1,15,"15.03.17",null,"","",null,15,"15.03.17",15,0.12,null,null,null,null,null,0.12,null,null,0.12,null,null,null,null,null,null,null,null,null,null,null,null,null,null,null,{"$f":"IA18","v":"Oct, 2017"},"1 Month",null,17,2,"Oct, 2017 : 1 Month",null,0,null,21230,18,21230,23100,null,15,15,15,"Not applicable",null,null,null,null,null,null,null,null,null,null,0,0]
[null,null,null,"Change every year:",null,null,null,"DA Arrear2",null,0,null,null,null,null,null,null,null,null,null,{"$f":"'DA 2.3'!K3","v":19993},null,null,null,null,null,null,null,null,null,null,null,null,null,null,null,null,null,null,null,null,null,null,null,null,null,null,null,null,null,null,null,{"$f":"J20+N20+Q20+T20+V20+Z20+AB20+AE20+AF20+AI20+AL20+AO20+AT20","v":19993},{"$f":"IF(EN36=\"cps\",0,'DA 2.3'!L3)","v":0},null,null,{"$f":"IF(EN36=\"zppf\",0,IF('DA 2.3'!E2=2,'DA 2.3'!M3,'DA 2.3'!D3))","v":2004},null,null,null,null,null,null,null,null,null,null,null,null,null,null,null,null,null,null,{"$f":"SUM(BD20:BU20)+BA20","v":2004},17989,null,null,16,20050,null,null,null,null,null,null,null,null,null,null,null,null,null,null,null,null,null,null,null,16,"2016-02-15",16,"15.02.2016",null,0,1,13,31,0,32,null,null,null,"aas from",{"$f":"DATE(DC5,DB5,DA5)","v":"00:00:00"},null,null,null,{"$f":"DB5","v":1},null,null,null,null,16,"2016-02-15",16,"15.02.2016",null,0,1,13,null,null,null,null,null,null,null,null,null,null,null,{"$f":"DZ5","v":1},null,null,null,null,null,null,null,null,null,0,0,null,0,0,null,0,0,null,0,0,null,0,0,null,0,0,null,0,0,null,0,0,null,null,null,0,0,0,null,17,10,17,"30 days in OCT, 17",0,0,17,30,17,16,"2017-03-16",null,16,"16.03.17",null,"","",1,16,"16.03.17",null,"","",null,16,"16.03.17",16,0.12,null,null,null,null,null,0.12,null,null,0.12,null,null,null,null,null,null,null,null,null,null,null,null,null,null,null,{"$f":"HZ12","v":"Nov, 2017"},"15 Days",null,18,1,"Nov, 2017 : 15 Days",null,0,null,21820,19,21820,23740,null,15,15,null,null,null,null,null,null,null,null,null,null,null,null,0,0]
[null,null,null,"1.Change in green green cells",null,null,null,"PRC Arrear",null,0,null,null,null,null,null,null,null,null,null,null,null,null,null,null,null,null,null,null,null,null,null,null,null,null,null,null,null,null,null,null,null,null,null,null,null,null,null,null,null,null,null,{"$f":"J21+N21+Q21+T21+V21+Z21+AB21+AE21+AF21+AI21+AL21+AO21+AT21+K21","v":0},null,null,null,null,null,null,null,null,null,null,null,null,null,null,null,null,null,null,null,null,null,null,0,0,null,null,17,20640,null,null,null,null,null,null,null,null,null,null,null,null,null,null,null,null,null,null,null,17,"2016-02-16",17,"16.02.2016",null,0,1,13,31,0,32,null,null,null,"aas to",{"$f":"DATE(DS23,DS22,DS21)","v":{"$error":"#N/A"}},null,null,null,{"$f":"DO19-DO20","v":-1},null,3,31,{"$f":"VLOOKUP(DO19,DQ21:DR32,2)","v":{"$error":"#N/A"}},17,"2016-02-16",17,"16.02.2016",null,0,1,13,null,null,null,null,null,null,null,null,null,null,null,{"$f":"EM19-EM20","v":-1},null,null,null,null,null,null,null,null,null,0,0,null,0,0,null,0,0,null,0,0,null,0,0,null,0,0,null,0,0,null,0,0,null,null,null,0,0,0,null,18,11,18,"15 days in NOV, 17",0,0,18,15,17,17,"2017-03-17",null,17,"17.03.17",null,null,null,null,17,"17.03.17",null,null,null,null,17,"17.03.17",17,0.12,null,null,null,null,null,0.12,null,null,0.12,null,null,null,null,null,null,null,null,null,null,null,null,null,null,null,{"$f":"IA20","v":"Nov, 2017"},"1 Month",null,19,2,"Nov, 2017 : 1 Month",null,0,null,22460,20,22460,24440,null,null,null,null,null,null,null,null,null,null,null,null,null,null,null,0,0]
[null,null,null,"2.Feb month days 28/29",null,null,null,"Promotion Arrear           ",null,0,{"$f":"J46","v":0},null,null,null,null,null,null,null,null,{"$f":"L46","v":0},null,{"$f":"M46","v":0},null,null,null,null,null,null,null,null,null,null,null,null,null,null,null,null,null,null,null,null,null,null,null,null,null,null,null,null,null,{"$f":"J22+N22+Q22+T22+V22+Z22+AB22+AE22+AF22+AI22+AL22+AO22+AT22+K22","v":0},0,null,null,{"$f":"IF(EN38=\"CPS\",R46,0)","v":0},null,null,null,null,null,null,null,null,null,null,null,null,null,null,null,null,null,null,0,0,null,null,18,21230,null,null,null,null,null,null,null,null,null,null,null,null,null,null,null,null,null,null,null,18,"2016-02-17",18,"17.02.2016",null,0,1,13,31,0,32,null,null,null,null,{"$f":"MONTH(DK21-DK20)","v":{"$error":"#N/A"}},null,null,null,{"$f":"IF(DO21>0,DO21,0)","v":0},null,4,30,{"$f":"DO19","v":0},18,"2016-02-17",18,"17.02.2016",null,0,1,13,null,null,null,null,null,null,null,null,null,null,null,{"$f":"IF(EM21>0,EM21,0)","v":0},null,null,null,null,null,null,null,null,null,null,null,null,null,null,null,null,null,null,null,null,null,null,null,null,null,null,null,null,null,null,null,null,null,null,null,null,null,null,null,19,11,19,"30 days in NOV, 17",null,null,19,30,17,18,"2017-03-18",null,18,"18.03.17","DAYS",null,"month",null,18,"18.03.17","DAYS",null,"month",null,18,"18.03.17",18,0.12,null,null,null,null,null,0.12,null,null,0.12,null,null,null,null,null,null,null,null,null,null,null,null,null,null,null,{"$f":"HZ13","v":"Dec, 2017"},"15 Days",null,20,1,"Dec, 2017 : 15 Days",null,0,null,23100,21,23100,25140,null,null,null,null,null,null,null,null,null,null,null,null,null,null,null,0,0]
[null,null,null,"3.Starting Month, Year:","Jan, 2017",null,null,"AAS Incre.Arrear            ",null,0,{"$f":"J38","v":0},null,null,null,null,null,null,null,null,{"$f":"L38","v":0},null,{"$f":"M38","v":0},null,null,null,null,null,null,null,null,null,null,null,null,null,null,null,null,null,null,null,null,null,null,null,null,null,null,null,null,null,{"$f":"J23+N23+Q23+T23+V23+Z23+AB23+AE23+AF23+AI23+AL23+AO23+AT23+K23","v":0},0,null,null,{"$f":"IF(EN38=\"CPS\",AG38,0)","v":0},null,null,null,null,null,null,null,null,null,0,null,null,null,null,null,null,null,null,0,0,null,null,19,21820,null,null,null,null,null,null,null,null,null,null,null,null,null,null,null,null,null,null,null,19,"2016-02-18",19,"18.02.2016",null,null,null,null,null,null,null,null,null,null,null,1,null,null,null,null,null,5,31,{"$f":"IF(DS22=1,2018,IF(DS22=2,2018,2017))","v":2017},19,"2016-02-18",19,"18.02.2016",null,null,null,null,null,null,null,null,null,null,null,null,null,null,null,null,null,null,null,null,null,null,null,null,null,null,null,null,null,null,null,null,null,null,null,null,null,null,null,null,null,null,null,null,null,null,null,null,null,null,null,null,null,null,null,20,12,20,"15 days in DEC, 17",null,null,20,15,17,19,"2017-03-19",null,19,"19.03.17",{"$f":"IF(GP7=1,31,IF(GP7=3,31,IF(GP7=5,31,IF(GP7=7,31,IF(GP7=8,31,IF(GP7=10,31,IF(GP7=12,31,IF(GP7=2,29,30))))))))","v":30},null,{"$f":"GP7","v":""},null,19,"19.03.17",{"$f":"IF(GV7=1,31,IF(GV7=3,31,IF(GV7=5,31,IF(GV7=7,31,IF(GV7=8,31,IF(GV7=10,31,IF(GV7=12,31,IF(GV7=2,29,30))))))))","v":30},null,{"$f":"GV7","v":""},{"$f":"IF(GW23=14,14,GW23+1)","v":{"$error":"#VALUE!"}},19,"19.03.17",19,null,null,null,null,null,null,null,null,null,null,null,null,null,null,null,null,null,null,null,null,null,null,null,null,null,{"$f":"IA22","v":"Dec, 2017"},"1 Month",null,21,2,"Dec, 2017 : 1 Month",null,0,null,23740,22,23740,25840,null,null,null,null,null,null,null,null,null,null,null,null,null,null,null,0,0]
[null,null,null,"4.Ending Feb in Year:",2018,null,null,"Surrender Leave",null,0,{"$f":"J51","v":0},null,null,null,null,null,{"$f":"K51","v":0},null,null,{"$f":"L51","v":0},null,{"$f":"M51","v":0},null,null,null,null,null,null,null,null,null,null,null,null,null,null,null,null,null,null,null,null,null,null,null,null,null,null,null,null,null,{"$f":"SUM(K24:AY24)","v":0},null,null,null,null,null,null,null,null,null,null,null,null,null,null,null,null,null,null,null,null,null,null,0,0,null,null,20,22460,null,null,null,null,null,null,null,null,null,null,null,null,null,null,null,null,null,null,null,20,"2016-02-19",20,"19.02.2016",null,null,null,null,null,null,null,null,null,null,"aas months",{"$f":"DK22-DK23","v":{"$error":"#N/A"}},null,null,null,null,null,6,30,null,20,"2016-02-19",20,"19.02.2016",null,null,null,null,null,null,null,null,null,null,null,null,null,null,null,null,null,null,null,null,null,null,null,null,"DEDUCTIONS",null,null,null,null,null,null,null,null,null,null,null,null,null,null,null,null,null,null,null,null,null,null,null,null,null,null,null,null,null,null,21,12,21,"30 days in DEC, 17",null,null,21,30,17,20,"2017-03-20",null,20,"20.03.17",{"$f":"GO23","v":30},{"$f":"IF(GO7=1,0,GO7)","v":""},{"$f":"GQ23","v":""},null,20,"20.03.17",{"$f":"GU23","v":30},{"$f":"IF(GU7=1,0,GU7)","v":""},{"$f":"GW23","v":""},{"$f":"IF(GW24=14,14,GW24+1)","v":{"$error":"#VALUE!"}},20,"20.03.17",20,null,null,null,null,null,null,null,null,null,null,null,null,null,null,null,null,null,null,null,null,null,null,null,null,null,{"$f":"HZ14","v":"Jan, 2018"},"15 Days",null,22,1,"Jan, 2018 : 15 Days",null,0,null,24440,23,24440,26600]
[null,null,null,"5.finacial year from","Mar, 2017",null,null,"Child Fee Concession",null,0,null,null,null,null,null,null,null,null,null,null,null,null,null,null,null,null,null,null,null,null,null,null,null,null,null,null,null,null,null,null,null,null,null,null,null,null,null,null,{"$f":"'DATA 1'!J33","v":0},null,null,{"$f":"SUM(K25:AY25)","v":0},0,null,null,{"$f":"IF(EN43=\"CPS\",ROUND((K25+T25)*0.1,0),0)","v":0},null,null,null,null,null,null,null,null,null,0,null,null,null,null,null,null,null,null,0,0,null,null,21,23100,null,null,null,null,null,null,null,null,null,null,null,null,null,null,null,null,null,null,null,21,"2016-02-20",21,"20.02.2016",null,null,null,null,null,null,null,null,null,null,null,null,null,null,null,null,null,7,31,null,21,"2016-02-20",21,"20.02.2016",null,null,null,null,null,null,null,null,null,null,null,null,null,null,{"$f":"IF(EN25=\"cps\",\"80 CCD\",\"80 C\")","v":"80 CCD"},{"$f":"IF(EN25=\"cps\",\"U/S 80 CCD (1) - CPS\",\"ZPPF/GPF\")","v":"U/S 80 CCD (1) - CPS"},{"$f":"IF(EO25=1,\"CPS\",\"ZPPF\")","v":"CPS"},1,1,"Yes - CPS EMPLOYEE",1,1,{"$f":"IF(GE4=0,\"\",\"PAY+DA+HRA Wise\")","v":""},null,{"$f":"EN25","v":"CPS"},null,null,"APGLI",null,null,"GIS",null,null,"EHS",null,null,"LIC (SSS)",null,null,null,null,null,null,null,null,null,null,null,null,null,null,null,null,null,null,22,13,22,"15 days in JAN, 18",null,null,22,15,17,21,"2017-03-21",null,21,"21.03.17",{"$f":"GO24","v":30},{"$f":"IF(GO7=1,0,GO23-GP24+1)","v":{"$error":"#VALUE!"}},{"$f":"GQ24","v":""},null,21,"21.03.17",{"$f":"GU24","v":30},{"$f":"IF(GU7=1,0,GU23-GV24+1)","v":{"$error":"#VALUE!"}},{"$f":"GW24","v":""},{"$error":"#VALUE!"},21,"21.03.17",21,null,null,null,null,null,null,null,null,null,null,null,null,null,null,null,null,null,null,null,null,null,null,null,null,null,{"$f":"IA24","v":"Jan, 2018"},"1 Month",null,23,2,"Jan, 2018 : 1 Month",null,0,null,25140,24,25140,27360]
[null,null,null,"6. financial year ends","Feb, 2018",null,null,null,null,0,null,null,null,null,null,null,null,null,null,null,null,null,null,null,null,null,null,null,null,null,null,null,null,null,null,null,null,null,null,null,null,null,null,null,null,null,null,null,null,null,null,12699,0,null,null,{"$f":"IF(EN44=\"CPS\",ROUND((K26+T26)*0.1,0),0)","v":0},null,null,null,null,null,null,null,null,null,null,null,null,null,null,null,null,null,null,0,12699,null,null,22,23740,null,null,null,null,null,null,null,null,null,null,null,null,null,null,null,null,null,null,null,22,"2016-02-21",22,"21.02.2016",null,null,null,null,null,null,null,null,null,null,null,null,null,null,null,null,null,8,31,null,22,"2016-02-21",22,"21.02.2016",null,null,null,null,null,null,null,null,null,null,null,null,null,null,null,null,{"$f":"EN25","v":"CPS"},{"$f":"EO25","v":1},2,"Not applicable",null,2,{"$f":"IF(GE4=0,\"\",\"Only Gross\")","v":""},null,"1 TO",null,null,"1 TO",null,null,"month",null,null,"month",null,null,"month",null,null,null,null,null,null,null,null,null,null,null,null,null,null,null,null,null,null,23,13,23,"30 days in JAN, 18",null,null,23,30,17,22,"2017-03-22",null,22,"22.03.17",30,{"$f":"GP25","v":{"$error":"#VALUE!"}},"",null,22,"22.03.17",30,{"$f":"GV25","v":{"$error":"#VALUE!"}},"",{"$error":"#VALUE!"},22,"22.03.17",22,null,null,null,null,null,null,null,null,null,null,null,null,null,null,null,null,null,null,null,null,null,null,null,null,null,{"$f":"HZ15","v":"Feb, 2018"},"15 Days",null,24,1,"Feb, 2018 : 15 Days",null,0,null,25840,25,25840,28120]
[null,"for DA 1",7,"Basic Pay as in Jan - ",2017,null,null,null,null,0,null,null,null,null,null,null,null,null,null,null,null,null,null,null,null,null,null,null,null,null,null,null,null,null,null,null,null,null,null,null,null,null,null,null,null,null,null,null,null,null,null,9984,0,null,null,{"$f":"IF(EN45=\"CPS\",ROUND((K27+T27)*0.1,0),0)","v":0},null,null,null,null,null,null,null,null,null,null,null,null,null,null,null,null,null,null,0,9984,null,null,23,24440,null,null,null,null,null,null,null,null,null,null,null,null,null,null,null,null,null,null,null,23,"2016-02-22",23,"22.02.2016",null,null,null,null,null,null,null,null,null,null,null,null,null,null,null,null,null,9,30,null,23,"2016-02-22",23,"22.02.2016",null,null,null,null,null,null,null,null,null,null,null,null,null,null,null,null,{"$f":"EN26","v":"CPS"},{"$f":"EO26","v":1},null,null,null,null,null,null,13,"1st ","2nd ",13,"1st ","2nd ",13,"1st ","2nd",13,"1st ","2nd",13,"1st ","2nd",null,null,null,null,null,null,null,null,null,null,null,null,null,null,null,null,24,14,24,"15 days in FEB, 18",null,null,24,15,17,23,"2017-03-23",null,23,"23.03.17",30,{"$f":"GP26","v":{"$error":"#VALUE!"}},"",null,23,"23.03.17",30,{"$f":"GV26","v":{"$error":"#VALUE!"}},"",{"$error":"#VALUE!"},23,"23.03.17",23,null,null,null,null,null,null,null,null,null,null,null,null,null,null,null,null,null,null,null,null,null,null,null,null,null,{"$f":"IA26","v":"Feb, 2018"},"1 Month",null,25,2,"Feb, 2018 : 1 Month",null,0,null,26600,26,26600,28940]
[null,null,null,"change: in data 1 as EARNINGS (From 1 Mar 17 - 28 Feb 18)",null,null,null,null,null,0,null,null,null,null,null,null,null,null,null,null,null,null,null,null,null,null,null,null,null,null,null,null,null,null,null,null,null,null,null,null,null,null,null,null,null,null,null,null,null,null,null,722112,null,null,null,null,null,null,null,null,null,null,null,null,null,null,null,null,null,null,null,null,null,null,{"$f":"SUM(BE28:BV28)","v":0},722112,null,null,24,25140,null,null,null,null,null,null,null,null,null,null,null,null,null,null,null,null,null,null,null,24,"2016-02-23",24,"23.02.2016",null,null,null,null,null,null,null,null,null,null,null,null,null,null,null,null,null,10,31,null,24,"2016-02-23",24,"23.02.2016",null,null,null,null,null,null,null,null,null,null,null,null,null,null,null,null,"CPS",1,null,null,null,null,null,null,{"$f":"EV27","v":13},{"$f":"IF(EO25=2,'DATA 1'!O3,0)","v":0},{"$f":"IF(EO25=2,'DATA 1'!O4,0)","v":0},{"$f":"EY27","v":13},{"$f":"'DATA 1'!O7","v":1400},{"$f":"'DATA 1'!O8","v":0},{"$f":"FB27","v":13},{"$f":"'DATA 1'!$O$9","v":60},{"$f":"'DATA 1'!$O$10","v":0},{"$f":"FE27","v":13},{"$f":"'DATA 1'!$O$11","v":90},{"$f":"'DATA 1'!$O$12","v":0},{"$f":"FH27","v":13},{"$f":"'DATA 1'!$O$15","v":0},{"$f":"'DATA 1'!$O$16","v":0},null,null,null,null,null,null,null,null,null,null,null,null,null,null,null,null,25,14,25,"30 days in FEB, 18",null,null,25,30,17,24,"2017-03-24",null,24,"24.03.17",30,{"$error":"#VALUE!"},"",null,24,"24.03.17",30,{"$error":"#VALUE!"},"",{"$error":"#VALUE!"},24,"24.03.17",24,null,null,null,null,null,null,null,null,null,null,null,null,null,null,null,null,null,null,null,null,null,null,null,null,null,null,null,null,null,null,null,null,null,null,27360,27,27360,29760]
[null,null,null,"Increment Month ","from Mar, 17 to Feb, 18","DA PARTICULARS",null,"TOTAL",null,{"$f":"SUM(J7:J28)","v":475470},{"$f":"SUM(K7:K28)","v":475470},475470,0,0,0,0,0,0,0,132964,2.38944,57053,0,0,57053,0,3.24,0,0,0,0,0,0,0,0,0,0,0,0,0,0,0,0,0,0,0,0,0,0,0,0,1410282,57024,0,0,60846,16800,16800,0,720,720,0,1080,1080,0,2400,0,0,0,null,null,null,70,0,100516,1309766,null,null,25,25840,null,null,null,null,null,null,null,null,null,null,null,null,null,null,null,null,null,null,null,25,"2016-02-24",25,"24.02.2016",null,null,null,null,null,null,null,null,null,null,null,null,null,null,null,null,null,11,30,null,25,"2016-02-24",25,"24.02.2016",null,null,null,null,null,null,null,null,null,null,null,null,null,null,null,null,"CPS",1,null,null,null,null,null,null,{"$f":"EV28","v":13},{"$f":"EW28","v":0},{"$f":"EX28","v":0},{"$f":"EY28","v":13},{"$f":"EZ28","v":1400},{"$f":"FA28","v":0},{"$f":"FB28","v":13},{"$f":"FC28","v":60},{"$f":"FD28","v":0},{"$f":"FE28","v":13},{"$f":"FF28","v":90},{"$f":"FG28","v":0},{"$f":"FH28","v":13},{"$f":"FI28","v":0},{"$f":"FJ28","v":0},null,null,null,null,null,null,null,null,null,null,null,null,null,null,null,null,null,null,null,{"$f":"IF(GF29<=9,0,\"\")","v":0},{"$f":"IF(GG29<=9,0,\"\")","v":0},{"$f":"DAY(GK6)","v":2},{"$f":"MONTH(GK6)","v":3},17,17,25,"2017-03-25",null,25,"25.03.17",30,{"$error":"#VALUE!"},"",null,25,"25.03.17",30,{"$error":"#VALUE!"},"",{"$error":"#VALUE!"},25,"25.03.17",25,null,null,null,null,null,null,null,null,null,null,null,null,null,null,null,null,null,null,null,null,null,null,null,null,null,null,null,null,null,null,null,null,null,null,28120,28,28120,30580]
[null,null,null,"\n\n8. AAS DATES SHOULD BE MODIFIED and 9. CELL BQ6 FORMULA SHOULD BE MODIFIED",null,null,null,null,null,null,null,null,null,null,null,null,null,null,null,null,null,null,null,null,null,null,null,null,null,null,null,null,null,null,null,null,null,null,null,null,null,null,null,null,null,null,null,null,null,null,null,null,null,null,null,null,null,null,null,null,null,null,null,null,null,null,null,null,null,null,null,null,null,null,null,null,null,null,26,26600,null,null,null,null,null,null,null,null,null,null,null,null,null,null,null,null,null,null,null,26,"2016-02-25",26,"25.02.2016",null,null,null,null,null,null,null,null,null,null,null,null,null,null,null,null,null,12,31,null,26,"2016-02-25",26,"25.02.2016",null,null,null,null,null,null,null,null,null,null,null,null,null,null,null,null,"CPS",1,null,null,null,null,null,null,13,0,0,13,1400,0,13,60,0,13,90,0,13,0,0,null,null,null,null,null,null,null,null,null,null,null,null,null,null,null,null,null,null,null,{"$f":"IF(GF30<=9,0,\"\")","v":0},{"$f":"IF(GG30<=9,0,\"\")","v":0},{"$f":"DAY(GK7)","v":3},{"$f":"MONTH(GK7)","v":3},17,null,26,"2017-03-26",null,26,"26.03.17",30,{"$error":"#VALUE!"},"",null,26,"26.03.17",30,{"$error":"#VALUE!"},"",{"$error":"#VALUE!"},26,"26.03.17",26,null,null,null,null,null,null,null,null,null,null,null,null,null,null,null,null,null,null,null,null,null,null,null,null,null,null,null,null,null,null,null,null,null,null,28940,29,28940,31460]
[null,null,null,"10. surrender leave months",null,null,"old pays",null,null,null,null,null,null,null,null,null,null,null,null,null,"new pays",null,null,null,null,null,null,null,null,null,null,null,null,null,null,null,null,null,null,null,null,null,null,null,null,null,null,null,null,null,null,null,null,null,null,null,null,null,null,null,null,null,null,null,null,null,null,null,null,null,null,null,null,null,null,null,null,null,27,27360,null,null,null,null,null,null,null,null,null,null,null,null,null,null,null,null,null,null,null,27,"2016-02-26",27,"26.02.2016",null,null,null,null,null,null,null,null,null,null,null,null,null,null,null,null,null,1,31,null,27,"2016-02-26",27,"26.02.2016",null,null,null,null,null,null,null,null,null,null,null,null,null,null,null,null,"CPS",1,null,null,null,null,null,null,13,0,0,13,1400,0,13,60,0,13,90,0,13,0,0,null,null,null,null,null,null,null,null,null,null,null,null,null,null,null,null,null,null,null,0,0,4,3,17,null,27,"2017-03-27",null,27,"27.03.17",30,{"$error":"#VALUE!"},"",null,27,"27.03.17",30,{"$error":"#VALUE!"},"",{"$error":"#VALUE!"},27,"27.03.17",27,null,null,null,null,null,null,null,null,null,null,null,null,null,null,null,null,null,null,null,null,null,null,null,null,null,null,null,null,null,null,null,null,null,null,29760,30,29760,32340]
[null,null,"formula in ds 23","11. CN - COLUMN ","hra %","month"," AAS Arrears ",null,null,"PAY",null,"DA","HRA","IR",null,null,"GROSS","CPS","NET","ir%"," AAS Arrears ",null,null,"PAY",null,"DA",null,"HRA","IR",null,null,"GROSS","CPS","NET",null,null,null,null,null,null,0,null,null,null,null,0,null,null,null,null,null,32323,0,null,null,{"$f":"ROUND((J32+T32)*10%,0)","v":{"$error":"#VALUE!"}},null,null,null,null,null,null,null,null,null,0,null,null,null,null,null,null,null,null,{"$f":"SUM(BE32:BV32)","v":0},{"$f":"AZ32-BW32","v":32323},null,null,28,28120,null,null,null,null,null,null,null,null,null,null,null,null,null,null,null,null,null,null,null,28,"2016-02-27",28,"27.02.2016",null,null,null,null,null,null,null,null,null,null,null,null,null,null,null,null,null,2,30,null,28,"2016-02-27",28,"27.02.2016",null,null,null,null,null,null,null,null,null,null,null,null,null,null,null,null,"CPS",1,null,null,null,null,null,null,13,0,0,13,1400,0,13,60,0,13,90,0,13,0,0,null,null,null,null,null,null,null,null,null,null,null,null,null,null,null,null,null,null,null,0,0,5,3,17,null,28,"2017-03-28",null,28,"28.03.17",30,{"$error":"#VALUE!"},"",null,28,"28.03.17",30,{"$error":"#VALUE!"},"",{"$error":"#VALUE!"},28,"28.03.17",28,null,null,null,null,null,null,null,null,null,null,null,null,null,null,null,null,null,null,null,null,null,null,null,null,null,null,null,null,null,null,null,null,null,null,30580,31,30580,33220]
[null,null,null,"12. M55:M68 years in formula",{"$f":"VLOOKUP(F33,HO4:HV16,2)","v":{"$error":"#N/A"}},{"$f":"DQ7","v":0},null,null,"T.D.",{"$f":"VLOOKUP(DP7,H6:BX18,5)","v":{"$error":"#N/A"}},null,{"$f":"ROUND(J33*EL3,0)","v":{"$error":"#N/A"}},{"$f":"ROUND(J33*E33,0)","v":{"$error":"#N/A"}},null,null,null,{"$f":"SUM(J33:P33)","v":{"$error":"#N/A"}},{"$f":"IF(EN25=\"ZPPF\",0,ROUND(SUM(J33:L33)*10%,0))","v":{"$error":"#N/A"}},{"$f":"Q33-R33","v":{"$error":"#N/A"}},null,null,null,"T.D.",{"$f":"VLOOKUP(DP7,H6:BX18,6)","v":{"$error":"#N/A"}},null,{"$f":"ROUND(X33*8.908%,0)","v":{"$error":"#N/A"}},null,{"$f":"ROUND(X33*E33,0)","v":{"$error":"#N/A"}},null,null,null,{"$f":"SUM(X33:AE33)","v":{"$error":"#N/A"}},{"$f":"IF(EN25=\"ZPPF\",0,ROUND(SUM(X33:Z33)*10%,0))","v":{"$error":"#N/A"}},{"$f":"AF33-AG33","v":{"$error":"#N/A"}},null,null,null,null,null,null,null,null,null,null,null,null,null,null,null,null,null,null,null,null,null,null,null,null,null,null,null,null,null,null,null,null,null,null,null,null,null,null,null,null,null,null,null,null,29,28940,null,null,null,null,null,null,null,null,null,null,null,null,null,null,null,null,null,null,null,29,"2016-02-28",29,"28.02.2016",null,null,null,null,null,null,null,null,null,null,null,null,null,null,null,null,null,null,null,null,29,"2016-02-28",29,"28.02.2016",null,null,null,null,null,null,null,null,null,null,null,null,null,null,null,null,"CPS",1,null,null,null,null,null,null,13,0,0,13,1400,0,13,60,0,13,90,0,13,0,0,null,null,null,null,null,null,null,null,null,null,null,null,null,null,null,null,null,null,null,0,0,6,3,17,null,29,"2017-03-29",null,29,"29.03.17",30,{"$error":"#VALUE!"},"",null,29,"29.03.17",30,{"$error":"#VALUE!"},"",{"$f":"IF(GW33=14,14,GW33+1)","v":{"$error":"#VALUE!"}},29,"29.03.17",29,null,null,null,null,null,null,null,null,null,null,null,null,null,null,null,null,null,null,null,null,null,null,null,null,null,null,null,null,null,null,null,null,null,null,31460,32,31460,34170]
[null,null,13,"Financial year",{"$f":"E33","v":{"$error":"#N/A"}},0,null,null,"A.D.",{"$f":"VLOOKUP(DQ7,H6:BX18,5)","v":{"$error":"#N/A"}},null,{"$f":"ROUND(J34*EL3,0)","v":{"$error":"#N/A"}},{"$f":"ROUND(J34*E34,0)","v":{"$error":"#N/A"}},null,null,null,{"$error":"#N/A"},{"$f":"IF(EN25=\"ZPPF\",0,ROUND(SUM(J34:L34)*10%,0))","v":{"$error":"#N/A"}},{"$error":"#N/A"},null,null,null,"A.D.",{"$f":"VLOOKUP(DQ7,H6:BX18,6)","v":{"$error":"#N/A"}},null,{"$f":"ROUND(X34*8.908%,0)","v":{"$error":"#N/A"}},null,{"$f":"ROUND(X34*E34,0)","v":{"$error":"#N/A"}},null,null,null,{"$f":"SUM(X34:AE34)","v":{"$error":"#N/A"}},{"$f":"IF(EN25=\"ZPPF\",0,ROUND(SUM(Z34:AB34)*10%,0))","v":{"$error":"#N/A"}},{"$error":"#N/A"},null,null,null,null,null,null,null,null,null,null,null,null,null,null,null,null,null,null,null,null,null,null,null,null,null,null,null,null,null,null,null,null,null,null,null,null,null,null,null,null,null,null,null,null,30,29760,null,null,null,null,null,null,null,null,null,null,null,null,null,null,null,null,null,null,null,30,"2016-02-29",30,"29.02.2016",null,null,null,null,null,null,null,null,null,null,null,null,null,null,null,null,null,null,null,null,30,"2016-02-29",30,"29.02.2016",null,null,null,null,null,null,null,null,null,null,null,null,null,null,null,null,"CPS",1,null,null,null,null,null,null,13,0,0,13,1400,0,13,60,0,13,90,0,13,0,0,null,null,null,null,null,null,null,null,null,null,null,null,null,null,null,null,null,null,null,0,0,7,3,17,null,30,"2017-03-30",null,30,"30.03.17",30,{"$error":"#VALUE!"},"",null,30,"30.03.17",30,{"$error":"#VALUE!"},"",{"$error":"#VALUE!"},30,"30.03.17",30,null,null,null,null,null,null,null,null,null,null,null,null,null,null,null,null,null,null,null,null,null,null,null,null,null,null,null,null,null,null,null,null,null,null,32340,33,32340,35120]
[null,null,null,"2017-18",{"$error":"#N/A"},0,null,"1 MONTH","DIFF.",{"$f":"J33-J34","v":{"$error":"#N/A"}},null,{"$f":"L33-L34","v":{"$error":"#N/A"}},{"$f":"M33-M34","v":{"$error":"#N/A"}},null,null,null,{"$error":"#N/A"},{"$f":"IF(EN25=\"ZPPF\",0,ROUND(SUM(J35:L35)*10%,0))","v":{"$error":"#N/A"}},{"$error":"#N/A"},null,null,"1 MONTH","DIFF.",{"$f":"X33-X34","v":{"$error":"#N/A"}},null,{"$f":"Z33-Z34","v":{"$error":"#N/A"}},null,{"$f":"AB33-AB34","v":{"$error":"#N/A"}},null,null,null,{"$f":"SUM(X35:AE35)","v":{"$error":"#N/A"}},{"$f":"AG33-AG34","v":{"$error":"#N/A"}},{"$error":"#N/A"},null,null,null,null,null,null,null,null,null,null,null,null,null,null,null,null,null,null,null,null,null,null,null,null,null,null,null,null,null,null,null,null,null,null,null,null,null,null,null,null,null,null,null,null,31,30580,null,null,null,null,null,null,null,null,null,null,null,null,null,null,null,null,null,null,null,31,"2016-03-01",31,"01.03.2016",null,null,null,null,null,null,null,null,null,null,null,null,null,null,null,null,null,null,null,null,31,"2016-03-01",31,"01.03.2016",null,null,null,null,null,null,null,null,null,null,null,null,null,null,null,null,"CPS",1,null,null,null,null,null,null,13,0,0,13,1400,0,13,60,0,13,90,0,13,0,0,null,null,null,null,null,null,null,null,null,null,null,null,null,null,null,null,null,null,null,0,0,8,3,17,null,31,"2017-03-31",null,31,"31.03.17",30,{"$error":"#VALUE!"},"",null,31,"31.03.17",30,{"$error":"#VALUE!"},"",{"$error":"#VALUE!"},31,"31.03.17",31,null,null,null,null,null,null,null,null,null,null,null,null,null,null,null,null,null,null,null,null,null,null,null,null,null,null,null,null,null,null,null,null,null,null,33220,34,33220,36070]
[null,null,14,"Assessment year",{"$error":"#N/A"},0,null,"DAYS","DIFF.",{"$f":"ROUND(J35*DF6/DD6,0)","v":{"$error":"#N/A"}},null,{"$f":"ROUND(L35*DF6/DD6,0)","v":{"$error":"#N/A"}},{"$f":"ROUND(M35*DF6/DD6,0)","v":{"$error":"#N/A"}},null,null,null,{"$error":"#N/A"},{"$f":"IF(EN25=\"ZPPF\",0,ROUND(SUM(J36:L36)*10%,0))","v":{"$error":"#N/A"}},{"$error":"#N/A"},null,null,"DAYS","DIFF.",{"$f":"ROUND(X35*DF6/DD6,0)","v":{"$error":"#N/A"}},null,{"$f":"ROUND(Z35*DF6/DD6,0)","v":{"$error":"#N/A"}},null,{"$f":"ROUND(AB35*DF6/DD6,0)","v":{"$error":"#N/A"}},null,null,null,{"$f":"ROUND(AF35*DF6/DD6,0)","v":{"$error":"#N/A"}},{"$f":"IF(EN25=\"ZPPF\",0,ROUND(SUM(X36:Z36)*10%,0))","v":{"$error":"#N/A"}},{"$error":"#N/A"},null,null,null,null,null,null,null,null,null,null,null,null,null,null,null,null,null,null,null,null,null,null,null,null,null,null,null,null,null,null,null,null,null,null,null,null,null,null,null,null,null,null,null,null,32,31460,null,null,null,null,null,null,null,null,null,null,null,null,null,null,null,null,null,null,null,32,"2016-03-02",32,"02.03.2016",null,null,null,null,null,null,null,null,null,null,null,null,null,null,null,null,null,null,null,null,32,"2016-03-02",32,"02.03.2016",null,null,null,null,null,null,null,null,null,null,null,null,null,null,null,null,"CPS",1,null,null,null,null,null,null,13,0,0,13,1400,0,13,60,0,13,90,0,13,0,0,null,null,null,null,null,null,null,null,null,null,null,null,null,null,null,null,null,null,null,0,0,9,3,17,null,32,"2017-04-01",null,32,"01.04.17",30,{"$error":"#VALUE!"},"",null,32,"01.04.17",30,{"$error":"#VALUE!"},"",{"$error":"#VALUE!"},32,"01.04.17",32,null,null,null,null,null,null,null,null,null,null,null,null,null,null,null,null,null,null,null,null,null,null,null,null,null,null,null,null,null,null,null,null,null,null,34170,35,34170,37100]
[null,null,null,"2018-19",{"$error":"#N/A"},0,{"$f":"DK24","v":{"$error":"#N/A"}},"MONTHS","DIFF.",{"$f":"J35*G37","v":{"$error":"#N/A"}},null,{"$f":"L35*G37","v":{"$error":"#N/A"}},{"$f":"M35*G37","v":{"$error":"#N/A"}},{"$f":"N35*G37","v":{"$error":"#N/A"}},null,null,{"$error":"#N/A"},{"$f":"IF(EN25=\"ZPPF\",0,ROUND(SUM(J37:L37)*10%,0))","v":{"$error":"#N/A"}},{"$error":"#N/A"},null,{"$f":"G37","v":{"$error":"#N/A"}},"MONTHS","DIFF.",{"$f":"X35*U37","v":{"$error":"#N/A"}},null,{"$f":"Z35*U37","v":{"$error":"#N/A"}},null,{"$f":"AB35*U37","v":{"$error":"#N/A"}},null,null,null,{"$f":"SUM(X37:AE37)","v":{"$error":"#N/A"}},{"$f":"IF(EN25=\"ZPPF\",0,ROUND(SUM(X37:Z37)*10%,0))","v":{"$error":"#N/A"}},{"$error":"#N/A"},null,null,null,null,null,null,null,null,null,null,null,null,null,null,null,null,null,null,null,null,null,null,null,null,null,null,null,null,null,null,null,null,null,null,null,null,null,null,null,null,null,null,null,null,33,32340,null,null,null,null,null,null,null,null,null,null,null,null,null,null,null,null,null,null,null,33,"2016-03-03",33,"03.03.2016",null,null,null,null,null,null,null,null,null,null,null,null,null,null,null,null,null,null,null,null,33,"2016-03-03",33,"03.03.2016",null,null,null,null,null,null,null,null,null,null,null,null,null,null,null,null,"CPS",1,null,null,null,null,null,null,13,{"$f":"EW36","v":0},{"$f":"EX36","v":0},13,{"$f":"EZ36","v":1400},{"$f":"FA36","v":0},13,{"$f":"FC36","v":60},{"$f":"FD36","v":0},{"$f":"FE36","v":13},{"$f":"FF36","v":90},{"$f":"FG36","v":0},13,{"$f":"FI36","v":0},{"$f":"FJ36","v":0},null,null,null,null,null,null,null,null,null,null,null,null,null,null,null,null,null,null,null,"",0,10,3,17,null,33,"2017-04-02",null,33,"02.04.17",30,{"$error":"#VALUE!"},"",null,33,"02.04.17",30,{"$error":"#VALUE!"},"",{"$error":"#VALUE!"},33,"02.04.17",33,null,null,null,null,null,null,null,null,null,null,null,null,null,null,null,null,null,null,null,null,null,null,null,null,null,null,null,null,null,null,null,null,null,null,35120,36,35120,38130]
[null,null,null,"change date from gk6",{"$error":"#N/A"},0,null,"TOT",null,{"$f":"IF(DA5=0,0,SUM(J36:J37))","v":0},null,{"$f":"IF(DA5=0,0,SUM(L36:L37))","v":0},{"$f":"IF(DA5=0,0,SUM(M36:M37))","v":0},{"$f":"IF(DA5=0,0,SUM(N36:N37))","v":0},null,null,{"$f":"SUM(J38:P38)","v":0},{"$f":"IF(EN25=\"ZPPF\",0,ROUND(SUM(J38:L38)*10%,0))","v":0},0,null,null,"TOT",null,{"$f":"IF(DA5=0,0,SUM(X36:X37))","v":0},null,{"$f":"IF(DA5=0,0,SUM(Z36:Z37))","v":0},null,{"$f":"IF(DA5=0,0,SUM(AB36:AB37))","v":0},null,null,null,{"$f":"SUM(X38:AE38)","v":0},{"$f":"IF(EN25=\"ZPPF\",0,ROUND(SUM(X38:Z38)*10%,0))","v":0},0,null,null,null,null,null,null,null,null,null,null,null,null,null,null,null,null,null,null,null,null,null,null,null,null,null,null,null,null,null,null,null,null,null,null,null,null,null,null,null,null,null,null,null,null,34,33220,null,null,null,null,null,null,null,null,null,null,null,null,null,null,null,null,null,null,null,34,"2016-03-04",34,"04.03.2016",null,null,null,null,null,null,null,null,null,null,null,null,null,null,null,null,null,null,null,null,34,"2016-03-04",34,"04.03.2016",null,null,null,null,null,null,null,null,null,null,null,null,null,null,null,null,"CPS",1,null,null,null,null,null,null,13,0,0,13,1400,0,13,60,0,13,90,0,13,0,0,null,null,null,null,null,null,null,null,null,null,null,null,null,null,null,null,null,null,null,"",0,11,3,17,null,34,"2017-04-03",null,34,"03.04.17",30,{"$error":"#VALUE!"},"",null,34,"03.04.17",30,{"$error":"#VALUE!"},"",{"$error":"#VALUE!"},34,"03.04.17",34,null,null,null,null,null,null,null,null,null,null,null,null,null,null,null,null,null,null,null,null,null,null,null,null,null,null,null,null,null,null,null,null,null,null,36070,37,36070,39160]
[null,"SL MONTHS  GD4:GD28",null,"Needed info. Form",null,null,null,null,null,{"$f":"J38","v":0},null,{"$f":"L38","v":0},{"$f":"M38","v":0},{"$f":"N38","v":0},null,null,{"$f":"Q38","v":0},{"$f":"R38","v":0},{"$f":"S38","v":0},null,"OLD PROMOTION",null,null,null,null,null,null,null,null,null,null,null,null,null,null,null,null,null,null,null,null,null,null,null,null,null,null,null,null,null,null,null,null,null,null,null,null,null,null,null,null,null,null,null,null,null,null,null,null,null,null,null,null,null,null,null,null,null,35,34170,null,null,null,null,null,null,null,null,null,null,null,null,null,null,null,null,null,null,null,35,"2016-03-05",35,"05.03.2016",null,null,null,null,null,null,null,null,null,null,null,null,null,null,null,null,null,null,null,null,35,"2016-03-05",35,"05.03.2016",null,null,null,null,null,null,null,null,null,null,null,null,null,null,null,null,"CPS",1,null,null,null,null,null,null,{"$f":"EV38","v":13},0,0,13,1400,0,13,{"$f":"FC38","v":60},0,13,90,0,13,0,0,null,null,null,null,null,null,null,null,null,null,null,null,null,null,null,null,null,null,null,"",0,12,3,17,null,35,"2017-04-04",null,35,"04.04.17",null,null,null,null,35,"04.04.17","hra for old %",null,null,"hra for new %",35,"04.04.17",35,null,null,null,null,null,null,null,null,null,null,null,null,null,null,null,null,null,null,null,null,null,null,null,null,null,null,null,null,null,null,null,null,null,null,37100,38,37100,40270]
[null,null,null,null,"NEW","promotion 1st incrment Arrears ",null,null,null,"PAY",null,"DA","HRA","IR","da%",null,"GROSS","CPS","NET","ir%","promotion 1st incrment Arrears ",null,null,null,"PAY",null,"DA","HRA","IR",null,null,"GROSS","CPS","NET",null,null,null,null,null,null,null,null,null,null,null,null,null,null,null,null,null,null,null,null,null,null,null,null,null,null,null,null,null,null,null,null,null,null,null,null,null,null,null,null,null,null,null,null,36,35120,null,null,null,null,null,null,null,null,null,null,null,null,null,null,null,null,null,null,null,36,"2016-03-06",36,"06.03.2016",null,null,null,null,null,null,null,null,null,null,null,null,null,null,null,null,null,null,null,null,36,"2016-03-06",36,"06.03.2016",null,null,null,null,null,null,null,null,null,null,null,null,null,null,null,null,"CPS",1,null,null,null,null,null,null,{"$f":"EV39","v":13},0,0,13,1400,0,13,60,0,13,90,0,13,0,0,null,null,null,null,null,null,null,null,null,null,null,null,null,null,null,null,null,null,null,"",0,13,3,17,null,36,"2017-04-05",null,36,"05.04.17",null,null,null,null,36,"05.04.17",{"$f":"ROUND((GV40/GU23)*(HP5*K7),0)","v":{"$error":"#VALUE!"}},{"$f":"GU25-GV25","v":{"$error":"#VALUE!"}},{"$f":"VLOOKUP(GX23,HO4:HP16,2)","v":{"$error":"#VALUE!"}},{"$f":"ROUND((GV25/GU25)*(K7*GW40),0)","v":{"$error":"#VALUE!"}},36,"05.04.17",36,null,null,null,null,null,null,null,null,null,null,null,null,null,null,null,null,null,null,null,null,null,null,null,null,null,null,null,null,null,null,null,null,null,null,38130,39,38130,41380]
[null,1,1,"Rented House",{"$f":"VLOOKUP(F41,HO4:HV16,2)","v":{"$error":"#N/A"}},{"$f":"DZ7","v":1},null,null,"T.D.",{"$f":"IF(EN7=0,0,VLOOKUP(EN7,H6:BX18,5))","v":0},null,{"$f":"IF(J41=\"\",0,ROUND(J41*O41,0))","v":{"$error":"#N/A"}},{"$f":"ROUND(J41*E41,0)","v":{"$error":"#N/A"}},null,{"$f":"VLOOKUP(EM19,H5:U17,14)","v":{"$error":"#N/A"}},null,{"$f":"SUM(J41:N41)","v":{"$error":"#N/A"}},{"$f":"IF(EN25=\"ZPPF\",0,ROUND(SUM(J41:L41)*10%,0))","v":{"$error":"#N/A"}},{"$f":"Q41-R41","v":{"$error":"#N/A"}},null,null,null,null,"T.D.",{"$f":"IF(EN7=0,0,VLOOKUP(EN7,H6:BX18,5))","v":0},null,{"$f":"ROUND(Y41*77.896%,0)","v":0},{"$f":"ROUND(Y41*E41,0)","v":{"$error":"#N/A"}},null,null,null,{"$f":"SUM(Y41:AE41)","v":{"$error":"#N/A"}},{"$f":"IF(EN25=\"ZPPF\",0,ROUND(SUM(Y41:AA41)*10%,0))","v":0},{"$f":"AF41-AG41","v":{"$error":"#N/A"}},null,null,null,null,null,null,null,null,null,null,null,null,null,null,null,null,null,null,null,null,null,null,null,null,null,null,null,null,null,null,null,null,null,null,null,null,null,null,null,null,null,null,null,null,37,36070,null,null,null,null,null,null,null,null,null,null,null,null,null,null,null,null,null,null,null,37,"2016-03-07",37,"07.03.2016",null,null,null,null,null,null,null,null,null,null,null,null,null,null,null,null,null,null,null,null,37,"2016-03-07",37,"07.03.2016",null,null,null,null,null,null,null,null,null,null,null,null,null,null,null,null,"CPS",1,null,null,null,null,null,null,{"$f":"EV40","v":13},0,0,null,1400,0,null,{"$f":"FC40","v":60},0,null,{"$f":"FF40","v":90},0,null,{"$f":"FI40","v":0},0,null,null,null,null,null,null,null,null,null,null,null,null,null,null,null,null,null,null,null,"",0,14,3,17,null,37,"2017-04-06",null,37,"06.04.17",null,null,null,null,37,"06.04.17",{"$f":"ROUND((GV41/GU24)*(HP6*K8),0)","v":{"$error":"#VALUE!"}},{"$f":"GV40","v":{"$error":"#VALUE!"}},{"$f":"GW40","v":{"$error":"#VALUE!"}},{"$f":"ROUND((GV26/GU26)*(K8*GW41),0)","v":{"$error":"#VALUE!"}},37,"06.04.17",37,null,null,null,null,null,null,null,null,null,null,null,null,null,null,null,null,null,null,null,null,null,null,null,null,null,null,null,null,null,null,null,null,null,null,39160,40,39160,42490]
[null,{"$f":"VLOOKUP(B41,C41:D44,2)","v":"Rented House"},2,"Own House",{"$f":"E41","v":{"$error":"#N/A"}},1,null,null,"A.D.",{"$f":"IF(EO7=0,0,VLOOKUP(EO7,H6:BX18,5))","v":0},null,{"$f":"ROUND(J42*O42,0)","v":{"$error":"#N/A"}},{"$f":"ROUND(J42*E42,0)","v":{"$error":"#N/A"}},null,{"$f":"O41","v":{"$error":"#N/A"}},null,{"$f":"SUM(J42:N42)","v":{"$error":"#N/A"}},{"$f":"IF(EN25=\"ZPPF\",0,ROUND(SUM(J42:L42)*10%,0))","v":{"$error":"#N/A"}},{"$error":"#N/A"},null,null,null,null,"A.D.",{"$f":"IF(EO7=0,0,VLOOKUP(EO7,H6:BX18,5))","v":0},null,{"$f":"ROUND(Y42*77.896%,0)","v":0},{"$f":"ROUND(Y42*E42,0)","v":{"$error":"#N/A"}},null,null,null,{"$error":"#N/A"},{"$f":"IF(EN25=\"ZPPF\",0,ROUND(SUM(Y42:AA42)*10%,0))","v":0},{"$error":"#N/A"},null,null,null,null,null,null,null,null,null,null,null,null,null,null,null,null,null,null,null,null,null,null,null,null,null,null,null,null,null,null,null,null,null,null,null,null,null,null,null,null,null,null,null,null,38,37100,null,null,null,null,null,null,null,null,null,null,null,null,null,null,null,null,null,null,null,38,"2016-03-08",38,"08.03.2016",null,null,null,null,null,null,null,null,null,null,null,null,null,null,null,null,null,null,null,null,38,"2016-03-08",38,"08.03.2016",null,null,null,null,null,null,null,null,null,null,null,null,null,null,null,null,"CPS",1,null,null,null,null,null,null,13,0,0,null,1400,0,null,60,0,null,90,0,null,0,0,null,null,null,null,null,null,null,null,null,null,null,null,null,null,null,null,null,null,null,"",0,15,3,17,null,38,"2017-04-07",null,38,"07.04.17",null,null,null,null,38,"07.04.17",{"$error":"#VALUE!"},{"$f":"GV41","v":{"$error":"#VALUE!"}},{"$f":"GW41","v":{"$error":"#VALUE!"}},{"$error":"#VALUE!"},38,"07.04.17",38,null,null,null,null,null,null,null,null,null,null,null,null,null,null,null,null,null,null,null,null,null,null,null,null,null,null,null,null,null,null,null,null,null,null,40270,41,40270,43680]
[null,null,3,"Govt. Quarters",{"$error":"#N/A"},1,null,"1 MONTH","DIFF.",{"$f":"J41-J42","v":0},null,{"$f":"L41-L42","v":{"$error":"#N/A"}},{"$f":"M41-M42","v":{"$error":"#N/A"}},null,null,null,{"$f":"SUM(J43:P43)","v":{"$error":"#N/A"}},{"$f":"IF(EN25=\"ZPPF\",0,ROUND(SUM(J43:L43)*10%,0))","v":{"$error":"#N/A"}},{"$error":"#N/A"},null,null,null,"1 MONTH","DIFF.",{"$f":"Y41-Y42","v":0},null,{"$f":"AA41-AA42","v":0},{"$f":"AB41-AB42","v":{"$error":"#N/A"}},null,null,null,{"$error":"#N/A"},{"$f":"IF(EN26=\"ZPPF\",0,ROUND(SUM(Y43:AA43)*10%,0))","v":0},{"$error":"#N/A"},null,null,null,null,null,null,null,null,null,null,null,null,null,null,null,null,null,null,null,null,null,null,null,null,null,null,null,null,null,null,null,null,null,null,null,null,null,null,null,null,null,null,null,null,39,38130,null,null,null,null,null,null,null,null,null,null,null,null,null,null,null,null,null,null,null,39,"2016-03-09",39,"09.03.2016",null,null,null,null,null,null,null,null,null,null,null,null,null,null,null,null,null,null,null,null,39,"2016-03-09",39,"09.03.2016",null,null,null,null,null,null,null,null,null,null,null,null,null,null,null,null,"CPS",1,null,null,null,null,null,null,13,0,0,null,1400,0,null,60,0,null,90,0,null,0,0,null,null,null,null,null,null,null,null,null,null,null,null,null,null,null,null,null,null,null,"",0,16,3,17,null,39,"2017-04-08",null,39,"08.04.17",null,null,null,null,39,"08.04.17",{"$error":"#VALUE!"},{"$error":"#VALUE!"},{"$error":"#VALUE!"},{"$error":"#VALUE!"},39,"08.04.17",39,null,null,null,null,null,null,null,null,null,null,null,null,null,null,null,null,null,null,null,null,null,null,null,null,null,null,null,null,null,null,null,null,null,null,41380,42,41380,44870]
[null,null,null,null,{"$error":"#N/A"},1,null,"DAYS","DIFF.",{"$f":"ROUND(J43*ED6/EB6,0)","v":0},null,{"$f":"ROUND(L43*ED6/EB6,0)","v":{"$error":"#N/A"}},{"$f":"ROUND(M43*ED6/EB6,0)","v":{"$error":"#N/A"}},null,null,null,{"$error":"#N/A"},{"$f":"IF(EN25=\"ZPPF\",0,ROUND(SUM(J44:L44)*10%,0))","v":{"$error":"#N/A"}},{"$error":"#N/A"},null,null,null,"DAYS","DIFF.",{"$f":"ROUND(Y43*ED6/EB6,0)","v":0},null,{"$f":"ROUND(AA43*ED6/EB6,0)","v":0},{"$f":"ROUND(AB43*ED6/EB6,0)","v":{"$error":"#N/A"}},null,null,null,{"$error":"#N/A"},{"$f":"IF(EN27=\"ZPPF\",0,ROUND(SUM(Y44:AA44)*10%,0))","v":0},{"$error":"#N/A"},null,null,null,null,null,null,null,null,null,null,null,null,null,null,null,null,null,null,null,null,null,null,null,null,null,null,null,null,null,null,null,null,null,null,null,null,null,null,null,null,null,null,null,null,40,39160,null,null,null,null,null,null,null,null,null,null,null,null,null,null,null,null,null,null,null,40,"2016-03-10",40,"10.03.2016",null,null,null,null,null,null,null,null,null,null,null,null,null,null,null,null,null,null,null,null,40,"2016-03-10",40,"10.03.2016",null,null,null,null,null,null,null,null,null,null,null,null,null,null,null,null,"CPS",1,null,null,null,null,null,null,{"$f":"EV43","v":13},0,0,null,1400,0,null,60,0,null,90,0,null,0,0,null,null,null,null,null,null,null,null,null,null,null,null,null,null,null,null,null,null,null,"",0,17,3,17,null,40,"2017-04-09",null,40,"09.04.17",null,null,null,null,40,"09.04.17",{"$error":"#VALUE!"},{"$error":"#VALUE!"},{"$error":"#VALUE!"},{"$error":"#VALUE!"},40,"09.04.17",40,null,null,null,null,null,null,null,null,null,null,null,null,null,null,null,null,null,null,null,null,null,null,null,null,null,null,null,null,null,null,null,null,null,null,42490,43,42490,46060]
[null,null,2,1,"Income from House Property  U/S 24(1)(vi)",null,{"$f":"EM22","v":0},"MONTHS","DIFF.",{"$f":"J43*G45","v":0},null,{"$f":"L43*G45","v":{"$error":"#N/A"}},{"$f":"M43*G45","v":{"$error":"#N/A"}},null,null,null,{"$error":"#N/A"},{"$f":"IF(EN25=\"ZPPF\",0,ROUND(SUM(J45:L45)*10%,0))","v":{"$error":"#N/A"}},{"$error":"#N/A"},null,null,{"$f":"FB22","v":0},"MONTHS","DIFF.",{"$f":"Y43*V45","v":0},null,{"$f":"AA43*V45","v":0},{"$f":"AB43*V45","v":{"$error":"#N/A"}},null,null,null,{"$error":"#N/A"},{"$f":"IF(EN28=\"ZPPF\",0,ROUND(SUM(Y45:AA45)*10%,0))","v":0},{"$error":"#N/A"},null,null,null,null,null,null,null,null,null,null,null,null,null,null,null,null,null,null,null,null,null,null,null,null,null,null,null,null,null,null,null,null,null,null,null,null,null,null,null,null,null,null,null,null,41,40270,null,null,null,null,null,null,null,null,null,null,null,null,null,null,null,null,null,null,null,41,"2016-03-11",41,"11.03.2016",null,null,null,null,null,null,null,null,null,null,null,null,null,null,null,null,null,null,null,null,41,"2016-03-11",41,"11.03.2016",null,null,null,null,null,null,null,null,null,null,null,null,null,null,null,null,"CPS",1,null,null,null,null,null,null,13,null,null,null,null,null,null,null,null,null,null,null,null,null,null,null,null,null,null,null,null,null,null,null,null,null,null,null,null,null,null,null,null,null,"",0,18,3,17,null,41,"2017-04-10",null,41,"10.04.17",null,null,null,null,41,"10.04.17",{"$f":"ROUND((GV45/GU28)*(HP10*K12),0)","v":{"$error":"#VALUE!"}},{"$error":"#VALUE!"},{"$error":"#VALUE!"},{"$f":"ROUND((GV30/GU30)*(K12*GW45),0)","v":{"$error":"#VALUE!"}},41,"10.04.17",41,null,null,null,null,null,null,null,null,null,null,null,null,null,null,null,null,null,null,null,null,null,null,null,null,null,null,null,null,null,null,null,null,null,null,43680,44,43680,47330]
[null,null,null,2,"Loss from House Property   U/S 24(1)(vi)",null,null,"TOT",null,{"$f":"IF(DY5=0,0,SUM(J44:J45))","v":0},null,{"$f":"IF(DY5=0,0,SUM(L44:L45))","v":0},{"$f":"IF(DY5=0,0,SUM(M44:M45))","v":0},null,null,null,0,{"$f":"IF(EN25=\"ZPPF\",0,ROUND(SUM(J46:L46)*10%,0))","v":0},0,null,null,null,"TOT",null,{"$f":"IF(DY5=0,0,SUM(Y44:Y45))","v":0},null,{"$f":"IF(DY5=0,0,SUM(AA44:AA45))","v":0},{"$f":"IF(DY5=0,0,SUM(AB44:AB45))","v":0},null,null,null,0,{"$f":"IF(EN29=\"ZPPF\",0,ROUND(SUM(Y46:AA46)*10%,0))","v":0},0,null,null,null,null,null,null,null,null,null,null,null,null,null,null,null,null,null,null,null,null,null,null,null,null,null,null,null,null,null,null,null,null,null,null,null,null,null,null,null,null,null,null,null,null,42,41380,null,null,null,null,null,null,null,null,null,null,null,null,null,null,null,null,null,null,null,42,"2016-03-12",42,"12.03.2016",null,null,null,null,null,null,null,null,null,null,null,null,null,null,null,null,null,null,null,null,42,"2016-03-12",42,"12.03.2016",null,null,null,null,null,null,null,null,null,null,null,null,null,null,null,null,"CPS",1,null,null,null,null,null,null,13,null,null,null,null,null,null,null,null,null,null,null,null,null,null,null,null,null,null,null,null,null,null,null,null,null,null,null,null,null,null,null,null,null,"",0,19,3,17,null,42,"2017-04-11",null,42,"11.04.17",null,null,null,null,42,"11.04.17",{"$error":"#VALUE!"},{"$error":"#VALUE!"},{"$error":"#VALUE!"},{"$error":"#VALUE!"},42,"11.04.17",42,null,null,null,null,null,null,null,null,null,null,null,null,null,null,null,null,null,null,null,null,null,null,null,null,null,null,null,null,null,null,null,null,null,null,44870,45,44870,48600]
[null,null,null,{"$f":"VLOOKUP(C45,D45:E46,2)","v":"Loss from House Property   U/S 24(1)(vi)"},null,null,null,null,null,{"$f":"IF(JD3<EO7,J46,Y46)","v":0},null,{"$f":"IF(JD3<EO7,L46,AA46)","v":0},{"$f":"IF(JD3<EO7,M46,AB46)","v":0},null,null,null,{"$f":"IF(JD3<EO7,Q46,AF46)","v":0},{"$f":"IF(JD3<EO7,R46,AG46)","v":0},{"$f":"IF(JD3<EO7,S46,AH46)","v":0},null,null,null,null,null,null,null,null,null,null,null,null,null,null,null,null,null,null,null,null,null,null,null,null,null,null,null,null,null,null,null,null,null,null,null,null,null,null,null,null,null,null,null,null,null,null,null,null,null,null,null,null,null,null,null,null,null,null,null,43,42490,null,null,null,null,null,null,null,null,null,null,null,null,null,null,null,null,null,null,null,43,"2016-03-13",43,"13.03.2016",null,null,null,null,null,null,null,null,null,null,null,null,null,null,null,null,null,null,null,null,43,"2016-03-13",43,"13.03.2016",null,null,null,null,null,null,null,null,null,null,null,null,null,null,null,null,"CPS",1,null,null,null,null,null,null,{"$f":"EV46","v":13},null,null,null,null,null,null,null,null,null,null,null,null,null,null,null,null,null,null,null,null,null,null,null,null,null,null,null,null,null,null,null,null,null,"",0,20,3,17,null,43,"2017-04-12",null,43,"12.04.17",null,null,null,null,43,"12.04.17",{"$error":"#VALUE!"},{"$error":"#VALUE!"},{"$error":"#VALUE!"},{"$error":"#VALUE!"},43,"12.04.17",43,null,null,null,null,null,null,null,null,null,null,null,null,null,null,null,null,null,null,null,null,null,null,null,null,null,null,null,null,null,null,null,null,null,null,46060,46,46060,49870]
[null,null,null,null,"NEW","SL",null,null,null,"PAY","FP","DA","HRA","cca","SCA",null,"GROSS",null,null,null,null,null,"OLD","SL",null,null,null,"PAY","FP","DA","HRA",null,null,null,"GROSS",null,null,null,null,null,null,null,null,null,null,null,null,null,null,null,null,null,null,null,null,null,null,null,null,null,null,null,null,null,null,null,null,null,null,null,null,null,null,null,null,null,null,null,44,43680,null,null,null,null,null,null,null,null,null,null,null,null,null,null,null,null,null,null,null,44,"2016-03-14",44,"14.03.2016",null,null,null,null,null,null,null,null,null,null,null,null,null,null,null,null,null,null,null,null,44,"2016-03-14",44,"14.03.2016",null,null,null,null,null,null,null,null,null,null,null,null,null,null,null,null,"CPS",1,null,null,null,null,null,null,13,null,null,null,null,null,null,null,null,null,null,null,null,null,null,null,null,null,null,null,null,null,null,null,null,null,null,null,null,null,null,null,null,null,"",0,21,3,17,null,44,"2017-04-13",null,44,"13.04.17",null,null,null,null,44,"13.04.17",{"$error":"#VALUE!"},{"$error":"#VALUE!"},{"$error":"#VALUE!"},{"$error":"#VALUE!"},44,"13.04.17",44,null,null,null,null,null,null,null,null,null,null,null,null,null,null,null,null,null,null,null,null,null,null,null,null,null,null,null,null,null,null,null,null,null,null,47330,47,47330,51230]
[null,2,{"$f":"IF(B41>1,\"\",\"With undertaking Certificate\")","v":"With undertaking Certificate"},null,{"$f":"VLOOKUP(F49,HO5:HV16,2)","v":{"$error":"#N/A"}},{"$f":"GE5","v":0},{"$f":"VLOOKUP(GE4,H7:U18,14)","v":{"$error":"#N/A"}},null,"30 DAYS",{"$f":"VLOOKUP(GE5,H6:BX18,4)","v":{"$error":"#N/A"}},{"$f":"'DATA 1'!J32","v":0},{"$f":"ROUND(J49*G49,0)","v":{"$error":"#N/A"}},{"$f":"ROUND(J49*E49,0)","v":{"$error":"#N/A"}},{"$f":"VLOOKUP(F49,F7:AL18,33)","v":{"$error":"#N/A"}},{"$f":"VLOOKUP(F49,F7:AF18,27)","v":{"$error":"#N/A"}},null,{"$f":"SUM(J49:P49)","v":{"$error":"#N/A"}},null,null,null,null,null,null,null,null,null,null,{"$f":"VLOOKUP(GE5,H6:BX18,5)","v":{"$error":"#N/A"}},{"$f":"K49","v":0},{"$f":"ROUND(AB49*77.896%,0)","v":{"$error":"#N/A"}},{"$f":"ROUND(AB49*E49,0)","v":{"$error":"#N/A"}},null,null,null,{"$f":"SUM(AB49:AH49)","v":{"$error":"#N/A"}},null,null,null,null,null,null,null,null,null,null,null,null,null,null,null,null,null,null,null,null,null,null,null,null,null,null,null,null,null,null,null,null,null,null,null,null,null,null,null,null,null,null,null,45,44870,null,null,null,null,null,null,null,null,null,null,null,null,null,null,null,null,null,null,null,45,"2016-03-15",45,"15.03.2016",null,null,null,null,null,null,null,null,null,null,null,null,null,null,null,null,null,null,null,null,45,"2016-03-15",45,"15.03.2016",null,null,null,null,null,null,null,null,null,null,null,null,null,null,null,null,"CPS",1,null,null,null,null,null,null,13,null,null,null,null,null,null,null,null,null,null,null,null,null,null,null,null,null,null,null,null,null,null,null,null,null,null,null,null,null,null,null,null,null,"",0,22,3,17,null,45,"2017-04-14",null,45,"14.04.17",null,null,null,null,45,"14.04.17",{"$error":"#VALUE!"},{"$error":"#VALUE!"},{"$error":"#VALUE!"},{"$error":"#VALUE!"},45,"14.04.17",45,null,null,null,null,null,null,null,null,null,null,null,null,null,null,null,null,null,null,null,null,null,null,null,null,null,null,null,null,null,null,null,null,null,null,48600,48,48600,52590]
[null,null,{"$f":"IF(B41>1,\"\",\"Without undertaking Certificate\")","v":"Without undertaking Certificate"},null,{"$f":"E49","v":{"$error":"#N/A"}},{"$f":"F49","v":0},{"$f":"VLOOKUP(GE4,H7:U18,14)","v":{"$error":"#N/A"}},null,"15 DAYS",{"$f":"ROUND(J49/2,0)","v":{"$error":"#N/A"}},null,{"$f":"ROUND(J50*G50,0)","v":{"$error":"#N/A"}},{"$f":"ROUND(J50*E50,0)","v":{"$error":"#N/A"}},{"$f":"ROUND(N49/2,0)","v":{"$error":"#N/A"}},{"$f":"ROUND(O49/2,0)","v":{"$error":"#N/A"}},null,{"$f":"SUM(J50:P50)","v":{"$error":"#N/A"}},null,null,null,null,null,null,null,null,null,null,{"$f":"ROUND(AB49/2,0)","v":{"$error":"#N/A"}},null,{"$f":"ROUND(AB50*77.896%,0)","v":{"$error":"#N/A"}},{"$f":"ROUND(AB50*E50,0)","v":{"$error":"#N/A"}},null,null,null,{"$f":"SUM(AB50:AH50)","v":{"$error":"#N/A"}},null,null,null,null,null,null,null,null,null,null,null,null,null,null,null,null,null,null,null,null,null,null,null,null,null,null,null,null,null,null,null,null,null,null,null,null,null,null,null,null,null,null,null,46,46060,null,null,null,null,null,null,null,null,null,null,null,null,null,null,null,null,null,null,null,46,"2016-03-16",46,"16.03.2016",null,null,null,null,null,null,null,null,null,null,null,null,null,null,null,null,null,null,null,null,46,"2016-03-16",46,"16.03.2016",null,null,null,null,null,null,null,null,null,null,null,null,null,null,null,null,"CPS",1,null,null,null,null,null,null,{"$f":"EV49","v":13},null,null,null,null,null,null,null,null,null,null,null,null,null,null,null,null,null,null,null,null,null,null,null,null,null,null,null,null,null,null,null,null,null,"",0,23,3,17,null,46,"2017-04-15",null,46,"15.04.17",null,null,null,null,46,"15.04.17",{"$error":"#VALUE!"},{"$error":"#VALUE!"},{"$error":"#VALUE!"},{"$error":"#VALUE!"},46,"15.04.17",46,null,null,null,null,null,null,null,null,null,null,null,null,null,null,null,null,null,null,null,null,null,null,null,null,null,null,null,null,null,null,null,null,null,null,49870,49,49870,53950]
[null,null,null,null,null,null,null,null,null,{"$f":"IF(GF4=0,0,IF(GF4=15,J50,J49))","v":0},{"$f":"K49","v":0},{"$f":"IF(GF4=0,0,IF(GF4=15,L50,L49))","v":0},{"$f":"IF(GF4=0,0,IF(GF4=15,M50,M49))","v":0},{"$f":"IF(GF4=0,0,IF(GF4=15,N50,N49))","v":0},{"$f":"IF(GF4=0,0,IF(GF4=15,O50,O49))","v":0},null,{"$f":"IF(GF4=0,0,IF(GF4=15,Q50,Q49))","v":0},null,1,1,"No Leave",null,null,null,null,null,null,{"$f":"IF(GF4=0,0,IF(GF4=15,AB50,AB49))","v":0},{"$f":"K51","v":0},{"$f":"IF(GF4=0,0,IF(GF4=15,AD50,AD49))","v":0},{"$f":"IF(GF4=0,0,IF(GF4=15,AE50,AE49))","v":0},null,null,null,{"$f":"IF(GF4=0,0,IF(GH4=15,AI50,AI49))","v":0},null,null,null,null,null,null,null,null,null,null,null,null,null,null,null,null,null,null,null,null,null,null,null,null,null,null,null,null,null,null,null,null,null,null,null,null,null,null,null,null,null,null,null,47,47330,null,null,null,null,null,null,null,null,null,null,null,null,null,null,null,null,null,null,null,47,"2016-03-17",47,"17.03.2016",null,null,null,null,null,null,null,null,null,null,null,null,null,null,null,null,null,null,null,null,47,"2016-03-17",47,"17.03.2016",null,null,null,null,null,null,null,null,null,null,null,null,null,null,null,null,"CPS",1,null,null,null,null,null,null,13,null,null,null,null,null,null,null,null,null,null,null,null,null,null,null,null,null,null,null,null,null,null,null,null,null,null,null,null,null,null,null,null,null,"",0,24,3,17,null,47,"2017-04-16",null,47,"16.04.17",null,null,null,null,47,"16.04.17",{"$error":"#VALUE!"},{"$error":"#VALUE!"},{"$error":"#VALUE!"},{"$error":"#VALUE!"},47,"16.04.17",47,null,null,null,null,null,null,null,null,null,null,null,null,null,null,null,null,null,null,null,null,null,null,null,null,null,null,null,null,null,null,null,null,null,null,51230,50,51230,55410]
[null,null,null,null,null,null,null,null,null,{"$f":"IF(JD3<F49,J51,AB51)","v":0},{"$f":"IF(JD3<F49,K51,AC51)","v":0},{"$f":"IF(JD3<F49,L51,AD51)","v":0},{"$f":"IF(JD3<F49,M51,AE51)","v":0},{"$f":"IF(JD3<F49,N51,AE51)","v":0},{"$f":"IF(JD3<F49,O51,AE51)","v":0},null,{"$f":"IF(JD3<F49,Q51,AI51)","v":0},null,null,2,"HPL",null,null,null,null,null,null,null,null,null,null,null,null,null,null,null,null,null,null,null,null,null,null,null,null,null,null,null,null,null,null,null,null,null,null,null,null,null,null,null,null,null,null,null,null,null,null,null,null,null,null,null,null,null,null,null,null,null,48,48600,null,null,null,null,null,null,null,null,null,null,null,null,null,null,null,null,null,null,null,48,"2016-03-18",48,"18.03.2016",null,null,null,null,null,null,null,null,null,null,null,null,null,null,null,null,null,null,null,null,48,"2016-03-18",48,"18.03.2016",null,null,null,null,null,null,null,null,null,null,null,null,null,null,null,null,"CPS",1,null,null,null,null,null,null,13,null,null,null,null,null,null,null,null,null,null,null,null,null,null,null,null,null,null,null,null,null,null,null,null,null,null,null,null,null,null,null,null,null,"",0,25,3,17,null,48,"2017-04-17",null,48,"17.04.17",null,null,null,null,48,"17.04.17",null,null,null,null,48,"17.04.17",48,null,null,null,null,null,null,null,null,null,null,null,null,null,null,null,null,null,null,null,null,null,null,null,null,null,null,null,null,null,null,null,null,null,null,52590,51,52590,56870]
[null,null,"OLD PAY",null,null,"NEW PAY",null,null,null,null,null,null,null,null,null,null,null,null,null,3,"EOL",null,null,null,null,null,null,null,null,null,null,null,null,null,null,null,null,null,null,null,null,null,null,null,null,null,null,null,null,null,null,null,null,null,null,null,null,null,null,null,null,null,null,null,null,null,null,null,null,null,null,null,null,null,null,null,null,null,49,49870,null,null,null,null,null,null,null,null,null,null,null,null,null,null,null,null,null,null,null,49,"2016-03-19",49,"19.03.2016",null,null,null,null,null,null,null,null,null,null,null,null,null,null,null,null,null,null,null,null,49,"2016-03-19",49,"19.03.2016",null,null,null,null,null,null,null,null,null,null,null,null,null,null,null,null,"CPS",1,null,null,null,null,null,null,{"$f":"EV52","v":13},null,null,null,null,null,null,null,null,null,null,null,null,null,null,null,null,null,null,null,null,null,null,null,null,null,null,null,null,null,null,null,null,null,"",0,26,3,17,null,49,"2017-04-18",null,49,"18.04.17",null,null,null,null,49,"18.04.17",null,null,null,null,49,"18.04.17",49,null,null,null,null,null,null,null,null,null,null,null,null,null,null,null,null,null,null,null,null,null,null,null,null,null,null,null,null,null,null,null,null,null,null,53950,52,53950,58330]
[null,null,1,2,3,1,2,3,null,"HPL","EOL",null,null,null,null,"OLD B.PAY","NEW B.PAY","OLD B.PAY","NEW B.PAY",null,null,null,null,null,null,null,null,null,null,null,null,null,null,null,null,null,null,null,null,null,null,null,null,null,null,null,null,null,null,null,null,null,null,null,null,null,null,null,null,null,null,null,null,null,null,null,null,null,null,null,null,null,null,null,null,null,null,null,50,51230,null,null,null,null,null,null,null,null,null,null,null,null,null,null,null,null,null,null,null,50,"2016-03-20",50,"20.03.2016",null,null,null,null,null,null,null,null,null,null,null,null,null,null,null,null,null,null,null,null,50,"2016-03-20",50,"20.03.2016",null,null,null,null,null,null,null,null,null,null,null,null,null,null,null,null,"CPS",1,null,null,null,null,null,null,13,null,null,null,null,null,null,null,null,null,null,null,null,null,null,null,null,null,null,null,null,null,null,null,null,null,null,null,null,null,null,null,null,null,"",0,27,3,17,null,50,"2017-04-19",null,50,"19.04.17",null,null,null,null,50,"19.04.17",null,null,null,null,50,"19.04.17",50,null,null,null,null,null,null,null,null,null,null,null,null,null,null,null,null,null,null,null,null,null,null,null,null,null,null,null,null,null,null,null,null,null,null,55410,53,55410,59890]
[null,null,"NO Leave","HPL","EOL","NO Leave","HPL","EOL",{"$f":"SUM(J55:K55)","v":0},{"$f":"'DATA 1'!I37","v":0},{"$f":"'DATA 1'!J37","v":0},31,{"$f":"IF(D52=2,\"\",\"March,17\")","v":"March,17"},null,1,{"$f":"SUM(D56:E56)","v":0},{"$f":"SUM(G56:H56)","v":0},{"$f":"IF(P55=0,C56,(C56-P55))","v":39160},{"$f":"IF(Q55=0,F56,Q55)","v":0},null,null,null,null,null,null,null,null,null,null,null,null,null,null,null,null,null,null,null,null,null,null,null,null,null,null,null,null,null,null,null,null,null,null,null,null,null,null,null,null,null,null,null,null,null,null,null,null,null,null,null,null,null,null,null,null,null,null,null,51,52590,null,null,null,null,null,null,null,null,null,null,null,null,null,null,null,null,null,null,null,51,"2016-03-21",51,"21.03.2016",null,null,null,null,null,null,null,null,null,null,null,null,null,null,null,null,null,null,null,null,51,"2016-03-21",51,"21.03.2016",null,null,null,null,null,null,null,null,null,null,null,null,null,null,null,null,null,null,null,null,null,null,null,null,13,null,null,null,null,null,null,null,null,null,null,null,null,null,null,null,null,null,null,null,null,null,null,null,null,null,null,null,null,null,null,null,null,null,"",0,28,3,17,null,51,"2017-04-20",null,51,"20.04.17",null,null,null,null,51,"20.04.17",null,null,null,null,51,"20.04.17",51,null,null,null,null,null,null,null,null,null,null,null,null,null,null,null,null,null,null,null,null,null,null,null,null,null,null,null,null,null,null,null,null,null,null,56870,54,56870,61450]
[null,1,{"$f":"IF(K55=L55,0,CE7)","v":39160},{"$f":"ROUND(C56*J55/L55/2,0)","v":0},{"$f":"ROUND(C56*K55/L55,0)","v":0},null,null,null,{"$f":"SUM(J56:K56)","v":0},{"$f":"'DATA 1'!I38","v":0},{"$f":"'DATA 1'!J38","v":0},30,{"$f":"IF(D52=2,\"\",\"April,17\")","v":"April,17"},null,2,{"$f":"SUM(D57:E57)","v":0},{"$f":"SUM(G57:H57)","v":0},{"$f":"IF(P56=0,C57,(C57-P56))","v":39160},{"$f":"IF(Q56=0,F57,(F57-Q56))","v":0},null,null,null,null,null,null,null,null,null,null,null,null,null,null,null,null,null,null,null,null,null,null,null,null,null,null,null,null,null,null,null,null,null,null,null,null,null,null,null,null,null,null,null,null,null,null,null,null,null,null,null,null,null,null,null,null,null,null,null,52,53950,null,null,null,null,null,null,null,null,null,null,null,null,null,null,null,null,null,null,null,52,"2016-03-22",52,"22.03.2016",null,null,null,null,null,null,null,null,null,null,null,null,null,null,null,null,null,null,null,null,52,"2016-03-22",52,"22.03.2016",null,null,null,null,null,null,null,null,null,null,null,null,null,null,null,null,null,null,null,null,null,null,null,null,null,null,null,null,null,null,null,null,null,null,null,null,null,null,null,null,null,null,null,null,null,null,null,null,null,null,null,null,null,null,null,null,null,null,"",0,29,3,17,null,52,"2017-04-21",null,52,"21.04.17",null,null,null,null,52,"21.04.17",null,null,null,null,52,"21.04.17",52,null,null,null,null,null,null,null,null,null,null,null,null,null,null,null,null,null,null,null,null,null,null,null,null,null,null,null,null,null,null,null,null,null,null,58330,55,58330,63010]
[null,2,{"$f":"IF(K56=L56,0,CE8)","v":39160},{"$f":"ROUND(C57*J56/L56/2,0)","v":0},{"$f":"ROUND(C57*K56/L56,0)","v":0},{"$f":"IF(K56=L56,0,IF(H8>=IP3,VLOOKUP(C57,IL2:IM81,2),0))","v":0},{"$f":"ROUND(F57*J56/L56/2,0)","v":0},{"$f":"IF(K56=L56,,(ROUND(F57*K56/L56,0)))","v":0},0,{"$f":"'DATA 1'!I39","v":0},{"$f":"'DATA 1'!J39","v":0},31,{"$f":"IF(D52=2,\"\",\"May,17\")","v":"May,17"},null,3,{"$f":"SUM(D58:E58)","v":0},{"$f":"SUM(G58:H58)","v":0},39160,{"$f":"IF(Q57=0,F58,(F58-Q57))","v":0},null,null,null,null,null,null,null,null,null,null,null,null,null,null,null,null,null,null,null,null,null,null,null,null,null,null,null,null,null,null,null,null,null,null,null,null,null,null,null,null,null,null,null,null,null,null,null,null,null,null,null,null,null,null,null,null,null,null,null,53,55410,null,null,null,null,null,null,null,null,null,null,null,null,null,null,null,null,null,null,null,53,"2016-03-23",53,"23.03.2016",null,null,null,null,null,null,null,null,null,null,null,null,null,null,null,null,null,null,null,null,53,"2016-03-23",53,"23.03.2016",null,null,null,null,null,null,null,null,null,null,null,null,null,null,null,null,null,null,null,null,null,null,null,null,null,null,null,null,null,null,null,null,null,null,null,null,null,null,null,null,null,null,null,null,null,null,null,null,null,null,null,null,null,null,null,null,null,null,"",0,30,3,17,null,53,"2017-04-22",null,53,"22.04.17",null,null,null,null,53,"22.04.17",null,null,null,null,53,"22.04.17",53,null,null,null,null,null,null,null,null,null,null,null,null,null,null,null,null,null,null,null,null,null,null,null,null,null,null,null,null,null,null,null,null,null,null,59890,56,59890,64670]
[null,3,{"$f":"IF(K57=L57,0,CE9)","v":39160},0,0,{"$f":"IF(K57=L57,0,IF(H9>=IP4,VLOOKUP(C58,IL2:IM81,2),0))","v":0},{"$f":"ROUND(F58*J57/L57/2,0)","v":0},{"$f":"IF(K57=L57,,(ROUND(F58*K57/L57,0)))","v":0},0,{"$f":"'DATA 1'!I40","v":0},{"$f":"'DATA 1'!J40","v":0},30,{"$f":"IF(D52=2,\"\",\"June,17\")","v":"June,17"},null,4,0,{"$f":"SUM(G59:H59)","v":0},39160,0,null,null,null,null,null,null,null,null,null,null,null,null,null,null,null,null,null,null,null,null,null,null,null,null,null,null,null,null,null,null,null,null,null,null,null,null,null,null,null,null,null,null,null,null,null,null,null,null,null,null,null,null,null,null,null,null,null,null,null,54,56870,null,null,null,null,null,null,null,null,null,null,null,null,null,null,null,null,null,null,null,54,"2016-03-24",54,"24.03.2016",null,null,null,null,null,null,null,null,null,null,null,null,null,null,null,null,null,null,null,null,54,"2016-03-24",54,"24.03.2016",null,null,null,null,null,null,null,null,null,null,null,null,null,null,null,null,null,null,null,null,null,null,null,null,null,null,null,null,null,null,null,null,null,null,null,null,null,null,null,null,null,null,null,null,null,null,null,null,null,null,null,null,null,null,null,null,null,null,"",0,31,3,17,null,54,"2017-04-23",null,54,"23.04.17",null,null,null,null,54,"23.04.17",null,null,null,null,54,"23.04.17",54,null,null,null,null,null,null,null,null,null,null,null,null,null,null,null,null,null,null,null,null,null,null,null,null,null,null,null,null,null,null,null,null,null,null,61450,57,61450,66330]
[null,4,39160,0,0,{"$f":"IF(K58=L58,0,IF(H10>=IP5,VLOOKUP(C59,IL2:IM83,2),0))","v":0},{"$f":"ROUND(F59*J58/L58/2,0)","v":0},0,0,{"$f":"'DATA 1'!I41","v":0},{"$f":"'DATA 1'!J41","v":0},31,{"$f":"IF(D52=2,\"\",\"July,17\")","v":"July,17"},null,5,0,0,39160,0,null,null,null,null,null,null,null,null,null,null,null,null,null,null,null,null,null,null,null,null,null,null,null,null,null,null,null,null,null,null,null,null,null,null,null,null,null,null,null,null,null,null,null,null,null,null,null,null,null,null,null,null,null,null,null,null,null,null,null,55,58330,null,null,null,null,null,null,null,null,null,null,null,null,null,null,null,null,null,null,null,55,"2016-03-25",55,"25.03.2016",null,null,null,null,null,null,null,null,null,null,null,null,null,null,null,null,null,null,null,null,55,"2016-03-25",55,"25.03.2016",null,null,null,null,null,null,null,null,null,null,null,null,null,null,null,null,null,null,null,null,null,null,null,null,null,null,null,null,null,null,null,null,null,null,null,null,null,null,null,null,null,null,null,null,null,null,null,null,null,null,null,null,null,null,null,null,null,null,0,0,1,4,17,null,55,"2017-04-24",null,55,"24.04.17",null,null,null,null,55,"24.04.17",null,null,null,null,55,"24.04.17",55,null,null,null,null,null,null,null,null,null,null,null,null,null,null,null,null,null,null,null,null,null,null,null,null,null,null,null,null,null,null,null,null,null,null,63010,58,63010,67990]
[null,5,39160,0,0,{"$f":"IF(K59=L59,0,IF(H11>=IP6,VLOOKUP(C60,IL2:IM84,2),0))","v":0},0,0,0,{"$f":"'DATA 1'!I42","v":0},{"$f":"'DATA 1'!J42","v":0},31,{"$f":"IF(D52=2,\"\",\"Aug,17\")","v":"Aug,17"},null,6,0,0,39160,0,null,null,null,null,null,null,null,null,null,null,null,null,null,null,null,null,null,null,null,null,null,null,null,null,null,null,null,null,null,null,null,null,null,null,null,null,null,null,null,null,null,null,null,null,null,null,null,null,null,null,null,null,null,null,null,null,null,null,null,56,59890,null,null,null,null,null,null,null,null,null,null,null,null,null,null,null,null,null,null,null,56,"2016-03-26",56,"26.03.2016",null,null,null,null,null,null,null,null,null,null,null,null,null,null,null,null,null,null,null,null,56,"2016-03-26",56,"26.03.2016",null,null,null,null,null,null,null,null,null,null,null,null,null,null,null,null,null,null,null,null,null,null,null,null,null,null,null,null,null,null,null,null,null,null,null,null,null,null,null,null,null,null,null,null,null,null,null,null,null,null,null,null,null,null,null,null,null,null,0,0,2,4,17,null,56,"2017-04-25",null,56,"25.04.17",null,null,null,null,56,"25.04.17",null,null,null,null,56,"25.04.17",56,null,null,null,null,null,null,null,null,null,null,null,null,null,null,null,null,null,null,null,null,null,null,null,null,null,null,null,null,null,null,null,null,null,null,64670,59,64670,69750]
[null,6,39160,0,0,{"$f":"IF(K60=L60,0,IF(H12>=IP7,VLOOKUP(C61,IL2:IM85,2),0))","v":0},0,0,0,{"$f":"'DATA 1'!I43","v":0},{"$f":"'DATA 1'!J43","v":0},30,{"$f":"IF(D52=2,\"\",\"Sept,17\")","v":"Sept,17"},null,7,0,{"$f":"SUM(G62:H62)","v":0},39160,0,null,null,null,null,null,null,null,null,null,null,null,null,null,null,null,null,null,null,null,null,null,null,null,null,null,null,null,null,null,null,null,null,null,null,null,null,null,null,null,null,null,null,null,null,null,null,null,null,null,null,null,null,null,null,null,null,null,null,null,57,61450,null,null,null,null,null,null,null,null,null,null,null,null,null,null,null,null,null,null,null,57,"2016-03-27",57,"27.03.2016",null,null,null,null,null,null,null,null,null,null,null,null,null,null,null,null,null,null,null,null,57,"2016-03-27",57,"27.03.2016",null,null,null,null,null,null,null,null,null,null,null,null,null,null,null,null,null,null,null,null,null,null,null,null,null,null,null,null,null,null,null,null,null,null,null,null,null,null,null,null,null,null,null,null,null,null,null,null,null,null,null,null,null,null,null,null,null,null,0,0,3,4,17,null,57,"2017-04-26",null,57,"26.04.17",null,null,null,null,57,"26.04.17",null,null,null,null,57,"26.04.17",57,null,null,null,null,null,null,null,null,null,null,null,null,null,null,null,null,null,null,null,null,null,null,null,null,null,null,null,null,null,null,null,null,null,null,66330,60,66330,71510]
[null,7,{"$f":"IF(K61=L61,0,CE13)","v":39160},0,0,{"$f":"IF(K61=L61,0,IF(H13>=IP8,VLOOKUP(C62,IL2:IM86,2),0))","v":0},0,0,0,{"$f":"'DATA 1'!I44","v":0},{"$f":"'DATA 1'!J44","v":0},31,{"$f":"IF(D52=2,\"\",\"Oct,17\")","v":"Oct,17"},null,8,0,0,40270,0,null,null,null,null,null,null,null,null,null,null,null,null,null,null,null,null,null,null,null,null,null,null,null,null,null,null,null,null,null,null,null,null,null,null,null,null,null,null,null,null,null,null,null,null,null,null,null,null,null,null,null,null,null,null,null,null,null,null,null,58,63010,null,null,null,null,null,null,null,null,null,null,null,null,null,null,null,null,null,null,null,58,"2016-03-28",58,"28.03.2016",null,null,null,null,null,null,null,null,null,null,null,null,null,null,null,null,null,null,null,null,58,"2016-03-28",58,"28.03.2016",null,null,null,null,null,null,null,null,null,null,null,null,null,null,null,null,null,null,null,null,null,null,null,null,null,null,null,null,null,null,null,null,null,null,null,null,null,null,null,null,null,null,null,null,null,null,null,null,null,null,null,null,null,null,null,null,null,null,0,0,4,4,17,null,58,"2017-04-27",null,58,"27.04.17",null,null,null,null,58,"27.04.17",null,null,null,null,58,"27.04.17",58,null,null,null,null,null,null,null,null,null,null,null,null,null,null,null,null,null,null,null,null,null,null,null,null,null,null,null,null,null,null,null,null,null,null,67990,61,67990,73270]
[null,8,40270,0,0,{"$f":"IF(K62=L62,0,IF(H14>=IP9,VLOOKUP(C63,IL2:IM87,2),0))","v":0},0,0,0,{"$f":"'DATA 1'!I45","v":0},{"$f":"'DATA 1'!J45","v":0},30,{"$f":"IF(D52=2,\"\",\"Nov,17\")","v":"Nov,17"},null,9,0,0,40270,0,null,null,null,null,null,null,null,null,null,null,null,null,null,null,null,null,null,null,null,null,null,null,null,null,null,null,null,null,null,null,null,null,null,null,null,null,null,null,null,null,null,null,null,null,null,null,null,null,null,null,null,null,null,null,null,null,null,null,null,59,64670,null,null,null,null,null,null,null,null,null,null,null,null,null,null,null,null,null,null,null,59,"2016-03-29",59,"29.03.2016",null,null,null,null,null,null,null,null,null,null,null,null,null,null,null,null,null,null,null,null,59,"2016-03-29",59,"29.03.2016",null,null,null,null,null,null,null,null,null,null,null,null,null,null,null,null,null,null,null,null,null,null,null,null,null,null,null,null,null,null,null,null,null,null,null,null,null,null,null,null,null,null,null,null,null,null,null,null,null,null,null,null,null,null,null,null,null,null,0,0,5,4,17,null,59,"2017-04-28",null,59,"28.04.17",null,null,null,null,59,"28.04.17",null,null,null,null,59,"28.04.17",59,null,null,null,null,null,null,null,null,null,null,null,null,null,null,null,null,null,null,null,null,null,null,null,null,null,null,null,null,null,null,null,null,null,null,69750,62,69750,75150]
[null,9,40270,0,0,{"$f":"IF(K63=L63,0,IF(H15>=IP10,VLOOKUP(C64,IL2:IM88,2),0))","v":0},0,0,0,{"$f":"'DATA 1'!I46","v":0},{"$f":"'DATA 1'!J46","v":0},31,{"$f":"IF(D52=2,\"\",\"Dec,17\")","v":"Dec,17"},null,10,0,0,40270,0,null,null,null,null,null,null,null,null,null,null,null,null,null,null,null,null,null,null,null,null,null,null,null,null,null,null,null,null,null,null,null,null,null,null,null,null,null,null,null,null,null,null,null,null,null,null,null,null,null,null,null,null,null,null,null,null,null,null,null,60,66330,null,null,null,null,null,null,null,null,null,null,null,null,null,null,null,null,null,null,null,60,"2016-03-30",60,"30.03.2016",null,null,null,null,null,null,null,null,null,null,null,null,null,null,null,null,null,null,null,null,60,"2016-03-30",60,"30.03.2016",null,null,null,null,null,null,null,null,null,null,null,null,null,null,null,null,null,null,null,null,null,null,null,null,null,null,null,null,null,null,null,null,null,null,null,null,null,null,null,null,null,null,null,null,null,null,null,null,null,null,null,null,null,null,null,null,null,null,0,0,6,4,17,null,60,"2017-04-29",null,60,"29.04.17",null,null,null,null,60,"29.04.17",null,null,null,null,60,"29.04.17",60,null,null,null,null,null,null,null,null,null,null,null,null,null,null,null,null,null,null,null,null,null,null,null,null,null,null,null,null,null,null,null,null,null,null,71510,63,71510,77030]
[null,10,40270,0,0,{"$f":"IF(K64=L64,0,IF(H16>=IP11,VLOOKUP(C65,IL2:IM89,2),0))","v":0},0,0,0,{"$f":"'DATA 1'!I47","v":0},{"$f":"'DATA 1'!J47","v":0},31,{"$f":"IF(D52=2,\"\",\"Jan,18\")","v":"Jan,18"},null,11,0,0,40270,0,null,null,null,null,null,null,null,null,null,null,null,null,null,null,null,null,null,null,null,null,null,null,null,null,null,null,null,null,null,null,null,null,null,null,null,null,null,null,null,null,null,null,null,null,null,null,null,null,null,null,null,null,null,null,null,null,null,null,null,61,67990,null,null,null,null,null,null,null,null,null,null,null,null,null,null,null,null,null,null,null,61,"2016-03-31",61,"31.03.2016",null,null,null,null,null,null,null,null,null,null,null,null,null,null,null,null,null,null,null,null,61,"2016-03-31",61,"31.03.2016",null,null,null,null,null,null,null,null,null,null,null,null,null,null,null,null,null,null,null,null,null,null,null,null,null,null,null,null,null,null,null,null,null,null,null,null,null,null,null,null,null,null,null,null,null,null,null,null,null,null,null,null,null,null,null,null,null,null,0,0,7,4,17,null,61,"2017-04-30",null,61,"30.04.17",null,null,null,null,61,"30.04.17",null,null,null,null,61,"30.04.17",61,null,null,null,null,null,null,null,null,null,null,null,null,null,null,null,null,null,null,null,null,null,null,null,null,null,null,null,null,null,null,null,null,null,null,73270,64,73270,78910]
[null,11,40270,0,0,{"$f":"IF(K65=L65,0,IF(H17>=IP12,VLOOKUP(C66,IL2:IM90,2),0))","v":0},0,0,0,{"$f":"'DATA 1'!I48","v":0},{"$f":"'DATA 1'!J48","v":0},29,{"$f":"IF(D52=2,\"\",\"Feb,18\")","v":"Feb,18"},null,12,0,0,40270,0,null,null,null,null,null,null,null,null,null,null,null,null,null,null,null,null,null,null,null,null,null,null,null,null,null,null,null,null,null,null,null,null,null,null,null,null,null,null,null,null,null,null,null,null,null,null,null,null,null,null,null,null,null,null,null,null,null,null,null,62,69750,null,null,null,null,null,null,null,null,null,null,null,null,null,null,null,null,null,null,null,62,"2016-04-01",62,"01.04.2016",null,null,null,null,null,null,null,null,null,null,null,null,null,null,null,null,null,null,null,null,62,"2016-04-01",62,"01.04.2016",null,null,null,null,null,null,null,null,null,null,null,null,null,null,null,null,null,null,null,null,null,null,null,null,null,null,null,null,null,null,null,null,null,null,null,null,null,null,null,null,null,null,null,null,null,null,null,null,null,null,null,null,null,null,null,null,null,null,0,0,8,4,17,null,62,"2017-05-01",null,62,"01.05.17",null,null,null,null,62,"01.05.17",null,null,null,null,62,"01.05.17",62,null,null,null,null,null,null,null,null,null,null,null,null,null,null,null,null,null,null,null,null,null,null,null,null,null,null,null,null,null,null,null,null,null,null,75150,65,75150,80930]
[null,12,40270,0,0,{"$f":"IF(K66=L66,0,IF(H18>=IP13,VLOOKUP(C67,IL2:IM91,2),0))","v":0},0,0,null,null,null,null,null,null,null,null,null,null,null,null,null,null,null,null,null,null,null,null,null,null,null,null,null,null,null,null,null,null,null,null,null,null,null,null,null,null,null,null,null,null,null,null,null,null,null,null,null,null,null,null,null,null,null,null,null,null,null,null,null,null,null,null,null,null,null,null,null,null,63,71510,null,null,null,null,null,null,null,null,null,null,null,null,null,null,null,null,null,null,null,63,"2016-04-02",63,"02.04.2016",null,null,null,null,null,null,null,null,null,null,null,null,null,null,null,null,null,null,null,null,63,"2016-04-02",63,"02.04.2016",null,null,null,null,null,null,null,null,null,null,null,null,null,null,null,null,null,null,null,null,null,null,null,null,null,null,null,null,null,null,null,null,null,null,null,null,null,null,null,null,null,null,null,null,null,null,null,null,null,null,null,null,null,null,null,null,null,null,0,0,9,4,17,null,63,"2017-05-02",null,63,"02.05.17",null,null,null,null,63,"02.05.17",null,null,null,null,63,"02.05.17",63,null,null,null,null,null,null,null,null,null,null,null,null,null,null,null,null,null,null,null,null,null,null,null,null,null,null,null,null,null,null,null,null,null,null,{"$f":"IL67","v":77030},66,77030,82950]
[null,null,null,null,null,null,null,null,null,null,null,null,null,null,null,null,null,null,null,null,null,null,null,null,null,null,null,null,null,null,null,null,null,null,null,null,null,null,null,null,null,null,null,null,null,null,null,null,null,null,null,null,null,null,null,null,null,null,null,null,null,null,null,null,null,null,null,null,null,null,null,null,null,null,null,null,null,null,64,73270,null,null,null,null,null,null,null,null,null,null,null,null,null,null,null,null,null,null,null,64,"2016-04-03",64,"03.04.2016",null,null,null,null,null,null,null,null,null,null,null,null,null,null,null,null,null,null,null,null,64,"2016-04-03",64,"03.04.2016",null,null,null,null,null,null,null,null,null,null,null,null,null,null,null,null,null,null,null,null,null,null,null,null,null,null,null,null,null,null,null,null,null,null,null,null,null,null,null,null,null,null,null,null,null,null,null,null,null,null,null,null,null,null,null,null,null,null,"",0,10,4,17,null,64,"2017-05-03",null,64,"03.05.17",null,null,null,null,64,"03.05.17",null,null,null,null,64,"03.05.17",64,null,null,null,null,null,null,null,null,null,null,null,null,null,null,null,null,null,null,null,null,null,null,null,null,null,null,null,null,null,null,null,null,null,null,78910,67,78910,84970]
[null,null,null,null,null,null,null,null,null,null,null,null,null,null,null,null,null,null,null,null,null,null,null,null,null,null,null,null,null,null,null,null,null,null,null,null,null,null,null,null,null,null,null,null,null,null,null,null,null,null,null,null,null,null,null,null,null,null,null,null,null,null,null,null,null,null,null,null,null,null,null,null,null,null,null,null,null,null,65,75150,null,null,null,null,null,null,null,null,null,null,null,null,null,null,null,null,null,null,null,65,"2016-04-04",65,"04.04.2016",null,null,null,null,null,null,null,null,null,null,null,null,null,null,null,null,null,null,null,null,65,"2016-04-04",65,"04.04.2016",null,null,null,null,null,null,null,null,null,null,null,null,null,null,null,null,null,null,null,null,null,null,null,null,null,null,null,null,null,null,null,null,null,null,null,null,null,null,null,null,null,null,null,null,null,null,null,null,null,null,null,null,null,null,null,null,null,null,"",0,11,4,17,null,65,"2017-05-04",null,65,"04.05.17",null,null,null,null,65,"04.05.17",null,null,null,null,65,"04.05.17",65,null,null,null,null,null,null,null,null,null,null,null,null,null,null,null,null,null,null,null,null,null,null,null,null,null,null,null,null,null,null,null,null,null,null,80930,68,80930,87130]
[null,null,null,null,null,null,null,null,null,null,null,null,null,null,null,null,null,null,null,null,null,null,null,null,null,null,null,null,null,null,null,null,null,null,null,null,null,null,null,null,null,null,null,null,null,null,null,null,null,null,null,null,null,null,null,null,null,null,null,null,null,null,null,null,null,null,null,null,null,null,null,null,null,null,null,null,null,null,66,{"$f":"IL67","v":77030},null,null,null,null,null,null,null,null,null,null,null,null,null,null,null,null,null,null,null,66,"2016-04-05",66,"05.04.2016",null,null,null,null,null,null,null,null,null,null,null,null,null,null,null,null,null,null,null,null,66,"2016-04-05",66,"05.04.2016",null,null,null,null,null,null,null,null,null,null,null,null,null,null,null,null,null,null,null,null,null,null,null,null,null,null,null,null,null,null,null,null,null,null,null,null,null,null,null,null,null,null,null,null,null,null,null,null,null,null,null,null,null,null,null,null,null,null,"",0,12,4,17,null,66,"2017-05-05",null,66,"05.05.17",null,null,null,null,66,"05.05.17",null,null,null,null,66,{"$f":"IF(HA70=\"\",\"\",VLOOKUP(HA70,GS69:GT407,2))","v":"05.05.17"},66,null,null,null,null,null,null,null,null,null,null,null,null,null,null,null,null,null,null,null,null,null,null,null,null,null,null,null,null,null,null,null,null,null,null,82950,69,82950,89290]
[null,null,null,null,null,null,null,null,null,null,null,null,null,null,null,null,null,null,null,null,null,null,null,null,null,null,null,null,null,null,null,null,null,null,null,null,null,null,null,null,null,null,null,null,null,null,null,null,null,null,null,null,null,null,null,null,null,null,null,null,null,null,null,null,null,null,null,null,null,null,null,null,null,null,null,null,null,null,67,78910,null,null,null,null,null,null,null,null,null,null,null,null,null,null,null,null,null,null,null,67,"2016-04-06",67,"06.04.2016",null,null,null,null,null,null,null,null,null,null,null,null,null,null,null,null,null,null,null,null,67,"2016-04-06",67,"06.04.2016",null,null,null,null,null,null,null,null,null,null,null,null,null,null,null,null,null,null,null,null,null,null,null,null,null,null,null,null,null,null,null,null,null,null,null,null,null,null,null,null,null,null,null,null,null,null,null,null,null,null,null,null,null,null,null,null,null,null,"",0,13,4,17,null,67,"2017-05-06",null,67,{"$f":"CONCATENATE(GD94,GF94,\".\",GE94,GG94,\".\",GH94)","v":"06.05.17"},null,null,null,null,67,"06.05.17",null,null,null,null,67,"06.05.17",67,null,null,null,null,null,null,null,null,null,null,null,null,null,null,null,null,null,null,null,null,null,null,null,null,null,null,null,null,null,null,null,null,null,null,84970,70,84970,91450]
[null,null,null,null,null,null,null,null,null,null,null,null,null,null,null,null,null,null,null,null,null,null,null,null,null,null,null,null,null,null,null,null,null,null,null,null,null,null,null,null,null,null,null,null,null,null,null,null,null,null,null,null,null,null,null,null,null,null,null,null,null,null,null,null,null,null,null,null,null,null,null,null,null,null,null,null,null,null,68,80930,null,null,null,null,null,null,null,null,null,null,null,null,null,null,null,null,null,null,null,68,"2016-04-07",68,"07.04.2016",null,null,null,null,null,null,null,null,null,null,null,null,null,null,null,null,null,null,null,null,68,"2016-04-07",68,"07.04.2016",null,null,null,null,null,null,null,null,null,null,null,null,null,null,null,null,null,null,null,null,null,null,null,null,null,null,null,null,null,null,null,null,null,null,null,null,null,null,null,null,null,null,null,null,null,null,null,null,null,null,null,null,null,null,null,null,null,null,"",0,14,4,17,null,68,"2017-05-07",null,68,"07.05.17",null,null,null,null,68,{"$f":"GN72","v":"07.05.17"},null,null,null,null,68,"07.05.17",{"$f":"HA71+1","v":68},null,null,null,null,null,null,null,null,null,null,null,null,null,null,null,null,null,null,null,null,null,null,null,null,null,null,null,null,null,null,null,null,null,null,87130,71,87130,93780]
[null,null,null,null,null,null,null,null,null,null,null,null,null,null,null,null,null,null,null,null,null,null,null,null,null,null,null,null,null,null,null,null,null,null,null,null,null,null,null,null,null,null,null,null,null,null,null,null,null,null,null,null,null,null,null,null,null,null,null,null,null,null,null,null,null,null,null,null,null,null,null,null,null,null,null,null,null,null,69,82950,null,null,null,null,null,null,null,null,null,null,null,null,null,null,null,null,null,null,null,69,"2016-04-08",69,"08.04.2016",null,null,null,null,null,null,null,null,null,null,null,null,null,null,null,null,null,null,null,null,69,"2016-04-08",69,"08.04.2016",null,null,null,null,null,null,null,null,null,null,null,null,null,null,null,null,null,null,null,null,null,null,null,null,null,null,null,null,null,null,null,null,null,null,null,null,null,null,null,null,null,null,null,null,null,null,null,null,null,null,null,null,null,null,null,null,null,null,"",0,15,4,17,null,69,"2017-05-08",null,69,"08.05.17",null,null,null,null,69,"08.05.17",null,null,null,null,69,"08.05.17",69,null,null,null,null,null,null,null,null,null,null,null,null,null,null,null,null,null,null,null,null,null,null,null,null,null,null,null,null,null,null,null,null,null,null,89290,72,89290,96110]
[null,null,null,null,null,null,null,null,null,null,null,null,null,null,null,null,null,null,null,null,null,null,null,null,null,null,null,null,null,null,null,null,null,null,null,null,null,null,null,null,null,null,null,null,null,null,null,null,null,null,null,null,null,null,null,null,null,null,null,null,null,null,null,null,null,null,null,null,null,null,null,null,null,null,null,null,null,null,70,84970,null,null,null,null,null,null,null,null,null,null,null,null,null,null,null,null,null,null,null,70,"2016-04-09",70,"09.04.2016",null,null,null,null,null,null,null,null,null,null,null,null,null,null,null,null,null,null,null,null,70,"2016-04-09",70,"09.04.2016",null,null,null,null,null,null,null,null,null,null,null,null,null,null,null,null,null,null,null,null,null,null,null,null,null,null,null,null,null,null,null,null,null,null,null,null,null,null,null,null,null,null,null,null,null,null,null,null,null,null,null,null,null,null,null,null,null,null,"",0,16,4,17,null,70,"2017-05-09",null,70,"09.05.17",null,null,null,null,70,"09.05.17",null,null,null,null,70,"09.05.17",70,null,null,null,null,null,null,null,null,null,null,null,null,null,null,null,null,null,null,null,null,null,null,null,null,null,null,null,null,null,null,null,null,null,null,91450,73,91450,98440]
[null,null,null,null,null,null,null,null,null,null,null,null,null,null,null,null,null,null,null,null,null,null,null,null,null,null,null,null,null,null,null,null,null,null,null,null,null,null,null,null,null,null,null,null,null,null,null,null,null,null,null,null,null,null,null,null,null,null,null,null,null,null,null,null,null,null,null,null,null,null,null,null,null,null,null,null,null,null,71,87130,null,null,null,null,null,null,null,null,null,null,null,null,null,null,null,null,null,null,null,71,"2016-04-10",71,"10.04.2016",null,null,null,null,null,null,null,null,null,null,null,null,null,null,null,null,null,null,null,null,71,"2016-04-10",71,"10.04.2016",null,null,null,null,null,null,null,null,null,null,null,null,null,null,null,null,null,null,null,null,null,null,null,null,null,null,null,null,null,null,null,null,null,null,null,null,null,null,null,null,null,null,null,null,null,null,null,null,null,null,null,null,null,null,null,null,null,null,"",0,17,4,17,null,71,"2017-05-10",null,71,"10.05.17",null,null,null,null,71,"10.05.17",null,null,null,null,71,"10.05.17",71,null,null,null,null,null,null,null,null,null,null,null,null,null,null,null,null,null,null,null,null,null,null,null,null,null,null,null,null,null,null,null,null,null,null,93780,74,93780,100770]
[null,null,null,null,null,null,null,null,null,null,null,null,null,null,null,null,null,null,null,null,null,null,null,null,null,null,null,null,null,null,null,null,null,null,null,null,null,null,null,null,null,null,null,null,null,null,null,null,null,null,null,null,null,null,null,null,null,null,null,null,null,null,null,null,null,null,null,null,null,null,null,null,null,null,null,null,null,null,72,89290,null,null,null,null,null,null,null,null,null,null,null,null,null,null,null,null,null,null,null,72,"2016-04-11",72,"11.04.2016",null,null,null,null,null,null,null,null,null,null,null,null,null,null,null,null,null,null,null,null,72,"2016-04-11",72,"11.04.2016",null,null,null,null,null,null,null,null,null,null,null,null,null,null,null,null,null,null,null,null,null,null,null,null,null,null,null,null,null,null,null,null,null,null,null,null,null,null,null,null,null,null,null,null,null,null,null,null,null,null,null,null,null,null,null,null,null,null,"",0,18,4,17,null,72,"2017-05-11",null,72,"11.05.17",null,null,null,null,72,"11.05.17",null,null,null,null,72,"11.05.17",72,null,null,null,null,null,null,null,null,null,null,null,null,null,null,null,null,null,null,null,null,null,null,null,null,null,null,null,null,null,null,null,null,null,null,96110,75,96110,103290]
[null,null,null,null,null,null,null,null,null,null,null,null,null,null,null,null,null,null,null,null,null,null,null,null,null,null,null,null,null,null,null,null,null,null,null,null,null,null,null,null,null,null,null,null,null,null,null,null,null,null,null,null,null,null,null,null,null,null,null,null,null,null,null,null,null,null,null,null,null,null,null,null,null,null,null,null,null,null,73,91450,null,null,null,null,null,null,null,null,null,null,null,null,null,null,null,null,null,null,null,73,"2016-04-12",73,"12.04.2016",null,null,null,null,null,null,null,null,null,null,null,null,null,null,null,null,null,null,null,null,73,"2016-04-12",73,"12.04.2016",null,null,null,null,null,null,null,null,null,null,null,null,null,null,null,null,null,null,null,null,null,null,null,null,null,null,null,null,null,null,null,null,null,null,null,null,null,null,null,null,null,null,null,null,null,null,null,null,null,null,null,null,null,null,null,null,null,null,"",0,19,4,17,null,73,"2017-05-12",null,73,"12.05.17",null,null,null,null,73,"12.05.17",null,null,null,null,73,"12.05.17",73,null,null,null,null,null,null,null,null,null,null,null,null,null,null,null,null,null,null,null,null,null,null,null,null,null,null,null,null,null,null,null,null,null,null,98440,76,98440,105810]
[null,null,null,null,null,null,null,null,null,null,null,null,null,null,null,null,null,null,null,null,null,null,null,null,null,null,null,null,null,null,null,null,null,null,null,null,null,null,null,null,null,null,null,null,null,null,null,null,null,null,null,null,null,null,null,null,null,null,null,null,null,null,null,null,null,null,null,null,null,null,null,null,null,null,null,null,null,null,74,93780,null,null,null,null,null,null,null,null,null,null,null,null,null,null,null,null,null,null,null,74,"2016-04-13",74,"13.04.2016",null,null,null,null,null,null,null,null,null,null,null,null,null,null,null,null,null,null,null,null,74,"2016-04-13",74,"13.04.2016",null,null,null,null,null,null,null,null,null,null,null,null,null,null,null,null,null,null,null,null,null,null,null,null,null,null,null,null,null,null,null,null,null,null,null,null,null,null,null,null,null,null,null,null,null,null,null,null,null,null,null,null,null,null,null,null,null,null,"",0,20,4,17,null,74,"2017-05-13",null,74,"13.05.17",null,null,null,null,74,"13.05.17",null,null,null,null,74,"13.05.17",74,null,null,null,null,null,null,null,null,null,null,null,null,null,null,null,null,null,null,null,null,null,null,null,null,null,null,null,null,null,null,null,null,null,null,100770,77,100770,108330]
[null,null,null,null,null,null,null,null,null,null,null,null,null,null,null,null,null,null,null,null,null,null,null,null,null,null,null,null,null,null,null,null,null,null,null,null,null,null,null,null,null,null,null,null,null,null,null,null,null,null,null,null,null,null,null,null,null,null,null,null,null,null,null,null,null,null,null,null,null,null,null,null,null,null,null,null,null,null,75,96110,null,null,null,null,null,null,null,null,null,null,null,null,null,null,null,null,null,null,null,75,"2016-04-14",75,"14.04.2016",null,null,null,null,null,null,null,null,null,null,null,null,null,null,null,null,null,null,null,null,75,"2016-04-14",75,"14.04.2016",null,null,null,null,null,null,null,null,null,null,null,null,null,null,null,null,null,null,null,null,null,null,null,null,null,null,null,null,null,null,null,null,null,null,null,null,null,null,null,null,null,null,null,null,null,null,null,null,null,null,null,null,null,null,null,null,null,null,"",0,21,4,17,null,75,"2017-05-14",null,75,"14.05.17",null,null,null,null,75,"14.05.17",null,null,null,null,75,"14.05.17",75,null,null,null,null,null,null,null,null,null,null,null,null,null,null,null,null,null,null,null,null,null,null,null,null,null,null,null,null,null,null,null,null,null,null,103290,78,103290,110850]
[null,null,null,null,null,null,null,null,null,null,null,null,null,null,null,null,null,null,null,null,null,null,null,null,null,null,null,null,null,null,null,null,null,null,null,null,null,null,null,null,null,null,null,null,null,null,null,null,null,null,null,null,null,null,null,null,null,null,null,null,null,null,null,null,null,null,null,null,null,null,null,null,null,null,null,null,null,null,76,98440,null,null,null,null,null,null,null,null,null,null,null,null,null,null,null,null,null,null,null,76,"2016-04-15",76,"15.04.2016",null,null,null,null,null,null,null,null,null,null,null,null,null,null,null,null,null,null,null,null,76,"2016-04-15",76,"15.04.2016",null,null,null,null,null,null,null,null,null,null,null,null,null,null,null,null,null,null,null,null,null,null,null,null,null,null,null,null,null,null,null,null,null,null,null,null,null,null,null,null,null,null,null,null,null,null,null,null,null,null,null,null,null,null,null,null,null,null,"",0,22,4,17,null,76,"2017-05-15",null,76,"15.05.17",null,null,null,null,76,"15.05.17",null,null,null,null,76,"15.05.17",76,null,null,null,null,null,null,null,null,null,null,null,null,null,null,null,null,null,null,null,null,null,null,null,null,null,null,null,null,null,null,null,null,null,null,105810,79,105810,110850]
[null,null,null,null,null,null,null,null,null,null,null,null,null,null,null,null,null,null,null,null,null,null,null,null,null,null,null,null,null,null,null,null,null,null,null,null,null,null,null,null,null,null,null,null,null,null,null,null,null,null,null,null,null,null,null,null,null,null,null,null,null,null,null,null,null,null,null,null,null,null,null,null,null,null,null,null,null,null,77,100770,null,null,null,null,null,null,null,null,null,null,null,null,null,null,null,null,null,null,null,77,"2016-04-16",77,"16.04.2016",null,null,null,null,null,null,null,null,null,null,null,null,null,null,null,null,null,null,null,null,77,"2016-04-16",77,"16.04.2016",null,null,null,null,null,null,null,null,null,null,null,null,null,null,null,null,null,null,null,null,null,null,null,null,null,null,null,null,null,null,null,null,null,null,null,null,null,null,null,null,null,null,null,null,null,null,null,null,null,null,null,null,null,null,null,null,null,null,"",0,23,4,17,null,77,"2017-05-16",null,77,"16.05.17",null,null,null,null,77,"16.05.17",null,null,null,null,77,"16.05.17",77,null,null,null,null,null,null,null,null,null,null,null,null,null,null,null,null,null,null,null,null,null,null,null,null,null,null,null,null,null,null,null,null,null,null,105810,80,105810,110850]
[null,null,null,null,null,null,null,null,null,null,null,null,null,null,null,null,null,null,null,null,null,null,null,null,null,null,null,null,null,null,null,null,null,null,null,null,null,null,null,null,null,null,null,null,null,null,null,null,null,null,null,null,null,null,null,null,null,null,null,null,null,null,null,null,null,null,null,null,null,null,null,null,null,null,null,null,null,null,78,103290,null,null,null,null,null,null,null,null,null,null,null,null,null,null,null,null,null,null,null,78,"2016-04-17",78,"17.04.2016",null,null,null,null,null,null,null,null,null,null,null,null,null,null,null,null,null,null,null,null,78,"2016-04-17",78,"17.04.2016",null,null,null,null,null,null,null,null,null,null,null,null,null,null,null,null,null,null,null,null,null,null,null,null,null,null,null,null,null,null,null,null,null,null,null,null,null,null,null,null,null,null,null,null,null,null,null,null,null,null,null,null,null,null,null,null,null,null,"",0,24,4,17,null,78,"2017-05-17",null,78,"17.05.17",null,null,null,null,78,"17.05.17",null,null,null,null,78,"17.05.17",78]
[null,null,null,null,null,null,null,null,null,null,null,null,null,null,null,null,null,null,null,null,null,null,null,null,null,null,null,null,null,null,null,null,null,null,null,null,null,null,null,null,null,null,null,null,null,null,null,null,null,null,null,null,null,null,null,null,null,null,null,null,null,null,null,null,null,null,null,null,null,null,null,null,null,null,null,null,null,null,79,105810,null,null,null,null,null,null,null,null,null,null,null,null,null,null,null,null,null,null,null,79,"2016-04-18",79,"18.04.2016",null,null,null,null,null,null,null,null,null,null,null,null,null,null,null,null,null,null,null,null,79,"2016-04-18",79,"18.04.2016",null,null,null,null,null,null,null,null,null,null,null,null,null,null,null,null,null,null,null,null,null,null,null,null,null,null,null,null,null,null,null,null,null,null,null,null,null,null,null,null,null,null,null,null,null,null,null,null,null,null,null,null,null,null,null,null,null,null,"",0,25,4,17,null,79,"2017-05-18",null,79,"18.05.17",null,null,null,null,79,"18.05.17",null,null,null,null,79,"18.05.17",79]
[null,null,null,null,null,null,null,null,null,null,null,null,null,null,null,null,null,null,null,null,null,null,null,null,null,null,null,null,null,null,null,null,null,null,null,null,null,null,null,null,null,null,null,null,null,null,null,null,null,null,null,null,null,null,null,null,null,null,null,null,null,null,null,null,null,null,null,null,null,null,null,null,null,null,null,null,null,null,80,{"$f":"IL81","v":105810},null,null,null,null,null,null,null,null,null,null,null,null,null,null,null,null,null,null,null,80,"2016-04-19",80,"19.04.2016",null,null,null,null,null,null,null,null,null,null,null,null,null,null,null,null,null,null,null,null,80,"2016-04-19",80,"19.04.2016",null,null,null,null,null,null,null,null,null,null,null,null,null,null,null,null,null,null,null,null,null,null,null,null,null,null,null,null,null,null,null,null,null,null,null,null,null,null,null,null,null,null,null,null,null,null,null,null,null,null,null,null,null,null,null,null,null,null,"",0,26,4,17,null,80,"2017-05-19",null,80,"19.05.17",null,null,null,null,80,"19.05.17",null,null,null,null,80,"19.05.17",80]
[null,null,null,null,null,null,null,null,null,null,null,null,null,null,null,null,null,null,null,null,null,null,null,null,null,null,null,null,null,null,null,null,null,null,null,null,null,null,null,null,null,null,null,null,null,null,null,null,null,null,null,null,null,null,null,null,null,null,null,null,null,null,null,null,null,null,null,null,null,null,null,null,null,null,null,null,null,null,null,null,null,null,null,null,null,null,null,null,null,null,null,null,null,null,null,null,null,null,null,81,"2016-04-20",81,"20.04.2016",null,null,null,null,null,null,null,null,null,null,null,null,null,null,null,null,null,null,null,null,81,"2016-04-20",81,"20.04.2016",null,null,null,null,null,null,null,null,null,null,null,null,null,null,null,null,null,null,null,null,null,null,null,null,null,null,null,null,null,null,null,null,null,null,null,null,null,null,null,null,null,null,null,null,null,null,null,null,null,null,null,null,null,null,null,null,null,null,"",0,27,4,17,null,81,"2017-05-20",null,81,"20.05.17",null,null,null,null,81,"20.05.17",null,null,null,null,81,"20.05.17",81]
[null,null,null,null,null,null,null,null,null,null,null,null,null,null,null,null,null,null,null,null,null,null,null,null,null,null,null,null,null,null,null,null,null,null,null,null,null,null,null,null,null,null,null,null,null,null,null,null,null,null,null,null,null,null,null,null,null,null,null,null,null,null,null,null,null,null,null,null,null,null,null,null,null,null,null,null,null,null,null,null,null,null,null,null,null,null,null,null,null,null,null,null,null,null,null,null,null,null,null,82,"2016-04-21",82,"21.04.2016",null,null,null,null,null,null,null,null,null,null,null,null,null,null,null,null,null,null,null,null,82,"2016-04-21",82,"21.04.2016",null,null,null,null,null,null,null,null,null,null,null,null,null,null,null,null,null,null,null,null,null,null,null,null,null,null,null,null,null,null,null,null,null,null,null,null,null,null,null,null,null,null,null,null,null,null,null,null,null,null,null,null,null,null,null,null,null,null,"",0,28,4,17,null,82,"2017-05-21",null,82,"21.05.17",null,null,null,null,82,"21.05.17",null,null,null,null,82,"21.05.17",82]
[null,null,null,null,null,null,null,null,null,null,null,null,null,null,null,null,null,null,null,null,null,null,null,null,null,null,null,null,null,null,null,null,null,null,null,null,null,null,null,null,null,null,null,null,null,null,null,null,null,null,null,null,null,null,null,null,null,null,null,null,null,null,null,null,null,null,null,null,null,null,null,null,null,null,null,null,null,null,null,null,null,null,null,null,null,null,null,null,null,null,null,null,null,null,null,null,null,null,null,83,"2016-04-22",83,"22.04.2016",null,null,null,null,null,null,null,null,null,null,null,null,null,null,null,null,null,null,null,null,83,"2016-04-22",83,"22.04.2016",null,null,null,null,null,null,null,null,null,null,null,null,null,null,null,null,null,null,null,null,null,null,null,null,null,null,null,null,null,null,null,null,null,null,null,null,null,null,null,null,null,null,null,null,null,null,null,null,null,null,null,null,null,null,null,null,null,null,"",0,29,4,17,null,83,"2017-05-22",null,83,"22.05.17",null,null,null,null,83,"22.05.17",null,null,null,null,83,"22.05.17",83]
[null,null,null,null,null,null,null,null,null,null,null,null,null,null,null,null,null,null,null,null,null,null,null,null,null,null,null,null,null,null,null,null,null,null,null,null,null,null,null,null,null,null,null,null,null,null,null,null,null,null,null,null,null,null,null,null,null,null,null,null,null,null,null,null,null,null,null,null,null,null,null,null,null,null,null,null,null,null,null,null,null,null,null,null,null,null,null,null,null,null,null,null,null,null,null,null,null,null,null,84,"2016-04-23",84,"23.04.2016",null,null,null,null,null,null,null,null,null,null,null,null,null,null,null,null,null,null,null,null,84,"2016-04-23",84,"23.04.2016",null,null,null,null,null,null,null,null,null,null,null,null,null,null,null,null,null,null,null,null,null,null,null,null,null,null,null,null,null,null,null,null,null,null,null,null,null,null,null,null,null,null,null,null,null,null,null,null,null,null,null,null,null,null,null,null,null,null,"",0,30,4,17,null,84,"2017-05-23",null,84,"23.05.17",null,null,null,null,84,"23.05.17",null,null,null,null,84,"23.05.17",84]
[null,null,null,null,null,null,null,null,null,null,null,null,null,null,null,null,null,null,null,null,null,null,null,null,null,null,null,null,null,null,null,null,null,null,null,null,null,null,null,null,null,null,null,null,null,null,null,null,null,null,null,null,null,null,null,null,null,null,null,null,null,null,null,null,null,null,null,null,null,null,null,null,null,null,null,null,null,null,null,null,null,null,null,null,null,null,null,null,null,null,null,null,null,null,null,null,null,null,null,85,"2016-04-24",85,"24.04.2016",null,null,null,null,null,null,null,null,null,null,null,null,null,null,null,null,null,null,null,null,85,"2016-04-24",85,"24.04.2016",null,null,null,null,null,null,null,null,null,null,null,null,null,null,null,null,null,null,null,null,null,null,null,null,null,null,null,null,null,null,null,null,null,null,null,null,null,null,null,null,null,null,null,null,null,null,null,null,null,null,null,null,null,null,null,null,null,null,0,0,1,5,17,null,85,"2017-05-24",null,85,"24.05.17",null,null,null,null,85,"24.05.17",null,null,null,null,85,"24.05.17",85]
[null,null,null,null,null,null,null,null,null,null,null,null,null,null,null,null,null,null,null,null,null,null,null,null,null,null,null,null,null,null,null,null,null,null,null,null,null,null,null,null,null,null,null,null,null,null,null,null,null,null,null,null,null,null,null,null,null,null,null,null,null,null,null,null,null,null,null,null,null,null,null,null,null,null,null,null,null,null,null,null,null,null,null,null,null,null,null,null,null,null,null,null,null,null,null,null,null,null,null,86,"2016-04-25",86,"25.04.2016",null,null,null,null,null,null,null,null,null,null,null,null,null,null,null,null,null,null,null,null,86,"2016-04-25",86,"25.04.2016",null,null,null,null,null,null,null,null,null,null,null,null,null,null,null,null,null,null,null,null,null,null,null,null,null,null,null,null,null,null,null,null,null,null,null,null,null,null,null,null,null,null,null,null,null,null,null,null,null,null,null,null,null,null,null,null,null,null,0,0,2,5,17,null,86,"2017-05-25",null,86,"25.05.17",null,null,null,null,86,"25.05.17",null,null,null,null,86,"25.05.17",86]
[null,null,null,null,null,null,null,null,null,null,null,null,null,null,null,null,null,null,null,null,null,null,null,null,null,null,null,null,null,null,null,null,null,null,null,null,null,null,null,null,null,null,null,null,null,null,null,null,null,null,null,null,null,null,null,null,null,null,null,null,null,null,null,null,null,null,null,null,null,null,null,null,null,null,null,null,null,null,null,null,null,null,null,null,null,null,null,null,null,null,null,null,null,null,null,null,null,null,null,87,"2016-04-26",87,"26.04.2016",null,null,null,null,null,null,null,null,null,null,null,null,null,null,null,null,null,null,null,null,87,"2016-04-26",87,"26.04.2016",null,null,null,null,null,null,null,null,null,null,null,null,null,null,null,null,null,null,null,null,null,null,null,null,null,null,null,null,null,null,null,null,null,null,null,null,null,null,null,null,null,null,null,null,null,null,null,null,null,null,null,null,null,null,null,null,null,null,0,0,3,5,17,null,87,"2017-05-26",null,87,"26.05.17",null,null,null,null,87,"26.05.17",null,null,null,null,87,"26.05.17",87]
[null,null,null,null,null,null,null,null,null,null,null,null,null,null,null,null,null,null,null,null,null,null,null,null,null,null,null,null,null,null,null,null,null,null,null,null,null,null,null,null,null,null,null,null,null,null,null,null,null,null,null,null,null,null,null,null,null,null,null,null,null,null,null,null,null,null,null,null,null,null,null,null,null,null,null,null,null,null,null,null,null,null,null,null,null,null,null,null,null,null,null,null,null,null,null,null,null,null,null,88,"2016-04-27",88,"27.04.2016",null,null,null,null,null,null,null,null,null,null,null,null,null,null,null,null,null,null,null,null,88,"2016-04-27",88,"27.04.2016",null,null,null,null,null,null,null,null,null,null,null,null,null,null,null,null,null,null,null,null,null,null,null,null,null,null,null,null,null,null,null,null,null,null,null,null,null,null,null,null,null,null,null,null,null,null,null,null,null,null,null,null,null,null,null,null,null,null,0,0,4,5,17,null,88,"2017-05-27",null,88,"27.05.17",null,null,null,null,88,"27.05.17",null,null,null,null,88,"27.05.17",88]
[null,null,null,null,null,null,null,null,null,null,null,null,null,null,null,null,null,null,null,null,null,null,null,null,null,null,null,null,null,null,null,null,null,null,null,null,null,null,null,null,null,null,null,null,null,null,null,null,null,null,null,null,null,null,null,null,null,null,null,null,null,null,null,null,null,null,null,null,null,null,null,null,null,null,null,null,null,null,null,null,null,null,null,null,null,null,null,null,null,null,null,null,null,null,null,null,null,null,null,89,"2016-04-28",89,"28.04.2016",null,null,null,null,null,null,null,null,null,null,null,null,null,null,null,null,null,null,null,null,89,"2016-04-28",89,"28.04.2016",null,null,null,null,null,null,null,null,null,null,null,null,null,null,null,null,null,null,null,null,null,null,null,null,null,null,null,null,null,null,null,null,null,null,null,null,null,null,null,null,null,null,null,null,null,null,null,null,null,null,null,null,null,null,null,null,null,null,0,0,5,5,17,null,89,"2017-05-28",null,89,"28.05.17",null,null,null,null,89,"28.05.17",null,null,null,null,89,"28.05.17",89]
[null,null,null,null,null,null,null,null,null,null,null,null,null,null,null,null,null,null,null,null,null,null,null,null,null,null,null,null,null,null,null,null,null,null,null,null,null,null,null,null,null,null,null,null,null,null,null,null,null,null,null,null,null,null,null,null,null,null,null,null,null,null,null,null,null,null,null,null,null,null,null,null,null,null,null,null,null,null,null,null,null,null,null,null,null,null,null,null,null,null,null,null,null,null,null,null,null,null,null,90,"2016-04-29",90,"29.04.2016",null,null,null,null,null,null,null,null,null,null,null,null,null,null,null,null,null,null,null,null,90,"2016-04-29",90,"29.04.2016",null,null,null,null,null,null,null,null,null,null,null,null,null,null,null,null,null,null,null,null,null,null,null,null,null,null,null,null,null,null,null,null,null,null,null,null,null,null,null,null,null,null,null,null,null,null,null,null,null,null,null,null,null,null,null,null,null,null,{"$f":"IF(GF94<=9,0,\"\")","v":0},{"$f":"IF(GG94<=9,0,\"\")","v":0},{"$f":"DAY(GK71)","v":6},{"$f":"MONTH(GK71)","v":5},17,null,90,"2017-05-29",null,90,"29.05.17",null,null,null,null,90,"29.05.17",null,null,null,null,90,"29.05.17",90]
[null,null,null,null,null,null,null,null,null,null,null,null,null,null,null,null,null,null,null,null,null,null,null,null,null,null,null,null,null,null,null,null,null,null,null,null,null,null,null,null,null,null,null,null,null,null,null,null,null,null,null,null,null,null,null,null,null,null,null,null,null,null,null,null,null,null,null,null,null,null,null,null,null,null,null,null,null,null,null,null,null,null,null,null,null,null,null,null,null,null,null,null,null,null,null,null,null,null,null,91,"2016-04-30",91,"30.04.2016",null,null,null,null,null,null,null,null,null,null,null,null,null,null,null,null,null,null,null,null,91,"2016-04-30",91,"30.04.2016",null,null,null,null,null,null,null,null,null,null,null,null,null,null,null,null,null,null,null,null,null,null,null,null,null,null,null,null,null,null,null,null,null,null,null,null,null,null,null,null,null,null,null,null,null,null,null,null,null,null,null,null,null,null,null,null,null,null,0,0,7,5,17,null,91,"2017-05-30",null,91,"30.05.17",null,null,null,null,91,"30.05.17",null,null,null,null,91,"30.05.17",91]
[null,null,null,null,null,null,null,null,null,null,null,null,null,null,null,null,null,null,null,null,null,null,null,null,null,null,null,null,null,null,null,null,null,null,null,null,null,null,null,null,null,null,null,null,null,null,null,null,null,null,null,null,null,null,null,null,null,null,null,null,null,null,null,null,null,null,null,null,null,null,null,null,null,null,null,null,null,null,null,null,null,null,null,null,null,null,null,null,null,null,null,null,null,null,null,null,null,null,null,92,"2016-05-01",92,"01.05.2016",null,null,null,null,null,null,null,null,null,null,null,null,null,null,null,null,null,null,null,null,92,"2016-05-01",92,"01.05.2016",null,null,null,null,null,null,null,null,null,null,null,null,null,null,null,null,null,null,null,null,null,null,null,null,null,null,null,null,null,null,null,null,null,null,null,null,null,null,null,null,null,null,null,null,null,null,null,null,null,null,null,null,null,null,null,null,null,null,0,0,8,5,17,null,92,"2017-05-31",null,92,"31.05.17",null,null,null,null,92,"31.05.17",null,null,null,null,92,"31.05.17",92]
[null,null,null,null,null,null,null,null,null,null,null,null,null,null,null,null,null,null,null,null,null,null,null,null,null,null,null,null,null,null,null,null,null,null,null,null,null,null,null,null,null,null,null,null,null,null,null,null,null,null,null,null,null,null,null,null,null,null,null,null,null,null,null,null,null,null,null,null,null,null,null,null,null,null,null,null,null,null,null,null,null,null,null,null,null,null,null,null,null,null,null,null,null,null,null,null,null,null,null,93,"2016-05-02",93,"02.05.2016",null,null,null,null,null,null,null,null,null,null,null,null,null,null,null,null,null,null,null,null,93,"2016-05-02",93,"02.05.2016",null,null,null,null,null,null,null,null,null,null,null,null,null,null,null,null,null,null,null,null,null,null,null,null,null,null,null,null,null,null,null,null,null,null,null,null,null,null,null,null,null,null,null,null,null,null,null,null,null,null,null,null,null,null,null,null,null,null,0,0,9,5,17,null,93,"2017-06-01",null,93,"01.06.17",null,null,null,null,93,"01.06.17",null,null,null,null,93,"01.06.17",93]
[null,null,null,null,null,null,null,null,null,null,null,null,null,null,null,null,null,null,null,null,null,null,null,null,null,null,null,null,null,null,null,null,null,null,null,null,null,null,null,null,null,null,null,null,null,null,null,null,null,null,null,null,null,null,null,null,null,null,null,null,null,null,null,null,null,null,null,null,null,null,null,null,null,null,null,null,null,null,null,null,null,null,null,null,null,null,null,null,null,null,null,null,null,null,null,null,null,null,null,94,"2016-05-03",94,"03.05.2016",null,null,null,null,null,null,null,null,null,null,null,null,null,null,null,null,null,null,null,null,94,"2016-05-03",94,"03.05.2016",null,null,null,null,null,null,null,null,null,null,null,null,null,null,null,null,null,null,null,null,null,null,null,null,null,null,null,null,null,null,null,null,null,null,null,null,null,null,null,null,null,null,null,null,null,null,null,null,null,null,null,null,null,null,null,null,null,null,"",0,10,5,17,null,94,"2017-06-02",null,94,"02.06.17",null,null,null,null,94,"02.06.17",null,null,null,null,94,"02.06.17",94]
[null,null,null,null,null,null,null,null,null,null,null,null,null,null,null,null,null,null,null,null,null,null,null,null,null,null,null,null,null,null,null,null,null,null,null,null,null,null,null,null,null,null,null,null,null,null,null,null,null,null,null,null,null,null,null,null,null,null,null,null,null,null,null,null,null,null,null,null,null,null,null,null,null,null,null,null,null,null,null,null,null,null,null,null,null,null,null,null,null,null,null,null,null,null,null,null,null,null,null,95,"2016-05-04",95,"04.05.2016",null,null,null,null,null,null,null,null,null,null,null,null,null,null,null,null,null,null,null,null,95,"2016-05-04",95,"04.05.2016",null,null,null,null,null,null,null,null,null,null,null,null,null,null,null,null,null,null,null,null,null,null,null,null,null,null,null,null,null,null,null,null,null,null,null,null,null,null,null,null,null,null,null,null,null,null,null,null,null,null,null,null,null,null,null,null,null,null,"",0,11,5,17,null,95,"2017-06-03",null,95,"03.06.17",null,null,null,null,95,"03.06.17",null,null,null,null,95,"03.06.17",95]
[null,null,null,null,null,null,null,null,null,null,null,null,null,null,null,null,null,null,null,null,null,null,null,null,null,null,null,null,null,null,null,null,null,null,null,null,null,null,null,null,null,null,null,null,null,null,null,null,null,null,null,null,null,null,null,null,null,null,null,null,null,null,null,null,null,null,null,null,null,null,null,null,null,null,null,null,null,null,null,null,null,null,null,null,null,null,null,null,null,null,null,null,null,null,null,null,null,null,null,96,"2016-05-05",96,"05.05.2016",null,null,null,null,null,null,null,null,null,null,null,null,null,null,null,null,null,null,null,null,96,"2016-05-05",96,"05.05.2016",null,null,null,null,null,null,null,null,null,null,null,null,null,null,null,null,null,null,null,null,null,null,null,null,null,null,null,null,null,null,null,null,null,null,null,null,null,null,null,null,null,null,null,null,null,null,null,null,null,null,null,null,null,null,null,null,null,null,"",0,12,5,17,null,96,"2017-06-04",null,96,"04.06.17",null,null,null,null,96,"04.06.17",null,null,null,null,96,"04.06.17",96]
[null,null,null,null,null,null,null,null,null,null,null,null,null,null,null,null,null,null,null,null,null,null,null,null,null,null,null,null,null,null,null,null,null,null,null,null,null,null,null,null,null,null,null,null,null,null,null,null,null,null,null,null,null,null,null,null,null,null,null,null,null,null,null,null,null,null,null,null,null,null,null,null,null,null,null,null,null,null,null,null,null,null,null,null,null,null,null,null,null,null,null,null,null,null,null,null,null,null,null,97,"2016-05-06",97,"06.05.2016",null,null,null,null,null,null,null,null,null,null,null,null,null,null,null,null,null,null,null,null,97,"2016-05-06",97,"06.05.2016",null,null,null,null,null,null,null,null,null,null,null,null,null,null,null,null,null,null,null,null,null,null,null,null,null,null,null,null,null,null,null,null,null,null,null,null,null,null,null,null,null,null,null,null,null,null,null,null,null,null,null,null,null,null,null,null,null,null,"",0,13,5,17,null,97,"2017-06-05",null,97,"05.06.17",null,null,null,null,97,"05.06.17",null,null,null,null,97,"05.06.17",97]
[null,null,null,null,null,null,null,null,null,null,null,null,null,null,null,null,null,null,null,null,null,null,null,null,null,null,null,null,null,null,null,null,null,null,null,null,null,null,null,null,null,null,null,null,null,null,null,null,null,null,null,null,null,null,null,null,null,null,null,null,null,null,null,null,null,null,null,null,null,null,null,null,null,null,null,null,null,null,null,null,null,null,null,null,null,null,null,null,null,null,null,null,null,null,null,null,null,null,null,98,"2016-05-07",98,"07.05.2016",null,null,null,null,null,null,null,null,null,null,null,null,null,null,null,null,null,null,null,null,98,"2016-05-07",98,"07.05.2016",null,null,null,null,null,null,null,null,null,null,null,null,null,null,null,null,null,null,null,null,null,null,null,null,null,null,null,null,null,null,null,null,null,null,null,null,null,null,null,null,null,null,null,null,null,null,null,null,null,null,null,null,null,null,null,null,null,null,"",0,14,5,17,null,98,"2017-06-06",null,98,"06.06.17",null,null,null,null,98,"06.06.17",null,null,null,null,98,"06.06.17",98]
[null,null,null,null,null,null,null,null,null,null,null,null,null,null,null,null,null,null,null,null,null,null,null,null,null,null,null,null,null,null,null,null,null,null,null,null,null,null,null,null,null,null,null,null,null,null,null,null,null,null,null,null,null,null,null,null,null,null,null,null,null,null,null,null,null,null,null,null,null,null,null,null,null,null,null,null,null,null,null,null,null,null,null,null,null,null,null,null,null,null,null,null,null,null,null,null,null,null,null,99,"2016-05-08",99,"08.05.2016",null,null,null,null,null,null,null,null,null,null,null,null,null,null,null,null,null,null,null,null,99,"2016-05-08",99,"08.05.2016",null,null,null,null,null,null,null,null,null,null,null,null,null,null,null,null,null,null,null,null,null,null,null,null,null,null,null,null,null,null,null,null,null,null,null,null,null,null,null,null,null,null,null,null,null,null,null,null,null,null,null,null,null,null,null,null,null,null,"",0,15,5,17,null,99,"2017-06-07",null,99,"07.06.17",null,null,null,null,99,"07.06.17",null,null,null,null,99,"07.06.17",99]
[null,null,null,null,null,null,null,null,null,null,null,null,null,null,null,null,null,null,null,null,null,null,null,null,null,null,null,null,null,null,null,null,null,null,null,null,null,null,null,null,null,null,null,null,null,null,null,null,null,null,null,null,null,null,null,null,null,null,null,null,null,null,null,null,null,null,null,null,null,null,null,null,null,null,null,null,null,null,null,null,null,null,null,null,null,null,null,null,null,null,null,null,null,null,null,null,null,null,null,100,"2016-05-09",100,"09.05.2016",null,null,null,null,null,null,null,null,null,null,null,null,null,null,null,null,null,null,null,null,100,"2016-05-09",100,"09.05.2016",null,null,null,null,null,null,null,null,null,null,null,null,null,null,null,null,null,null,null,null,null,null,null,null,null,null,null,null,null,null,null,null,null,null,null,null,null,null,null,null,null,null,null,null,null,null,null,null,null,null,null,null,null,null,null,null,null,null,"",0,16,5,17,null,100,"2017-06-08",null,100,"08.06.17",null,null,null,null,100,"08.06.17",null,null,null,null,100,"08.06.17",100]
[null,null,null,null,null,null,null,null,null,null,null,null,null,null,null,null,null,null,null,null,null,null,null,null,null,null,null,null,null,null,null,null,null,null,null,null,null,null,null,null,null,null,null,null,null,null,null,null,null,null,null,null,null,null,null,null,null,null,null,null,null,null,null,null,null,null,null,null,null,null,null,null,null,null,null,null,null,null,null,null,null,null,null,null,null,null,null,null,null,null,null,null,null,null,null,null,null,null,null,101,"2016-05-10",101,"10.05.2016",null,null,null,null,null,null,null,null,null,null,null,null,null,null,null,null,null,null,null,null,101,"2016-05-10",101,"10.05.2016",null,null,null,null,null,null,null,null,null,null,null,null,null,null,null,null,null,null,null,null,null,null,null,null,null,null,null,null,null,null,null,null,null,null,null,null,null,null,null,null,null,null,null,null,null,null,null,null,null,null,null,null,null,null,null,null,null,null,"",0,17,5,17,null,101,"2017-06-09",null,101,"09.06.17",null,null,null,null,101,"09.06.17",null,null,null,null,101,"09.06.17",101]
[null,null,null,null,null,null,null,null,null,null,null,null,null,null,null,null,null,null,null,null,null,null,null,null,null,null,null,null,null,null,null,null,null,null,null,null,null,null,null,null,null,null,null,null,null,null,null,null,null,null,null,null,null,null,null,null,null,null,null,null,null,null,null,null,null,null,null,null,null,null,null,null,null,null,null,null,null,null,null,null,null,null,null,null,null,null,null,null,null,null,null,null,null,null,null,null,null,null,null,102,"2016-05-11",102,"11.05.2016",null,null,null,null,null,null,null,null,null,null,null,null,null,null,null,null,null,null,null,null,102,"2016-05-11",102,"11.05.2016",null,null,null,null,null,null,null,null,null,null,null,null,null,null,null,null,null,null,null,null,null,null,null,null,null,null,null,null,null,null,null,null,null,null,null,null,null,null,null,null,null,null,null,null,null,null,null,null,null,null,null,null,null,null,null,null,null,null,"",0,18,5,17,null,102,"2017-06-10",null,102,"10.06.17",null,null,null,null,102,"10.06.17",null,null,null,null,102,"10.06.17",102]
[null,null,null,null,null,null,null,null,null,null,null,null,null,null,null,null,null,null,null,null,null,null,null,null,null,null,null,null,null,null,null,null,null,null,null,null,null,null,null,null,null,null,null,null,null,null,null,null,null,null,null,null,null,null,null,null,null,null,null,null,null,null,null,null,null,null,null,null,null,null,null,null,null,null,null,null,null,null,null,null,null,null,null,null,null,null,null,null,null,null,null,null,null,null,null,null,null,null,null,103,"2016-05-12",103,"12.05.2016",null,null,null,null,null,null,null,null,null,null,null,null,null,null,null,null,null,null,null,null,103,"2016-05-12",103,"12.05.2016",null,null,null,null,null,null,null,null,null,null,null,null,null,null,null,null,null,null,null,null,null,null,null,null,null,null,null,null,null,null,null,null,null,null,null,null,null,null,null,null,null,null,null,null,null,null,null,null,null,null,null,null,null,null,null,null,null,null,"",0,19,5,17,null,103,"2017-06-11",null,103,"11.06.17",null,null,null,null,103,"11.06.17",null,null,null,null,103,"11.06.17",103]
[null,null,null,null,null,null,null,null,null,null,null,null,null,null,null,null,null,null,null,null,null,null,null,null,null,null,null,null,null,null,null,null,null,null,null,null,null,null,null,null,null,null,null,null,null,null,null,null,null,null,null,null,null,null,null,null,null,null,null,null,null,null,null,null,null,null,null,null,null,null,null,null,null,null,null,null,null,null,null,null,null,null,null,null,null,null,null,null,null,null,null,null,null,null,null,null,null,null,null,104,"2016-05-13",104,"13.05.2016",null,null,null,null,null,null,null,null,null,null,null,null,null,null,null,null,null,null,null,null,104,"2016-05-13",104,"13.05.2016",null,null,null,null,null,null,null,null,null,null,null,null,null,null,null,null,null,null,null,null,null,null,null,null,null,null,null,null,null,null,null,null,null,null,null,null,null,null,null,null,null,null,null,null,null,null,null,null,null,null,null,null,null,null,null,null,null,null,"",0,20,5,17,null,104,"2017-06-12",null,104,"12.06.17",null,null,null,null,104,"12.06.17",null,null,null,null,104,"12.06.17",104]
[null,null,null,null,null,null,null,null,null,null,null,null,null,null,null,null,null,null,null,null,null,null,null,null,null,null,null,null,null,null,null,null,null,null,null,null,null,null,null,null,null,null,null,null,null,null,null,null,null,null,null,null,null,null,null,null,null,null,null,null,null,null,null,null,null,null,null,null,null,null,null,null,null,null,null,null,null,null,null,null,null,null,null,null,null,null,null,null,null,null,null,null,null,null,null,null,null,null,null,105,"2016-05-14",105,"14.05.2016",null,null,null,null,null,null,null,null,null,null,null,null,null,null,null,null,null,null,null,null,105,"2016-05-14",105,"14.05.2016",null,null,null,null,null,null,null,null,null,null,null,null,null,null,null,null,null,null,null,null,null,null,null,null,null,null,null,null,null,null,null,null,null,null,null,null,null,null,null,null,null,null,null,null,null,null,null,null,null,null,null,null,null,null,null,null,null,null,"",0,21,5,17,null,105,"2017-06-13",null,105,"13.06.17",null,null,null,null,105,"13.06.17",null,null,null,null,105,"13.06.17",105]
[null,null,null,null,null,null,null,null,null,null,null,null,null,null,null,null,null,null,null,null,null,null,null,null,null,null,null,null,null,null,null,null,null,null,null,null,null,null,null,null,null,null,null,null,null,null,null,null,null,null,null,null,null,null,null,null,null,null,null,null,null,null,null,null,null,null,null,null,null,null,null,null,null,null,null,null,null,null,null,null,null,null,null,null,null,null,null,null,null,null,null,null,null,null,null,null,null,null,null,106,"2016-05-15",106,"15.05.2016",null,null,null,null,null,null,null,null,null,null,null,null,null,null,null,null,null,null,null,null,106,"2016-05-15",106,"15.05.2016",null,null,null,null,null,null,null,null,null,null,null,null,null,null,null,null,null,null,null,null,null,null,null,null,null,null,null,null,null,null,null,null,null,null,null,null,null,null,null,null,null,null,null,null,null,null,null,null,null,null,null,null,null,null,null,null,null,null,"",0,22,5,17,null,106,"2017-06-14",null,106,"14.06.17",null,null,null,null,106,"14.06.17",null,null,null,null,106,"14.06.17",106]
[null,null,null,null,null,null,null,null,null,null,null,null,null,null,null,null,null,null,null,null,null,null,null,null,null,null,null,null,null,null,null,null,null,null,null,null,null,null,null,null,null,null,null,null,null,null,null,null,null,null,null,null,null,null,null,null,null,null,null,null,null,null,null,null,null,null,null,null,null,null,null,null,null,null,null,null,null,null,null,null,null,null,null,null,null,null,null,null,null,null,null,null,null,null,null,null,null,null,null,107,"2016-05-16",107,"16.05.2016",null,null,null,null,null,null,null,null,null,null,null,null,null,null,null,null,null,null,null,null,107,"2016-05-16",107,"16.05.2016",null,null,null,null,null,null,null,null,null,null,null,null,null,null,null,null,null,null,null,null,null,null,null,null,null,null,null,null,null,null,null,null,null,null,null,null,null,null,null,null,null,null,null,null,null,null,null,null,null,null,null,null,null,null,null,null,null,null,"",0,23,5,17,null,107,"2017-06-15",null,107,"15.06.17",null,null,null,null,107,"15.06.17",null,null,null,null,107,"15.06.17",107]
[null,null,null,null,null,null,null,null,null,null,null,null,null,null,null,null,null,null,null,null,null,null,null,null,null,null,null,null,null,null,null,null,null,null,null,null,null,null,null,null,null,null,null,null,null,null,null,null,null,null,null,null,null,null,null,null,null,null,null,null,null,null,null,null,null,null,null,null,null,null,null,null,null,null,null,null,null,null,null,null,null,null,null,null,null,null,null,null,null,null,null,null,null,null,null,null,null,null,null,108,"2016-05-17",108,"17.05.2016",null,null,null,null,null,null,null,null,null,null,null,null,null,null,null,null,null,null,null,null,108,"2016-05-17",108,"17.05.2016",null,null,null,null,null,null,null,null,null,null,null,null,null,null,null,null,null,null,null,null,null,null,null,null,null,null,null,null,null,null,null,null,null,null,null,null,null,null,null,null,null,null,null,null,null,null,null,null,null,null,null,null,null,null,null,null,null,null,"",0,24,5,17,null,108,"2017-06-16",null,108,"16.06.17",null,null,null,null,108,"16.06.17",null,null,null,null,108,"16.06.17",108]
[null,null,null,null,null,null,null,null,null,null,null,null,null,null,null,null,null,null,null,null,null,null,null,null,null,null,null,null,null,null,null,null,null,null,null,null,null,null,null,null,null,null,null,null,null,null,null,null,null,null,null,null,null,null,null,null,null,null,null,null,null,null,null,null,null,null,null,null,null,null,null,null,null,null,null,null,null,null,null,null,null,null,null,null,null,null,null,null,null,null,null,null,null,null,null,null,null,null,null,109,"2016-05-18",109,"18.05.2016",null,null,null,null,null,null,null,null,null,null,null,null,null,null,null,null,null,null,null,null,109,"2016-05-18",109,"18.05.2016",null,null,null,null,null,null,null,null,null,null,null,null,null,null,null,null,null,null,null,null,null,null,null,null,null,null,null,null,null,null,null,null,null,null,null,null,null,null,null,null,null,null,null,null,null,null,null,null,null,null,null,null,null,null,null,null,null,null,"",0,25,5,17,null,109,"2017-06-17",null,109,"17.06.17",null,null,null,null,109,"17.06.17",null,null,null,null,109,"17.06.17",109]
[null,null,null,null,null,null,null,null,null,null,null,null,null,null,null,null,null,null,null,null,null,null,null,null,null,null,null,null,null,null,null,null,null,null,null,null,null,null,null,null,null,null,null,null,null,null,null,null,null,null,null,null,null,null,null,null,null,null,null,null,null,null,null,null,null,null,null,null,null,null,null,null,null,null,null,null,null,null,null,null,null,null,null,null,null,null,null,null,null,null,null,null,null,null,null,null,null,null,null,110,"2016-05-19",110,"19.05.2016",null,null,null,null,null,null,null,null,null,null,null,null,null,null,null,null,null,null,null,null,110,"2016-05-19",110,"19.05.2016",null,null,null,null,null,null,null,null,null,null,null,null,null,null,null,null,null,null,null,null,null,null,null,null,null,null,null,null,null,null,null,null,null,null,null,null,null,null,null,null,null,null,null,null,null,null,null,null,null,null,null,null,null,null,null,null,null,null,"",0,26,5,17,null,110,"2017-06-18",null,110,"18.06.17",null,null,null,null,110,"18.06.17",null,null,null,null,110,"18.06.17",110]
[null,null,null,null,null,null,null,null,null,null,null,null,null,null,null,null,null,null,null,null,null,null,null,null,null,null,null,null,null,null,null,null,null,null,null,null,null,null,null,null,null,null,null,null,null,null,null,null,null,null,null,null,null,null,null,null,null,null,null,null,null,null,null,null,null,null,null,null,null,null,null,null,null,null,null,null,null,null,null,null,null,null,null,null,null,null,null,null,null,null,null,null,null,null,null,null,null,null,null,111,"2016-05-20",111,"20.05.2016",null,null,null,null,null,null,null,null,null,null,null,null,null,null,null,null,null,null,null,null,111,"2016-05-20",111,"20.05.2016",null,null,null,null,null,null,null,null,null,null,null,null,null,null,null,null,null,null,null,null,null,null,null,null,null,null,null,null,null,null,null,null,null,null,null,null,null,null,null,null,null,null,null,null,null,null,null,null,null,null,null,null,null,null,null,null,null,null,"",0,27,5,17,null,111,"2017-06-19",null,111,"19.06.17",null,null,null,null,111,"19.06.17",null,null,null,null,111,"19.06.17",111]
[null,null,null,null,null,null,null,null,null,null,null,null,null,null,null,null,null,null,null,null,null,null,null,null,null,null,null,null,null,null,null,null,null,null,null,null,null,null,null,null,null,null,null,null,null,null,null,null,null,null,null,null,null,null,null,null,null,null,null,null,null,null,null,null,null,null,null,null,null,null,null,null,null,null,null,null,null,null,null,null,null,null,null,null,null,null,null,null,null,null,null,null,null,null,null,null,null,null,null,112,"2016-05-21",112,"21.05.2016",null,null,null,null,null,null,null,null,null,null,null,null,null,null,null,null,null,null,null,null,112,"2016-05-21",112,"21.05.2016",null,null,null,null,null,null,null,null,null,null,null,null,null,null,null,null,null,null,null,null,null,null,null,null,null,null,null,null,null,null,null,null,null,null,null,null,null,null,null,null,null,null,null,null,null,null,null,null,null,null,null,null,null,null,null,null,null,null,"",0,28,5,17,null,112,"2017-06-20",null,112,"20.06.17",null,null,null,null,112,"20.06.17",null,null,null,null,112,"20.06.17",112]
[null,null,null,null,null,null,null,null,null,null,null,null,null,null,null,null,null,null,null,null,null,null,null,null,null,null,null,null,null,null,null,null,null,null,null,null,null,null,null,null,null,null,null,null,null,null,null,null,null,null,null,null,null,null,null,null,null,null,null,null,null,null,null,null,null,null,null,null,null,null,null,null,null,null,null,null,null,null,null,null,null,null,null,null,null,null,null,null,null,null,null,null,null,null,null,null,null,null,null,113,"2016-05-22",113,"22.05.2016",null,null,null,null,null,null,null,null,null,null,null,null,null,null,null,null,null,null,null,null,113,"2016-05-22",113,"22.05.2016",null,null,null,null,null,null,null,null,null,null,null,null,null,null,null,null,null,null,null,null,null,null,null,null,null,null,null,null,null,null,null,null,null,null,null,null,null,null,null,null,null,null,null,null,null,null,null,null,null,null,null,null,null,null,null,null,null,null,"",0,29,5,17,null,113,"2017-06-21",null,113,"21.06.17",null,null,null,null,113,"21.06.17",null,null,null,null,113,"21.06.17",113]
[null,null,null,null,null,null,null,null,null,null,null,null,null,null,null,null,null,null,null,null,null,null,null,null,null,null,null,null,null,null,null,null,null,null,null,null,null,null,null,null,null,null,null,null,null,null,null,null,null,null,null,null,null,null,null,null,null,null,null,null,null,null,null,null,null,null,null,null,null,null,null,null,null,null,null,null,null,null,null,null,null,null,null,null,null,null,null,null,null,null,null,null,null,null,null,null,null,null,null,114,"2016-05-23",114,"23.05.2016",null,null,null,null,null,null,null,null,null,null,null,null,null,null,null,null,null,null,null,null,114,"2016-05-23",114,"23.05.2016",null,null,null,null,null,null,null,null,null,null,null,null,null,null,null,null,null,null,null,null,null,null,null,null,null,null,null,null,null,null,null,null,null,null,null,null,null,null,null,null,null,null,null,null,null,null,null,null,null,null,null,null,null,null,null,null,null,null,"",0,30,5,17,null,114,"2017-06-22",null,114,"22.06.17",null,null,null,null,114,"22.06.17",null,null,null,null,114,"22.06.17",114]
[null,null,null,null,null,null,null,null,null,null,null,null,null,null,null,null,null,null,null,null,null,null,null,null,null,null,null,null,null,null,null,null,null,null,null,null,null,null,null,null,null,null,null,null,null,null,null,null,null,null,null,null,null,null,null,null,null,null,null,null,null,null,null,null,null,null,null,null,null,null,null,null,null,null,null,null,null,null,null,null,null,null,null,null,null,null,null,null,null,null,null,null,null,null,null,null,null,null,null,115,"2016-05-24",115,"24.05.2016",null,null,null,null,null,null,null,null,null,null,null,null,null,null,null,null,null,null,null,null,115,"2016-05-24",115,"24.05.2016",null,null,null,null,null,null,null,null,null,null,null,null,null,null,null,null,null,null,null,null,null,null,null,null,null,null,null,null,null,null,null,null,null,null,null,null,null,null,null,null,null,null,null,null,null,null,null,null,null,null,null,null,null,null,null,null,null,null,"",0,31,5,17,null,115,"2017-06-23",null,115,"23.06.17",null,null,null,null,115,"23.06.17",null,null,null,null,115,"23.06.17",115]
[null,null,null,null,null,null,null,null,null,null,null,null,null,null,null,null,null,null,null,null,null,null,null,null,null,null,null,null,null,null,null,null,null,null,null,null,null,null,null,null,null,null,null,null,null,null,null,null,null,null,null,null,null,null,null,null,null,null,null,null,null,null,null,null,null,null,null,null,null,null,null,null,null,null,null,null,null,null,null,null,null,null,null,null,null,null,null,null,null,null,null,null,null,null,null,null,null,null,null,116,"2016-05-25",116,"25.05.2016",null,null,null,null,null,null,null,null,null,null,null,null,null,null,null,null,null,null,null,null,116,"2016-05-25",116,"25.05.2016",null,null,null,null,null,null,null,null,null,null,null,null,null,null,null,null,null,null,null,null,null,null,null,null,null,null,null,null,null,null,null,null,null,null,null,null,null,null,null,null,null,null,null,null,null,null,null,null,null,null,null,null,null,null,null,null,null,null,0,0,1,6,17,null,116,"2017-06-24",null,116,"24.06.17",null,null,null,null,116,"24.06.17",null,null,null,null,116,"24.06.17",116]
[null,null,null,null,null,null,null,null,null,null,null,null,null,null,null,null,null,null,null,null,null,null,null,null,null,null,null,null,null,null,null,null,null,null,null,null,null,null,null,null,null,null,null,null,null,null,null,null,null,null,null,null,null,null,null,null,null,null,null,null,null,null,null,null,null,null,null,null,null,null,null,null,null,null,null,null,null,null,null,null,null,null,null,null,null,null,null,null,null,null,null,null,null,null,null,null,null,null,null,117,"2016-05-26",117,"26.05.2016",null,null,null,null,null,null,null,null,null,null,null,null,null,null,null,null,null,null,null,null,117,"2016-05-26",117,"26.05.2016",null,null,null,null,null,null,null,null,null,null,null,null,null,null,null,null,null,null,null,null,null,null,null,null,null,null,null,null,null,null,null,null,null,null,null,null,null,null,null,null,null,null,null,null,null,null,null,null,null,null,null,null,null,null,null,null,null,null,0,0,2,6,17,null,117,"2017-06-25",null,117,"25.06.17",null,null,null,null,117,"25.06.17",null,null,null,null,117,"25.06.17",117]
[null,null,null,null,null,null,null,null,null,null,null,null,null,null,null,null,null,null,null,null,null,null,null,null,null,null,null,null,null,null,null,null,null,null,null,null,null,null,null,null,null,null,null,null,null,null,null,null,null,null,null,null,null,null,null,null,null,null,null,null,null,null,null,null,null,null,null,null,null,null,null,null,null,null,null,null,null,null,null,null,null,null,null,null,null,null,null,null,null,null,null,null,null,null,null,null,null,null,null,118,"2016-05-27",118,"27.05.2016",null,null,null,null,null,null,null,null,null,null,null,null,null,null,null,null,null,null,null,null,118,"2016-05-27",118,"27.05.2016",null,null,null,null,null,null,null,null,null,null,null,null,null,null,null,null,null,null,null,null,null,null,null,null,null,null,null,null,null,null,null,null,null,null,null,null,null,null,null,null,null,null,null,null,null,null,null,null,null,null,null,null,null,null,null,null,null,null,0,0,3,6,17,null,118,"2017-06-26",null,118,"26.06.17",null,null,null,null,118,"26.06.17",null,null,null,null,118,"26.06.17",118]
[null,null,null,null,null,null,null,null,null,null,null,null,null,null,null,null,null,null,null,null,null,null,null,null,null,null,null,null,null,null,null,null,null,null,null,null,null,null,null,null,null,null,null,null,null,null,null,null,null,null,null,null,null,null,null,null,null,null,null,null,null,null,null,null,null,null,null,null,null,null,null,null,null,null,null,null,null,null,null,null,null,null,null,null,null,null,null,null,null,null,null,null,null,null,null,null,null,null,null,119,"2016-05-28",119,"28.05.2016",null,null,null,null,null,null,null,null,null,null,null,null,null,null,null,null,null,null,null,null,119,"2016-05-28",119,"28.05.2016",null,null,null,null,null,null,null,null,null,null,null,null,null,null,null,null,null,null,null,null,null,null,null,null,null,null,null,null,null,null,null,null,null,null,null,null,null,null,null,null,null,null,null,null,null,null,null,null,null,null,null,null,null,null,null,null,null,null,0,0,4,6,17,null,119,"2017-06-27",null,119,"27.06.17",null,null,null,null,119,"27.06.17",null,null,null,null,119,"27.06.17",119]
[null,null,null,null,null,null,null,null,null,null,null,null,null,null,null,null,null,null,null,null,null,null,null,null,null,null,null,null,null,null,null,null,null,null,null,null,null,null,null,null,null,null,null,null,null,null,null,null,null,null,null,null,null,null,null,null,null,null,null,null,null,null,null,null,null,null,null,null,null,null,null,null,null,null,null,null,null,null,null,null,null,null,null,null,null,null,null,null,null,null,null,null,null,null,null,null,null,null,null,120,"2016-05-29",120,"29.05.2016",null,null,null,null,null,null,null,null,null,null,null,null,null,null,null,null,null,null,null,null,120,"2016-05-29",120,"29.05.2016",null,null,null,null,null,null,null,null,null,null,null,null,null,null,null,null,null,null,null,null,null,null,null,null,null,null,null,null,null,null,null,null,null,null,null,null,null,null,null,null,null,null,null,null,null,null,null,null,null,null,null,null,null,null,null,null,null,null,0,0,5,6,17,null,120,"2017-06-28",null,120,"28.06.17",null,null,null,null,120,"28.06.17",null,null,null,null,120,"28.06.17",120]
[null,null,null,null,null,null,null,null,null,null,null,null,null,null,null,null,null,null,null,null,null,null,null,null,null,null,null,null,null,null,null,null,null,null,null,null,null,null,null,null,null,null,null,null,null,null,null,null,null,null,null,null,null,null,null,null,null,null,null,null,null,null,null,null,null,null,null,null,null,null,null,null,null,null,null,null,null,null,null,null,null,null,null,null,null,null,null,null,null,null,null,null,null,null,null,null,null,null,null,121,"2016-05-30",121,"30.05.2016",null,null,null,null,null,null,null,null,null,null,null,null,null,null,null,null,null,null,null,null,121,"2016-05-30",121,"30.05.2016",null,null,null,null,null,null,null,null,null,null,null,null,null,null,null,null,null,null,null,null,null,null,null,null,null,null,null,null,null,null,null,null,null,null,null,null,null,null,null,null,null,null,null,null,null,null,null,null,null,null,null,null,null,null,null,null,null,null,0,0,6,6,17,null,121,"2017-06-29",null,121,"29.06.17",null,null,null,null,121,"29.06.17",null,null,null,null,121,"29.06.17",121]
[null,null,null,null,null,null,null,null,null,null,null,null,null,null,null,null,null,null,null,null,null,null,null,null,null,null,null,null,null,null,null,null,null,null,null,null,null,null,null,null,null,null,null,null,null,null,null,null,null,null,null,null,null,null,null,null,null,null,null,null,null,null,null,null,null,null,null,null,null,null,null,null,null,null,null,null,null,null,null,null,null,null,null,null,null,null,null,null,null,null,null,null,null,null,null,null,null,null,null,123,"2016-06-01",123,"01.06.2016",null,null,null,null,null,null,null,null,null,null,null,null,null,null,null,null,null,null,null,null,123,"2016-06-01",123,"01.06.2016",null,null,null,null,null,null,null,null,null,null,null,null,null,null,null,null,null,null,null,null,null,null,null,null,null,null,null,null,null,null,null,null,null,null,null,null,null,null,null,null,null,null,null,null,null,null,null,null,null,null,null,null,null,null,null,null,null,null,0,0,8,6,17,null,123,"2017-07-01",null,123,"01.07.17",null,null,null,null,123,"01.07.17",null,null,null,null,123,"01.07.17",123]
[null,null,null,null,null,null,null,null,null,null,null,null,null,null,null,null,null,null,null,null,null,null,null,null,null,null,null,null,null,null,null,null,null,null,null,null,null,null,null,null,null,null,null,null,null,null,null,null,null,null,null,null,null,null,null,null,null,null,null,null,null,null,null,null,null,null,null,null,null,null,null,null,null,null,null,null,null,null,null,null,null,null,null,null,null,null,null,null,null,null,null,null,null,null,null,null,null,null,null,127,"2016-06-05",127,"05.06.2016",null,null,null,null,null,null,null,null,null,null,null,null,null,null,null,null,null,null,null,null,127,"2016-06-05",127,"05.06.2016",null,null,null,null,null,null,null,null,null,null,null,null,null,null,null,null,null,null,null,null,null,null,null,null,null,null,null,null,null,null,null,null,null,null,null,null,null,null,null,null,null,null,null,null,null,null,null,null,null,null,null,null,null,null,null,null,null,null,"",0,12,6,17,null,127,"2017-07-05",null,127,"05.07.17",null,null,null,null,127,"05.07.17",null,null,null,null,127,"05.07.17",127]
[null,null,null,null,null,null,null,null,null,null,null,null,null,null,null,null,null,null,null,null,null,null,null,null,null,null,null,null,null,null,null,null,null,null,null,null,null,null,null,null,null,null,null,null,null,null,null,null,null,null,null,null,null,null,null,null,null,null,null,null,null,null,null,null,null,null,null,null,null,null,null,null,null,null,null,null,null,null,null,null,null,null,null,null,null,null,null,null,null,null,null,null,null,null,null,null,null,null,null,134,"2016-06-12",134,"12.06.2016",null,null,null,null,null,null,null,null,null,null,null,null,null,null,null,null,null,null,null,null,134,"2016-06-12",134,"12.06.2016",null,null,null,null,null,null,null,null,null,null,null,null,null,null,null,null,null,null,null,null,null,null,null,null,null,null,null,null,null,null,null,null,null,null,null,null,null,null,null,null,null,null,null,null,null,null,null,null,null,null,null,null,null,null,null,null,null,null,"",0,19,6,17,null,134,"2017-07-12",null,134,"12.07.17",null,null,null,null,134,"12.07.17",null,null,null,null,134,"12.07.17",134]
[null,null,null,null,null,null,null,null,null,null,null,null,null,null,null,null,null,null,null,null,null,null,null,null,null,null,null,null,null,null,null,null,null,null,null,null,null,null,null,null,null,null,null,null,null,null,null,null,null,null,null,null,null,null,null,null,null,null,null,null,null,null,null,null,null,null,null,null,null,null,null,null,null,null,null,null,null,null,null,null,null,null,null,null,null,null,null,null,null,null,null,null,null,null,null,null,null,null,null,137,"2016-06-15",137,"15.06.2016",null,null,null,null,null,null,null,null,null,null,null,null,null,null,null,null,null,null,null,null,137,"2016-06-15",137,"15.06.2016",null,null,null,null,null,null,null,null,null,null,null,null,null,null,null,null,null,null,null,null,null,null,null,null,null,null,null,null,null,null,null,null,null,null,null,null,null,null,null,null,null,null,null,null,null,null,null,null,null,null,null,null,null,null,null,null,null,null,"",0,22,6,17,null,137,"2017-07-15",null,137,"15.07.17",null,null,null,null,137,"15.07.17",null,null,null,null,137,"15.07.17",137]
[null,null,null,null,null,null,null,null,null,null,null,null,null,null,null,null,null,null,null,null,null,null,null,null,null,null,null,null,null,null,null,null,null,null,null,null,null,null,null,null,null,null,null,null,null,null,null,null,null,null,null,null,null,null,null,null,null,null,null,null,null,null,null,null,null,null,null,null,null,null,null,null,null,null,null,null,null,null,null,null,null,null,null,null,null,null,null,null,null,null,null,null,null,null,null,null,null,null,null,142,"2016-06-20",142,"20.06.2016",null,null,null,null,null,null,null,null,null,null,null,null,null,null,null,null,null,null,null,null,142,"2016-06-20",142,"20.06.2016",null,null,null,null,null,null,null,null,null,null,null,null,null,null,null,null,null,null,null,null,null,null,null,null,null,null,null,null,null,null,null,null,null,null,null,null,null,null,null,null,null,null,null,null,null,null,null,null,null,null,null,null,null,null,null,null,null,null,"",0,27,6,17,null,142,"2017-07-20",null,142,"20.07.17",null,null,null,null,142,"20.07.17",null,null,null,null,142,"20.07.17",142]
[null,null,null,null,null,null,null,null,null,null,null,null,null,null,null,null,null,null,null,null,null,null,null,null,null,null,null,null,null,null,null,null,null,null,null,null,null,null,null,null,null,null,null,null,null,null,null,null,null,null,null,null,null,null,null,null,null,null,null,null,null,null,null,null,null,null,null,null,null,null,null,null,null,null,null,null,null,null,null,null,null,null,null,null,null,null,null,null,null,null,null,null,null,null,null,null,null,null,null,147,"2016-06-25",147,"25.06.2016",null,null,null,null,null,null,null,null,null,null,null,null,null,null,null,null,null,null,null,null,147,"2016-06-25",147,"25.06.2016",null,null,null,null,null,null,null,null,null,null,null,null,null,null,null,null,null,null,null,null,null,null,null,null,null,null,null,null,null,null,null,null,null,null,null,null,null,null,null,null,null,null,null,null,null,null,null,null,null,null,null,null,null,null,null,null,null,null,0,0,2,7,17,null,147,"2017-07-25",null,147,"25.07.17",null,null,null,null,147,"25.07.17",null,null,null,null,147,"25.07.17",147]
[null,null,null,null,null,null,null,null,null,null,null,null,null,null,null,null,null,null,null,null,null,null,null,null,null,null,null,null,null,null,null,null,null,null,null,null,null,null,null,null,null,null,null,null,null,null,null,null,null,null,null,null,null,null,null,null,null,null,null,null,null,null,null,null,null,null,null,null,null,null,null,null,null,null,null,null,null,null,null,null,null,null,null,null,null,null,null,null,null,null,null,null,null,null,null,null,null,null,null,152,"2016-06-30",152,"30.06.2016",null,null,null,null,null,null,null,null,null,null,null,null,null,null,null,null,null,null,null,null,152,"2016-06-30",152,"30.06.2016",null,null,null,null,null,null,null,null,null,null,null,null,null,null,null,null,null,null,null,null,null,null,null,null,null,null,null,null,null,null,null,null,null,null,null,null,null,null,null,null,null,null,null,null,null,null,null,null,null,null,null,null,null,null,null,null,null,null,0,0,7,7,17,null,152,"2017-07-30",null,152,"30.07.17",null,null,null,null,152,"30.07.17",null,null,null,null,152,"30.07.17",152]
[null,null,null,null,null,null,null,null,null,null,null,null,null,null,null,null,null,null,null,null,null,null,null,null,null,null,null,null,null,null,null,null,null,null,null,null,null,null,null,null,null,null,null,null,null,null,null,null,null,null,null,null,null,null,null,null,null,null,null,null,null,null,null,null,null,null,null,null,null,null,null,null,null,null,null,null,null,null,null,null,null,null,null,null,null,null,null,null,null,null,null,null,null,null,null,null,null,null,null,157,"2016-07-05",157,"05.07.2016",null,null,null,null,null,null,null,null,null,null,null,null,null,null,null,null,null,null,null,null,157,"2016-07-05",157,"05.07.2016",null,null,null,null,null,null,null,null,null,null,null,null,null,null,null,null,null,null,null,null,null,null,null,null,null,null,null,null,null,null,null,null,null,null,null,null,null,null,null,null,null,null,null,null,null,null,null,null,null,null,null,null,null,null,null,null,null,null,"",0,12,7,17,null,157,"2017-08-04",null,157,"04.08.17",null,null,null,null,157,"04.08.17",null,null,null,null,157,"04.08.17",157]
[null,null,null,null,null,null,null,null,null,null,null,null,null,null,null,null,null,null,null,null,null,null,null,null,null,null,null,null,null,null,null,null,null,null,null,null,null,null,null,null,null,null,null,null,null,null,null,null,null,null,null,null,null,null,null,null,null,null,null,null,null,null,null,null,null,null,null,null,null,null,null,null,null,null,null,null,null,null,null,null,null,null,null,null,null,null,null,null,null,null,null,null,null,null,null,null,null,null,null,160,"2016-07-08",160,"08.07.2016",null,null,null,null,null,null,null,null,null,null,null,null,null,null,null,null,null,null,null,null,160,"2016-07-08",160,"08.07.2016",null,null,null,null,null,null,null,null,null,null,null,null,null,null,null,null,null,null,null,null,null,null,null,null,null,null,null,null,null,null,null,null,null,null,null,null,null,null,null,null,null,null,null,null,null,null,null,null,null,null,null,null,null,null,null,null,null,null,"",0,15,7,17,null,160,"2017-08-07",null,160,"07.08.17",null,null,null,null,160,"07.08.17",null,null,null,null,160,"07.08.17",160]
[null,null,null,null,null,null,null,null,null,null,null,null,null,null,null,null,null,null,null,null,null,null,null,null,null,null,null,null,null,null,null,null,null,null,null,null,null,null,null,null,null,null,null,null,null,null,null,null,null,null,null,null,null,null,null,null,null,null,null,null,null,null,null,null,null,null,null,null,null,null,null,null,null,null,null,null,null,null,null,null,null,null,null,null,null,null,null,null,null,null,null,null,null,null,null,null,null,null,null,167,"2016-07-15",167,"15.07.2016",null,null,null,null,null,null,null,null,null,null,null,null,null,null,null,null,null,null,null,null,167,"2016-07-15",167,"15.07.2016",null,null,null,null,null,null,null,null,null,null,null,null,null,null,null,null,null,null,null,null,null,null,null,null,null,null,null,null,null,null,null,null,null,null,null,null,null,null,null,null,null,null,null,null,null,null,null,null,null,null,null,null,null,null,null,null,null,null,"",0,22,7,17,null,167,"2017-08-14",null,167,"14.08.17",null,null,null,null,167,"14.08.17",null,null,null,null,167,"14.08.17",167]
[null,null,null,null,null,null,null,null,null,null,null,null,null,null,null,null,null,null,null,null,null,null,null,null,null,null,null,null,null,null,null,null,null,null,null,null,null,null,null,null,null,null,null,null,null,null,null,null,null,null,null,null,null,null,null,null,null,null,null,null,null,null,null,null,null,null,null,null,null,null,null,null,null,null,null,null,null,null,null,null,null,null,null,null,null,null,null,null,null,null,null,null,null,null,null,null,null,null,null,172,"2016-07-20",172,"20.07.2016",null,null,null,null,null,null,null,null,null,null,null,null,null,null,null,null,null,null,null,null,172,"2016-07-20",172,"20.07.2016",null,null,null,null,null,null,null,null,null,null,null,null,null,null,null,null,null,null,null,null,null,null,null,null,null,null,null,null,null,null,null,null,null,null,null,null,null,null,null,null,null,null,null,null,null,null,null,null,null,null,null,null,null,null,null,null,null,null,"",0,27,7,17,null,172,"2017-08-19",null,172,"19.08.17",null,null,null,null,172,"19.08.17",null,null,null,null,172,"19.08.17",172]
[null,null,null,null,null,null,null,null,null,null,null,null,null,null,null,null,null,null,null,null,null,null,null,null,null,null,null,null,null,null,null,null,null,null,null,null,null,null,null,null,null,null,null,null,null,null,null,null,null,null,null,null,null,null,null,null,null,null,null,null,null,null,null,null,null,null,null,null,null,null,null,null,null,null,null,null,null,null,null,null,null,null,null,null,null,null,null,null,null,null,null,null,null,null,null,null,null,null,null,173,"2016-07-21",173,"21.07.2016",null,null,null,null,null,null,null,null,null,null,null,null,null,null,null,null,null,null,null,null,173,"2016-07-21",173,"21.07.2016",null,null,null,null,null,null,null,null,null,null,null,null,null,null,null,null,null,null,null,null,null,null,null,null,null,null,null,null,null,null,null,null,null,null,null,null,null,null,null,null,null,null,null,null,null,null,null,null,null,null,null,null,null,null,null,null,null,null,"",0,28,7,17,null,173,"2017-08-20",null,173,"20.08.17",null,null,null,null,173,"20.08.17",null,null,null,null,173,"20.08.17",173]
[null,null,null,null,null,null,null,null,null,null,null,null,null,null,null,null,null,null,null,null,null,null,null,null,null,null,null,null,null,null,null,null,null,null,null,null,null,null,null,null,null,null,null,null,null,null,null,null,null,null,null,null,null,null,null,null,null,null,null,null,null,null,null,null,null,null,null,null,null,null,null,null,null,null,null,null,null,null,null,null,null,null,null,null,null,null,null,null,null,null,null,null,null,null,null,null,null,null,null,177,"2016-07-25",177,"25.07.2016",null,null,null,null,null,null,null,null,null,null,null,null,null,null,null,null,null,null,null,null,177,"2016-07-25",177,"25.07.2016",null,null,null,null,null,null,null,null,null,null,null,null,null,null,null,null,null,null,null,null,null,null,null,null,null,null,null,null,null,null,null,null,null,null,null,null,null,null,null,null,null,null,null,null,null,null,null,null,null,null,null,null,null,null,null,null,null,null,0,0,1,8,17,null,177,"2017-08-24",null,177,"24.08.17",null,null,null,null,177,"24.08.17",null,null,null,null,177,"24.08.17",177]
[null,null,null,null,null,null,null,null,null,null,null,null,null,null,null,null,null,null,null,null,null,null,null,null,null,null,null,null,null,null,null,null,null,null,null,null,null,null,null,null,null,null,null,null,null,null,null,null,null,null,null,null,null,null,null,null,null,null,null,null,null,null,null,null,null,null,null,null,null,null,null,null,null,null,null,null,null,null,null,null,null,null,null,null,null,null,null,null,null,null,null,null,null,null,null,null,null,null,null,184,"2016-08-01",184,"01.08.2016",null,null,null,null,null,null,null,null,null,null,null,null,null,null,null,null,null,null,null,null,184,"2016-08-01",184,"01.08.2016",null,null,null,null,null,null,null,null,null,null,null,null,null,null,null,null,null,null,null,null,null,null,null,null,null,null,null,null,null,null,null,null,null,null,null,null,null,null,null,null,null,null,null,null,null,null,null,null,null,null,null,null,null,null,null,null,null,null,0,0,8,8,17,null,184,"2017-08-31",null,184,"31.08.17",null,null,null,null,184,"31.08.17",null,null,null,null,184,"31.08.17",184]
[null,null,null,null,null,null,null,null,null,null,null,null,null,null,null,null,null,null,null,null,null,null,null,null,null,null,null,null,null,null,null,null,null,null,null,null,null,null,null,null,null,null,null,null,null,null,null,null,null,null,null,null,null,null,null,null,null,null,null,null,null,null,null,null,null,null,null,null,null,null,null,null,null,null,null,null,null,null,null,null,null,null,null,null,null,null,null,null,null,null,null,null,null,null,null,null,null,null,null,187,"2016-08-04",187,"04.08.2016",null,null,null,null,null,null,null,null,null,null,null,null,null,null,null,null,null,null,null,null,187,"2016-08-04",187,"04.08.2016",null,null,null,null,null,null,null,null,null,null,null,null,null,null,null,null,null,null,null,null,null,null,null,null,null,null,null,null,null,null,null,null,null,null,null,null,null,null,null,null,null,null,null,null,null,null,null,null,null,null,null,null,null,null,null,null,null,null,"",0,11,8,17,null,187,"2017-09-03",null,187,"03.09.17",null,null,null,null,187,"03.09.17",null,null,null,null,187,"03.09.17",187]
[null,null,null,null,null,null,null,null,null,null,null,null,null,null,null,null,null,null,null,null,null,null,null,null,null,null,null,null,null,null,null,null,null,null,null,null,null,null,null,null,null,null,null,null,null,null,null,null,null,null,null,null,null,null,null,null,null,null,null,null,null,null,null,null,null,null,null,null,null,null,null,null,null,null,null,null,null,null,null,null,null,null,null,null,null,null,null,null,null,null,null,null,null,null,null,null,null,null,null,192,"2016-08-09",192,"09.08.2016",null,null,null,null,null,null,null,null,null,null,null,null,null,null,null,null,null,null,null,null,192,"2016-08-09",192,"09.08.2016",null,null,null,null,null,null,null,null,null,null,null,null,null,null,null,null,null,null,null,null,null,null,null,null,null,null,null,null,null,null,null,null,null,null,null,null,null,null,null,null,null,null,null,null,null,null,null,null,null,null,null,null,null,null,null,null,null,null,"",0,16,8,17,null,192,"2017-09-08",null,192,"08.09.17",null,null,null,null,192,"08.09.17",null,null,null,null,192,"08.09.17",192]
[null,null,null,null,null,null,null,null,null,null,null,null,null,null,null,null,null,null,null,null,null,null,null,null,null,null,null,null,null,null,null,null,null,null,null,null,null,null,null,null,null,null,null,null,null,null,null,null,null,null,null,null,null,null,null,null,null,null,null,null,null,null,null,null,null,null,null,null,null,null,null,null,null,null,null,null,null,null,null,null,null,null,null,null,null,null,null,null,null,null,null,null,null,null,null,null,null,null,null,197,"2016-08-14",197,"14.08.2016",null,null,null,null,null,null,null,null,null,null,null,null,null,null,null,null,null,null,null,null,197,"2016-08-14",197,"14.08.2016",null,null,null,null,null,null,null,null,null,null,null,null,null,null,null,null,null,null,null,null,null,null,null,null,null,null,null,null,null,null,null,null,null,null,null,null,null,null,null,null,null,null,null,null,null,null,null,null,null,null,null,null,null,null,null,null,null,null,"",0,21,8,17,null,197,"2017-09-13",null,197,"13.09.17",null,null,null,null,197,"13.09.17",null,null,null,null,197,"13.09.17",197]
[null,null,null,null,null,null,null,null,null,null,null,null,null,null,null,null,null,null,null,null,null,null,null,null,null,null,null,null,null,null,null,null,null,null,null,null,null,null,null,null,null,null,null,null,null,null,null,null,null,null,null,null,null,null,null,null,null,null,null,null,null,null,null,null,null,null,null,null,null,null,null,null,null,null,null,null,null,null,null,null,null,null,null,null,null,null,null,null,null,null,null,null,null,null,null,null,null,null,null,202,"2016-08-19",202,"19.08.2016",null,null,null,null,null,null,null,null,null,null,null,null,null,null,null,null,null,null,null,null,202,"2016-08-19",202,"19.08.2016",null,null,null,null,null,null,null,null,null,null,null,null,null,null,null,null,null,null,null,null,null,null,null,null,null,null,null,null,null,null,null,null,null,null,null,null,null,null,null,null,null,null,null,null,null,null,null,null,null,null,null,null,null,null,null,null,null,null,"",0,26,8,17,null,202,"2017-09-18",null,202,"18.09.17",null,null,null,null,202,"18.09.17",null,null,null,null,202,"18.09.17",202]
[null,null,null,null,null,null,null,null,null,null,null,null,null,null,null,null,null,null,null,null,null,null,null,null,null,null,null,null,null,null,null,null,null,null,null,null,null,null,null,null,null,null,null,null,null,null,null,null,null,null,null,null,null,null,null,null,null,null,null,null,null,null,null,null,null,null,null,null,null,null,null,null,null,null,null,null,null,null,null,null,null,null,null,null,null,null,null,null,null,null,null,null,null,null,null,null,null,null,null,207,"2016-08-24",207,"24.08.2016",null,null,null,null,null,null,null,null,null,null,null,null,null,null,null,null,null,null,null,null,207,"2016-08-24",207,"24.08.2016",null,null,null,null,null,null,null,null,null,null,null,null,null,null,null,null,null,null,null,null,null,null,null,null,null,null,null,null,null,null,null,null,null,null,null,null,null,null,null,null,null,null,null,null,null,null,null,null,null,null,null,null,null,null,null,null,null,null,"",0,31,8,17,null,207,"2017-09-23",null,207,"23.09.17",null,null,null,null,207,"23.09.17",null,null,null,null,207,"23.09.17",207]
[null,null,null,null,null,null,null,null,null,null,null,null,null,null,null,null,null,null,null,null,null,null,null,null,null,null,null,null,null,null,null,null,null,null,null,null,null,null,null,null,null,null,null,null,null,null,null,null,null,null,null,null,null,null,null,null,null,null,null,null,null,null,null,null,null,null,null,null,null,null,null,null,null,null,null,null,null,null,null,null,null,null,null,null,null,null,null,null,null,null,null,null,null,null,null,null,null,null,null,210,"2016-08-27",210,"27.08.2016",null,null,null,null,null,null,null,null,null,null,null,null,null,null,null,null,null,null,null,null,210,"2016-08-27",210,"27.08.2016",null,null,null,null,null,null,null,null,null,null,null,null,null,null,null,null,null,null,null,null,null,null,null,null,null,null,null,null,null,null,null,null,null,null,null,null,null,null,null,null,null,null,null,null,null,null,null,null,null,null,null,null,null,null,null,null,null,null,0,0,3,9,17,null,210,"2017-09-26",null,210,"26.09.17",null,null,null,null,210,"26.09.17",null,null,null,null,210,"26.09.17",210]
[null,null,null,null,null,null,null,null,null,null,null,null,null,null,null,null,null,null,null,null,null,null,null,null,null,null,null,null,null,null,null,null,null,null,null,null,null,null,null,null,null,null,null,null,null,null,null,null,null,null,null,null,null,null,null,null,null,null,null,null,null,null,null,null,null,null,null,null,null,null,null,null,null,null,null,null,null,null,null,null,null,null,null,null,null,null,null,null,null,null,null,null,null,null,null,null,null,null,null,217,"2016-09-03",217,"03.09.2016",null,null,null,null,null,null,null,null,null,null,null,null,null,null,null,null,null,null,null,null,217,"2016-09-03",217,"03.09.2016",null,null,null,null,null,null,null,null,null,null,null,null,null,null,null,null,null,null,null,null,null,null,null,null,null,null,null,null,null,null,null,null,null,null,null,null,null,null,null,null,null,null,null,null,null,null,null,null,null,null,null,null,null,null,null,null,null,null,"",0,10,9,17,null,217,"2017-10-03",null,217,"03.10.17",null,null,null,null,217,"03.10.17",null,null,null,null,217,"03.10.17",217]
[null,null,null,null,null,null,null,null,null,null,null,null,null,null,null,null,null,null,null,null,null,null,null,null,null,null,null,null,null,null,null,null,null,null,null,null,null,null,null,null,null,null,null,null,null,null,null,null,null,null,null,null,null,null,null,null,null,null,null,null,null,null,null,null,null,null,null,null,null,null,null,null,null,null,null,null,null,null,null,null,null,null,null,null,null,null,null,null,null,null,null,null,null,null,null,null,null,null,null,223,"2016-09-09",223,"09.09.2016",null,null,null,null,null,null,null,null,null,null,null,null,null,null,null,null,null,null,null,null,223,"2016-09-09",223,"09.09.2016",null,null,null,null,null,null,null,null,null,null,null,null,null,null,null,null,null,null,null,null,null,null,null,null,null,null,null,null,null,null,null,null,null,null,null,null,null,null,null,null,null,null,null,null,null,null,null,null,null,null,null,null,null,null,null,null,null,null,"",0,16,9,17,null,223,"2017-10-09",null,223,"09.10.17",null,null,null,null,223,"09.10.17",null,null,null,null,223,"09.10.17",223]
[null,null,null,null,null,null,null,null,null,null,null,null,null,null,null,null,null,null,null,null,null,null,null,null,null,null,null,null,null,null,null,null,null,null,null,null,null,null,null,null,null,null,null,null,null,null,null,null,null,null,null,null,null,null,null,null,null,null,null,null,null,null,null,null,null,null,null,null,null,null,null,null,null,null,null,null,null,null,null,null,null,null,null,null,null,null,null,null,null,null,null,null,null,null,null,null,null,null,null,227,"2016-09-13",227,"13.09.2016",null,null,null,null,null,null,null,null,null,null,null,null,null,null,null,null,null,null,null,null,227,"2016-09-13",227,"13.09.2016",null,null,null,null,null,null,null,null,null,null,null,null,null,null,null,null,null,null,null,null,null,null,null,null,null,null,null,null,null,null,null,null,null,null,null,null,null,null,null,null,null,null,null,null,null,null,null,null,null,null,null,null,null,null,null,null,null,null,"",0,20,9,17,null,227,"2017-10-13",null,227,"13.10.17",null,null,null,null,227,"13.10.17",null,null,null,null,227,"13.10.17",227]
[null,null,null,null,null,null,null,null,null,null,null,null,null,null,null,null,null,null,null,null,null,null,null,null,null,null,null,null,null,null,null,null,null,null,null,null,null,null,null,null,null,null,null,null,null,null,null,null,null,null,null,null,null,null,null,null,null,null,null,null,null,null,null,null,null,null,null,null,null,null,null,null,null,null,null,null,null,null,null,null,null,null,null,null,null,null,null,null,null,null,null,null,null,null,null,null,null,null,null,232,"2016-09-18",232,"18.09.2016",null,null,null,null,null,null,null,null,null,null,null,null,null,null,null,null,null,null,null,null,232,"2016-09-18",232,"18.09.2016",null,null,null,null,null,null,null,null,null,null,null,null,null,null,null,null,null,null,null,null,null,null,null,null,null,null,null,null,null,null,null,null,null,null,null,null,null,null,null,null,null,null,null,null,null,null,null,null,null,null,null,null,null,null,null,null,null,null,"",0,25,9,17,null,232,"2017-10-18",null,232,"18.10.17",null,null,null,null,232,"18.10.17",null,null,null,null,232,"18.10.17",232]
[null,null,null,null,null,null,null,null,null,null,null,null,null,null,null,null,null,null,null,null,null,null,null,null,null,null,null,null,null,null,null,null,null,null,null,null,null,null,null,null,null,null,null,null,null,null,null,null,null,null,null,null,null,null,null,null,null,null,null,null,null,null,null,null,null,null,null,null,null,null,null,null,null,null,null,null,null,null,null,null,null,null,null,null,null,null,null,null,null,null,null,null,null,null,null,null,null,null,null,233,"2016-09-19",233,"19.09.2016",null,null,null,null,null,null,null,null,null,null,null,null,null,null,null,null,null,null,null,null,233,"2016-09-19",233,"19.09.2016",null,null,null,null,null,null,null,null,null,null,null,null,null,null,null,null,null,null,null,null,null,null,null,null,null,null,null,null,null,null,null,null,null,null,null,null,null,null,null,null,null,null,null,null,null,null,null,null,null,null,null,null,null,null,null,null,null,null,"",0,26,9,17,null,233,"2017-10-19",null,233,"19.10.17",null,null,null,null,233,"19.10.17",null,null,null,null,233,"19.10.17",233]
[null,null,null,null,null,null,null,null,null,null,null,null,null,null,null,null,null,null,null,null,null,null,null,null,null,null,null,null,null,null,null,null,null,null,null,null,null,null,null,null,null,null,null,null,null,null,null,null,null,null,null,null,null,null,null,null,null,null,null,null,null,null,null,null,null,null,null,null,null,null,null,null,null,null,null,null,null,null,null,null,null,null,null,null,null,null,null,null,null,null,null,null,null,null,null,null,null,null,null,240,"2016-09-26",240,"26.09.2016",null,null,null,null,null,null,null,null,null,null,null,null,null,null,null,null,null,null,null,null,240,"2016-09-26",240,"26.09.2016",null,null,null,null,null,null,null,null,null,null,null,null,null,null,null,null,null,null,null,null,null,null,null,null,null,null,null,null,null,null,null,null,null,null,null,null,null,null,null,null,null,null,null,null,null,null,null,null,null,null,null,null,null,null,null,null,null,null,0,"",3,10,17,null,240,"2017-10-26",null,240,"26.10.17",null,null,null,null,240,"26.10.17",null,null,null,null,240,"26.10.17",240]
[null,null,null,null,null,null,null,null,null,null,null,null,null,null,null,null,null,null,null,null,null,null,null,null,null,null,null,null,null,null,null,null,null,null,null,null,null,null,null,null,null,null,null,null,null,null,null,null,null,null,null,null,null,null,null,null,null,null,null,null,null,null,null,null,null,null,null,null,null,null,null,null,null,null,null,null,null,null,null,null,null,null,null,null,null,null,null,null,null,null,null,null,null,null,null,null,null,null,null,242,"2016-09-28",242,"28.09.2016",null,null,null,null,null,null,null,null,null,null,null,null,null,null,null,null,null,null,null,null,242,"2016-09-28",242,"28.09.2016",null,null,null,null,null,null,null,null,null,null,null,null,null,null,null,null,null,null,null,null,null,null,null,null,null,null,null,null,null,null,null,null,null,null,null,null,null,null,null,null,null,null,null,null,null,null,null,null,null,null,null,null,null,null,null,null,null,null,0,"",5,10,17,null,242,"2017-10-28",null,242,"28.10.17",null,null,null,null,242,"28.10.17",null,null,null,null,242,"28.10.17",242]
[null,null,null,null,null,null,null,null,null,null,null,null,null,null,null,null,null,null,null,null,null,null,null,null,null,null,null,null,null,null,null,null,null,null,null,null,null,null,null,null,null,null,null,null,null,null,null,null,null,null,null,null,null,null,null,null,null,null,null,null,null,null,null,null,null,null,null,null,null,null,null,null,null,null,null,null,null,null,null,null,null,null,null,null,null,null,null,null,null,null,null,null,null,null,null,null,null,null,null,247,"2016-10-03",247,"03.10.2016",null,null,null,null,null,null,null,null,null,null,null,null,null,null,null,null,null,null,null,null,247,"2016-10-03",247,"03.10.2016",null,null,null,null,null,null,null,null,null,null,null,null,null,null,null,null,null,null,null,null,null,null,null,null,null,null,null,null,null,null,null,null,null,null,null,null,null,null,null,null,null,null,null,null,null,null,null,null,null,null,null,null,null,null,null,null,null,null,"","",10,10,17,null,247,"2017-11-02",null,247,"02.11.17",null,null,null,null,247,"02.11.17",null,null,null,null,247,"02.11.17",247]
[null,null,null,null,null,null,null,null,null,null,null,null,null,null,null,null,null,null,null,null,null,null,null,null,null,null,null,null,null,null,null,null,null,null,null,null,null,null,null,null,null,null,null,null,null,null,null,null,null,null,null,null,null,null,null,null,null,null,null,null,null,null,null,null,null,null,null,null,null,null,null,null,null,null,null,null,null,null,null,null,null,null,null,null,null,null,null,null,null,null,null,null,null,null,null,null,null,null,null,252,"2016-10-08",252,"08.10.2016",null,null,null,null,null,null,null,null,null,null,null,null,null,null,null,null,null,null,null,null,252,"2016-10-08",252,"08.10.2016",null,null,null,null,null,null,null,null,null,null,null,null,null,null,null,null,null,null,null,null,null,null,null,null,null,null,null,null,null,null,null,null,null,null,null,null,null,null,null,null,null,null,null,null,null,null,null,null,null,null,null,null,null,null,null,null,null,null,"","",15,10,17,null,252,"2017-11-07",null,252,"07.11.17",null,null,null,null,252,"07.11.17",null,null,null,null,252,"07.11.17",252]
[null,null,null,null,null,null,null,null,null,null,null,null,null,null,null,null,null,null,null,null,null,null,null,null,null,null,null,null,null,null,null,null,null,null,null,null,null,null,null,null,null,null,null,null,null,null,null,null,null,null,null,null,null,null,null,null,null,null,null,null,null,null,null,null,null,null,null,null,null,null,null,null,null,null,null,null,null,null,null,null,null,null,null,null,null,null,null,null,null,null,null,null,null,null,null,null,null,null,null,258,"2016-10-14",258,"14.10.2016",null,null,null,null,null,null,null,null,null,null,null,null,null,null,null,null,null,null,null,null,258,"2016-10-14",258,"14.10.2016",null,null,null,null,null,null,null,null,null,null,null,null,null,null,null,null,null,null,null,null,null,null,null,null,null,null,null,null,null,null,null,null,null,null,null,null,null,null,null,null,null,null,null,null,null,null,null,null,null,null,null,null,null,null,null,null,null,null,"","",21,10,17,null,258,"2017-11-13",null,258,"13.11.17",null,null,null,null,258,"13.11.17",null,null,null,null,258,{"$f":"IF(HA262=\"\",\"\",VLOOKUP(HA262,GS261:GT599,2))","v":"13.11.17"},258]
[null,null,null,null,null,null,null,null,null,null,null,null,null,null,null,null,null,null,null,null,null,null,null,null,null,null,null,null,null,null,null,null,null,null,null,null,null,null,null,null,null,null,null,null,null,null,null,null,null,null,null,null,null,null,null,null,null,null,null,null,null,null,null,null,null,null,null,null,null,null,null,null,null,null,null,null,null,null,null,null,null,null,null,null,null,null,null,null,null,null,null,null,null,null,null,null,null,null,null,264,"2016-10-20",264,"20.10.2016",null,null,null,null,null,null,null,null,null,null,null,null,null,null,null,null,null,null,null,null,264,"2016-10-20",264,"20.10.2016",null,null,null,null,null,null,null,null,null,null,null,null,null,null,null,null,null,null,null,null,null,null,null,null,null,null,null,null,null,null,null,null,null,null,null,null,null,null,null,null,null,null,null,null,null,null,null,null,null,null,null,null,null,null,null,null,null,null,"","",27,10,17,null,264,"2017-11-19",null,264,"19.11.17",null,null,null,null,264,"19.11.17",null,null,null,null,264,"19.11.17",264]
[null,null,null,null,null,null,null,null,null,null,null,null,null,null,null,null,null,null,null,null,null,null,null,null,null,null,null,null,null,null,null,null,null,null,null,null,null,null,null,null,null,null,null,null,null,null,null,null,null,null,null,null,null,null,null,null,null,null,null,null,null,null,null,null,null,null,null,null,null,null,null,null,null,null,null,null,null,null,null,null,null,null,null,null,null,null,null,null,null,null,null,null,null,null,null,null,null,null,null,267,"2016-10-23",267,"23.10.2016",null,null,null,null,null,null,null,null,null,null,null,null,null,null,null,null,null,null,null,null,267,"2016-10-23",267,"23.10.2016",null,null,null,null,null,null,null,null,null,null,null,null,null,null,null,null,null,null,null,null,null,null,null,null,null,null,null,null,null,null,null,null,null,null,null,null,null,null,null,null,null,null,null,null,null,null,null,null,null,null,null,null,null,null,null,null,null,null,"","",30,10,17,null,267,"2017-11-22",null,267,"22.11.17",null,null,null,null,267,"22.11.17",null,null,null,null,267,"22.11.17",267]
[null,null,null,null,null,null,null,null,null,null,null,null,null,null,null,null,null,null,null,null,null,null,null,null,null,null,null,null,null,null,null,null,null,null,null,null,null,null,null,null,null,null,null,null,null,null,null,null,null,null,null,null,null,null,null,null,null,null,null,null,null,null,null,null,null,null,null,null,null,null,null,null,null,null,null,null,null,null,null,null,null,null,null,null,null,null,null,null,null,null,null,null,null,null,null,null,null,null,null,273,"2016-10-29",273,"29.10.2016",null,null,null,null,null,null,null,null,null,null,null,null,null,null,null,null,null,null,null,null,273,"2016-10-29",273,"29.10.2016",null,null,null,null,null,null,null,null,null,null,null,null,null,null,null,null,null,null,null,null,null,null,null,null,null,null,null,null,null,null,null,null,null,null,null,null,null,null,null,null,null,null,null,null,null,null,null,null,null,null,null,null,null,null,null,null,null,null,0,"",5,11,17,null,273,"2017-11-28",null,273,"28.11.17",null,null,null,null,273,"28.11.17",null,null,null,null,273,"28.11.17",273]
[null,null,null,null,null,null,null,null,null,null,null,null,null,null,null,null,null,null,null,null,null,null,null,null,null,null,null,null,null,null,null,null,null,null,null,null,null,null,null,null,null,null,null,null,null,null,null,null,null,null,null,null,null,null,null,null,null,null,null,null,null,null,null,null,null,null,null,null,null,null,null,null,null,null,null,null,null,null,null,null,null,null,null,null,null,null,null,null,null,null,null,null,null,null,null,null,null,null,null,277,"2016-11-02",277,"02.11.2016",null,null,null,null,null,null,null,null,null,null,null,null,null,null,null,null,null,null,null,null,277,"2016-11-02",277,"02.11.2016",null,null,null,null,null,null,null,null,null,null,null,null,null,null,null,null,null,null,null,null,null,null,null,null,null,null,null,null,null,null,null,null,null,null,null,null,null,null,null,null,null,null,null,null,null,null,null,null,null,null,null,null,null,null,null,null,null,null,0,"",9,11,17,null,277,"2017-12-02",null,277,"02.12.17",null,null,null,null,277,"02.12.17",null,null,null,null,277,"02.12.17",277]
[null,null,null,null,null,null,null,null,null,null,null,null,null,null,null,null,null,null,null,null,null,null,null,null,null,null,null,null,null,null,null,null,null,null,null,null,null,null,null,null,null,null,null,null,null,null,null,null,null,null,null,null,null,null,null,null,null,null,null,null,null,null,null,null,null,null,null,null,null,null,null,null,null,null,null,null,null,null,null,null,null,null,null,null,null,null,null,null,null,null,null,null,null,null,null,null,null,null,null,282,"2016-11-07",282,"07.11.2016",null,null,null,null,null,null,null,null,null,null,null,null,null,null,null,null,null,null,null,null,282,"2016-11-07",282,"07.11.2016",null,null,null,null,null,null,null,null,null,null,null,null,null,null,null,null,null,null,null,null,null,null,null,null,null,null,null,null,null,null,null,null,null,null,null,null,null,null,null,null,null,null,null,null,null,null,null,null,null,null,null,null,null,null,null,null,null,null,{"$f":"IF(GF286<=9,0,\"\")","v":""},{"$f":"IF(GG286<=9,0,\"\")","v":""},{"$f":"DAY(GK263)","v":14},{"$f":"MONTH(GK263)","v":11},17,null,282,"2017-12-07",null,282,"07.12.17",null,null,null,null,282,"07.12.17",null,null,null,null,282,"07.12.17",282]
[null,null,null,null,null,null,null,null,null,null,null,null,null,null,null,null,null,null,null,null,null,null,null,null,null,null,null,null,null,null,null,null,null,null,null,null,null,null,null,null,null,null,null,null,null,null,null,null,null,null,null,null,null,null,null,null,null,null,null,null,null,null,null,null,null,null,null,null,null,null,null,null,null,null,null,null,null,null,null,null,null,null,null,null,null,null,null,null,null,null,null,null,null,null,null,null,null,null,null,288,"2016-11-13",288,"13.11.2016",null,null,null,null,null,null,null,null,null,null,null,null,null,null,null,null,null,null,null,null,288,"2016-11-13",288,"13.11.2016",null,null,null,null,null,null,null,null,null,null,null,null,null,null,null,null,null,null,null,null,null,null,null,null,null,null,null,null,null,null,null,null,null,null,null,null,null,null,null,null,null,null,null,null,null,null,null,null,null,null,null,null,null,null,null,null,null,null,"","",20,11,17,null,288,"2017-12-13",null,288,"13.12.17",null,null,null,null,288,"13.12.17",null,null,null,null,288,"13.12.17",288]
[null,null,null,null,null,null,null,null,null,null,null,null,null,null,null,null,null,null,null,null,null,null,null,null,null,null,null,null,null,null,null,null,null,null,null,null,null,null,null,null,null,null,null,null,null,null,null,null,null,null,null,null,null,null,null,null,null,null,null,null,null,null,null,null,null,null,null,null,null,null,null,null,null,null,null,null,null,null,null,null,null,null,null,null,null,null,null,null,null,null,null,null,null,null,null,null,null,null,null,290,"2016-11-15",290,"15.11.2016",null,null,null,null,null,null,null,null,null,null,null,null,null,null,null,null,null,null,null,null,290,"2016-11-15",290,"15.11.2016",null,null,null,null,null,null,null,null,null,null,null,null,null,null,null,null,null,null,null,null,null,null,null,null,null,null,null,null,null,null,null,null,null,null,null,null,null,null,null,null,null,null,null,null,null,null,null,null,null,null,null,null,null,null,null,null,null,null,"","",22,11,17,null,290,"2017-12-15",null,290,"15.12.17",null,null,null,null,290,"15.12.17",null,null,null,null,290,"15.12.17",290]
[null,null,null,null,null,null,null,null,null,null,null,null,null,null,null,null,null,null,null,null,null,null,null,null,null,null,null,null,null,null,null,null,null,null,null,null,null,null,null,null,null,null,null,null,null,null,null,null,null,null,null,null,null,null,null,null,null,null,null,null,null,null,null,null,null,null,null,null,null,null,null,null,null,null,null,null,null,null,null,null,null,null,null,null,null,null,null,null,null,null,null,null,null,null,null,null,null,null,null,293,"2016-11-18",293,"18.11.2016",null,null,null,null,null,null,null,null,null,null,null,null,null,null,null,null,null,null,null,null,293,"2016-11-18",293,"18.11.2016",null,null,null,null,null,null,null,null,null,null,null,null,null,null,null,null,null,null,null,null,null,null,null,null,null,null,null,null,null,null,null,null,null,null,null,null,null,null,null,null,null,null,null,null,null,null,null,null,null,null,null,null,null,null,null,null,null,null,"","",25,11,17,null,293,"2017-12-18",null,293,"18.12.17",null,null,null,null,293,"18.12.17",null,null,null,null,293,"18.12.17",293]
[null,null,null,null,null,null,null,null,null,null,null,null,null,null,null,null,null,null,null,null,null,null,null,null,null,null,null,null,null,null,null,null,null,null,null,null,null,null,null,null,null,null,null,null,null,null,null,null,null,null,null,null,null,null,null,null,null,null,null,null,null,null,null,null,null,null,null,null,null,null,null,null,null,null,null,null,null,null,null,null,null,null,null,null,null,null,null,null,null,null,null,null,null,null,null,null,null,null,null,301,"2016-11-26",301,"26.11.2016",null,null,null,null,null,null,null,null,null,null,null,null,null,null,null,null,null,null,null,null,301,"2016-11-26",301,"26.11.2016",null,null,null,null,null,null,null,null,null,null,null,null,null,null,null,null,null,null,null,null,null,null,null,null,null,null,null,null,null,null,null,null,null,null,null,null,null,null,null,null,null,null,null,null,null,null,null,null,null,null,null,null,null,null,null,null,null,null,0,"",3,12,17,null,301,"2017-12-26",null,301,"26.12.17",null,null,null,null,301,"26.12.17",null,null,null,null,301,"26.12.17",301]
[null,null,null,null,null,null,null,null,null,null,null,null,null,null,null,null,null,null,null,null,null,null,null,null,null,null,null,null,null,null,null,null,null,null,null,null,null,null,null,null,null,null,null,null,null,null,null,null,null,null,null,null,null,null,null,null,null,null,null,null,null,null,null,null,null,null,null,null,null,null,null,null,null,null,null,null,null,null,null,null,null,null,null,null,null,null,null,null,null,null,null,null,null,null,null,null,null,null,null,302,"2016-11-27",302,"27.11.2016",null,null,null,null,null,null,null,null,null,null,null,null,null,null,null,null,null,null,null,null,302,"2016-11-27",302,"27.11.2016",null,null,null,null,null,null,null,null,null,null,null,null,null,null,null,null,null,null,null,null,null,null,null,null,null,null,null,null,null,null,null,null,null,null,null,null,null,null,null,null,null,null,null,null,null,null,null,null,null,null,null,null,null,null,null,null,null,null,0,"",4,12,17,null,302,"2017-12-27",null,302,"27.12.17",null,null,null,null,302,"27.12.17",null,null,null,null,302,"27.12.17",302]
[null,null,null,null,null,null,null,null,null,null,null,null,null,null,null,null,null,null,null,null,null,null,null,null,null,null,null,null,null,null,null,null,null,null,null,null,null,null,null,null,null,null,null,null,null,null,null,null,null,null,null,null,null,null,null,null,null,null,null,null,null,null,null,null,null,null,null,null,null,null,null,null,null,null,null,null,null,null,null,null,null,null,null,null,null,null,null,null,null,null,null,null,null,null,null,null,null,null,null,308,"2016-12-03",308,"03.12.2016",null,null,null,null,null,null,null,null,null,null,null,null,null,null,null,null,null,null,null,null,308,"2016-12-03",308,"03.12.2016",null,null,null,null,null,null,null,null,null,null,null,null,null,null,null,null,null,null,null,null,null,null,null,null,null,null,null,null,null,null,null,null,null,null,null,null,null,null,null,null,null,null,null,null,null,null,null,null,null,null,null,null,null,null,null,null,null,null,"","",10,12,17,null,308,"2018-01-02",null,308,"02.01.18",null,null,null,null,308,"02.01.18",null,null,null,null,308,"02.01.18",308]
[null,null,null,null,null,null,null,null,null,null,null,null,null,null,null,null,null,null,null,null,null,null,null,null,null,null,null,null,null,null,null,null,null,null,null,null,null,null,null,null,null,null,null,null,null,null,null,null,null,null,null,null,null,null,null,null,null,null,null,null,null,null,null,null,null,null,null,null,null,null,null,null,null,null,null,null,null,null,null,null,null,null,null,null,null,null,null,null,null,null,null,null,null,null,null,null,null,null,null,314,"2016-12-09",314,"09.12.2016",null,null,null,null,null,null,null,null,null,null,null,null,null,null,null,null,null,null,null,null,314,"2016-12-09",314,"09.12.2016",null,null,null,null,null,null,null,null,null,null,null,null,null,null,null,null,null,null,null,null,null,null,null,null,null,null,null,null,null,null,null,null,null,null,null,null,null,null,null,null,null,null,null,null,null,null,null,null,null,null,null,null,null,null,null,null,null,null,"","",16,12,17,null,314,"2018-01-08",null,314,"08.01.18",null,null,null,null,314,"08.01.18",null,null,null,null,314,"08.01.18",314]
[null,null,null,null,null,null,null,null,null,null,null,null,null,null,null,null,null,null,null,null,null,null,null,null,null,null,null,null,null,null,null,null,null,null,null,null,null,null,null,null,null,null,null,null,null,null,null,null,null,null,null,null,null,null,null,null,null,null,null,null,null,null,null,null,null,null,null,null,null,null,null,null,null,null,null,null,null,null,null,null,null,null,null,null,null,null,null,null,null,null,null,null,null,null,null,null,null,null,null,318,"2016-12-13",318,"13.12.2016",null,null,null,null,null,null,null,null,null,null,null,null,null,null,null,null,null,null,null,null,318,"2016-12-13",318,"13.12.2016",null,null,null,null,null,null,null,null,null,null,null,null,null,null,null,null,null,null,null,null,null,null,null,null,null,null,null,null,null,null,null,null,null,null,null,null,null,null,null,null,null,null,null,null,null,null,null,null,null,null,null,null,null,null,null,null,null,null,"","",20,12,17,null,318,"2018-01-12",null,318,"12.01.18",null,null,null,null,318,"12.01.18",null,null,null,null,318,"12.01.18",318]
[null,null,null,null,null,null,null,null,null,null,null,null,null,null,null,null,null,null,null,null,null,null,null,null,null,null,null,null,null,null,null,null,null,null,null,null,null,null,null,null,null,null,null,null,null,null,null,null,null,null,null,null,null,null,null,null,null,null,null,null,null,null,null,null,null,null,null,null,null,null,null,null,null,null,null,null,null,null,null,null,null,null,null,null,null,null,null,null,null,null,null,null,null,null,null,null,null,null,null,323,"2016-12-18",323,"18.12.2016",null,null,null,null,null,null,null,null,null,null,null,null,null,null,null,null,null,null,null,null,323,"2016-12-18",323,"18.12.2016",null,null,null,null,null,null,null,null,null,null,null,null,null,null,null,null,null,null,null,null,null,null,null,null,null,null,null,null,null,null,null,null,null,null,null,null,null,null,null,null,null,null,null,null,null,null,null,null,null,null,null,null,null,null,null,null,null,null,"","",25,12,17,null,323,"2018-01-17",null,323,{"$f":"CONCATENATE(GD350,GF350,\".\",GE350,GG350,\".\",GH350)","v":"17.01.18"},null,null,null,null,323,"17.01.18",null,null,null,null,323,"17.01.18",323]
[null,null,null,null,null,null,null,null,null,null,null,null,null,null,null,null,null,null,null,null,null,null,null,null,null,null,null,null,null,null,null,null,null,null,null,null,null,null,null,null,null,null,null,null,null,null,null,null,null,null,null,null,null,null,null,null,null,null,null,null,null,null,null,null,null,null,null,null,null,null,null,null,null,null,null,null,null,null,null,null,null,null,null,null,null,null,null,null,null,null,null,null,null,null,null,null,null,null,null,327,"2016-12-22",327,"22.12.2016",null,null,null,null,null,null,null,null,null,null,null,null,null,null,null,null,null,null,null,null,327,"2016-12-22",327,"22.12.2016",null,null,null,null,null,null,null,null,null,null,null,null,null,null,null,null,null,null,null,null,null,null,null,null,null,null,null,null,null,null,null,null,null,null,null,null,null,null,null,null,null,null,null,null,null,null,null,null,null,null,null,null,null,null,null,null,null,null,"","",29,12,17,null,327,"2018-01-21",null,327,"21.01.18",null,null,null,null,327,"21.01.18",null,null,null,null,327,"21.01.18",327]
[null,null,null,null,null,null,null,null,null,null,null,null,null,null,null,null,null,null,null,null,null,null,null,null,null,null,null,null,null,null,null,null,null,null,null,null,null,null,null,null,null,null,null,null,null,null,null,null,null,null,null,null,null,null,null,null,null,null,null,null,null,null,null,null,null,null,null,null,null,null,null,null,null,null,null,null,null,null,null,null,null,null,null,null,null,null,null,null,null,null,null,null,null,null,null,null,null,null,null,333,"2016-12-28",333,"28.12.2016",null,null,null,null,null,null,null,null,null,null,null,null,null,null,null,null,null,null,null,null,333,"2016-12-28",333,"28.12.2016",null,null,null,null,null,null,null,null,null,null,null,null,null,null,null,null,null,null,null,null,null,null,null,null,null,null,null,null,null,null,null,null,null,null,null,null,null,null,null,null,null,null,null,null,null,null,null,null,null,null,null,null,null,null,null,null,null,null,0,0,4,1,18,null,333,"2018-01-27",null,333,"27.01.18",null,null,null,null,333,"27.01.18",null,null,null,null,333,"27.01.18",333]
[null,null,null,null,null,null,null,null,null,null,null,null,null,null,null,null,null,null,null,null,null,null,null,null,null,null,null,null,null,null,null,null,null,null,null,null,null,null,null,null,null,null,null,null,null,null,null,null,null,null,null,null,null,null,null,null,null,null,null,null,null,null,null,null,null,null,null,null,null,null,null,null,null,null,null,null,null,null,null,null,null,null,null,null,null,null,null,null,null,null,null,null,null,null,null,null,null,null,null,338,"2017-01-02",338,"02.01.2017",null,null,null,null,null,null,null,null,null,null,null,null,null,null,null,null,null,null,null,null,338,"2017-01-02",338,"02.01.2017",null,null,null,null,null,null,null,null,null,null,null,null,null,null,null,null,null,null,null,null,null,null,null,null,null,null,null,null,null,null,null,null,null,null,null,null,null,null,null,null,null,null,null,null,null,null,null,null,null,null,null,null,null,null,null,null,null,null,0,0,9,1,18,null,338,"2018-02-01",null,338,"01.02.18",null,null,null,null,338,"01.02.18",null,null,null,null,338,"01.02.18",338]
[null,null,null,null,null,null,null,null,null,null,null,null,null,null,null,null,null,null,null,null,null,null,null,null,null,null,null,null,null,null,null,null,null,null,null,null,null,null,null,null,null,null,null,null,null,null,null,null,null,null,null,null,null,null,null,null,null,null,null,null,null,null,null,null,null,null,null,null,null,null,null,null,null,null,null,null,null,null,null,null,null,null,null,null,null,null,null,null,null,null,null,null,null,null,null,null,null,null,null,340,"2017-01-04",340,"04.01.2017",null,null,null,null,null,null,null,null,null,null,null,null,null,null,null,null,null,null,null,null,340,"2017-01-04",340,"04.01.2017",null,null,null,null,null,null,null,null,null,null,null,null,null,null,null,null,null,null,null,null,null,null,null,null,null,null,null,null,null,null,null,null,null,null,null,null,null,null,null,null,null,null,null,null,null,null,null,null,null,null,null,null,null,null,null,null,null,null,"",0,11,1,18]
[null,null,null,null,null,null,null,null,null,null,null,null,null,null,null,null,null,null,null,null,null,null,null,null,null,null,null,null,null,null,null,null,null,null,null,null,null,null,null,null,null,null,null,null,null,null,null,null,null,null,null,null,null,null,null,null,null,null,null,null,null,null,null,null,null,null,null,null,null,null,null,null,null,null,null,null,null,null,null,null,null,null,null,null,null,null,null,null,null,null,null,null,null,null,null,null,null,null,null,348,"2017-01-12",348,"12.01.2017",null,null,null,null,null,null,null,null,null,null,null,null,null,null,null,null,null,null,null,null,348,"2017-01-12",348,"12.01.2017",null,null,null,null,null,null,null,null,null,null,null,null,null,null,null,null,null,null,null,null,null,null,null,null,null,null,null,null,null,null,null,null,null,null,null,null,null,null,null,null,null,null,null,null,null,null,null,null,null,null,null,null,null,null,null,null,null,null,"",0,19,1,18]
[null,null,null,null,null,null,null,null,null,null,null,null,null,null,null,null,null,null,null,null,null,null,null,null,null,null,null,null,null,null,null,null,null,null,null,null,null,null,null,null,null,null,null,null,null,null,null,null,null,null,null,null,null,null,null,null,null,null,null,null,null,null,null,null,null,null,null,null,null,null,null,null,null,null,null,null,null,null,null,null,null,null,null,null,null,null,null,null,null,null,null,null,null,null,null,null,null,null,null,353,"2017-01-17",353,"17.01.2017",null,null,null,null,null,null,null,null,null,null,null,null,null,null,null,null,null,null,null,null,353,"2017-01-17",353,"17.01.2017",null,null,null,null,null,null,null,null,null,null,null,null,null,null,null,null,null,null,null,null,null,null,null,null,null,null,null,null,null,null,null,null,null,null,null,null,null,null,null,null,null,null,null,null,null,null,null,null,null,null,null,null,null,null,null,null,null,null,"",0,24,1,18]
[null,null,null,null,null,null,null,null,null,null,null,null,null,null,null,null,null,null,null,null,null,null,null,null,null,null,null,null,null,null,null,null,null,null,null,null,null,null,null,null,null,null,null,null,null,null,null,null,null,null,null,null,null,null,null,null,null,null,null,null,null,null,null,null,null,null,null,null,null,null,null,null,null,null,null,null,null,null,null,null,null,null,null,null,null,null,null,null,null,null,null,null,null,null,null,null,null,null,null,357,"2017-01-21",357,"21.01.2017",null,null,null,null,null,null,null,null,null,null,null,null,null,null,null,null,null,null,null,null,357,"2017-01-21",357,"21.01.2017",null,null,null,null,null,null,null,null,null,null,null,null,null,null,null,null,null,null,null,null,null,null,null,null,null,null,null,null,null,null,null,null,null,null,null,null,null,null,null,null,null,null,null,null,null,null,null,null,null,null,null,null,null,null,null,null,null,null,"",0,{"$f":"DAY(GK338)","v":28},{"$f":"MONTH(GK338)","v":1},18]
[null,null,null,null,null,null,null,null,null,null,null,null,null,null,null,null,null,null,null,null,null,null,null,null,null,null,null,null,null,null,null,null,null,null,null,null,null,null,null,null,null,null,null,null,null,null,null,null,null,null,null,null,null,null,null,null,null,null,null,null,null,null,null,null,null,null,null,null,null,null,null,null,null,null,null,null,null,null,null,null,null,null,null,null,null,null,null,null,null,null,null,null,null,null,null,null,null,null,null,358,"2017-01-22",358,"22.01.2017",null,null,null,null,null,null,null,null,null,null,null,null,null,null,null,null,null,null,null,null,358,"2017-01-22",358,"22.01.2017",null,null,null,null,null,null,null,null,null,null,null,null,null,null,null,null,null,null,null,null,null,null,null,null,null,null,null,null,null,null,null,null,null,null,null,null,null,null,null,null,null,null,null,null,null,null,null,null,null,null,null,null,null,null,null,null,null,null,"",0,29,1,18]
[null,null,null,null,null,null,null,null,null,null,null,null,null,null,null,null,null,null,null,null,null,null,null,null,null,null,null,null,null,null,null,null,null,null,null,null,null,null,null,null,null,null,null,null,null,null,null,null,null,null,null,null,null,null,null,null,null,null,null,null,null,null,null,null,null,null,null,null,null,null,null,null,null,null,null,null,null,null,null,null,null,null,null,null,null,null,null,null,null,null,null,null,null,null,null,null,null,null,null,364,"2017-01-28",364,"28.01.2017",null,null,null,null,null,null,null,null,null,null,null,null,null,null,null,null,null,null,null,null,364,"2017-01-28",364,"28.01.2017"]
[null,null,null,null,null,null,null,null,null,null,null,null,null,null,null,null,null,null,null,null,null,null,null,null,null,null,null,null,null,null,null,null,null,null,null,null,null,null,null,null,null,null,null,null,null,null,null,null,null,null,null,null,null,null,null,null,null,null,null,null,null,null,null,null,null,null,null,null,null,null,null,null,null,null,null,null,null,null,null,null,null,null,null,null,null,null,null,null,null,null,null,null,null,null,null,null,null,null,null,368,"2017-02-01",368,"01.02.2017",null,null,null,null,null,null,null,null,null,null,null,null,null,null,null,null,null,null,null,null,368,"2017-02-01",368,"01.02.2017"]
[null,null,null,null,null,null,null,null,null,null,null,null,null,null,null,null,null,null,null,null,null,null,null,null,null,null,null,null,null,null,null,null,null,null,null,null,null,null,null,null,null,null,null,null,null,null,null,null,null,null,null,null,null,null,null,null,null,null,null,null,null,null,null,null,null,null,null,null,null,null,null,null,null,null,null,null,null,null,null,null,null,null,null,null,null,null,null,null,null,null,null,null,null,null,null,null,null,null,null,373,"2017-02-06",373,"06.02.2017",null,null,null,null,null,null,null,null,null,null,null,null,null,null,null,null,null,null,null,null,373,"2017-02-06",373,"06.02.2017"]
[null,null,null,null,null,null,null,null,null,null,null,null,null,null,null,null,null,null,null,null,null,null,null,null,null,null,null,null,null,null,null,null,null,null,null,null,null,null,null,null,null,null,null,null,null,null,null,null,null,null,null,null,null,null,null,null,null,null,null,null,null,null,null,null,null,null,null,null,null,null,null,null,null,null,null,null,null,null,null,null,null,null,null,null,null,null,null,null,null,null,null,null,null,null,null,null,null,null,null,377,"2017-02-10",377,"10.02.2017",null,null,null,null,null,null,null,null,null,null,null,null,null,null,null,null,null,null,null,null,377,"2017-02-10",377,"10.02.2017"]
[null,null,null,null,null,null,null,null,null,null,null,null,null,null,null,null,null,null,null,null,null,null,null,null,null,null,null,null,null,null,null,null,null,null,null,null,null,null,null,null,null,null,null,null,null,null,null,null,null,null,null,null,null,null,null,null,null,null,null,null,null,null,null,null,null,null,null,null,null,null,null,null,null,null,null,null,null,null,null,null,null,null,null,null,null,null,null,null,null,null,null,null,null,null,null,null,null,null,null,383,"2017-02-16",383,"16.02.2017",null,null,null,null,null,null,null,null,null,null,null,null,null,null,null,null,null,null,null,null,383,"2017-02-16",383,"16.02.2017"]
[null,null,null,null,null,null,null,null,null,null,null,null,null,null,null,null,null,null,null,null,null,null,null,null,null,null,null,null,null,null,null,null,null,null,null,null,null,null,null,null,null,null,null,null,null,null,null,null,null,null,null,null,null,null,null,null,null,null,null,null,null,null,null,null,null,null,null,null,null,null,null,null,null,null,null,null,null,null,null,null,null,null,null,null,null,null,null,null,null,null,null,null,null,null,null,null,null,null,null,388,"2017-02-21",388,"21.02.2017",null,null,null,null,null,null,null,null,null,null,null,null,null,null,null,null,null,null,null,null,388,"2017-02-21",388,"21.02.2017"]
[null,null,null,null,null,null,null,null,null,null,null,null,null,null,null,null,null,null,null,null,null,null,null,null,null,null,null,null,null,null,null,null,null,null,null,null,null,null,null,null,null,null,null,null,null,null,null,null,null,null,null,null,null,null,null,null,null,null,null,null,null,null,null,null,null,null,null,null,null,null,null,null,null,null,null,null,null,null,null,null,null,null,null,null,null,null,null,null,null,null,null,null,null,null,null,null,null,null,null,394,"2017-02-27",394,"27.02.2017",null,null,null,null,null,null,null,null,null,null,null,null,null,null,null,null,null,null,null,null,394,"2017-02-27",394,"27.02.2017"]
[null,null,null,null,null,null,null,null,null,null,null,null,null,null,null,null,null,null,null,null,null,null,null,null,null,null,null,null,null,null,null,null,null,null,null,null,null,null,null,null,null,null,null,null,null,null,null,null,null,null,null,null,null,null,null,null,null,null,null,null,null,null,null,null,null,null,null,null,null,null,null,null,null,null,null,null,null,null,null,null,null,null,null,null,null,null,null,null,null,null,null,null,null,null,null,null,null,null,null,398,"2017-03-03",398,"03.03.2017",null,null,null,null,null,null,null,null,null,null,null,null,null,null,null,null,null,null,null,null,398,"2017-03-03",398,"03.03.2017"]
[null,null,null,null,null,null,null,null,null,null,null,null,null,null,null,null,null,null,null,null,null,null,null,null,null,null,null,null,null,null,null,null,null,null,null,null,null,null,null,null,null,null,null,null,null,null,null,null,null,null,null,null,null,null,null,null,null,null,null,null,null,null,null,null,null,null,null,null,null,null,null,null,null,null,null,null,null,null,null,null,null,null,null,null,null,null,null,null,null,null,null,null,null,null,null,null,null,null,null,403,"2017-03-08",403,"08.03.2017",null,null,null,null,null,null,null,null,null,null,null,null,null,null,null,null,null,null,null,null,403,"2017-03-08",403,"08.03.2017"]
[null,null,null,null,null,null,null,null,null,null,null,null,null,null,null,null,null,null,null,null,null,null,null,null,null,null,null,null,null,null,null,null,null,null,null,null,null,null,null,null,null,null,null,null,null,null,null,null,null,null,null,null,null,null,null,null,null,null,null,null,null,null,null,null,null,null,null,null,null,null,null,null,null,null,null,null,null,null,null,null,null,null,null,null,null,null,null,null,null,null,null,null,null,null,null,null,null,null,null,407,"2017-03-12",407,"12.03.2017",null,null,null,null,null,null,null,null,null,null,null,null,null,null,null,null,null,null,null,null,407,"2017-03-12",407,"12.03.2017"]
[null,null,null,null,null,null,null,null,null,null,null,null,null,null,null,null,null,null,null,null,null,null,null,null,null,null,null,null,null,null,null,null,null,null,null,null,null,null,null,null,null,null,null,null,null,null,null,null,null,null,null,null,null,null,null,null,null,null,null,null,null,null,null,null,null,null,null,null,null,null,null,null,null,null,null,null,null,null,null,null,null,null,null,null,null,null,null,null,null,null,null,null,null,null,null,null,null,null,null,413,"2017-03-18",413,"18.03.2017",null,null,null,null,null,null,null,null,null,null,null,null,null,null,null,null,null,null,null,null,413,"2017-03-18",413,"18.03.2017"]
[null,null,null,null,null,null,null,null,null,null,null,null,null,null,null,null,null,null,null,null,null,null,null,null,null,null,null,null,null,null,null,null,null,null,null,null,null,null,null,null,null,null,null,null,null,null,null,null,null,null,null,null,null,null,null,null,null,null,null,null,null,null,null,null,null,null,null,null,null,null,null,null,null,null,null,null,null,null,null,null,null,null,null,null,null,null,null,null,null,null,null,null,null,null,null,null,null,null,null,414,"2017-03-19",414,"19.03.2017",null,null,null,null,null,null,null,null,null,null,null,null,null,null,null,null,null,null,null,null,414,"2017-03-19",414,"19.03.2017"]
[null,null,null,null,null,null,null,null,null,null,null,null,null,null,null,null,null,null,null,null,null,null,null,null,null,null,null,null,null,null,null,null,null,null,null,null,null,null,null,null,null,null,null,null,null,null,null,null,null,null,null,null,null,null,null,null,null,null,null,null,null,null,null,null,null,null,null,null,null,null,null,null,null,null,null,null,null,null,null,null,null,null,null,null,null,null,null,null,null,null,null,null,null,null,null,null,null,null,null,418,"2017-03-23",418,"23.03.2017",null,null,null,null,null,null,null,null,null,null,null,null,null,null,null,null,null,null,null,null,418,"2017-03-23",418,"23.03.2017"]
[null,null,null,null,null,null,null,null,null,null,null,null,null,null,null,null,null,null,null,null,null,null,null,null,null,null,null,null,null,null,null,null,null,null,null,null,null,null,null,null,null,null,null,null,null,null,null,null,null,null,null,null,null,null,null,null,null,null,null,null,null,null,null,null,null,null,null,null,null,null,null,null,null,null,null,null,null,null,null,null,null,null,null,null,null,null,null,null,null,null,null,null,null,null,null,null,null,null,null,423,"2017-03-28",423,"28.03.2017",null,null,null,null,null,null,null,null,null,null,null,null,null,null,null,null,null,null,null,null,423,"2017-03-28",423,"28.03.2017"]
[null,null,null,null,null,null,null,null,null,null,null,null,null,null,null,null,null,null,null,null,null,null,null,null,null,null,null,null,null,null,null,null,null,null,null,null,null,null,null,null,null,null,null,null,null,null,null,null,null,null,null,null,null,null,null,null,null,null,null,null,null,null,null,null,null,null,null,null,null,null,null,null,null,null,null,null,null,null,null,null,null,null,null,null,null,null,null,null,null,null,null,null,null,null,null,null,null,null,null,431,"2017-04-05",431,"05.04.2017",null,null,null,null,null,null,null,null,null,null,null,null,null,null,null,null,null,null,null,null,431,"2017-04-05",431,"05.04.2017"]
[null,null,null,null,null,null,null,null,null,null,null,null,null,null,null,null,null,null,null,null,null,null,null,null,null,null,null,null,null,null,null,null,null,null,null,null,null,null,null,null,null,null,null,null,null,null,null,null,null,null,null,null,null,null,null,null,null,null,null,null,null,null,null,null,null,null,null,null,null,null,null,null,null,null,null,null,null,null,null,null,null,null,null,null,null,null,null,null,null,null,null,null,null,null,null,null,null,null,null,433,"2017-04-07",433,"07.04.2017",null,null,null,null,null,null,null,null,null,null,null,null,null,null,null,null,null,null,null,null,433,"2017-04-07",433,"07.04.2017"]
[null,null,null,null,null,null,null,null,null,null,null,null,null,null,null,null,null,null,null,null,null,null,null,null,null,null,null,null,null,null,null,null,null,null,null,null,null,null,null,null,null,null,null,null,null,null,null,null,null,null,null,null,null,null,null,null,null,null,null,null,null,null,null,null,null,null,null,null,null,null,null,null,null,null,null,null,null,null,null,null,null,null,null,null,null,null,null,null,null,null,null,null,null,null,null,null,null,null,null,438,"2017-04-12",438,"12.04.2017",null,null,null,null,null,null,null,null,null,null,null,null,null,null,null,null,null,null,null,null,438,"2017-04-12",438,"12.04.2017"]
[null,null,null,null,null,null,null,null,null,null,null,null,null,null,null,null,null,null,null,null,null,null,null,null,null,null,null,null,null,null,null,null,null,null,null,null,null,null,null,null,null,null,null,null,null,null,null,null,null,null,null,null,null,null,null,null,null,null,null,null,null,null,null,null,null,null,null,null,null,null,null,null,null,null,null,null,null,null,null,null,null,null,null,null,null,null,null,null,null,null,null,null,null,null,null,null,null,null,null,444,"2017-04-18",444,"18.04.2017",null,null,null,null,null,null,null,null,null,null,null,null,null,null,null,null,null,null,null,null,444,"2017-04-18",444,"18.04.2017"]
[null,null,null,null,null,null,null,null,null,null,null,null,null,null,null,null,null,null,null,null,null,null,null,null,null,null,null,null,null,null,null,null,null,null,null,null,null,null,null,null,null,null,null,null,null,null,null,null,null,null,null,null,null,null,null,null,null,null,null,null,null,null,null,null,null,null,null,null,null,null,null,null,null,null,null,null,null,null,null,null,null,null,null,null,null,null,null,null,null,null,null,null,null,null,null,null,null,null,null,448,"2017-04-22",448,"22.04.2017",null,null,null,null,null,null,null,null,null,null,null,null,null,null,null,null,null,null,null,null,448,"2017-04-22",448,"22.04.2017"]
[null,null,null,null,null,null,null,null,null,null,null,null,null,null,null,null,null,null,null,null,null,null,null,null,null,null,null,null,null,null,null,null,null,null,null,null,null,null,null,null,null,null,null,null,null,null,null,null,null,null,null,null,null,null,null,null,null,null,null,null,null,null,null,null,null,null,null,null,null,null,null,null,null,null,null,null,null,null,null,null,null,null,null,null,null,null,null,null,null,null,null,null,null,null,null,null,null,null,null,454,"2017-04-28",454,"28.04.2017",null,null,null,null,null,null,null,null,null,null,null,null,null,null,null,null,null,null,null,null,454,"2017-04-28",454,"28.04.2017"]
[null,null,null,null,null,null,null,null,null,null,null,null,null,null,null,null,null,null,null,null,null,null,null,null,null,null,null,null,null,null,null,null,null,null,null,null,null,null,null,null,null,null,null,null,null,null,null,null,null,null,null,null,null,null,null,null,null,null,null,null,null,null,null,null,null,null,null,null,null,null,null,null,null,null,null,null,null,null,null,null,null,null,null,null,null,null,null,null,null,null,null,null,null,null,null,null,null,null,null,457,"2017-05-01",457,"01.05.2017",null,null,null,null,null,null,null,null,null,null,null,null,null,null,null,null,null,null,null,null,457,"2017-05-01",457,"01.05.2017"]
[null,null,null,null,null,null,null,null,null,null,null,null,null,null,null,null,null,null,null,null,null,null,null,null,null,null,null,null,null,null,null,null,null,null,null,null,null,null,null,null,null,null,null,null,null,null,null,null,null,null,null,null,null,null,null,null,null,null,null,null,null,null,null,null,null,null,null,null,null,null,null,null,null,null,null,null,null,null,null,null,null,null,null,null,null,null,null,null,null,null,null,null,null,null,null,null,null,null,null,463,"2017-05-07",463,"07.05.2017",null,null,null,null,null,null,null,null,null,null,null,null,null,null,null,null,null,null,null,null,463,"2017-05-07",463,"07.05.2017"]
[null,null,null,null,null,null,null,null,null,null,null,null,null,null,null,null,null,null,null,null,null,null,null,null,null,null,null,null,null,null,null,null,null,null,null,null,null,null,null,null,null,null,null,null,null,null,null,null,null,null,null,null,null,null,null,null,null,null,null,null,null,null,null,null,null,null,null,null,null,null,null,null,null,null,null,null,null,null,null,null,null,null,null,null,null,null,null,null,null,null,null,null,null,null,null,null,null,null,null,469,"2017-05-13",469,"13.05.2017",null,null,null,null,null,null,null,null,null,null,null,null,null,null,null,null,null,null,null,null,469,"2017-05-13",469,"13.05.2017"]
[null,null,null,null,null,null,null,null,null,null,null,null,null,null,null,null,null,null,null,null,null,null,null,null,null,null,null,null,null,null,null,null,null,null,null,null,null,null,null,null,null,null,null,null,null,null,null,null,null,null,null,null,null,null,null,null,null,null,null,null,null,null,null,null,null,null,null,null,null,null,null,null,null,null,null,null,null,null,null,null,null,null,null,null,null,null,null,null,null,null,null,null,null,null,null,null,null,null,null,470,"2017-05-14",470,"14.05.2017",null,null,null,null,null,null,null,null,null,null,null,null,null,null,null,null,null,null,null,null,470,"2017-05-14",470,"14.05.2017"]
[null,null,null,null,null,null,null,null,null,null,null,null,null,null,null,null,null,null,null,null,null,null,null,null,null,null,null,null,null,null,null,null,null,null,null,null,null,null,null,null,null,null,null,null,null,null,null,null,null,null,null,null,null,null,null,null,null,null,null,null,null,null,null,null,null,null,null,null,null,null,null,null,null,null,null,null,null,null,null,null,null,null,null,null,null,null,null,null,null,null,null,null,null,null,null,null,null,null,null,474,"2017-05-18",474,"18.05.2017",null,null,null,null,null,null,null,null,null,null,null,null,null,null,null,null,null,null,null,null,474,"2017-05-18",474,"18.05.2017"]
[null,null,null,null,null,null,null,null,null,null,null,null,null,null,null,null,null,null,null,null,null,null,null,null,null,null,null,null,null,null,null,null,null,null,null,null,null,null,null,null,null,null,null,null,null,null,null,null,null,null,null,null,null,null,null,null,null,null,null,null,null,null,null,null,null,null,null,null,null,null,null,null,null,null,null,null,null,null,null,null,null,null,null,null,null,null,null,null,null,null,null,null,null,null,null,null,null,null,null,481,"2017-05-25",481,"25.05.2017",null,null,null,null,null,null,null,null,null,null,null,null,null,null,null,null,null,null,null,null,481,"2017-05-25",481,"25.05.2017"]
[null,null,null,null,null,null,null,null,null,null,null,null,null,null,null,null,null,null,null,null,null,null,null,null,null,null,null,null,null,null,null,null,null,null,null,null,null,null,null,null,null,null,null,null,null,null,null,null,null,null,null,null,null,null,null,null,null,null,null,null,null,null,null,null,null,null,null,null,null,null,null,null,null,null,null,null,null,null,null,null,null,null,null,null,null,null,null,null,null,null,null,null,null,null,null,null,null,null,null,483,"2017-05-27",483,"27.05.2017",null,null,null,null,null,null,null,null,null,null,null,null,null,null,null,null,null,null,null,null,483,"2017-05-27",483,"27.05.2017"]
[null,null,null,null,null,null,null,null,null,null,null,null,null,null,null,null,null,null,null,null,null,null,null,null,null,null,null,null,null,null,null,null,null,null,null,null,null,null,null,null,null,null,null,null,null,null,null,null,null,null,null,null,null,null,null,null,null,null,null,null,null,null,null,null,null,null,null,null,null,null,null,null,null,null,null,null,null,null,null,null,null,null,null,null,null,null,null,null,null,null,null,null,null,null,null,null,null,null,null,489,"2017-06-02",489,"02.06.2017",null,null,null,null,null,null,null,null,null,null,null,null,null,null,null,null,null,null,null,null,489,"2017-06-02",489,"02.06.2017"]
[null,null,null,null,null,null,null,null,null,null,null,null,null,null,null,null,null,null,null,null,null,null,null,null,null,null,null,null,null,null,null,null,null,null,null,null,null,null,null,null,null,null,null,null,null,null,null,null,null,null,null,null,null,null,null,null,null,null,null,null,null,null,null,null,null,null,null,null,null,null,null,null,null,null,null,null,null,null,null,null,null,null,null,null,null,null,null,null,null,null,null,null,null,null,null,null,null,null,null,494,"2017-06-07",494,"07.06.2017",null,null,null,null,null,null,null,null,null,null,null,null,null,null,null,null,null,null,null,null,494,"2017-06-07",494,"07.06.2017"]
[null,null,null,null,null,null,null,null,null,null,null,null,null,null,null,null,null,null,null,null,null,null,null,null,null,null,null,null,null,null,null,null,null,null,null,null,null,null,null,null,null,null,null,null,null,null,null,null,null,null,null,null,null,null,null,null,null,null,null,null,null,null,null,null,null,null,null,null,null,null,null,null,null,null,null,null,null,null,null,null,null,null,null,null,null,null,null,null,null,null,null,null,null,null,null,null,null,null,null,498,"2017-06-11",498,"11.06.2017",null,null,null,null,null,null,null,null,null,null,null,null,null,null,null,null,null,null,null,null,498,"2017-06-11",498,"11.06.2017"]
[null,null,null,null,null,null,null,null,null,null,null,null,null,null,null,null,null,null,null,null,null,null,null,null,null,null,null,null,null,null,null,null,null,null,null,null,null,null,null,null,null,null,null,null,null,null,null,null,null,null,null,null,null,null,null,null,null,null,null,null,null,null,null,null,null,null,null,null,null,null,null,null,null,null,null,null,null,null,null,null,null,null,null,null,null,null,null,null,null,null,null,null,null,null,null,null,null,null,null,504,"2017-06-17",504,"17.06.2017",null,null,null,null,null,null,null,null,null,null,null,null,null,null,null,null,null,null,null,null,504,"2017-06-17",504,"17.06.2017"]
[null,null,null,null,null,null,null,null,null,null,null,null,null,null,null,null,null,null,null,null,null,null,null,null,null,null,null,null,null,null,null,null,null,null,null,null,null,null,null,null,null,null,null,null,null,null,null,null,null,null,null,null,null,null,null,null,null,null,null,null,null,null,null,null,null,null,null,null,null,null,null,null,null,null,null,null,null,null,null,null,null,null,null,null,null,null,null,null,null,null,null,null,null,null,null,null,null,null,null,507,"2017-06-20",507,"20.06.2017",null,null,null,null,null,null,null,null,null,null,null,null,null,null,null,null,null,null,null,null,507,"2017-06-20",507,"20.06.2017"]
[null,null,null,null,null,null,null,null,null,null,null,null,null,null,null,null,null,null,null,null,null,null,null,null,null,null,null,null,null,null,null,null,null,null,null,null,null,null,null,null,null,null,null,null,null,null,null,null,null,null,null,null,null,null,null,null,null,null,null,null,null,null,null,null,null,null,null,null,null,null,null,null,null,null,null,null,null,null,null,null,null,null,null,null,null,null,null,null,null,null,null,null,null,null,null,null,null,null,null,514,"2017-06-27",514,"27.06.2017",null,null,null,null,null,null,null,null,null,null,null,null,null,null,null,null,null,null,null,null,514,"2017-06-27",514,"27.06.2017"]
[null,null,null,null,null,null,null,null,null,null,null,null,null,null,null,null,null,null,null,null,null,null,null,null,null,null,null,null,null,null,null,null,null,null,null,null,null,null,null,null,null,null,null,null,null,null,null,null,null,null,null,null,null,null,null,null,null,null,null,null,null,null,null,null,null,null,null,null,null,null,null,null,null,null,null,null,null,null,null,null,null,null,null,null,null,null,null,null,null,null,null,null,null,null,null,null,null,null,null,519,"2017-07-02",519,"02.07.2017",null,null,null,null,null,null,null,null,null,null,null,null,null,null,null,null,null,null,null,null,519,"2017-07-02",519,"02.07.2017"]
[null,null,null,null,null,null,null,null,null,null,null,null,null,null,null,null,null,null,null,null,null,null,null,null,null,null,null,null,null,null,null,null,null,null,null,null,null,null,null,null,null,null,null,null,null,null,null,null,null,null,null,null,null,null,null,null,null,null,null,null,null,null,null,null,null,null,null,null,null,null,null,null,null,null,null,null,null,null,null,null,null,null,null,null,null,null,null,null,null,null,null,null,null,null,null,null,null,null,null,524,"2017-07-07",524,"07.07.2017",null,null,null,null,null,null,null,null,null,null,null,null,null,null,null,null,null,null,null,null,524,"2017-07-07",524,"07.07.2017"]
[null,null,null,null,null,null,null,null,null,null,null,null,null,null,null,null,null,null,null,null,null,null,null,null,null,null,null,null,null,null,null,null,null,null,null,null,null,null,null,null,null,null,null,null,null,null,null,null,null,null,null,null,null,null,null,null,null,null,null,null,null,null,null,null,null,null,null,null,null,null,null,null,null,null,null,null,null,null,null,null,null,null,null,null,null,null,null,null,null,null,null,null,null,null,null,null,null,null,null,529,"2017-07-12",529,"12.07.2017",null,null,null,null,null,null,null,null,null,null,null,null,null,null,null,null,null,null,null,null,529,"2017-07-12",529,"12.07.2017"]
[null,null,null,null,null,null,null,null,null,null,null,null,null,null,null,null,null,null,null,null,null,null,null,null,null,null,null,null,null,null,null,null,null,null,null,null,null,null,null,null,null,null,null,null,null,null,null,null,null,null,null,null,null,null,null,null,null,null,null,null,null,null,null,null,null,null,null,null,null,null,null,null,null,null,null,null,null,null,null,null,null,null,null,null,null,null,null,null,null,null,null,null,null,null,null,null,null,null,null,531,"2017-07-14",531,"14.07.2017",null,null,null,null,null,null,null,null,null,null,null,null,null,null,null,null,null,null,null,null,531,"2017-07-14",531,"14.07.2017"]
[null,null,null,null,null,null,null,null,null,null,null,null,null,null,null,null,null,null,null,null,null,null,null,null,null,null,null,null,null,null,null,null,null,null,null,null,null,null,null,null,null,null,null,null,null,null,null,null,null,null,null,null,null,null,null,null,null,null,null,null,null,null,null,null,null,null,null,null,null,null,null,null,null,null,null,null,null,null,null,null,null,null,null,null,null,null,null,null,null,null,null,null,null,null,null,null,null,null,null,538,"2017-07-21",538,"21.07.2017",null,null,null,null,null,null,null,null,null,null,null,null,null,null,null,null,null,null,null,null,538,"2017-07-21",538,"21.07.2017"]
[null,null,null,null,null,null,null,null,null,null,null,null,null,null,null,null,null,null,null,null,null,null,null,null,null,null,null,null,null,null,null,null,null,null,null,null,null,null,null,null,null,null,null,null,null,null,null,null,null,null,null,null,null,null,null,null,null,null,null,null,null,null,null,null,null,null,null,null,null,null,null,null,null,null,null,null,null,null,null,null,null,null,null,null,null,null,null,null,null,null,null,null,null,null,null,null,null,null,null,539,"2017-07-22",539,"22.07.2017",null,null,null,null,null,null,null,null,null,null,null,null,null,null,null,null,null,null,null,null,539,"2017-07-22",539,"22.07.2017"]
[null,null,null,null,null,null,null,null,null,null,null,null,null,null,null,null,null,null,null,null,null,null,null,null,null,null,null,null,null,null,null,null,null,null,null,null,null,null,null,null,null,null,null,null,null,null,null,null,null,null,null,null,null,null,null,null,null,null,null,null,null,null,null,null,null,null,null,null,null,null,null,null,null,null,null,null,null,null,null,null,null,null,null,null,null,null,null,null,null,null,null,null,null,null,null,null,null,null,null,544,"2017-07-27",544,"27.07.2017",null,null,null,null,null,null,null,null,null,null,null,null,null,null,null,null,null,null,null,null,544,"2017-07-27",544,"27.07.2017"]
[null,null,null,null,null,null,null,null,null,null,null,null,null,null,null,null,null,null,null,null,null,null,null,null,null,null,null,null,null,null,null,null,null,null,null,null,null,null,null,null,null,null,null,null,null,null,null,null,null,null,null,null,null,null,null,null,null,null,null,null,null,null,null,null,null,null,null,null,null,null,null,null,null,null,null,null,null,null,null,null,null,null,null,null,null,null,null,null,null,null,null,null,null,null,null,null,null,null,null,549,"2017-08-01",549,"01.08.2017",null,null,null,null,null,null,null,null,null,null,null,null,null,null,null,null,null,null,null,null,549,"2017-08-01",549,"01.08.2017"]
[null,null,null,null,null,null,null,null,null,null,null,null,null,null,null,null,null,null,null,null,null,null,null,null,null,null,null,null,null,null,null,null,null,null,null,null,null,null,null,null,null,null,null,null,null,null,null,null,null,null,null,null,null,null,null,null,null,null,null,null,null,null,null,null,null,null,null,null,null,null,null,null,null,null,null,null,null,null,null,null,null,null,null,null,null,null,null,null,null,null,null,null,null,null,null,null,null,null,null,554,"2017-08-06",554,"06.08.2017",null,null,null,null,null,null,null,null,null,null,null,null,null,null,null,null,null,null,null,null,554,"2017-08-06",554,"06.08.2017"]
[null,null,null,null,null,null,null,null,null,null,null,null,null,null,null,null,null,null,null,null,null,null,null,null,null,null,null,null,null,null,null,null,null,null,null,null,null,null,null,null,null,null,null,null,null,null,null,null,null,null,null,null,null,null,null,null,null,null,null,null,null,null,null,null,null,null,null,null,null,null,null,null,null,null,null,null,null,null,null,null,null,null,null,null,null,null,null,null,null,null,null,null,null,null,null,null,null,null,null,561,"2017-08-13",561,"13.08.2017",null,null,null,null,null,null,null,null,null,null,null,null,null,null,null,null,null,null,null,null,561,"2017-08-13",561,"13.08.2017"]
[null,null,null,null,null,null,null,null,null,null,null,null,null,null,null,null,null,null,null,null,null,null,null,null,null,null,null,null,null,null,null,null,null,null,null,null,null,null,null,null,null,null,null,null,null,null,null,null,null,null,null,null,null,null,null,null,null,null,null,null,null,null,null,null,null,null,null,null,null,null,null,null,null,null,null,null,null,null,null,null,null,null,null,null,null,null,null,null,null,null,null,null,null,null,null,null,null,null,null,564,"2017-08-16",564,"16.08.2017",null,null,null,null,null,null,null,null,null,null,null,null,null,null,null,null,null,null,null,null,564,"2017-08-16",564,"16.08.2017"]
[null,null,null,null,null,null,null,null,null,null,null,null,null,null,null,null,null,null,null,null,null,null,null,null,null,null,null,null,null,null,null,null,null,null,null,null,null,null,null,null,null,null,null,null,null,null,null,null,null,null,null,null,null,null,null,null,null,null,null,null,null,null,null,null,null,null,null,null,null,null,null,null,null,null,null,null,null,null,null,null,null,null,null,null,null,null,null,null,null,null,null,null,null,null,null,null,null,null,null,569,"2017-08-21",569,"21.08.2017",null,null,null,null,null,null,null,null,null,null,null,null,null,null,null,null,null,null,null,null,569,"2017-08-21",569,"21.08.2017"]
[null,null,null,null,null,null,null,null,null,null,null,null,null,null,null,null,null,null,null,null,null,null,null,null,null,null,null,null,null,null,null,null,null,null,null,null,null,null,null,null,null,null,null,null,null,null,null,null,null,null,null,null,null,null,null,null,null,null,null,null,null,null,null,null,null,null,null,null,null,null,null,null,null,null,null,null,null,null,null,null,null,null,null,null,null,null,null,null,null,null,null,null,null,null,null,null,null,null,null,574,"2017-08-26",574,"26.08.2017",null,null,null,null,null,null,null,null,null,null,null,null,null,null,null,null,null,null,null,null,574,"2017-08-26",574,"26.08.2017"]
[null,null,null,null,null,null,null,null,null,null,null,null,null,null,null,null,null,null,null,null,null,null,null,null,null,null,null,null,null,null,null,null,null,null,null,null,null,null,null,null,null,null,null,null,null,null,null,null,null,null,null,null,null,null,null,null,null,null,null,null,null,null,null,null,null,null,null,null,null,null,null,null,null,null,null,null,null,null,null,null,null,null,null,null,null,null,null,null,null,null,null,null,null,null,null,null,null,null,null,579,"2017-08-31",579,"31.08.2017",null,null,null,null,null,null,null,null,null,null,null,null,null,null,null,null,null,null,null,null,579,"2017-08-31",579,"31.08.2017"]
[null,null,null,null,null,null,null,null,null,null,null,null,null,null,null,null,null,null,null,null,null,null,null,null,null,null,null,null,null,null,null,null,null,null,null,null,null,null,null,null,null,null,null,null,null,null,null,null,null,null,null,null,null,null,null,null,null,null,null,null,null,null,null,null,null,null,null,null,null,null,null,null,null,null,null,null,null,null,null,null,null,null,null,null,null,null,null,null,null,null,null,null,null,null,null,null,null,null,null,584,"2017-09-05",584,"05.09.2017",null,null,null,null,null,null,null,null,null,null,null,null,null,null,null,null,null,null,null,null,584,"2017-09-05",584,"05.09.2017"]
[null,null,null,null,null,null,null,null,null,null,null,null,null,null,null,null,null,null,null,null,null,null,null,null,null,null,null,null,null,null,null,null,null,null,null,null,null,null,null,null,null,null,null,null,null,null,null,null,null,null,null,null,null,null,null,null,null,null,null,null,null,null,null,null,null,null,null,null,null,null,null,null,null,null,null,null,null,null,null,null,null,null,null,null,null,null,null,null,null,null,null,null,null,null,null,null,null,null,null,587,"2017-09-08",587,"08.09.2017",null,null,null,null,null,null,null,null,null,null,null,null,null,null,null,null,null,null,null,null,587,"2017-09-08",587,"08.09.2017"]
[null,null,null,null,null,null,null,null,null,null,null,null,null,null,null,null,null,null,null,null,null,null,null,null,null,null,null,null,null,null,null,null,null,null,null,null,null,null,null,null,null,null,null,null,null,null,null,null,null,null,null,null,null,null,null,null,null,null,null,null,null,null,null,null,null,null,null,null,null,null,null,null,null,null,null,null,null,null,null,null,null,null,null,null,null,null,null,null,null,null,null,null,null,null,null,null,null,null,null,594,"2017-09-15",594,"15.09.2017",null,null,null,null,null,null,null,null,null,null,null,null,null,null,null,null,null,null,null,null,594,"2017-09-15",594,"15.09.2017"]
[null,null,null,null,null,null,null,null,null,null,null,null,null,null,null,null,null,null,null,null,null,null,null,null,null,null,null,null,null,null,null,null,null,null,null,null,null,null,null,null,null,null,null,null,null,null,null,null,null,null,null,null,null,null,null,null,null,null,null,null,null,null,null,null,null,null,null,null,null,null,null,null,null,null,null,null,null,null,null,null,null,null,null,null,null,null,null,null,null,null,null,null,null,null,null,null,null,null,null,598,"2017-09-19",598,"19.09.2017",null,null,null,null,null,null,null,null,null,null,null,null,null,null,null,null,null,null,null,null,598,"2017-09-19",598,"19.09.2017"]
[null,null,null,null,null,null,null,null,null,null,null,null,null,null,null,null,null,null,null,null,null,null,null,null,null,null,null,null,null,null,null,null,null,null,null,null,null,null,null,null,null,null,null,null,null,null,null,null,null,null,null,null,null,null,null,null,null,null,null,null,null,null,null,null,null,null,null,null,null,null,null,null,null,null,null,null,null,null,null,null,null,null,null,null,null,null,null,null,null,null,null,null,null,null,null,null,null,null,null,599,"2017-09-20",599,"20.09.2017",null,null,null,null,null,null,null,null,null,null,null,null,null,null,null,null,null,null,null,null,599,"2017-09-20",599,"20.09.2017"]
[null,null,null,null,null,null,null,null,null,null,null,null,null,null,null,null,null,null,null,null,null,null,null,null,null,null,null,null,null,null,null,null,null,null,null,null,null,null,null,null,null,null,null,null,null,null,null,null,null,null,null,null,null,null,null,null,null,null,null,null,null,null,null,null,null,null,null,null,null,null,null,null,null,null,null,null,null,null,null,null,null,null,null,null,null,null,null,null,null,null,null,null,null,null,null,null,null,null,null,604,"2017-09-25",604,"25.09.2017",null,null,null,null,null,null,null,null,null,null,null,null,null,null,null,null,null,null,null,null,604,"2017-09-25",604,"25.09.2017"]
[null,null,null,null,null,null,null,null,null,null,null,null,null,null,null,null,null,null,null,null,null,null,null,null,null,null,null,null,null,null,null,null,null,null,null,null,null,null,null,null,null,null,null,null,null,null,null,null,null,null,null,null,null,null,null,null,null,null,null,null,null,null,null,null,null,null,null,null,null,null,null,null,null,null,null,null,null,null,null,null,null,null,null,null,null,null,null,null,null,null,null,null,null,null,null,null,null,null,null,611,"2017-10-02",611,"02.10.2017",null,null,null,null,null,null,null,null,null,null,null,null,null,null,null,null,null,null,null,null,611,"2017-10-02",611,"02.10.2017"]
[null,null,null,null,null,null,null,null,null,null,null,null,null,null,null,null,null,null,null,null,null,null,null,null,null,null,null,null,null,null,null,null,null,null,null,null,null,null,null,null,null,null,null,null,null,null,null,null,null,null,null,null,null,null,null,null,null,null,null,null,null,null,null,null,null,null,null,null,null,null,null,null,null,null,null,null,null,null,null,null,null,null,null,null,null,null,null,null,null,null,null,null,null,null,null,null,null,null,null,614,"2017-10-05",614,"05.10.2017",null,null,null,null,null,null,null,null,null,null,null,null,null,null,null,null,null,null,null,null,614,"2017-10-05",614,"05.10.2017"]
[null,null,null,null,null,null,null,null,null,null,null,null,null,null,null,null,null,null,null,null,null,null,null,null,null,null,null,null,null,null,null,null,null,null,null,null,null,null,null,null,null,null,null,null,null,null,null,null,null,null,null,null,null,null,null,null,null,null,null,null,null,null,null,null,null,null,null,null,null,null,null,null,null,null,null,null,null,null,null,null,null,null,null,null,null,null,null,null,null,null,null,null,null,null,null,null,null,null,null,619,"2017-10-10",619,"10.10.2017",null,null,null,null,null,null,null,null,null,null,null,null,null,null,null,null,null,null,null,null,619,"2017-10-10",619,"10.10.2017"]
[null,null,null,null,null,null,null,null,null,null,null,null,null,null,null,null,null,null,null,null,null,null,null,null,null,null,null,null,null,null,null,null,null,null,null,null,null,null,null,null,null,null,null,null,null,null,null,null,null,null,null,null,null,null,null,null,null,null,null,null,null,null,null,null,null,null,null,null,null,null,null,null,null,null,null,null,null,null,null,null,null,null,null,null,null,null,null,null,null,null,null,null,null,null,null,null,null,null,null,624,"2017-10-15",624,"15.10.2017",null,null,null,null,null,null,null,null,null,null,null,null,null,null,null,null,null,null,null,null,624,"2017-10-15",624,"15.10.2017"]
[null,null,null,null,null,null,null,null,null,null,null,null,null,null,null,null,null,null,null,null,null,null,null,null,null,null,null,null,null,null,null,null,null,null,null,null,null,null,null,null,null,null,null,null,null,null,null,null,null,null,null,null,null,null,null,null,null,null,null,null,null,null,null,null,null,null,null,null,null,null,null,null,null,null,null,null,null,null,null,null,null,null,null,null,null,null,null,null,null,null,null,null,null,null,null,null,null,null,null,629,"2017-10-20",629,"20.10.2017",null,null,null,null,null,null,null,null,null,null,null,null,null,null,null,null,null,null,null,null,629,"2017-10-20",629,"20.10.2017"]
[null,null,null,null,null,null,null,null,null,null,null,null,null,null,null,null,null,null,null,null,null,null,null,null,null,null,null,null,null,null,null,null,null,null,null,null,null,null,null,null,null,null,null,null,null,null,null,null,null,null,null,null,null,null,null,null,null,null,null,null,null,null,null,null,null,null,null,null,null,null,null,null,null,null,null,null,null,null,null,null,null,null,null,null,null,null,null,null,null,null,null,null,null,null,null,null,null,null,null,635,"2017-10-26",635,"26.10.2017",null,null,null,null,null,null,null,null,null,null,null,null,null,null,null,null,null,null,null,null,635,"2017-10-26",635,"26.10.2017"]
[null,null,null,null,null,null,null,null,null,null,null,null,null,null,null,null,null,null,null,null,null,null,null,null,null,null,null,null,null,null,null,null,null,null,null,null,null,null,null,null,null,null,null,null,null,null,null,null,null,null,null,null,null,null,null,null,null,null,null,null,null,null,null,null,null,null,null,null,null,null,null,null,null,null,null,null,null,null,null,null,null,null,null,null,null,null,null,null,null,null,null,null,null,null,null,null,null,null,null,637,"2017-10-28",637,"28.10.2017",null,null,null,null,null,null,null,null,null,null,null,null,null,null,null,null,null,null,null,null,637,"2017-10-28",637,"28.10.2017"]
[null,null,null,null,null,null,null,null,null,null,null,null,null,null,null,null,null,null,null,null,null,null,null,null,null,null,null,null,null,null,null,null,null,null,null,null,null,null,null,null,null,null,null,null,null,null,null,null,null,null,null,null,null,null,null,null,null,null,null,null,null,null,null,null,null,null,null,null,null,null,null,null,null,null,null,null,null,null,null,null,null,null,null,null,null,null,null,null,null,null,null,null,null,null,null,null,null,null,null,644,"2017-11-04",644,"04.11.2017",null,null,null,null,null,null,null,null,null,null,null,null,null,null,null,null,null,null,null,null,644,"2017-11-04",644,"04.11.2017"]
[null,null,null,null,null,null,null,null,null,null,null,null,null,null,null,null,null,null,null,null,null,null,null,null,null,null,null,null,null,null,null,null,null,null,null,null,null,null,null,null,null,null,null,null,null,null,null,null,null,null,null,null,null,null,null,null,null,null,null,null,null,null,null,null,null,null,null,null,null,null,null,null,null,null,null,null,null,null,null,null,null,null,null,null,null,null,null,null,null,null,null,null,null,null,null,null,null,null,null,648,"2017-11-08",648,"08.11.2017",null,null,null,null,null,null,null,null,null,null,null,null,null,null,null,null,null,null,null,null,648,"2017-11-08",648,"08.11.2017"]
[null,null,null,null,null,null,null,null,null,null,null,null,null,null,null,null,null,null,null,null,null,null,null,null,null,null,null,null,null,null,null,null,null,null,null,null,null,null,null,null,null,null,null,null,null,null,null,null,null,null,null,null,null,null,null,null,null,null,null,null,null,null,null,null,null,null,null,null,null,null,null,null,null,null,null,null,null,null,null,null,null,null,null,null,null,null,null,null,null,null,null,null,null,null,null,null,null,null,null,654,"2017-11-14",654,"14.11.2017",null,null,null,null,null,null,null,null,null,null,null,null,null,null,null,null,null,null,null,null,654,"2017-11-14",654,"14.11.2017"]
[null,null,null,null,null,null,null,null,null,null,null,null,null,null,null,null,null,null,null,null,null,null,null,null,null,null,null,null,null,null,null,null,null,null,null,null,null,null,null,null,null,null,null,null,null,null,null,null,null,null,null,null,null,null,null,null,null,null,null,null,null,null,null,null,null,null,null,null,null,null,null,null,null,null,null,null,null,null,null,null,null,null,null,null,null,null,null,null,null,null,null,null,null,null,null,null,null,null,null,659,"2017-11-19",659,"19.11.2017",null,null,null,null,null,null,null,null,null,null,null,null,null,null,null,null,null,null,null,null,659,"2017-11-19",659,"19.11.2017"]
[null,null,null,null,null,null,null,null,null,null,null,null,null,null,null,null,null,null,null,null,null,null,null,null,null,null,null,null,null,null,null,null,null,null,null,null,null,null,null,null,null,null,null,null,null,null,null,null,null,null,null,null,null,null,null,null,null,null,null,null,null,null,null,null,null,null,null,null,null,null,null,null,null,null,null,null,null,null,null,null,null,null,null,null,null,null,null,null,null,null,null,null,null,null,null,null,null,null,null,661,"2017-11-21",661,"21.11.2017",null,null,null,null,null,null,null,null,null,null,null,null,null,null,null,null,null,null,null,null,661,"2017-11-21",661,"21.11.2017"]
[null,null,null,null,null,null,null,null,null,null,null,null,null,null,null,null,null,null,null,null,null,null,null,null,null,null,null,null,null,null,null,null,null,null,null,null,null,null,null,null,null,null,null,null,null,null,null,null,null,null,null,null,null,null,null,null,null,null,null,null,null,null,null,null,null,null,null,null,null,null,null,null,null,null,null,null,null,null,null,null,null,null,null,null,null,null,null,null,null,null,null,null,null,null,null,null,null,null,null,664,"2017-11-24",664,"24.11.2017",null,null,null,null,null,null,null,null,null,null,null,null,null,null,null,null,null,null,null,null,664,"2017-11-24",664,"24.11.2017"]
[null,null,null,null,null,null,null,null,null,null,null,null,null,null,null,null,null,null,null,null,null,null,null,null,null,null,null,null,null,null,null,null,null,null,null,null,null,null,null,null,null,null,null,null,null,null,null,null,null,null,null,null,null,null,null,null,null,null,null,null,null,null,null,null,null,null,null,null,null,null,null,null,null,null,null,null,null,null,null,null,null,null,null,null,null,null,null,null,null,null,null,null,null,null,null,null,null,null,null,670,"2017-11-30",670,"30.11.2017",null,null,null,null,null,null,null,null,null,null,null,null,null,null,null,null,null,null,null,null,670,"2017-11-30",670,"30.11.2017"]
[null,null,null,null,null,null,null,null,null,null,null,null,null,null,null,null,null,null,null,null,null,null,null,null,null,null,null,null,null,null,null,null,null,null,null,null,null,null,null,null,null,null,null,null,null,null,null,null,null,null,null,null,null,null,null,null,null,null,null,null,null,null,null,null,null,null,null,null,null,null,null,null,null,null,null,null,null,null,null,null,null,null,null,null,null,null,null,null,null,null,null,null,null,null,null,null,null,null,null,674,"2017-12-04",674,"04.12.2017",null,null,null,null,null,null,null,null,null,null,null,null,null,null,null,null,null,null,null,null,674,"2017-12-04",674,"04.12.2017"]
[null,null,null,null,null,null,null,null,null,null,null,null,null,null,null,null,null,null,null,null,null,null,null,null,null,null,null,null,null,null,null,null,null,null,null,null,null,null,null,null,null,null,null,null,null,null,null,null,null,null,null,null,null,null,null,null,null,null,null,null,null,null,null,null,null,null,null,null,null,null,null,null,null,null,null,null,null,null,null,null,null,null,null,null,null,null,null,null,null,null,null,null,null,null,null,null,null,null,null,679,"2017-12-09",679,"09.12.2017",null,null,null,null,null,null,null,null,null,null,null,null,null,null,null,null,null,null,null,null,679,"2017-12-09",679,"09.12.2017"]
[null,null,null,null,null,null,null,null,null,null,null,null,null,null,null,null,null,null,null,null,null,null,null,null,null,null,null,null,null,null,null,null,null,null,null,null,null,null,null,null,null,null,null,null,null,null,null,null,null,null,null,null,null,null,null,null,null,null,null,null,null,null,null,null,null,null,null,null,null,null,null,null,null,null,null,null,null,null,null,null,null,null,null,null,null,null,null,null,null,null,null,null,null,null,null,null,null,null,null,685,"2017-12-15",685,"15.12.2017",null,null,null,null,null,null,null,null,null,null,null,null,null,null,null,null,null,null,null,null,685,"2017-12-15",685,"15.12.2017"]
[null,null,null,null,null,null,null,null,null,null,null,null,null,null,null,null,null,null,null,null,null,null,null,null,null,null,null,null,null,null,null,null,null,null,null,null,null,null,null,null,null,null,null,null,null,null,null,null,null,null,null,null,null,null,null,null,null,null,null,null,null,null,null,null,null,null,null,null,null,null,null,null,null,null,null,null,null,null,null,null,null,null,null,null,null,null,null,null,null,null,null,null,null,null,null,null,null,null,null,691,"2017-12-21",691,"21.12.2017",null,null,null,null,null,null,null,null,null,null,null,null,null,null,null,null,null,null,null,null,691,"2017-12-21",691,"21.12.2017"]
[null,null,null,null,null,null,null,null,null,null,null,null,null,null,null,null,null,null,null,null,null,null,null,null,null,null,null,null,null,null,null,null,null,null,null,null,null,null,null,null,null,null,null,null,null,null,null,null,null,null,null,null,null,null,null,null,null,null,null,null,null,null,null,null,null,null,null,null,null,null,null,null,null,null,null,null,null,null,null,null,null,null,null,null,null,null,null,null,null,null,null,null,null,null,null,null,null,null,null,694,"2017-12-24",694,"24.12.2017",null,null,null,null,null,null,null,null,null,null,null,null,null,null,null,null,null,null,null,null,694,"2017-12-24",694,"24.12.2017"]
[null,null,null,null,null,null,null,null,null,null,null,null,null,null,null,null,null,null,null,null,null,null,null,null,null,null,null,null,null,null,null,null,null,null,null,null,null,null,null,null,null,null,null,null,null,null,null,null,null,null,null,null,null,null,null,null,null,null,null,null,null,null,null,null,null,null,null,null,null,null,null,null,null,null,null,null,null,null,null,null,null,null,null,null,null,null,null,null,null,null,null,null,null,null,null,null,null,null,null,700,"2017-12-30",700,"30.12.2017",null,null,null,null,null,null,null,null,null,null,null,null,null,null,null,null,null,null,null,null,700,"2017-12-30",700,"30.12.2017"]
[null,null,null,null,null,null,null,null,null,null,null,null,null,null,null,null,null,null,null,null,null,null,null,null,null,null,null,null,null,null,null,null,null,null,null,null,null,null,null,null,null,null,null,null,null,null,null,null,null,null,null,null,null,null,null,null,null,null,null,null,null,null,null,null,null,null,null,null,null,null,null,null,null,null,null,null,null,null,null,null,null,null,null,null,null,null,null,null,null,null,null,null,null,null,null,null,null,null,null,702,"2018-01-01",702,"01.01.2018",null,null,null,null,null,null,null,null,null,null,null,null,null,null,null,null,null,null,null,null,702,"2018-01-01",702,"01.01.2018"]
[null,null,null,null,null,null,null,null,null,null,null,null,null,null,null,null,null,null,null,null,null,null,null,null,null,null,null,null,null,null,null,null,null,null,null,null,null,null,null,null,null,null,null,null,null,null,null,null,null,null,null,null,null,null,null,null,null,null,null,null,null,null,null,null,null,null,null,null,null,null,null,null,null,null,null,null,null,null,null,null,null,null,null,null,null,null,null,null,null,null,null,null,null,null,null,null,null,null,null,703,"2018-01-02",703,"02.01.2018",null,null,null,null,null,null,null,null,null,null,null,null,null,null,null,null,null,null,null,null,703,"2018-01-02",703,"02.01.2018"]
[null,null,null,null,null,null,null,null,null,null,null,null,null,null,null,null,null,null,null,null,null,null,null,null,null,null,null,null,null,null,null,null,null,null,null,null,null,null,null,null,null,null,null,null,null,null,null,null,null,null,null,null,null,null,null,null,null,null,null,null,null,null,null,null,null,null,null,null,null,null,null,null,null,null,null,null,null,null,null,null,null,null,null,null,null,null,null,null,null,null,null,null,null,null,null,null,null,null,null,704,"2018-01-03",704,"03.01.2018",null,null,null,null,null,null,null,null,null,null,null,null,null,null,null,null,null,null,null,null,704,"2018-01-03",704,"03.01.2018"]
[null,null,null,null,null,null,null,null,null,null,null,null,null,null,null,null,null,null,null,null,null,null,null,null,null,null,null,null,null,null,null,null,null,null,null,null,null,null,null,null,null,null,null,null,null,null,null,null,null,null,null,null,null,null,null,null,null,null,null,null,null,null,null,null,null,null,null,null,null,null,null,null,null,null,null,null,null,null,null,null,null,null,null,null,null,null,null,null,null,null,null,null,null,null,null,null,null,null,null,705,"2018-01-04",705,"04.01.2018",null,null,null,null,null,null,null,null,null,null,null,null,null,null,null,null,null,null,null,null,705,"2018-01-04",705,"04.01.2018"]
[null,null,null,null,null,null,null,null,null,null,null,null,null,null,null,null,null,null,null,null,null,null,null,null,null,null,null,null,null,null,null,null,null,null,null,null,null,null,null,null,null,null,null,null,null,null,null,null,null,null,null,null,null,null,null,null,null,null,null,null,null,null,null,null,null,null,null,null,null,null,null,null,null,null,null,null,null,null,null,null,null,null,null,null,null,null,null,null,null,null,null,null,null,null,null,null,null,null,null,706,"2018-01-05",706,"05.01.2018",null,null,null,null,null,null,null,null,null,null,null,null,null,null,null,null,null,null,null,null,706,"2018-01-05",706,"05.01.2018"]
[null,null,null,null,null,null,null,null,null,null,null,null,null,null,null,null,null,null,null,null,null,null,null,null,null,null,null,null,null,null,null,null,null,null,null,null,null,null,null,null,null,null,null,null,null,null,null,null,null,null,null,null,null,null,null,null,null,null,null,null,null,null,null,null,null,null,null,null,null,null,null,null,null,null,null,null,null,null,null,null,null,null,null,null,null,null,null,null,null,null,null,null,null,null,null,null,null,null,null,707,"2018-01-06",707,"06.01.2018",null,null,null,null,null,null,null,null,null,null,null,null,null,null,null,null,null,null,null,null,707,"2018-01-06",707,"06.01.2018"]
[null,null,null,null,null,null,null,null,null,null,null,null,null,null,null,null,null,null,null,null,null,null,null,null,null,null,null,null,null,null,null,null,null,null,null,null,null,null,null,null,null,null,null,null,null,null,null,null,null,null,null,null,null,null,null,null,null,null,null,null,null,null,null,null,null,null,null,null,null,null,null,null,null,null,null,null,null,null,null,null,null,null,null,null,null,null,null,null,null,null,null,null,null,null,null,null,null,null,null,708,"2018-01-07",708,"07.01.2018",null,null,null,null,null,null,null,null,null,null,null,null,null,null,null,null,null,null,null,null,708,"2018-01-07",708,"07.01.2018"]
[null,null,null,null,null,null,null,null,null,null,null,null,null,null,null,null,null,null,null,null,null,null,null,null,null,null,null,null,null,null,null,null,null,null,null,null,null,null,null,null,null,null,null,null,null,null,null,null,null,null,null,null,null,null,null,null,null,null,null,null,null,null,null,null,null,null,null,null,null,null,null,null,null,null,null,null,null,null,null,null,null,null,null,null,null,null,null,null,null,null,null,null,null,null,null,null,null,null,null,709,"2018-01-08",709,"08.01.2018",null,null,null,null,null,null,null,null,null,null,null,null,null,null,null,null,null,null,null,null,709,"2018-01-08",709,"08.01.2018"]
[null,null,null,null,null,null,null,null,null,null,null,null,null,null,null,null,null,null,null,null,null,null,null,null,null,null,null,null,null,null,null,null,null,null,null,null,null,null,null,null,null,null,null,null,null,null,null,null,null,null,null,null,null,null,null,null,null,null,null,null,null,null,null,null,null,null,null,null,null,null,null,null,null,null,null,null,null,null,null,null,null,null,null,null,null,null,null,null,null,null,null,null,null,null,null,null,null,null,null,710,"2018-01-09",710,"09.01.2018",null,null,null,null,null,null,null,null,null,null,null,null,null,null,null,null,null,null,null,null,710,"2018-01-09",710,"09.01.2018"]
[null,null,null,null,null,null,null,null,null,null,null,null,null,null,null,null,null,null,null,null,null,null,null,null,null,null,null,null,null,null,null,null,null,null,null,null,null,null,null,null,null,null,null,null,null,null,null,null,null,null,null,null,null,null,null,null,null,null,null,null,null,null,null,null,null,null,null,null,null,null,null,null,null,null,null,null,null,null,null,null,null,null,null,null,null,null,null,null,null,null,null,null,null,null,null,null,null,null,null,711,"2018-01-10",711,"10.01.2018",null,null,null,null,null,null,null,null,null,null,null,null,null,null,null,null,null,null,null,null,711,"2018-01-10",711,"10.01.2018"]
[null,null,null,null,null,null,null,null,null,null,null,null,null,null,null,null,null,null,null,null,null,null,null,null,null,null,null,null,null,null,null,null,null,null,null,null,null,null,null,null,null,null,null,null,null,null,null,null,null,null,null,null,null,null,null,null,null,null,null,null,null,null,null,null,null,null,null,null,null,null,null,null,null,null,null,null,null,null,null,null,null,null,null,null,null,null,null,null,null,null,null,null,null,null,null,null,null,null,null,712,"2018-01-11",712,"11.01.2018",null,null,null,null,null,null,null,null,null,null,null,null,null,null,null,null,null,null,null,null,712,"2018-01-11",712,"11.01.2018"]
[null,null,null,null,null,null,null,null,null,null,null,null,null,null,null,null,null,null,null,null,null,null,null,null,null,null,null,null,null,null,null,null,null,null,null,null,null,null,null,null,null,null,null,null,null,null,null,null,null,null,null,null,null,null,null,null,null,null,null,null,null,null,null,null,null,null,null,null,null,null,null,null,null,null,null,null,null,null,null,null,null,null,null,null,null,null,null,null,null,null,null,null,null,null,null,null,null,null,null,713,"2018-01-12",713,"12.01.2018",null,null,null,null,null,null,null,null,null,null,null,null,null,null,null,null,null,null,null,null,713,"2018-01-12",713,"12.01.2018"]
[null,null,null,null,null,null,null,null,null,null,null,null,null,null,null,null,null,null,null,null,null,null,null,null,null,null,null,null,null,null,null,null,null,null,null,null,null,null,null,null,null,null,null,null,null,null,null,null,null,null,null,null,null,null,null,null,null,null,null,null,null,null,null,null,null,null,null,null,null,null,null,null,null,null,null,null,null,null,null,null,null,null,null,null,null,null,null,null,null,null,null,null,null,null,null,null,null,null,null,714,"2018-01-13",714,"13.01.2018",null,null,null,null,null,null,null,null,null,null,null,null,null,null,null,null,null,null,null,null,714,"2018-01-13",714,"13.01.2018"]
[null,null,null,null,null,null,null,null,null,null,null,null,null,null,null,null,null,null,null,null,null,null,null,null,null,null,null,null,null,null,null,null,null,null,null,null,null,null,null,null,null,null,null,null,null,null,null,null,null,null,null,null,null,null,null,null,null,null,null,null,null,null,null,null,null,null,null,null,null,null,null,null,null,null,null,null,null,null,null,null,null,null,null,null,null,null,null,null,null,null,null,null,null,null,null,null,null,null,null,715,"2018-01-14",715,"14.01.2018",null,null,null,null,null,null,null,null,null,null,null,null,null,null,null,null,null,null,null,null,715,"2018-01-14",715,"14.01.2018"]
[null,null,null,null,null,null,null,null,null,null,null,null,null,null,null,null,null,null,null,null,null,null,null,null,null,null,null,null,null,null,null,null,null,null,null,null,null,null,null,null,null,null,null,null,null,null,null,null,null,null,null,null,null,null,null,null,null,null,null,null,null,null,null,null,null,null,null,null,null,null,null,null,null,null,null,null,null,null,null,null,null,null,null,null,null,null,null,null,null,null,null,null,null,null,null,null,null,null,null,716,"2018-01-15",716,"15.01.2018",null,null,null,null,null,null,null,null,null,null,null,null,null,null,null,null,null,null,null,null,716,"2018-01-15",716,"15.01.2018"]
[null,null,null,null,null,null,null,null,null,null,null,null,null,null,null,null,null,null,null,null,null,null,null,null,null,null,null,null,null,null,null,null,null,null,null,null,null,null,null,null,null,null,null,null,null,null,null,null,null,null,null,null,null,null,null,null,null,null,null,null,null,null,null,null,null,null,null,null,null,null,null,null,null,null,null,null,null,null,null,null,null,null,null,null,null,null,null,null,null,null,null,null,null,null,null,null,null,null,null,717,"2018-01-16",717,"16.01.2018",null,null,null,null,null,null,null,null,null,null,null,null,null,null,null,null,null,null,null,null,717,"2018-01-16",717,"16.01.2018"]
[null,null,null,null,null,null,null,null,null,null,null,null,null,null,null,null,null,null,null,null,null,null,null,null,null,null,null,null,null,null,null,null,null,null,null,null,null,null,null,null,null,null,null,null,null,null,null,null,null,null,null,null,null,null,null,null,null,null,null,null,null,null,null,null,null,null,null,null,null,null,null,null,null,null,null,null,null,null,null,null,null,null,null,null,null,null,null,null,null,null,null,null,null,null,null,null,null,null,null,718,"2018-01-17",718,"17.01.2018",null,null,null,null,null,null,null,null,null,null,null,null,null,null,null,null,null,null,null,null,718,"2018-01-17",718,"17.01.2018"]
[null,null,null,null,null,null,null,null,null,null,null,null,null,null,null,null,null,null,null,null,null,null,null,null,null,null,null,null,null,null,null,null,null,null,null,null,null,null,null,null,null,null,null,null,null,null,null,null,null,null,null,null,null,null,null,null,null,null,null,null,null,null,null,null,null,null,null,null,null,null,null,null,null,null,null,null,null,null,null,null,null,null,null,null,null,null,null,null,null,null,null,null,null,null,null,null,null,null,null,719,"2018-01-18",719,"18.01.2018",null,null,null,null,null,null,null,null,null,null,null,null,null,null,null,null,null,null,null,null,719,"2018-01-18",719,"18.01.2018"]
[null,null,null,null,null,null,null,null,null,null,null,null,null,null,null,null,null,null,null,null,null,null,null,null,null,null,null,null,null,null,null,null,null,null,null,null,null,null,null,null,null,null,null,null,null,null,null,null,null,null,null,null,null,null,null,null,null,null,null,null,null,null,null,null,null,null,null,null,null,null,null,null,null,null,null,null,null,null,null,null,null,null,null,null,null,null,null,null,null,null,null,null,null,null,null,null,null,null,null,720,"2018-01-19",720,"19.01.2018",null,null,null,null,null,null,null,null,null,null,null,null,null,null,null,null,null,null,null,null,720,"2018-01-19",720,"19.01.2018"]
[null,null,null,null,null,null,null,null,null,null,null,null,null,null,null,null,null,null,null,null,null,null,null,null,null,null,null,null,null,null,null,null,null,null,null,null,null,null,null,null,null,null,null,null,null,null,null,null,null,null,null,null,null,null,null,null,null,null,null,null,null,null,null,null,null,null,null,null,null,null,null,null,null,null,null,null,null,null,null,null,null,null,null,null,null,null,null,null,null,null,null,null,null,null,null,null,null,null,null,721,"2018-01-20",721,"20.01.2018",null,null,null,null,null,null,null,null,null,null,null,null,null,null,null,null,null,null,null,null,721,"2018-01-20",721,"20.01.2018"]
[null,null,null,null,null,null,null,null,null,null,null,null,null,null,null,null,null,null,null,null,null,null,null,null,null,null,null,null,null,null,null,null,null,null,null,null,null,null,null,null,null,null,null,null,null,null,null,null,null,null,null,null,null,null,null,null,null,null,null,null,null,null,null,null,null,null,null,null,null,null,null,null,null,null,null,null,null,null,null,null,null,null,null,null,null,null,null,null,null,null,null,null,null,null,null,null,null,null,null,722,"2018-01-21",722,"21.01.2018",null,null,null,null,null,null,null,null,null,null,null,null,null,null,null,null,null,null,null,null,722,"2018-01-21",722,"21.01.2018"]
[null,null,null,null,null,null,null,null,null,null,null,null,null,null,null,null,null,null,null,null,null,null,null,null,null,null,null,null,null,null,null,null,null,null,null,null,null,null,null,null,null,null,null,null,null,null,null,null,null,null,null,null,null,null,null,null,null,null,null,null,null,null,null,null,null,null,null,null,null,null,null,null,null,null,null,null,null,null,null,null,null,null,null,null,null,null,null,null,null,null,null,null,null,null,null,null,null,null,null,723,"2018-01-22",723,"22.01.2018",null,null,null,null,null,null,null,null,null,null,null,null,null,null,null,null,null,null,null,null,723,"2018-01-22",723,"22.01.2018"]
[null,null,null,null,null,null,null,null,null,null,null,null,null,null,null,null,null,null,null,null,null,null,null,null,null,null,null,null,null,null,null,null,null,null,null,null,null,null,null,null,null,null,null,null,null,null,null,null,null,null,null,null,null,null,null,null,null,null,null,null,null,null,null,null,null,null,null,null,null,null,null,null,null,null,null,null,null,null,null,null,null,null,null,null,null,null,null,null,null,null,null,null,null,null,null,null,null,null,null,724,"2018-01-23",724,"23.01.2018",null,null,null,null,null,null,null,null,null,null,null,null,null,null,null,null,null,null,null,null,724,"2018-01-23",724,"23.01.2018"]
[null,null,null,null,null,null,null,null,null,null,null,null,null,null,null,null,null,null,null,null,null,null,null,null,null,null,null,null,null,null,null,null,null,null,null,null,null,null,null,null,null,null,null,null,null,null,null,null,null,null,null,null,null,null,null,null,null,null,null,null,null,null,null,null,null,null,null,null,null,null,null,null,null,null,null,null,null,null,null,null,null,null,null,null,null,null,null,null,null,null,null,null,null,null,null,null,null,null,null,725,"2018-01-24",725,"24.01.2018",null,null,null,null,null,null,null,null,null,null,null,null,null,null,null,null,null,null,null,null,725,"2018-01-24",725,"24.01.2018"]
[null,null,null,null,null,null,null,null,null,null,null,null,null,null,null,null,null,null,null,null,null,null,null,null,null,null,null,null,null,null,null,null,null,null,null,null,null,null,null,null,null,null,null,null,null,null,null,null,null,null,null,null,null,null,null,null,null,null,null,null,null,null,null,null,null,null,null,null,null,null,null,null,null,null,null,null,null,null,null,null,null,null,null,null,null,null,null,null,null,null,null,null,null,null,null,null,null,null,null,726,"2018-01-25",726,"25.01.2018",null,null,null,null,null,null,null,null,null,null,null,null,null,null,null,null,null,null,null,null,726,"2018-01-25",726,"25.01.2018"]
[null,null,null,null,null,null,null,null,null,null,null,null,null,null,null,null,null,null,null,null,null,null,null,null,null,null,null,null,null,null,null,null,null,null,null,null,null,null,null,null,null,null,null,null,null,null,null,null,null,null,null,null,null,null,null,null,null,null,null,null,null,null,null,null,null,null,null,null,null,null,null,null,null,null,null,null,null,null,null,null,null,null,null,null,null,null,null,null,null,null,null,null,null,null,null,null,null,null,null,727,"2018-01-26",727,"26.01.2018",null,null,null,null,null,null,null,null,null,null,null,null,null,null,null,null,null,null,null,null,727,"2018-01-26",727,"26.01.2018"]
[null,null,null,null,null,null,null,null,null,null,null,null,null,null,null,null,null,null,null,null,null,null,null,null,null,null,null,null,null,null,null,null,null,null,null,null,null,null,null,null,null,null,null,null,null,null,null,null,null,null,null,null,null,null,null,null,null,null,null,null,null,null,null,null,null,null,null,null,null,null,null,null,null,null,null,null,null,null,null,null,null,null,null,null,null,null,null,null,null,null,null,null,null,null,null,null,null,null,null,728,"2018-01-27",728,"27.01.2018",null,null,null,null,null,null,null,null,null,null,null,null,null,null,null,null,null,null,null,null,728,"2018-01-27",728,"27.01.2018"]
[null,null,null,null,null,null,null,null,null,null,null,null,null,null,null,null,null,null,null,null,null,null,null,null,null,null,null,null,null,null,null,null,null,null,null,null,null,null,null,null,null,null,null,null,null,null,null,null,null,null,null,null,null,null,null,null,null,null,null,null,null,null,null,null,null,null,null,null,null,null,null,null,null,null,null,null,null,null,null,null,null,null,null,null,null,null,null,null,null,null,null,null,null,null,null,null,null,null,null,729,"2018-01-28",729,"28.01.2018",null,null,null,null,null,null,null,null,null,null,null,null,null,null,null,null,null,null,null,null,729,"2018-01-28",729,"28.01.2018"]
[null,null,null,null,null,null,null,null,null,null,null,null,null,null,null,null,null,null,null,null,null,null,null,null,null,null,null,null,null,null,null,null,null,null,null,null,null,null,null,null,null,null,null,null,null,null,null,null,null,null,null,null,null,null,null,null,null,null,null,null,null,null,null,null,null,null,null,null,null,null,null,null,null,null,null,null,null,null,null,null,null,null,null,null,null,null,null,null,null,null,null,null,null,null,null,null,null,null,null,730,"2018-01-29",730,"29.01.2018",null,null,null,null,null,null,null,null,null,null,null,null,null,null,null,null,null,null,null,null,730,"2018-01-29",730,"29.01.2018"]
[null,null,null,null,null,null,null,null,null,null,null,null,null,null,null,null,null,null,null,null,null,null,null,null,null,null,null,null,null,null,null,null,null,null,null,null,null,null,null,null,null,null,null,null,null,null,null,null,null,null,null,null,null,null,null,null,null,null,null,null,null,null,null,null,null,null,null,null,null,null,null,null,null,null,null,null,null,null,null,null,null,null,null,null,null,null,null,null,null,null,null,null,null,null,null,null,null,null,null,731,"2018-01-30",731,"30.01.2018",null,null,null,null,null,null,null,null,null,null,null,null,null,null,null,null,null,null,null,null,731,"2018-01-30",731,"30.01.2018"]
[null,null,null,null,null,null,null,null,null,null,null,null,null,null,null,null,null,null,null,null,null,null,null,null,null,null,null,null,null,null,null,null,null,null,null,null,null,null,null,null,null,null,null,null,null,null,null,null,null,null,null,null,null,null,null,null,null,null,null,null,null,null,null,null,null,null,null,null,null,null,null,null,null,null,null,null,null,null,null,null,null,null,null,null,null,null,null,null,null,null,null,null,null,null,null,null,null,null,null,732,"2018-01-31",732,"31.01.2018",null,null,null,null,null,null,null,null,null,null,null,null,null,null,null,null,null,null,null,null,732,"2018-01-31",732,"31.01.2018"]

{"sheet":"DATA 1","index":8,"n_rows":591,"n_cols":34,"rows_kept":591,"cut":false,"hidden":false,"merged":[[0,15,0,19],[27,12,27,13],[26,12,26,13],[25,12,25,13],[24,12,24,13],[21,12,21,13],[23,12,23,13],[22,12,22,13],[17,12,17,13],[20,12,20,13],[19,12,19,13],[18,12,18,13],[27,18,27,19],[26,18,26,19],[23,18,23,19],[15,18,15,19],[38,11,38,13],[28,12,28,13],[34,11,34,14],[32,6,32,8],[30,11,30,14],[31,12,31,13],[32,12,32,13],[31,7,31,8],[30,6,30,8],[25,6,25,8],[13,7,13,8],[14,7,14,8],[19,3,19,4],[1,11,1,14],[12,11,12,13],[7,7,7,8],[4,11,5,14],[1,1,1,4],[2,6,2,8],[7,3,7,4],[8,3,8,4],[9,3,9,4],[3,3,3,4],[4,3,4,4],[5,3,5,4],[18,1,18,2],[16,3,16,4],[18,3,18,4],[2,1,2,2],[11,3,11,4],[10,1,10,2],[16,1,16,2],[6,3,6,4],[12,3,12,4],[13,3,13,4],[14,3,14,4],[15,3,15,4],[1,6,1,9],[6,7,6,8],[1,25,1,26],[3,25,3,26],[1,23,2,24],[2,17,2,19],[11,18,11,19],[6,17,6,19],[10,18,10,19],[3,18,3,19],[1,16,1,20],[9,16,9,20],[7,16,7,20],[4,16,4,18],[12,16,12,19],[19,16,19,20],[24,16,24,19],[13,17,13,20],[29,12,29,13],[14,18,14,19],[17,16,17,20],[21,16,21,20],[22,18,22,19],[25,17,25,20],[14,11,14,13],[13,12,13,13],[16,11,16,14]]}
[null,null,null,null,null,null,null,null,null,null,null,null,null,null,null,{"$f":"IF(AE4=1,\"Your selection is under manual entry of Basic pays\",\"\")","v":""},null,null,null,null,null,null,null,null,null,null,null,null,null,null,null,null,null,"Sri."]
[null,"     Employee & DDO Details",null,null,null,null,"EARNINGS (From 1 Mar 17 - 28 Feb 18)",null,null,null,null,"DEDUCTIONS",null,null,null,null,"D.A.-1 Arrears from Jan-16 (18.340%)",null,null,null,null,null,null,"SOFTWARE CALCULATED BASIC PAYS",null,"Need to edit Basic",null,null,null,null,2,"Yes",null,"Smt."]
[null,"Employee Name",null,"Sri.",null,null,{"$f":"CONCATENATE(DATA!D27,DATA!E27)","v":"Basic Pay as in Jan - 2017"},null,null,null,null,"PF                                             Rs.",null,null,null,null,null,"Basic Pay in Jan -2016 (Select here)",null,null,null,null,null,null,null,"Pays?",null,null,null,null,{"$f":"AE2","v":2},"No",null,"Kum."]
[null,null,"Treasury I.D.",null,null,null,null,"Increment Month ",{"$f":"DATA!E29","v":"from Mar, 17 to Feb, 18"},null,null,null,"Any Change?",null,null,null,null,"Increment Month"," from Feb -16 to Dec - 16",null,null,null,null,"Month","Basic Pay","If yes, edit here",null,null,null,null,{"$f":"AE3","v":2},{"$f":"AE4","v":2},{"$f":"AF4","v":2},"Dr."]
[null,null,"House Address",null,null,null,null,"AAS Arrears from",{"$f":"IF(DATA!DA5=0,\"\",\" Upto\")","v":""},null,null,{"$f":"IF(DATA!EO27=1,\"Your CPS values will be generated automatically\",\"PT will be generated automatically\")","v":"Your CPS values will be generated automatically"},null,null,null,null,{"$f":"CONCATENATE(\"AAS ? From Jan- 16 to \",VLOOKUP('DA 1.2'!D24,'DA 1.2'!E24:J47,6))","v":"AAS ? From Jan- 16 to 42795"},null,null,{"$f":"IF('DA 1.2'!F15=1,\"FROM\",\"\")","v":""},null,null,null,{"$f":"DATA!I5","v":"2017-01-01"},{"$f":"Sheet4!E3","v":39160},{"$f":"X5","v":"2017-01-01"},{"$f":"Y5","v":39160},null,null,null,{"$f":"AE4","v":2},{"$f":"AF4","v":2},{"$f":"AF5","v":2}]
[null,null,"Working Place",null,null,null,null,"Promotion Arrs. from",{"$f":"IF(DATA!DY5=0,\"\",\" Upto\")","v":""},null,null,null,null,null,null,null,null,"Prom. Inc. ?",{"$f":"IF('DA 1.2'!F17=1,\"FROM\",\"\")","v":""},null,null,null,null,{"$f":"DATA!I6","v":"2017-02-01"},{"$f":"Sheet4!E4","v":39160},{"$f":"X6","v":"2017-02-01"},{"$f":"Y6","v":39160},null,null,null,2,2,2]
[null,null,"Designation",null,null,null,null,{"$f":"IF(DATA!DS5=1,\"\",\"Promotion fixation option given to\")","v":""},null,null,null,"APGLI -                               Rs.",null,null,1400,null,null,"D.A. arrears bill upto the month of",null,null,null,null,null,{"$f":"DATA!I7","v":"2017-03-01"},{"$f":"Sheet4!E5","v":39160},"2017-03-01",39160,null,null,null,2,2,2]
[null,null,"District",null,null,null,null,{"$f":"IF(DATA!CU5=1,\"\",\"AAS Arrears with DA%\")","v":""},null,{"$f":"IF(DATA!IO2=15,\"\",\" Upto\")","v":""},null,null,"Any Change?",null,null,null,{"$f":"CONCATENATE(\"Surrender Leave DA 1 Difference from Jan- 16 to \",AD20,\"-\",AA21)","v":"Surrender Leave DA 1 Difference from Jan- 16 to Mar-2017"},null,null,null,null,null,null,{"$f":"DATA!I8","v":"2017-04-01"},{"$f":"Sheet4!E6","v":39160},"2017-04-01",39160,null,null,null,2,2,2]
[null,null,"Mandal",null,null,null,"Special Pay -                               Rs.",null,null,null,null,"GIS -                                    Rs.",null,null,60,null,null,null,null,null,null,null,null,{"$f":"DATA!I9","v":"2017-05-01"},{"$f":"Sheet4!E7","v":39160},"2017-05-01",39160,null,null,null,2,2,2]
[null,null,"PAN No.",null,null,null,null,{"$f":"IF(J9=\"\",\"\",\"Any Change?\")","v":""},null,null,null,null,"Any Change?",null,null,null,"D.A.-1  Arrears :",null,null,null,null,null,null,{"$f":"DATA!I10","v":"2017-06-01"},{"$f":"Sheet4!E8","v":39160},"2017-06-01",39160,null,null,null,2,2,2]
[null,"DDO's Name",null,"Sri.",null,null,"Personal Pay -                            Rs.",null,null,null,null,"Employee Health Scheme (EHS) - Rs.",null,null,90,null,null,{"$f":"IF('DA 1.3'!E2=1,\"\",\"GROSS\")","v":"GROSS"},{"$f":"IF('DA 1.3'!E2=1,\"\",DATA!EN25)","v":"CPS"},null,{"$f":"IF('DA 1.3'!E2=1,\"\",\"NET\")","v":"NET"},null,null,{"$f":"DATA!I11","v":"2017-07-01"},{"$f":"Sheet4!E9","v":39160},"2017-07-01",39160,null,null,null,2,2,2]
[null,null,"DDO's Designation",null,null,null,null,{"$f":"IF(J11=\"\",\"\",\"Any Change?\")","v":""},null,null,null,null,"Any Change?",null,null,null,null,{"$f":"IF('DA 1.3'!E2=1,\"\",DATA!T19)","v":18177},{"$f":"IF('DA 1.3'!E2=1,\"\",DATA!BW19)","v":1818},null,{"$f":"IF('DA 1.3'!E2=1,\"\",R12-S12)","v":16359},null,null,{"$f":"DATA!I12","v":"2017-08-01"},{"$f":"Sheet4!E10","v":39160},"2017-08-01",39160,null,null,null,2,2,2]
[null,null,"DDO's Office",null,null,null,"H.R.A. -       Percentage",null,null,null,null,"EWF -                                    Rs.",null,null,20,null,"Do you want to enter DA arrears manually?",null,null,null,null,null,null,{"$f":"DATA!I13","v":"2017-09-01"},{"$f":"Sheet4!E11","v":39160},"2017-09-01",39160,null,null,null,2,2,2]
[null,null,"DDO's PAN No.",null,null,null,null,"Any Change later?",null,null,null,null,"Flag Fund (SWF) -              Rs.",null,50,null,null,{"$f":"IF('DA 1.3'!E2=1,\"If 'Yes' Selected, enter amounts below\",\"\")","v":""},null,null,null,null,null,{"$f":"DATA!I14","v":"2017-10-01"},{"$f":"Sheet4!E12","v":40270},"2017-10-01",40270,null,null,null,2,2,2]
[null,null,"DDO's TAN No.",null,null,null,null,null,null,null,null,"LIC (SS)",null,null,null,null,null,{"$f":"IF('DA 1.3'!E2=1,\"GROSS\",\"\")","v":""},{"$f":"IF('DA 1.3'!E2=1,DATA!EN30,\"\")","v":""},null,{"$f":"IF('DA 1.3'!E2=1,\"NET\",\"\")","v":""},null,null,{"$f":"DATA!I15","v":"2017-11-01"},{"$f":"Sheet4!E13","v":40270},"2017-11-01",40270,null,null,null,2,2,2]
[null,"House Type",null,null,null,null,"C.C. Allowances -                      Rs.",null,null,null,null,null,"Any Change?",null,null,null,null,null,null,null,{"$f":"IF('DA 1.3'!E2=1,R16-S16,\"\")","v":""},null,null,{"$f":"DATA!I16","v":"2017-12-01"},{"$f":"Sheet4!E14","v":40270},"2017-12-01",40270,null,null,null,2,2,2]
[null,{"$f":"IF(DATA!B41>1,\"\",\"Rent Undertaking?\")","v":"Rent Undertaking?"},null,null,null,null,null,{"$f":"IF(J16=\"\",\"\",\"Any Change?\")","v":""},null,null,null,"Adv. Tax. ( Enter amounts Month wise)",null,null,null,null,null,null,null,null,null,null,null,{"$f":"DATA!I17","v":"2018-01-01"},{"$f":"Sheet4!E15","v":40270},"2018-01-01",40270,null,null,null,2,2,2]
[null,"CPS ?",null,null,null,null,"H.M. Allowances -                    Rs.",null,null,null,null,null,{"$f":"DATA!CC7","v":"2017-03-01"},null,null,null,"D.A.-2  CALCULATION from Jul-16 (22.008%)",null,null,null,null,null,null,{"$f":"DATA!I18","v":"2018-02-01"},{"$f":"Sheet4!E16","v":40270},"2018-02-01",40270,null,null,null,2,2,2]
[null,{"$f":"IF(DATA!EO25=1,\"PRAN No.\",\"PF No.\")","v":"PRAN No."},null,null,null,null,null,{"$f":"IF(J18=\"\",\"\",\"Any Change?\")","v":""},null,null,null,null,{"$f":"DATA!CC8","v":"2017-04-01"},null,null,null,null,"D.A. arrears bill upto the month of",null,null,null,null,null,null,null,null,null,null,null,null,2,2,2]
[null,null,"APGLI No.",null,null,null,"S.C. Allowances -                      Rs.",null,null,null,null,null,{"$f":"DATA!CC9","v":"2017-05-01"},null,null,null,{"$f":"CONCATENATE(\"Surrender Leave DA 2 Difference from Jul- 16 to \",VLOOKUP('DA 2.2'!D40,'DA 2.2'!E24:J47,6))","v":"Surrender Leave DA 2 Difference from Jul- 16 to Aug- 17"},null,null,null,null,null,null,null,null,{"$f":"VLOOKUP('DA 1.2'!D24,'DA 1.2'!E24:J47,6)","v":42795},{"$f":"MONTH(Z20)","v":3},1,"Jan",{"$f":"VLOOKUP(AA20,AB20:AC31,2)","v":"Mar"},2,2,2]
[null,null,null,"Chief Executive Officer",null,null,null,{"$f":"IF(J20=\"\",\"\",\"Any Change?\")","v":""},null,null,null,null,{"$f":"DATA!CC10","v":"2017-06-01"},null,null,null,null,null,null,null,null,null,null,null,null,null,{"$f":"YEAR(Z20)","v":2017},2,"Feb",null,2,2,2]
[null,null,null,"Achanta","MANAM SREENIVASULU",null,"Reader Allowances -                Rs.",null,null,null,null,null,{"$f":"DATA!CC11","v":"2017-07-01"},null,null,null,"D.A.-2  Arrears :",null,null,null,null,null,null,null,null,null,null,3,"Mar",null,2,2,2]
[null,null,null,"Addanki","D. MAHESWARA REDDY",null,null,{"$f":"IF(J22=\"\",\"\",\"Any Change?\")","v":""},null,null,null,null,{"$f":"DATA!CC12","v":"2017-08-01"},null,null,null,null,{"$f":"IF('DA 2.3'!E2=1,\"\",\"GROSS\")","v":"GROSS"},{"$f":"IF('DA 2.3'!E2=1,\"\",DATA!EN41)","v":"CPS"},null,{"$f":"IF('DA 2.3'!E2=1,\"\",\"NET\")","v":"NET"},null,null,null,null,null,null,4,"Apr",null,2,2,2]
[null,null,null,"Addateegala","S.V. NARAYANA",null,"A.H.R.A. -                                    Rs.",null,null,null,null,null,{"$f":"DATA!CC13","v":"2017-09-01"},null,null,null,null,{"$f":"IF('DA 2.3'!E2=1,\"\",DATA!T20)","v":19993},{"$f":"IF('DA 2.3'!E2=1,\"\",DATA!BW20)","v":2004},null,{"$f":"IF('DA 2.3'!E2=1,\"\",R24-S24)","v":17989},null,null,null,null,null,null,5,"May",null,2,2,2]
[null,null,null,"Agali ","B.KRISHNA",null,null,{"$f":"IF(J24=\"\",\"\",\"Any Change?\")","v":""},null,null,null,null,{"$f":"DATA!CC14","v":"2017-10-01"},null,null,null,"Do you want to enter DA arrears manually?",null,null,null,null,null,null,null,null,null,null,6,"Jun",null,2,2,{"$f":"AF25","v":2}]
[null,null,null,"Ainavilli","A.C.Gangi Reddy",null,"Other Allowances",null,null,null,null,null,{"$f":"DATA!CC15","v":"2017-11-01"},null,null,null,null,{"$f":"IF('DA 2.3'!E2=1,\"If 'Yes' Selected, enter amounts below\",\"\")","v":""},null,null,null,null,null,null,null,null,null,7,"Jul",null,2,2,2]
[null,null,null,"Akiveedu","D.Venkata Prasad",null,null,{"$f":"IF(J26=\"\",\"\",\"Any Change?\")","v":""},null,null,null,null,{"$f":"DATA!CC16","v":"2017-12-01"},null,null,null,null,{"$f":"IF('DA 2.3'!E2=1,\"GROSS\",\"\")","v":""},{"$f":"IF('DA 2.3'!E2=1,DATA!EN30,\"\")","v":""},null,{"$f":"IF('DA 2.3'!E2=1,\"NET\",\"\")","v":""},null,null,null,null,null,null,8,"Aug",null,2,2,2]
[null,null,null,"Alamuru","A.Jaya Ranga Reddy",null,"P.H. Allowances -                       Rs.",null,null,null,null,null,{"$f":"DATA!CC17","v":"2018-01-01"},null,null,null,null,null,null,null,{"$f":"IF('DA 2.3'!E2=1,R28-S28,\"\")","v":""},null,null,null,null,null,null,9,"Sep",null,2,2,2]
[null,null,null,"Allagadda","M.V.Narayana Reddy",null,null,{"$f":"IF(J28=\"\",\"\",\"Any Change?\")","v":""},null,null,null,null,{"$f":"DATA!CC18","v":"2018-02-01"},null,null,null,null,null,null,null,null,null,null,null,null,null,null,10,"Oct",null,2,2,2]
[null,null,null,"Allavaram","P.Chandrasekharudu",null,null,{"$f":"IF(J29=\"\",\"\",\"Any Change?\")","v":""},null,null,null,null,"Total ",null,{"$f":"SUM(O18:O29)","v":0},null,null,null,null,null,null,null,null,null,null,null,null,11,"Nov",null,2,2,2]
[null,null,null,"Allur","E.Krishna Naik","*","Surrender Leave",null,null,null,null,"Tax Paid by Challan",null,null,null,null,null,null,null,null,null,null,null,null,null,null,null,12,"Dec",null,2,2,2]
[null,null,null,"Alur","M.B. PRAHLADHA REDDY",null,null,"P.P. for Surrender Leave, (If any) - Rs.",null,null,null,null,"Challan Rs.",null,null,null,null,null,null,null,null,null,null,null,null,null,null,null,null,null,2,2,2]
[null,null,null,"Amadagur","M.KRISHNA MOHAN",null,"Children Fee Concession(Earning) - Rs.",null,null,null,null,null,"Total ",null,{"$f":"O30+O32","v":0},null,null,null,null,null,null,null,null,null,null,null,null,null,null,null,2,2,2]
[null,null,null,"Amadalavalasa ","A.Venkata Ramudu",null,null,null,null,null,null,null,null,null,null,null,null,null,null,null,null,null,null,null,null,null,null,null,null,null,2,2,2]
[null,null,null,"Amalapuram","H.Parameswara Reddy",null,"EOL / HPL Availed, if any?",null,null,null,null,"Income / Loss from other sources, if any:",null,null,null,null,null,null,null,null,null,null,null,null,null,null,null,null,null,null,2,2,2]
[null,null,null,"Amarapuram","G.Niranjan Reddy",null,null,"MONTH","No. of days of HPL","EOL days",null,null,"Income From other sources",null,null,null,null,null,null,null,null,null,null,null,null,null,null,null,null,null,2,2,2]
[null,null,null,"Amaravathi ","R.RAMALAKHSUMMA",null,null,{"$f":"DATA!I7","v":"2017-03-01"},null,null,null,null,"Income From Capital Gains"]
[null,null,null,"Ambajipeta ","M.ESWARAIAH",null,null,{"$f":"DATA!I8","v":"2017-04-01"}]
[null,null,null,"Amruthalur ","V. MASTAN REDDY",null,null,{"$f":"DATA!I9","v":"2017-05-01"},null,null,null,"Less: Relief U/S 89 (attach details)"]
[null,null,null,"Ananthapuramu","K.SYAMALAMMA",null,null,{"$f":"DATA!I10","v":"2017-06-01"},null,null,null,null,null,null,null,null,null,null,null,null,null,null,null,null,null,null,null,null,null,null,null,"DA 2 lo Cash form the month of anedi DA 2 set cheyali"]
[null,null,null,"Araku Valley","A.DHANA LAKSHMI",null,null,{"$f":"DATA!I11","v":"2017-07-01"},null,null,null,null,null,null,null,null,null,null,null,null,null,null,null,null,null,null,null,null,null,null,null,"Bill upto month kooda set cheyali"]
[null,null,null,"Ardhaveedu","D.CHENNARAYUDU",null,null,{"$f":"DATA!I12","v":"2017-08-01"},null,null,null,null,null,null,null,null,null,null,null,null,null,null,null,null,null,null,null,null,null,null,null,"S.L. DIFF"]
[null,null,null,"Aspari","A.JAYA RANGAREDDY",null,null,{"$f":"DATA!I13","v":"2017-09-01"},null,null,null,null,null,null,null,null,null,null,null,null,null,null,null,null,null,null,null,null,null,null,null,"AAS DIFF"]
[null,null,null,"Atchutapuram ","J. SIDDIAH",null,null,{"$f":"DATA!I14","v":"2017-10-01"}]
[null,null,null,"Atlur ","V.SAILAJA",null,null,{"$f":"DATA!I15","v":"2017-11-01"}]
[null,null,null,"Atmakur","N. CHENNAIAH",null,null,{"$f":"DATA!I16","v":"2017-12-01"}]
[null,null,null,"Atreyapuram","P.MURALI DEVI",null,null,{"$f":"DATA!I17","v":"2018-01-01"}]
[null,null,null,"Attili","K.VASANTHA KUMARI",null,null,{"$f":"DATA!I18","v":"2018-02-01"}]
[null,null,null,"B Kodur ","M.BHASKAR"]
[null,null,null,"B Kothakota","C.V.PRASAD"]
[null,null,null,"Bachannapeta","N. SUBBARAMAIH"]
[null,null,null,"Badangi","Y.L.V.S. SIVA PRASAD"]
[null,null,null,"Badvel ","K.CHINNAIAH"]
[null,null,null,"Baireddi Palle","G.J.CHRISTAPHAR"]
[null,null,null,"Balajipeta","G.NIRANJAN REDDY"]
[null,null,null,"Balayapalli","D. MAHESWARA REDDY"]
[null,null,null,"Ballikuruva "]
[null,null,null,"Banaganapalle","R. RAMOHAN REDDY"]
[null,null,null,"Bandi Atmakur","K. AWARTHA REEDY"]
[null,null,null,"Bangarupalem","O. RAMASWAMY REDDY"]
[null,null,null,"Bapatla ","N.V.PRABHAVATHI"]
[null,null,null,"Bathalapalle","C.S. JAFAR SADIQ"]
[null,null,null,"Battili","G. LILLAMMA"]
[null,null,null,"Bellamkonda"]
[null,null,null,"Beluguppa","K. BASKHAR "]
[null,null,null,"Bestavaripeta "]
[null,null,null,"Bethamcherla","P.NARAYANA"]
[null,null,null,"Bhamini","V.NAGAMUNI REDDY"]
[null,null,null,"Bhattiprolu ","K.RAMACHNDRAIAH"]
[null,null,null,"Bheemavaram","P. SUJATHA"]
[null,null,null,"Bheemunipatnam","B.VEERA REDDY"]
[null,null,null,"Bhimadole","S.RAMANJANEYA REDDY"]
[null,null,null,"Bhoghapuram","M CHAKRE NAIK"]
[null,null,null,"Bhupalpalle","P.SIVASANKAR"]
[null,null,null,"Biccavolu","M. GIRIVARADHAIAH"]
[null,null,null,"Biccavolu","M.V. KRISHNA KUMAR"]
[null,null,null,"Bobbili"]
[null,null,null,"Bogole","S.ABUDUL ALAM"]
[null,null,null,"Bollapalle "]
[null,null,null,"Bommanahal","P.RAMULU"]
[null,null,null,"Bondapalle","M.V.NARAYANA REDDY"]
[null,null,null,"Brahmamgarimattam ","D.RAVINDRANATH"]
[null,null,null,"Brahmasamudram ","B. VENKATESU NAIK"]
[null,null,null,"Buchinaidu Khandriga","M. VENKATARAMANA"]
[null,null,null,"Buchireddipalem","D. GANGI REDDY"]
[null,null,null,"Bugganipalle","N.RAMA KRISHNA MURTHY"]
[null,null,null,"Bukkapatnam","D.C.PENCHALAIAH"]
[null,null,null,"Bukkarayasamudram","S. BALASUNDRAM"]
[null,null,null,"Burja"]
[null,null,null,"Butchayyapeta "]
[null,null,null,"Buttayagudem"]
[null,null,null,"C.Belagal"]
[null,null,null,"Chadrasekara Puram  "]
[null,null,null,"Chagalamarri"]
[null,null,null,"Chagallu"]
[null,null,null,"Chakrayapet"]
[null,null,null,"Chandragiri"]
[null,null,null,"Chapad "]
[null,null,null,"Chebrole "]
[null,null,null,"Cheedikada"]
[null,null,null,"Cheepurupalle"]
[null,null,null,"Chejerla "]
[null,null,null,"Chennaraopet"]
[null,null,null,"Chenne Kothapalle"]
[null,null,null,"Chennur"]
[null,null,null,"Cheriyal"]
[null,null,null,"Cherukupalle "]
[null,null,null,"Chilakaluripet "]
[null,null,null,"Chilamathur"]
[null,null,null,"Chillakur "]
[null,null,null,"Chimakurthi "]
[null,null,null,"Chinaganjam "]
[null,null,null,"ChinnaChowk "]
[null,null,null,"Chinnagottigallu"]
[null,null,null,"Chinnamandem "]
[null,null,null,"Chintalapudi"]
[null,null,null,"Chintalavalasa"]
[null,null,null,"Chintapalle"]
[null,null,null,"Chintha Kommadinne "]
[null,null,null,"Chippagiri"]
[null,null,null,"Chirala "]
[null,null,null,"Chittoor"]
[null,null,null,"Chodavaram"]
[null,null,null,"Chowdepalle"]
[null,null,null,"Cumbum "]
[null,null,null,"D.Hirchal"]
[null,null,null,"Dachepalle "]
[null,null,null,"Dagadarthi "]
[null,null,null,"Dakkili"]
[null,null,null,"Darsi "]
[null,null,null,"Dattirajeru"]
[null,null,null,"Denduluru"]
[null,null,null,"Denkada"]
[null,null,null,"Devanakonda"]
[null,null,null,"Devarapalle"]
[null,null,null,"Devaruppula"]
[null,null,null,"Devipatnam"]
[null,null,null,"Dharmasagar"]
[null,null,null,"Dharmavaram"]
[null,null,null,"Dhone"]
[null,null,null,"DISTRICT EDUCATIONAL OFFICER"]
[null,null,null,"Donakonda"]
[null,null,null,"Doravarisatram"]
[null,null,null,"Dornakal"]
[null,null,null,"Dornala "]
[null,null,null,"Dornipadu"]
[null,null,null,"Duggirala "]
[null,null,null,"Duggondi"]
[null,null,null,"Dumbriguda"]
[null,null,null,"Durgi "]
[null,null,null,"Duttalur "]
[null,null,null,"Duvvur  "]
[null,null,null,"Dwaraka Tirumala"]
[null,null,null,"East godavari  "]
[null,null,null,"Edlapadu"]
[null,null,null,"Eluru"]
[null,null,null,"Etcherla"]
[null,null,null,"Eturnagaram "]
[null,null,null,"Gadivemula"]
[null,null,null,"Gajapathinagaram"]
[null,null,null,"Gajuwaka"]
[null,null,null,"Galiveedu "]
[null,null,null,"Ganapavaram"]
[null,null,null,"Gandepalle"]
[null,null,null,"Gandlapenta"]
[null,null,null,"Gangadhara Nellore"]
[null,null,null,"Gangaraju Madugula"]
[null,null,null,"Gangavaram"]
[null,null,null,"Ganguvari Singadam"]
[null,null,null,"Gantyada"]
[null,null,null,"Garividi"]
[null,null,null,"Garladinne"]
[null,null,null,"Garugubilli"]
[null,null,null,"Geesugonda"]
[null,null,null,"Ghanapur"]
[null,null,null,"Ghanpur(Stn)"]
[null,null,null,"Giddaluru "]
[null,null,null,"Gokavaram"]
[null,null,null,"Gollaprolu"]
[null,null,null,"Golugonda"]
[null,null,null,"Gonegandla"]
[null,null,null,"Gooty"]
[null,null,null,"Gopalapuram"]
[null,null,null,"Gopavaram"]
[null,null,null,"Gorantla"]
[null,null,null,"Gospadu"]
[null,null,null,"Govindaraopet"]
[null,null,null,"Gudem Kothaveedhi"]
[null,null,null,"Gudi Palle  "]
[null,null,null,"Gudibanda"]
[null,null,null,"Gudipala "]
[null,null,null,"Gudluru "]
[null,null,null,"Gudur"]
[null,null,null,"Gummagatta"]
[null,null,null,"Gummalakshmipuram"]
[null,null,null,"Guntakal "]
[null,null,null,"Guntur "]
[null,null,null,"Gurazala "]
[null,null,null,"Gurla"]
[null,null,null,"Gurramkonda  "]
[null,null,null,"Halaharvi"]
[null,null,null,"Hanamkonda"]
[null,null,null,"Hanumanthunipadu "]
[null,null,null,"Hasanparthy"]
[null,null,null,"HEAD MASTER"]
[null,null,null,"Hindupur "]
[null,null,null,"Hiramandalam"]
[null,null,null,"Holagunda"]
[null,null,null,"Hukumpeta "]
[null,null,null,"I.Polavaram"]
[null,null,null,"Ichchapuram"]
[null,null,null,"Indukurpet "]
[null,null,null,"Inkollu "]
[null,null,null,"Ipuru"]
[null,null,null,"Iragavaram"]
[null,null,null,"Irala "]
[null,null,null,"Jammalamadugu"]
[null,null,null,"Kadapa"]
[null,null,null,"Kajuluru"]
[null,null,null,"Kakinada"]
[null,null,null,"Kakumanu"]
[null,null,null,"Kalakada  "]
[null,null,null,"Kalasapadu "]
[null,null,null,"Kaligapatnam"]
[null,null,null,"Kaligiri "]
[null,null,null,"Kalikiri  "]
[null,null,null,"Kalla "]
[null,null,null,"Kallur"]
[null,null,null,"Kaluvoya "]
[null,null,null,"Kalyandurg"]
[null,null,null,"Kamalapuram  "]
[null,null,null,"Kamavarapukota"]
[null,null,null,"Kambadur"]
[null,null,null,"Kambhamvaripalle "]
[null,null,null,"Kanaganapalle"]
[null,null,null,"Kanchili"]
[null,null,null,"Kandukur "]
[null,null,null,"Kanekal"]
[null,null,null,"Kapileswarapuram"]
[null,null,null,"Karapa"]
[null,null,null,"Karempudi"]
[null,null,null,"Karlapalem"]
[null,null,null,"Karvetinagar "]
[null,null,null,"Kasimkota"]
[null,null,null,"Katrenikona"]
[null,null,null,"Kavali "]
[null,null,null,"Kaviti"]
[null,null,null,"Khajipet "]
[null,null,null,"Kirlampudi "]
[null,null,null,"Kodavalur "]
[null,null,null,"Kodumur"]
[null,null,null,"Kodur  "]
[null,null,null,"Koilkuntla"]
[null,null,null,"Kolimigundla "]
[null,null,null,"Kollipara "]
[null,null,null,"Kollur "]
[null,null,null,"Komarada"]
[null,null,null,"Kondapuram"]
[null,null,null,"Korukonda"]
[null,null,null,"Kosigi "]
[null,null,null,"Kota"]
[null,null,null,"Kotabommili"]
[null,null,null,"Kotananduru"]
[null,null,null,"Kotauratla"]
[null,null,null,"Kothacheruvu"]
[null,null,null,"Kothapalle"]
[null,null,null,"Kothapeta"]
[null,null,null,"Kothavalasa"]
[null,null,null,"Kothuru "]
[null,null,null,"Kovur"]
[null,null,null,"Kovvur"]
[null,null,null,"Kowthalam"]
[null,null,null,"Koyyalagudem"]
[null,null,null,"Koyyuru"]
[null,null,null,"Krishana"]
[null,null,null,"Krishnagiri"]
[null,null,null,"Krosuru "]
[null,null,null,"Kudair"]
[null,null,null,"Kum."]
[null,null,null,"Kundurpi"]
[null,null,null,"Kuppam  "]
[null,null,null,"Kurabalakota  "]
[null,null,null,"Kurnool"]
[null,null,null,"Kurupam"]
[null,null,null,"L.P. (Hindi)"]
[null,null,null,"L.P. (Telugu)"]
[null,null,null,"Lakkavarapukota"]
[null,null,null,"Lakkireddipalle"]
[null,null,null,"Laveru"]
[null,null,null,"Lepakshi"]
[null,null,null,"Lingala"]
[null,null,null,"Machavaram "]
[null,null,null,"Macherla "]
[null,null,null,"Madakasira"]
[null,null,null,"Maddikera East"]
[null,null,null,"Madugula"]
[null,null,null,"Mahanandi"]
[null,null,null,"Makavarapalem"]
[null,null,null,"Makkuva"]
[null,null,null,"Malikipuram"]
[null,null,null,"Mamidikuduru"]
[null,null,null,"MANDAL EDUCATIONAL OFFICER"]
[null,null,null,"Pulivendula "]
[null,null,null,"Maredumilli "]
[null,null,null,"Marripadu"]
[null,null,null,"Medikonduru "]
[null,null,null,"Meilaputti"]
[null,null,null,"Mentada "]
[null,null,null,"Merakamudidam"]
[null,null,null,"Midthur"]
[null,null,null,"Mogalthur"]
[null,null,null,"Muddanur  "]
[null,null,null,"Mudigubba"]
[null,null,null,"Mulakalacheruvu "]
[null,null,null,"Mummidivaram"]
[null,null,null,"Munagapaka"]
[null,null,null,"Munchingiputtu "]
[null,null,null,"Muppalla"]
[null,null,null,"Muthukur"]
[null,null,null,"Mydukur  "]
[null,null,null,"Mylavaram "]
[null,null,null,"Nadendla "]
[null,null,null,"Nagalapuram  "]
[null,null,null,"Nagaram "]
[null,null,null,"Nagari  "]
[null,null,null,"Naidupeta"]
[null,null,null,"Nakarikallu "]
[null,null,null,"Nakkapalli"]
[null,null,null,"Nallacheruvu"]
[null,null,null,"Nallajerla"]
[null,null,null,"Nallamada"]
[null,null,null,"Nambulipulikunta"]
[null,null,null,"Nandalur  "]
[null,null,null,"Nandavaram"]
[null,null,null,"Nandi Kotkur"]
[null,null,null,"Nandigam"]
[null,null,null,"Nandyal"]
[null,null,null,"Narasannapeta"]
[null,null,null,"Narasapuram"]
[null,null,null,"Narasaraopeta "]
[null,null,null,"Narayanavanam  "]
[null,null,null,"Narpala"]
[null,null,null,"Narsipatnam"]
[null,null,null,"Nathavaram"]
[null,null,null,"Nellimarla"]
[null,null,null,"Nellore"]
[null,null,null,"Nidadavole"]
[null,null,null,"Nidamarru"]
[null,null,null,"Nimmanapalle  "]
[null,null,null,"Nindra  "]
[null,null,null,"Nizampatnam "]
[null,null,null,"Nuzendla "]
[null,null,null,"Obuladevaracheruvu"]
[null,null,null,"Obulavaripalle  "]
[null,null,null,"Office-Sub."]
[null,null,null,"Ojili"]
[null,null,null,"Orvakal"]
[null,null,null,"Owk"]
[null,null,null,"P Gannavaram"]
[null,null,null,"Pachipenta"]
[null,null,null,"Paderu"]
[null,null,null,"Padmanabham"]
[null,null,null,"Pagidyala"]
[null,null,null,"Pakala  "]
[null,null,null,"Palacole"]
[null,null,null,"Palakoderu"]
[null,null,null,"Palakonda"]
[null,null,null,"Palamaner  "]
[null,null,null,"Palasa"]
[null,null,null,"Palasamudram "]
[null,null,null,"Pamarru"]
[null,null,null,"Pamidi"]
[null,null,null,"Pamulapadu"]
[null,null,null,"Panyam"]
[null,null,null,"Paravada "]
[null,null,null,"Parigi"]
[null,null,null,"Parvathipuram"]
[null,null,null,"Pathapatnam"]
[null,null,null,"Pattikanda"]
[null,null,null,"Payakaraopeta "]
[null,null,null,"Peapally"]
[null,null,null,"Pedabayalu"]
[null,null,null,"Pedagantyada"]
[null,null,null,"Pedakakani "]
[null,null,null,"Pedakurapadu "]
[null,null,null,"Pedapadu"]
[null,null,null,"Pedapudi"]
[null,null,null,"Pedavegi"]
[null,null,null,"Pedda Kadubur"]
[null,null,null,"Pedda Panjani  "]
[null,null,null,"Peddamudium"]
[null,null,null,"Peddapappur  "]
[null,null,null,"Peddapuram"]
[null,null,null,"Peddathippasamudram  "]
[null,null,null,"Peddavadugur"]
[null,null,null,"Pellakur"]
[null,null,null,"Penagaluru "]
[null,null,null,"Pendlimarri "]
[null,null,null,"Pendurthi"]
[null,null,null,"Pentapadu"]
[null,null,null,"Penu Konda"]
[null,null,null,"Penugonda"]
[null,null,null,"Penumantra"]
[null,null,null,"Penumuru "]
[null,null,null,"Peravali"]
[null,null,null,"Phirangipuram "]
[null,null,null,"Pichatur "]
[null,null,null,"Piduguralla "]
[null,null,null,"Pileru "]
[null,null,null,"Pithapuram "]
[null,null,null,"Pittalavanipalem "]
[null,null,null,"Podlakur"]
[null,null,null,"Poduru"]
[null,null,null,"Polaki"]
[null,null,null,"Polavaram "]
[null,null,null,"Ponduru"]
[null,null,null,"Ponnur "]
[null,null,null,"Porumamilla  "]
[null,null,null,"Prakasam "]
[null,null,null,"Prathipadu"]
[null,null,null,"PRINCIPAL"]
[null,null,null,"Proddatur  "]
[null,null,null,"Pulivendula "]
[null,null,null,"Pullampeta  "]
[null,null,null,"Punganur "]
[null,null,null,"Pusapatirega"]
[null,null,null,"Puthalapattu "]
[null,null,null,"Putlur"]
[null,null,null,"Puttaparthi"]
[null,null,null,"Puttur  "]
[null,null,null,"Railway Koduru"]
[null,null,null,"Rajahmundry"]
[null,null,null,"Rajam"]
[null,null,null,"Rajampet  "]
[null,null,null,"Rajanagaram"]
[null,null,null,"Rajavommangi"]
[null,null,null,"Raju Palem  "]
[null,null,null,"Rajupalem "]
[null,null,null,"Rama Kuppam  "]
[null,null,null,"Ramabhadrapuram"]
[null,null,null,"Ramachandrapuram"]
[null,null,null,"Ramagiri "]
[null,null,null,"Ramapuram  "]
[null,null,null,"Ramasamudram  "]
[null,null,null,"Rambilli"]
[null,null,null,"Rampachodavaram"]
[null,null,null,"Ranastalam"]
[null,null,null,"Rangampeta"]
[null,null,null,"Raptadu"]
[null,null,null,"Rapur "]
[null,null,null,"Ravikamatham"]
[null,null,null,"Ravula Palem"]
[null,null,null,"Rayachoti  "]
[null,null,null,"Rayadurg"]
[null,null,null,"Rayavaram"]
[null,null,null,"Razole"]
[null,null,null,"Regidiamadalavalasa "]
[null,null,null,"Renigunta  "]
[null,null,null,"Rentacrintala "]
[null,null,null,"Repalle "]
[null,null,null,"Roddam"]
[null,null,null,"Rolla"]
[null,null,null,"Rolugunta"]
[null,null,null,"Rompicherla"]
[null,null,null,"Rudravaram"]
[null,null,null,"S A Kasinayana"]
[null,null,null,"S Mydukur  "]
[null,null,null,"S Rayavaram "]
[null,null,null,"S.A. (B.S.)"]
[null,null,null,"S.A. (English)"]
[null,null,null,"S.A. (Hindi)"]
[null,null,null,"S.A. (Maths)"]
[null,null,null,"S.A. (P.S.)"]
[null,null,null,"S.A. (S.S.)"]
[null,null,null,"S.A. (Telugu)"]
[null,null,null,"S.G.T."]
[null,null,null,"Sabbavaram"]
[null,null,null,"Sakhinetipalle"]
[null,null,null,"Salur"]
[null,null,null,"Samalkota"]
[null,null,null,"Sambepalle "]
[null,null,null,"Sangam"]
[null,null,null,"Sanjamala "]
[null,null,null,"Sankhavaram"]
[null,null,null,"Santhabommali "]
[null,null,null,"Santhakaviti"]
[null,null,null,"Santhi Puram  "]
[null,null,null,"Saravakota"]
[null,null,null,"Sarubujjili"]
[null,null,null,"Sattenapalle"]
[null,null,null,"Satyavedu  "]
[null,null,null,"Savalyapuram"]
[null,null,null,"School Asst."]
[null,null,null,"Secondary Grade Teacher"]
[null,null,null,"Seethampeta"]
[null,null,null,"Seethanagaram"]
[null,null,null,"Seetharamapuram"]
[null,null,null,"Settur"]
[null,null,null,"Sidhout  "]
[null,null,null,"Simhadripuram"]
[null,null,null,"Singanamala"]
[null,null,null,"Sirvel"]
[null,null,null,"Smt."]
[null,null,null,"Sodam  "]
[null,null,null,"Somala  "]
[null,null,null,"Somandepalle"]
[null,null,null,"Sompeta"]
[null,null,null,"Sr. Asst."]
[null,null,null,"Sreekakulam  "]
[null,null,null,"Sri."]
[null,null,null,"Srungavarapukota"]
[null,null,null,"Sullurpeta"]
[null,null,null,"Sydapuram "]
[null,null,null,"T Narasapuram"]
[null,null,null,"T Sundupalle  "]
[null,null,null,"Tada "]
[null,null,null,"Tadepalligudem"]
[null,null,null,"Tadikonda"]
[null,null,null,"Tadimarri "]
[null,null,null,"Tadipatri "]
[null,null,null,"Talupula"]
[null,null,null,"Tanakal"]
[null,null,null,"Tanuku"]
[null,null,null,"Tekkali"]
[null,null,null,"Tenali "]
[null,null,null,"Thadepalle"]
[null,null,null,"Thallapudi"]
[null,null,null,"Thallarevu"]
[null,null,null,"Thamballapalle "]
[null,null,null,"Thandur "]
[null,null,null,"Thavanampalle "]
[null,null,null,"Therlam"]
[null,null,null,"Thondangi"]
[null,null,null,"Thotapalligudur "]
[null,null,null,"Thottambedu "]
[null,null,null,"Thullur"]
[null,null,null,"Tirupati"]
[null,null,null,"Tsundur"]
[null,null,null,"Tuggali"]
[null,null,null,"Tuni"]
[null,null,null,"Udayagiri "]
[null,null,null,"Undi"]
[null,null,null,"Undrajavaram"]
[null,null,null,"Unguturu"]
[null,null,null,"Uppalaguptam"]
[null,null,null,"Uravakonda"]
[null,null,null,"Uyyalawada"]
[null,null,null,"Vadamalapeta  "]
[null,null,null,"Vajrakarur"]
[null,null,null,"Vajrapukothuru"]
[null,null,null,"Vakadu "]
[null,null,null,"Vallur "]
[null,null,null,"Vangara"]
[null,null,null,"Varadaiahpalem  "]
[null,null,null,"Varikuntapadu "]
[null,null,null,"Vatticherukuru"]
[null,null,null,"Vayalpad  "]
[null,null,null,"Veduru Kuppam  "]
[null,null,null,"Veeraballe "]
[null,null,null,"Veeraghattam"]
[null,null,null,"Veerapunayunipalle"]
[null,null,null,"Veeravasaram"]
[null,null,null,"Veldurthi"]
[null,null,null,"Velgodu"]
[null,null,null,"Vempalle  "]
[null,null,null,"Vemula "]
[null,null,null,"Vemuru"]
[null,null,null,"Venkatachalam "]
[null,null,null,"Venkatagiri "]
[null,null,null,"Venkatagiri Kota  "]
[null,null,null,"Vepada"]
[null,null,null,"Vidapanakal"]
[null,null,null,"Vidavalur "]
[null,null,null,"Vijaya Puram  "]
[null,null,null,"Vinjamur"]
[null,null,null,"Vinukonda"]
[null,null,null,"Visakhapatnam"]
[null,null,null,"Vizianagaram"]
[null,null,null,"Vontimitta "]
[null,null,null,"Warangal  "]
[null,null,null,"West godavari   "]
[null,null,null,"Y Ramavaram "]
[null,null,null,"Y.S.R. "]
[null,null,null,"Yadamari "]
[null,null,null,"Yadiki"]
[null,null,null,"Yelamanchili"]
[null,null,null,"Yeleswaram"]
[null,null,null,"Yellanur"]
[null,null,null,"Yemmiganur"]
[null,null,null,"Yerraguntla"]
[null,null,null,"Z.P.HIGH SCHOOL"]

{"sheet":"DATA 2","index":9,"n_rows":518,"n_cols":55,"rows_kept":518,"cut":false,"hidden":false,"merged":[[10,15,13,18],[14,15,14,18],[32,8,32,11],[35,0,35,12],[26,20,26,24],[32,12,33,12],[32,0,34,6],[34,7,34,12],[30,8,30,12],[27,1,27,6],[28,1,28,6],[26,0,26,6],[33,8,33,11],[28,20,30,22],[11,21,11,24],[12,21,12,24],[19,20,19,24],[18,20,18,24],[17,20,17,24],[16,20,16,24],[19,15,19,18],[24,1,24,6],[20,8,29,12],[22,15,22,18],[20,20,20,24],[21,20,21,24],[20,15,21,18],[31,8,31,12],[15,2,15,10],[11,0,11,12],[10,20,10,24],[18,0,18,12],[13,21,13,24],[14,21,14,24],[17,1,17,10],[19,1,19,6],[19,8,19,12],[31,0,31,6],[30,0,30,6],[25,1,25,6],[29,1,29,6],[22,20,22,24],[16,2,16,10],[22,33,22,36],[23,15,24,18],[23,20,24,24],[25,20,25,24],[27,20,27,24],[25,15,26,18]]}
[{"$f":"IF(C1=1,\"cps\",IF(C1=2,\"noncps\"))","v":"cps"},null,{"$f":"DATA!EO25","v":1}]
[]
[]
[]
[]
[]
[]
[]
[]
[]
["DEDUCTIONS and SAVINGS U/S 80",null,null,null,null,null,null,null,null,null,null,null,null,null,null,{"$f":"IF(DATA!B41>1,CONCATENATE(\"You have selected an Option in Earnings DATA 1 Sheet - \n\",\"'\",\"Living in \",'Annex II'!M5,\"'\",,\". So your H.R.A. is not deducted from your Gross Amount. \"),\"Check your\nHouse Rent and Tax\")","v":"Check your\nHouse Rent and Tax"},null,null,null,"Arrears Total","Address of the House owner:\n(If living elsewhere)"]
["1. Deductions",null,null,null,null,null,null,null,null,null,null,null,null,null,null,null,null,null,null,null,"Name of the Owner"]
[null,"a)",null,null,null,null,null,null,null,null,null,"Rs.",null,null,null,null,null,null,null,null,"Address 1st Line"]
[null,"b)",null,null,null,null,null,null,null,null,null,"Rs.",null,null,null,null,null,null,null,null,"Address 2nd Line"]
[null,"c)",null,null,null,null,null,null,null,null,null,"Rs.",null,null,null,{"$f":"P26","v":""},null,null,null,null,{"$f":"IF(DATA!B41>1,\"\",\"PAN No. of the Owner\")","v":"PAN No. of the Owner"}]
[null,"e)","E.H.F.",null,null,null,null,null,null,null,null,"Rs."]
[null,"e)","Any other",null,null,null,null,null,null,null,null,"Rs.",null,null,null,null,null,null,null,null,{"$f":"IF(Sheet4!J22=\"\",\"\",\"* Instruction(s):- \")","v":"* Instruction(s):- "}]
[null,"TOTAL",null,null,null,null,null,null,null,null,null,"Rs.",{"$f":"M13+M14+M15+M17","v":0},null,null,null,null,null,null,null,{"$f":"IF('Annex I'!AG2<=3,\"* 'Manual entry' selected in Annexure I , Change the option, if it is wrong\",\"\")","v":""}]
["2. Savings, if any (Direct Payment) U/S 80 C - Limit Rs. 1,50,000",null,null,null,null,null,null,null,null,null,null,null,null,null,null,null,null,null,null,null,{"$f":"IF(P11<>\"Check your\nHouse Rent and Tax\",\"\",IF(P15=\"\",\"* <-----You can select - House Rent Manually\",\"*<----- You can select - House Rent Automatically\"))","v":"* <-----You can select - House Rent Manually"},null,null,null,null,null,null,null,null,null,null,null,null,null,null,null,null,null,null,null,null,null,null,null,null,null,null,null,null,null,null,null,null,{"$f":"DATA!EO25","v":1}]
[null,"Name",null,null,null,null,null,"Amount","Total Savings ",null,null,null,null,null,null,"Tax to be paid:-",null,null,null,null,{"$f":"IF('DATA 1'!AE15=1,\"* Basic pays are edited in Salary Earnings sheet, Please verify…\",\"\")","v":""},null,null,null,null,null,null,null,null,null,null,null,null,"house rent",null,null,null,null,null,null,null,null,null,null,null,null,null,null,null,null,null,null,null,2,"Yes"]
[null,null,null,null,null,null,null,null,{"$f":"SUM(H21:H30)","v":78366},null,null,null,null,null,null,{"$f":"CONCATENATE(\"Rs.\",'Annex II'!P60,\"/-\")","v":"Rs.18338/-"},null,null,null,null,{"$f":"IF('Annex II'!P60=0,\"\",IF(Sheet4!J21>0,CONCATENATE(\"* You can enhance your savings Rs. \",Sheet4!N19),\"\"))","v":"* You can enhance your savings Rs. 71634"},null,null,null,null,null,null,null,null,2,1,"Yes",null,{"$f":"AH23","v":9900},null,null,null,null,null,null,null,null,null,null,null,null,null,null,null,null,null,null,null,null,"No"]
[null,null,null,null,null,null,null,null,null,null,null,null,null,null,null,null,null,null,null,null,{"$f":"P26","v":""},null,null,null,null,null,null,null,null,null,2,"No"]
[null,null,null,null,null,null,null,null,null,null,null,null,null,null,null,{"$f":"P15","v":""},null,null,null,null,{"$f":"IF(DATA!B41>1,CONCATENATE(\"* Your Option in Salary Earnings sheet is - \n\",\"'\",\"\",'Annex II'!M5,\"'- Please change, if not\"),\"\")","v":""},null,null,null,null,null,null,null,null,null,null,null,null,{"$f":"IF(AD21=1,\"\",AB28)","v":9900}]
[null,null,null,null,null,null,null,null,null,null,null,null,null,null,null,{"$f":"IF(DATA!B41>1,\"You have selected an option of 'Own house/ Govt. Quarters'. If not, go to Home Page and change the option\",CONCATENATE(\"Enter house Rent Rs. \",'Annex II'!Y16,\" to get exemption of HRA \"))","v":"Enter house Rent Rs. 9900 to get exemption of HRA "},null,null,null,null,{"$f":"IF(AD21=1,\"YOUR SELECTION IS 'MANUAL' FOR RENT PAID IN EXCESS OF 10% SALARY - SEE BELOW\",IF(DATA!B41>1,\"\",IF('Annex II'!Y16>8300,\"Affix Revenue Stamp to the Original Rent Receipt & Receipt should contain PAN of Landlord if Rent for the year exceeds one Lakh.\",IF('Annex II'!Y16>4999,\"Affix Revenue Stamp to the Original Rent Receipt.\",\"\"))))","v":"Affix Revenue Stamp to the Original Rent Receipt & Receipt should contain PAN of Landlord if Rent for the year exceeds one Lakh."},null,null,null,null,null,null,null,null,null,null,null,null,"House Rent Automatically"]
[null,"Any Other deductable u/s 80c",null,null,null,null,null,null,null,null,null,null,null,null,null,null,null,null,null,null,null,null,null,null,null,null,null,null,null,null,null,null,null,"House Rent Manually"]
[null,"Any Other ",null,null,null,null,null,null,null,null,null,null,null,null,null,{"$f":"IF(AI27=1,\"\",'Annex II'!AO8)","v":""},null,null,null,null,{"$f":"IF(DATA!B41=1,\"\",IF(DATA!B41=3,\"\",IF(AU67<=0,\"\",IF(AU67<'Annex II'!O8,\"Your House Loan Interest is Less than Received HRA\",\"\"))))","v":""}]
[{"$f":"'Annex II'!C30","v":"U/S 80 CCD (1) - CPS"},null,null,null,null,null,null,{"$f":"IF(DATA!EO25=2,'Annex I'!R29,IF(M33=0,'Annex I'!R29,IF(BB20=2,'Annex I'!R29,I33)))","v":60846},null,null,null,null,null,null,null,null,null,null,null,null,{"$f":"IF(M33>0,\"You have entered NPS amount U/S 80 CCD (1B), If not, remove the figures in this page\",\"\")","v":""},null,null,null,null,null,null,75,1,{"$f":"IF(AI27=1,AG27,AE27)","v":9900},0,null,{"$f":"'Annex II'!Y16","v":9900},{"$f":"IF(DATA!B41>1,\"Your Option in Home page - Own House/Quarters\",AH24)","v":"House Rent Automatically"},1,null,null,1,1,"LIC Policies premium - Yearly"]
[null,{"$f":"'Annex II'!C31","v":"APGLI"},null,null,null,null,null,{"$f":"'Annex I'!S29","v":16800},null,null,null,null,null,null,null,null,null,null,null,null,{"$f":"IF('DATA 1'!O30>0,CONCATENATE(\"Your Adv. Tax is Rs. \",'DATA 1'!O30),\"\")","v":""},null,null,null,null,null,null,{"$f":"IF(AI27=1,AG27,VLOOKUP(AB27,AC27:AE518,2))","v":9900},2,9900,1000,null,{"$f":"AG27","v":9900},{"$f":"IF(DATA!B41>1,\"Your option in Home page  - Own House/Quarters\",AH25)","v":"House Rent Manually"},{"$f":"AI27","v":1},null,null,3,2,"SBI  Life Insurance"]
[null,{"$f":"'Annex II'!C32","v":"GIS"},null,null,null,null,null,{"$f":"'Annex I'!T29","v":720},null,null,null,null,null,null,null,null,null,null,null,null,"Manual Entry for \n\"Rent paid in excess of 10% Salary\"\n(Rent Paid minus (10% of Pay+DA))\nFor Some months ... in Annexure II",null,null,null,null,null,null,null,3,9900,1100,null,9900,null,1,null,null,4,3,"Tuition Fee for Two children"]
[null,{"$f":"'DATA 1'!L15","v":"LIC (SS)"},null,null,null,null,null,{"$f":"'Annex I'!X29","v":0},null,null,null,null,null,null,null,null,null,null,null,null,null,null,null,null,null,null,null,null,4,9900,1200,null,9900,null,1,null,null,20,4,"PLI"]
["U/S 80 CCG-Rajiv Gandhi Equity Savings Scheme( 50%) (Max. 25000)",null,null,null,null,null,null,null,{"$f":"H31","v":0},null,null,null,null,null,null,null,null,null,null,null,null,null,null,null,null,null,null,null,5,9900,1300,null,9900,null,1,null,null,null,5,"Subscription to NSC VIII Issue"]
["U/S 80 CCD (1B)-NPS (Max. 50000) Additional Deduction",null,null,null,null,null,null,{"$f":"IF(BB20=2,0,I34)","v":0},{"$f":"MIN(H32,50000)","v":0},null,null,null,null,null,null,null,null,null,null,null,null,null,null,null,null,null,null,null,6,9900,1400,null,9900,null,1,null,null,null,6,"ULIP LIC Yearly"]
[{"$f":"IF(DATA!EO25=2,\"\",CONCATENATE(\"Your Total CPS (Salary Deduction) is Rs.\",'Annex I'!R29,\". \nDo you want to Split CPS amount to U/S 80CC(1) & U/S CCD(1B)?, \nIf  Yes, enter the values here --->\",\n\"\"))","v":"Your Total CPS (Salary Deduction) is Rs.60846. \nDo you want to Split CPS amount to U/S 80CC(1) & U/S CCD(1B)?, \nIf  Yes, enter the values here --->"},null,null,null,null,null,null,{"$f":"IF(DATA!EO25=2,\"\",\"80 CCD (1):\")","v":"80 CCD (1):"},null,null,null,null,{"$f":"SUM(I33:L34)","v":0},null,null,null,null,null,null,null,null,null,null,null,null,null,null,null,7,9900,1500,null,9900,null,1,null,null,null,7,"Principle Amount of Home Loan installments"]
[null,null,null,null,null,null,null,"80 CCD (1B): NPS \n(Max. 50,000)",null,null,null,null,null,null,null,null,null,null,null,null,null,null,null,null,null,null,null,null,8,9900,1600,null,9900,null,1,null,null,null,8,"National Savings Certificates (NSC)"]
[null,null,null,null,null,null,null,{"$f":"IF(DATA!EO25=2,\"\",IF(M33=0,\"\",IF(M33>'Annex I'!R29,\"Total is exceeded the actual CPS amount\",IF(M33<'Annex I'!R29,\"Total is less than the actual CPS amount\",\"80 CCD (1) + 80 CCD (1B) =CPS amount\"))))","v":""},null,null,null,null,null,null,null,null,null,null,null,null,null,null,null,null,null,null,null,null,9,9900,1700,null,9900,null,1,null,null,null,9,"Birla Sun Life Insurance"]
[{"$f":"IF(DATA!EO25=2,\"\",\"(As per clarification given by IT Dept. on 12.2.2016 ...\nto get additional deduction U/S 80 CCD (1B) above 1.5 lakh) …. See the Example given below.\")","v":"(As per clarification given by IT Dept. on 12.2.2016 ...\nto get additional deduction U/S 80 CCD (1B) above 1.5 lakh) …. See the Example given below."},null,null,null,null,null,null,null,null,null,null,null,null,null,null,null,null,null,null,null,null,null,null,null,null,null,null,null,10,9900,1800,null,9900,null,1,null,null,null,10,"Reliance Life Insurance"]
[null,null,null,null,null,null,null,null,null,null,null,null,null,null,null,null,null,null,null,null,null,null,null,null,null,null,null,null,11,9900,1900,null,9900,null,1,null,null,null,11,"Avaiva Life Insurance"]
[null,null,null,null,null,null,null,null,null,null,null,null,null,null,null,null,null,null,null,null,null,null,null,null,null,null,null,null,12,9900,2000,null,9900,null,1,null,null,null,12,"ICICI Life Insurance"]
[null,null,null,null,null,null,null,null,null,null,null,null,null,null,null,null,null,null,null,null,null,null,null,null,null,null,null,null,13,9900,2100,null,9900,null,1,null,null,null,13,"Public Provident Fund (PPF)"]
[null,null,null,null,null,null,null,null,null,null,null,null,null,null,null,null,null,null,null,null,null,null,null,null,null,null,null,null,14,9900,2200,null,9900,null,1,null,null,null,14,"HDFC life Insurance"]
[null,null,null,null,null,null,null,null,null,null,null,null,null,null,null,null,null,null,null,null,null,null,null,null,null,null,null,null,15,9900,2300,null,9900,null,1,null,null,null,15,"LIC Annuity Plan (Jeevan Dhara, Jeevan Akhsay etc.)"]
[null,null,null,null,null,null,null,null,null,null,null,null,null,null,null,null,null,null,null,null,null,null,null,null,null,null,null,null,16,9900,2400,null,9900,null,1,null,null,null,16,"UTI  Retirment benefit Pension fund"]
[null,null,null,null,null,null,null,null,null,null,null,null,null,null,null,null,null,null,null,null,null,null,null,null,null,null,null,null,17,9900,2500,null,9900,null,1,null,null,null,17,"Subscription to deposit scheme of National Housing Bank"]
[null,null,null,null,null,null,null,null,null,null,null,null,null,null,null,null,null,null,null,null,null,null,null,null,null,null,null,null,18,9900,2600,null,9900,null,1,null,null,null,18,"Subscription made to equity shares/debentures"]
[null,null,null,null,null,null,null,null,null,null,null,null,null,null,null,null,null,null,null,null,null,null,null,null,null,null,null,null,19,9900,2700,null,9900,null,1,null,null,null,19,"Equity linked Savings Schemes (ELSS)"]
[null,null,null,null,null,null,null,null,null,null,null,null,null,null,null,null,null,null,null,null,null,null,null,null,null,null,null,null,20,9900,2800,null,9900,null,1,null,null,null,20,"Sukanya Samriddhi Account (SSA)"]
[null,null,null,null,null,null,null,null,null,null,null,null,null,null,null,null,null,null,null,null,null,null,null,null,null,null,null,null,21,9900,2900,null,9900,null,1,null,null,null,"deductions",{"$f":"VLOOKUP(AL27,AM27:AN46,2,0)","v":"LIC Policies premium - Yearly"},null,null,null,null,2,{"$f":"VLOOKUP(AS47,AM67:AN81,2,0)","v":"U/S 80 E-Interest on Educational Loan"}]
[null,null,null,null,null,null,null,null,null,null,null,null,null,null,null,null,null,null,null,null,null,null,null,null,null,null,null,null,22,9900,3000,null,9900,null,1,null,null,null,null,{"$f":"VLOOKUP(AL28,AM27:AN46,2,0)","v":"Tuition Fee for Two children"},null,null,null,null,15,{"$f":"VLOOKUP(AS48,AM67:AN81,2,0)","v":"U/S 80 EE-Interest on Housing Loan upto 35 lakhs for 1st time : (limit 2.5 lakh)"}]
[null,null,null,null,null,null,null,null,null,null,null,null,null,null,null,null,null,null,null,null,null,null,null,null,null,null,null,null,23,9900,3100,null,9900,null,1,null,null,null,null,{"$f":"VLOOKUP(AL29,AM27:AN46,2,0)","v":"PLI"},null,null,null,null,9,{"$f":"VLOOKUP(AS49,AM67:AN81,2,0)","v":"U/S 80 U-Deductions for disabled person (40%) Limit Rs. 75,000"}]
[null,null,null,null,null,null,null,null,null,null,null,null,null,null,null,null,null,null,null,null,null,null,null,null,null,null,null,null,24,9900,3200,null,9900,null,1,null,null,null,22,{"$f":"VLOOKUP(AL30,AM28:AN46,2,0)","v":"Sukanya Samriddhi Account (SSA)"},null,null,null,null,null,{"$f":"VLOOKUP(AS50,AM69:AN82,2,0)","v":{"$error":"#N/A"}}]
[null,null,null,null,null,null,null,null,null,null,null,null,null,null,null,null,null,null,null,null,null,null,null,null,null,null,null,null,25,9900,3300,null,9900,null,1,null,null,null,23,{"$f":"VLOOKUP(AL31,AM29:AN46,2,0)","v":{"$error":"#N/A"}},null,null,null,null,null,{"$error":"#N/A"}]
[null,null,null,null,null,null,null,null,null,null,null,null,null,null,null,null,null,null,null,null,null,null,null,null,null,null,null,null,26,9900,3400,null,9900,null,1,null,null,null,null,{"$f":"VLOOKUP(AL32,AM30:AN48,2,0)","v":{"$error":"#N/A"}},null,null,null,null,null,{"$error":"#N/A"}]
[null,null,null,null,null,null,null,null,null,null,null,null,null,null,null,null,null,null,null,null,null,null,null,null,null,null,null,null,27,9900,3500,null,9900,null,1,null,null,null,null,{"$error":"#N/A"},null,null,null,null,null,{"$error":"#N/A"}]
[null,null,null,null,null,null,null,null,null,null,null,null,null,null,null,null,null,null,null,null,null,null,null,null,null,null,null,null,28,9900,3600,null,9900,null,1,null,null,null,null,{"$error":"#N/A"},null,null,null,null,null,{"$error":"#N/A"}]
[null,null,null,null,null,null,null,null,null,null,null,null,null,null,null,null,null,null,null,null,null,null,null,null,null,null,null,null,29,9900,3700,null,9900,null,1,null,null,null,null,{"$error":"#N/A"},null,null,null,null,null,{"$error":"#N/A"}]
[null,null,null,null,null,null,null,null,null,null,null,null,null,null,null,null,null,null,null,null,null,null,null,null,null,null,null,null,30,9900,3800,null,9900,null,1,null,null,null,null,{"$error":"#N/A"},null,null,null,null,null,{"$error":"#N/A"}]
[null,null,null,null,null,null,null,null,null,null,null,null,null,null,null,null,null,null,null,null,null,null,null,null,null,null,null,null,31,9900,3900,null,9900,null,1,null,null,null,null,{"$error":"#N/A"},null,null,null,null,null,{"$error":"#N/A"}]
[null,null,null,null,null,null,null,null,null,null,null,null,null,null,null,null,null,null,null,null,null,null,null,null,null,null,null,null,32,9900,4000,null,9900,null,1,null,null,null,null,{"$error":"#N/A"},null,null,null,null,null,{"$error":"#N/A"}]
[null,null,null,null,null,null,null,null,null,null,null,null,null,null,null,null,null,null,null,null,null,null,null,null,null,null,null,null,33,9900,4100,null,9900,null,1,null,null,null,null,{"$error":"#N/A"},null,null,null,null,null,{"$error":"#N/A"}]
[null,null,null,null,null,null,null,null,null,null,null,null,null,null,null,null,null,null,null,null,null,null,null,null,null,null,null,null,34,9900,4200,null,9900,null,1,null,null,null,null,{"$error":"#N/A"},null,null,null,null,null,{"$error":"#N/A"}]
[null,null,null,null,null,null,null,null,null,null,null,null,null,null,null,null,null,null,null,null,null,null,null,null,null,null,null,null,35,9900,4300,null,9900,null,1,null,null,null,null,{"$error":"#N/A"},null,null,null,null,null,{"$error":"#N/A"}]
[null,null,null,null,null,null,null,null,null,null,null,null,null,null,null,null,null,null,null,null,null,null,null,null,null,null,null,null,36,9900,4400,null,9900,null,1,null,null,null,null,{"$error":"#N/A"},null,null,null,null,null,{"$error":"#N/A"}]
[null,null,null,null,null,null,null,null,null,null,null,null,null,null,null,null,null,null,null,null,null,null,null,null,null,null,null,null,37,9900,4500,null,9900,null,1,null,null,null,null,{"$error":"#N/A"},null,null,null,null,null,{"$error":"#N/A"}]
[null,null,null,null,null,null,null,null,null,null,null,null,null,null,null,null,null,null,null,null,null,null,null,null,null,null,null,null,38,9900,4600,null,9900,null,1,null,null,null,null,{"$error":"#N/A"},null,null,null,null,null,{"$error":"#N/A"}]
[null,null,null,null,null,null,null,null,null,null,null,null,null,null,null,null,null,null,null,null,null,null,null,null,null,null,null,null,39,9900,4700,null,9900,null,1,null,null,null,null,{"$f":"VLOOKUP(AL30,AM27:AN45,2,0)","v":{"$error":"#N/A"}}]
[null,null,null,null,null,null,null,null,null,null,null,null,null,null,null,null,null,null,null,null,null,null,null,null,null,null,null,null,40,9900,4800,null,9900,null,1]
[null,null,null,null,null,null,null,null,null,null,null,null,null,null,null,null,null,null,null,null,null,null,null,null,null,null,null,null,41,9900,4900,null,9900,null,1,null,{"$f":"M15","v":0},{"$f":"M14","v":0},1,"U/S 80 EE-Interest on Housing Loan Property (Limit 2 lakh)",null,{"$f":"IF(M13<=AS67,M13,IF(M13>AS67,AS67))","v":0},{"$f":"IF(AL67<=AS67,AL67,IF(AL67>AS67,AS67))","v":0},2,200000,{"$f":"IF(AK67<=AS67,AK67,IF(AK67>AS67,AS67))","v":0},{"$f":"VLOOKUP(AT47,AN67:AT81,3,0)","v":0}]
[null,null,null,null,null,null,null,null,null,null,null,null,null,null,null,null,null,null,null,null,null,null,null,null,null,null,null,null,42,9900,5000,null,9900,null,1,null,{"$f":"AK67","v":0},{"$f":"AL67","v":0},2,"U/S 80 E-Interest on Educational Loan",null,{"$f":"IF(M13<=AS68,M13,IF(M13>AS68,AS68))","v":0},0,2,200000,{"$f":"IF(AK68<=AS68,AK68,IF(AK68>AS68,AS68))","v":0},{"$f":"VLOOKUP(AT48,AN67:AT81,4,0)","v":0}]
[null,null,null,null,null,null,null,null,null,null,null,null,null,null,null,null,null,null,null,null,null,null,null,null,null,null,null,null,43,9900,5100,null,9900,null,1,null,0,0,3,"U/S 80 DDB-Medical treatment of Self/dependent( 40%) Limit Rs. 40,000",null,{"$f":"IF(M13<=AS69,M13,IF(M13>AS69,AS69))","v":0},0,3,50000,0,{"$f":"VLOOKUP(AT49,AN67:AT81,7,0)","v":0}]
[null,null,null,null,null,null,null,null,null,null,null,null,null,null,null,null,null,null,null,null,null,null,null,null,null,null,null,null,44,9900,5200,null,9900,null,1,null,0,0,4,"U/S 80 DDB-Medical treatment of dependent(80%)",null,{"$f":"IF(M13<=AS70,M13,IF(M13>AS70,AS70))","v":0},0,3,100000,0]
[null,null,null,null,null,null,null,null,null,null,null,null,null,null,null,null,null,null,null,null,null,null,null,null,null,null,null,null,45,9900,5300,null,9900,null,1,null,0,0,5,"U/S 80 DD- Expenditure on Medical treatment( for specified diseases)",null,{"$f":"IF(M13<=AS71,M13,IF(M13>AS71,AS71))","v":0},0,2,40000,0]
[null,null,null,null,null,null,null,null,null,null,null,null,null,null,null,null,null,null,null,null,null,null,null,null,null,null,null,null,46,9900,5400,null,9900,null,1,null,0,0,6,"U/S 80 DD-Expenditure on treatment for diseases( senior citizen)",null,{"$f":"IF(M13<=AS72,M13,IF(M13>AS72,AS72))","v":0},0,2,60000,0]
[null,null,null,null,null,null,null,null,null,null,null,null,null,null,null,null,null,null,null,null,null,null,null,null,null,null,null,null,47,9900,5500,null,9900,null,1,null,0,0,7,"U/S 80 D-Medical Insurance premium ( for employee)",null,{"$f":"IF(M13<=AS73,M13,IF(M13>AS73,AS73))","v":0},0,4,15000,0]
[null,null,null,null,null,null,null,null,null,null,null,null,null,null,null,null,null,null,null,null,null,null,null,null,null,null,null,null,48,9900,5600,null,9900,null,1,null,0,0,8,"U/S 80 D-Medical Insurance premium ( senior citizen)",null,{"$f":"IF(M13<=AS74,M13,IF(M13>AS74,AS74))","v":0},0,4,20000,0]
[null,null,null,null,null,null,null,null,null,null,null,null,null,null,null,null,null,null,null,null,null,null,null,null,null,null,null,null,49,9900,5700,null,9900,null,1,null,0,0,9,"U/S 80 U-Deductions for disabled person (40%) Limit Rs. 75,000",null,{"$f":"IF(M13<=AS75,M13,IF(M14>AS75,AS75))","v":0},0,5,75000,0]
[null,null,null,null,null,null,null,null,null,null,null,null,null,null,null,null,null,null,null,null,null,null,null,null,null,null,null,null,50,9900,5800,null,9900,null,1,null,0,0,10,"U/S 80 U-Deductions for disabled person (80%) Limit Rs. 120000",null,{"$f":"IF(M13<=AS76,M13,IF(M13>AS76,AS76))","v":0},0,5,125000,0]
[null,null,null,null,null,null,null,null,null,null,null,null,null,null,null,null,null,null,null,null,null,null,null,null,null,null,null,null,51,9900,5900,null,9900,null,1,null,0,0,11,"U/S 80 G-Donation of Charitable Institution-50%",null,{"$f":"IF(M13<=AS77,M13,IF(M13>AS77,AS77))","v":0},0,6,500000,0]
[null,null,null,null,null,null,null,null,null,null,null,null,null,null,null,null,null,null,null,null,null,null,null,null,null,null,null,null,52,9900,6000,null,9900,null,1,null,0,0,12,"U/S 80 G-Donation of Charitable Institution-100%",null,{"$f":"IF(M13<=AS78,M13,IF(M13>AS78,AS78))","v":0},0,6,250000,0]
[null,null,null,null,null,null,null,null,null,null,null,null,null,null,null,null,null,null,null,null,null,null,null,null,null,null,null,null,53,9900,6100,null,9900,null,1,null,0,0,13,"U/S 80 G-Donation on certain specified funds-100%",null,{"$f":"IF(M13<=AS79,M13,IF(M13>AS79,AS79))","v":0},{"$f":"IF(AL79<=AS79,AL79,IF(AL79>AS79,AS79))","v":0},6,500000,0]
[null,null,null,null,null,null,null,null,null,null,null,null,null,null,null,null,null,null,null,null,null,null,null,null,null,null,null,null,54,9900,6200,null,9900,null,1,null,0,0,14,"U/S 80 G-Payments made to electoral Trusts-100%",null,{"$f":"IF(M13<=AS80,M13,IF(M13>AS80,AS80))","v":0},{"$f":"IF(AL80<=AS80,AL80,IF(AL80>AS80,AS80))","v":0},7,500000,{"$f":"IF(AK80<=AS80,AK80,IF(AK80>AS80,AS80))","v":0}]
[null,null,null,null,null,null,null,null,null,null,null,null,null,null,null,null,null,null,null,null,null,null,null,null,null,null,null,null,55,9900,6300,null,9900,null,1,null,null,{"$f":"AL80","v":0},15,"U/S 80 EE-Interest on Housing Loan upto 35 lakhs for 1st time : (limit 2.5 lakh)",null,{"$f":"IF(M13<=AS81,M13,IF(M13>AS81,AS81))","v":0},{"$f":"IF(AL81<=AS81,AL81,IF(AL81>AS81,AS81))","v":0},7,250000,{"$f":"IF(AK81<=AS81,AK81,IF(AK81>AS81,AS81))","v":0}]
[null,null,null,null,null,null,null,null,null,null,null,null,null,null,null,null,null,null,null,null,null,null,null,null,null,null,null,null,56,9900,6400,null,9900,null,1]
[null,null,null,null,null,null,null,null,null,null,null,null,null,null,null,null,null,null,null,null,null,null,null,null,null,null,null,null,57,9900,6500,null,9900,null,1]
[null,null,null,null,null,null,null,null,null,null,null,null,null,null,null,null,null,null,null,null,null,null,null,null,null,null,null,null,58,9900,6600,null,9900,null,1]
[null,null,null,null,null,null,null,null,null,null,null,null,null,null,null,null,null,null,null,null,null,null,null,null,null,null,null,null,59,9900,6700,null,9900,null,1]
[null,null,null,null,null,null,null,null,null,null,null,null,null,null,null,null,null,null,null,null,null,null,null,null,null,null,null,null,60,9900,6800,null,9900,null,1]
[null,null,null,null,null,null,null,null,null,null,null,null,null,null,null,null,null,null,null,null,null,null,null,null,null,null,null,null,61,9900,6900,null,9900,null,1]
[null,null,null,null,null,null,null,null,null,null,null,null,null,null,null,null,null,null,null,null,null,null,null,null,null,null,null,null,62,9900,7000,null,9900,null,1]
[null,null,null,null,null,null,null,null,null,null,null,null,null,null,null,null,null,null,null,null,null,null,null,null,null,null,null,null,63,9900,7100,null,9900,null,1]
[null,null,null,null,null,null,null,null,null,null,null,null,null,null,null,null,null,null,null,null,null,null,null,null,null,null,null,null,64,9900,7200,null,9900,null,1]
[null,null,null,null,null,null,null,null,null,null,null,null,null,null,null,null,null,null,null,null,null,null,null,null,null,null,null,null,65,{"$f":"IF(AI91=1,AG91,AE91)","v":9900},7300,null,9900,null,1]
[null,null,null,null,null,null,null,null,null,null,null,null,null,null,null,null,null,null,null,null,null,null,null,null,null,null,null,null,66,9900,7400,null,{"$f":"AG91","v":9900},null,{"$f":"AI91","v":1}]
[null,null,null,null,null,null,null,null,null,null,null,null,null,null,null,null,null,null,null,null,null,null,null,null,null,null,null,null,67,9900,7500,null,9900,null,1]
[null,null,null,null,null,null,null,null,null,null,null,null,null,null,null,null,null,null,null,null,null,null,null,null,null,null,null,null,68,9900,7600,null,9900,null,1]
[null,null,null,null,null,null,null,null,null,null,null,null,null,null,null,null,null,null,null,null,null,null,null,null,null,null,null,null,69,9900,7700,null,9900,null,1]
[null,null,null,null,null,null,null,null,null,null,null,null,null,null,null,null,null,null,null,null,null,null,null,null,null,null,null,null,70,9900,7800,null,9900,null,1]
[null,null,null,null,null,null,null,null,null,null,null,null,null,null,null,null,null,null,null,null,null,null,null,null,null,null,null,null,71,9900,7900,null,9900,null,1]
[null,null,null,null,null,null,null,null,null,null,null,null,null,null,null,null,null,null,null,null,null,null,null,null,null,null,null,null,72,9900,8000,null,9900,null,1]
[null,null,null,null,null,null,null,null,null,null,null,null,null,null,null,null,null,null,null,null,null,null,null,null,null,null,null,null,73,9900,8100,null,9900,null,1]
[null,null,null,null,null,null,null,null,null,null,null,null,null,null,null,null,null,null,null,null,null,null,null,null,null,null,null,null,74,9900,8200,null,9900,null,1]
[null,null,null,null,null,null,null,null,null,null,null,null,null,null,null,null,null,null,null,null,null,null,null,null,null,null,null,null,75,9900,8300,null,9900,null,1]
[null,null,null,null,null,null,null,null,null,null,null,null,null,null,null,null,null,null,null,null,null,null,null,null,null,null,null,null,76,9900,8400,null,9900,null,1]
[null,null,null,null,null,null,null,null,null,null,null,null,null,null,null,null,null,null,null,null,null,null,null,null,null,null,null,null,77,9900,8500,null,9900,null,1]
[null,null,null,null,null,null,null,null,null,null,null,null,null,null,null,null,null,null,null,null,null,null,null,null,null,null,null,null,78,9900,8600,null,9900,null,1]
[null,null,null,null,null,null,null,null,null,null,null,null,null,null,null,null,null,null,null,null,null,null,null,null,null,null,null,null,79,9900,8700,null,9900,null,1]
[null,null,null,null,null,null,null,null,null,null,null,null,null,null,null,null,null,null,null,null,null,null,null,null,null,null,null,null,80,9900,8800,null,9900,null,1]
[null,null,null,null,null,null,null,null,null,null,null,null,null,null,null,null,null,null,null,null,null,null,null,null,null,null,null,null,81,9900,8900,null,9900,null,1]
[null,null,null,null,null,null,null,null,null,null,null,null,null,null,null,null,null,null,null,null,null,null,null,null,null,null,null,null,82,9900,9000,null,9900,null,1]
[null,null,null,null,null,null,null,null,null,null,null,null,null,null,null,null,null,null,null,null,null,null,null,null,null,null,null,null,83,9900,9100,null,9900,null,1]
[null,null,null,null,null,null,null,null,null,null,null,null,null,null,null,null,null,null,null,null,null,null,null,null,null,null,null,null,84,9900,9200,null,9900,null,1]
[null,null,null,null,null,null,null,null,null,null,null,null,null,null,null,null,null,null,null,null,null,null,null,null,null,null,null,null,85,9900,9300,null,9900,null,1]
[null,null,null,null,null,null,null,null,null,null,null,null,null,null,null,null,null,null,null,null,null,null,null,null,null,null,null,null,86,9900,9400,null,9900,null,1]
[null,null,null,null,null,null,null,null,null,null,null,null,null,null,null,null,null,null,null,null,null,null,null,null,null,null,null,null,87,9900,9500,null,9900,null,1]
[null,null,null,null,null,null,null,null,null,null,null,null,null,null,null,null,null,null,null,null,null,null,null,null,null,null,null,null,88,9900,9600,null,9900,null,1]
[null,null,null,null,null,null,null,null,null,null,null,null,null,null,null,null,null,null,null,null,null,null,null,null,null,null,null,null,89,9900,9700,null,9900,null,1]
[null,null,null,null,null,null,null,null,null,null,null,null,null,null,null,null,null,null,null,null,null,null,null,null,null,null,null,null,90,9900,9800,null,9900,null,1]
[null,null,null,null,null,null,null,null,null,null,null,null,null,null,null,null,null,null,null,null,null,null,null,null,null,null,null,null,91,9900,9900,null,9900,null,1]
[null,null,null,null,null,null,null,null,null,null,null,null,null,null,null,null,null,null,null,null,null,null,null,null,null,null,null,null,92,9900,10000,null,9900,null,1]
[null,null,null,null,null,null,null,null,null,null,null,null,null,null,null,null,null,null,null,null,null,null,null,null,null,null,null,null,93,9900,10100,null,9900,null,1]
[null,null,null,null,null,null,null,null,null,null,null,null,null,null,null,null,null,null,null,null,null,null,null,null,null,null,null,null,94,9900,10200,null,9900,null,1]
[null,null,null,null,null,null,null,null,null,null,null,null,null,null,null,null,null,null,null,null,null,null,null,null,null,null,null,null,95,9900,10300,null,9900,null,1]
[null,null,null,null,null,null,null,null,null,null,null,null,null,null,null,null,null,null,null,null,null,null,null,null,null,null,null,null,96,9900,10400,null,9900,null,1]
[null,null,null,null,null,null,null,null,null,null,null,null,null,null,null,null,null,null,null,null,null,null,null,null,null,null,null,null,97,9900,10500,null,9900,null,1]
[null,null,null,null,null,null,null,null,null,null,null,null,null,null,null,null,null,null,null,null,null,null,null,null,null,null,null,null,98,9900,10600,null,9900,null,1]
[null,null,null,null,null,null,null,null,null,null,null,null,null,null,null,null,null,null,null,null,null,null,null,null,null,null,null,null,99,9900,10700,null,9900,null,1]
[null,null,null,null,null,null,null,null,null,null,null,null,null,null,null,null,null,null,null,null,null,null,null,null,null,null,null,null,100,9900,10800,null,9900,null,1]
[null,null,null,null,null,null,null,null,null,null,null,null,null,null,null,null,null,null,null,null,null,null,null,null,null,null,null,null,101,9900,10900,null,9900,null,1]
[null,null,null,null,null,null,null,null,null,null,null,null,null,null,null,null,null,null,null,null,null,null,null,null,null,null,null,null,102,9900,11000,null,9900,null,1]
[null,null,null,null,null,null,null,null,null,null,null,null,null,null,null,null,null,null,null,null,null,null,null,null,null,null,null,null,103,9900,11100,null,9900,null,1]
[null,null,null,null,null,null,null,null,null,null,null,null,null,null,null,null,null,null,null,null,null,null,null,null,null,null,null,null,104,9900,11200,null,9900,null,1]
[null,null,null,null,null,null,null,null,null,null,null,null,null,null,null,null,null,null,null,null,null,null,null,null,null,null,null,null,105,9900,11300,null,9900,null,1]
[null,null,null,null,null,null,null,null,null,null,null,null,null,null,null,null,null,null,null,null,null,null,null,null,null,null,null,null,106,9900,11400,null,9900,null,1]
[null,null,null,null,null,null,null,null,null,null,null,null,null,null,null,null,null,null,null,null,null,null,null,null,null,null,null,null,107,9900,11500,null,9900,null,1]
[null,null,null,null,null,null,null,null,null,null,null,null,null,null,null,null,null,null,null,null,null,null,null,null,null,null,null,null,108,9900,11600,null,9900,null,1]
[null,null,null,null,null,null,null,null,null,null,null,null,null,null,null,null,null,null,null,null,null,null,null,null,null,null,null,null,109,9900,11700,null,9900,null,1]
[null,null,null,null,null,null,null,null,null,null,null,null,null,null,null,null,null,null,null,null,null,null,null,null,null,null,null,null,110,9900,11800,null,9900,null,1]
[null,null,null,null,null,null,null,null,null,null,null,null,null,null,null,null,null,null,null,null,null,null,null,null,null,null,null,null,111,9900,11900,null,9900,null,1]
[null,null,null,null,null,null,null,null,null,null,null,null,null,null,null,null,null,null,null,null,null,null,null,null,null,null,null,null,112,9900,12000,null,9900,null,1]
[null,null,null,null,null,null,null,null,null,null,null,null,null,null,null,null,null,null,null,null,null,null,null,null,null,null,null,null,113,9900,12100,null,9900,null,1]
[null,null,null,null,null,null,null,null,null,null,null,null,null,null,null,null,null,null,null,null,null,null,null,null,null,null,null,null,114,9900,12200,null,9900,null,1]
[null,null,null,null,null,null,null,null,null,null,null,null,null,null,null,null,null,null,null,null,null,null,null,null,null,null,null,null,115,9900,12300,null,9900,null,1]
[null,null,null,null,null,null,null,null,null,null,null,null,null,null,null,null,null,null,null,null,null,null,null,null,null,null,null,null,116,9900,12400,null,9900,null,1]
[null,null,null,null,null,null,null,null,null,null,null,null,null,null,null,null,null,null,null,null,null,null,null,null,null,null,null,null,117,9900,12500,null,9900,null,1]
[null,null,null,null,null,null,null,null,null,null,null,null,null,null,null,null,null,null,null,null,null,null,null,null,null,null,null,null,118,9900,12600,null,9900,null,1]
[null,null,null,null,null,null,null,null,null,null,null,null,null,null,null,null,null,null,null,null,null,null,null,null,null,null,null,null,119,9900,12700,null,9900,null,1]
[null,null,null,null,null,null,null,null,null,null,null,null,null,null,null,null,null,null,null,null,null,null,null,null,null,null,null,null,120,9900,12800,null,9900,null,1]
[null,null,null,null,null,null,null,null,null,null,null,null,null,null,null,null,null,null,null,null,null,null,null,null,null,null,null,null,121,9900,12900,null,9900,null,1]
[null,null,null,null,null,null,null,null,null,null,null,null,null,null,null,null,null,null,null,null,null,null,null,null,null,null,null,null,122,9900,13000,null,9900,null,1]
[null,null,null,null,null,null,null,null,null,null,null,null,null,null,null,null,null,null,null,null,null,null,null,null,null,null,null,null,123,9900,13100,null,9900,null,1]
[null,null,null,null,null,null,null,null,null,null,null,null,null,null,null,null,null,null,null,null,null,null,null,null,null,null,null,null,124,9900,13200,null,9900,null,1]
[null,null,null,null,null,null,null,null,null,null,null,null,null,null,null,null,null,null,null,null,null,null,null,null,null,null,null,null,125,9900,13300,null,9900,null,1]
[null,null,null,null,null,null,null,null,null,null,null,null,null,null,null,null,null,null,null,null,null,null,null,null,null,null,null,null,126,9900,13400,null,9900,null,1]
[null,null,null,null,null,null,null,null,null,null,null,null,null,null,null,null,null,null,null,null,null,null,null,null,null,null,null,null,127,9900,13500,null,9900,null,1]
[null,null,null,null,null,null,null,null,null,null,null,null,null,null,null,null,null,null,null,null,null,null,null,null,null,null,null,null,128,9900,13600,null,9900,null,1]
[null,null,null,null,null,null,null,null,null,null,null,null,null,null,null,null,null,null,null,null,null,null,null,null,null,null,null,null,129,{"$f":"IF(AI155=1,AG155,AE155)","v":9900},13700,null,9900,null,1]
[null,null,null,null,null,null,null,null,null,null,null,null,null,null,null,null,null,null,null,null,null,null,null,null,null,null,null,null,130,9900,13800,null,{"$f":"AG155","v":9900},null,{"$f":"AI155","v":1}]
[null,null,null,null,null,null,null,null,null,null,null,null,null,null,null,null,null,null,null,null,null,null,null,null,null,null,null,null,131,9900,13900,null,9900,null,1]
[null,null,null,null,null,null,null,null,null,null,null,null,null,null,null,null,null,null,null,null,null,null,null,null,null,null,null,null,132,9900,14000,null,9900,null,1]
[null,null,null,null,null,null,null,null,null,null,null,null,null,null,null,null,null,null,null,null,null,null,null,null,null,null,null,null,133,9900,14100,null,9900,null,1]
[null,null,null,null,null,null,null,null,null,null,null,null,null,null,null,null,null,null,null,null,null,null,null,null,null,null,null,null,134,9900,14200,null,9900,null,1]
[null,null,null,null,null,null,null,null,null,null,null,null,null,null,null,null,null,null,null,null,null,null,null,null,null,null,null,null,135,9900,14300,null,9900,null,1]
[null,null,null,null,null,null,null,null,null,null,null,null,null,null,null,null,null,null,null,null,null,null,null,null,null,null,null,null,136,9900,14400,null,9900,null,1]
[null,null,null,null,null,null,null,null,null,null,null,null,null,null,null,null,null,null,null,null,null,null,null,null,null,null,null,null,137,9900,14500,null,9900,null,1]
[null,null,null,null,null,null,null,null,null,null,null,null,null,null,null,null,null,null,null,null,null,null,null,null,null,null,null,null,138,9900,14600,null,9900,null,1]
[null,null,null,null,null,null,null,null,null,null,null,null,null,null,null,null,null,null,null,null,null,null,null,null,null,null,null,null,139,9900,14700,null,9900,null,1]
[null,null,null,null,null,null,null,null,null,null,null,null,null,null,null,null,null,null,null,null,null,null,null,null,null,null,null,null,140,9900,14800,null,9900,null,1]
[null,null,null,null,null,null,null,null,null,null,null,null,null,null,null,null,null,null,null,null,null,null,null,null,null,null,null,null,141,9900,14900,null,9900,null,1]
[null,null,null,null,null,null,null,null,null,null,null,null,null,null,null,null,null,null,null,null,null,null,null,null,null,null,null,null,142,9900,15000,null,9900,null,1]
[null,null,null,null,null,null,null,null,null,null,null,null,null,null,null,null,null,null,null,null,null,null,null,null,null,null,null,null,143,9900,15100,null,9900,null,1]
[null,null,null,null,null,null,null,null,null,null,null,null,null,null,null,null,null,null,null,null,null,null,null,null,null,null,null,null,144,9900,15200,null,9900,null,1]
[null,null,null,null,null,null,null,null,null,null,null,null,null,null,null,null,null,null,null,null,null,null,null,null,null,null,null,null,145,9900,15300,null,9900,null,1]
[null,null,null,null,null,null,null,null,null,null,null,null,null,null,null,null,null,null,null,null,null,null,null,null,null,null,null,null,146,9900,15400,null,9900,null,1]
[null,null,null,null,null,null,null,null,null,null,null,null,null,null,null,null,null,null,null,null,null,null,null,null,null,null,null,null,147,9900,15500,null,9900,null,1]
[null,null,null,null,null,null,null,null,null,null,null,null,null,null,null,null,null,null,null,null,null,null,null,null,null,null,null,null,148,9900,15600,null,9900,null,1]
[null,null,null,null,null,null,null,null,null,null,null,null,null,null,null,null,null,null,null,null,null,null,null,null,null,null,null,null,149,9900,15700,null,9900,null,1]
[null,null,null,null,null,null,null,null,null,null,null,null,null,null,null,null,null,null,null,null,null,null,null,null,null,null,null,null,150,9900,15800,null,9900,null,1]
[null,null,null,null,null,null,null,null,null,null,null,null,null,null,null,null,null,null,null,null,null,null,null,null,null,null,null,null,151,9900,15900,null,9900,null,1]
[null,null,null,null,null,null,null,null,null,null,null,null,null,null,null,null,null,null,null,null,null,null,null,null,null,null,null,null,152,9900,16000,null,9900,null,1]
[null,null,null,null,null,null,null,null,null,null,null,null,null,null,null,null,null,null,null,null,null,null,null,null,null,null,null,null,153,9900,16100,null,9900,null,1]
[null,null,null,null,null,null,null,null,null,null,null,null,null,null,null,null,null,null,null,null,null,null,null,null,null,null,null,null,154,9900,16200,null,9900,null,1]
[null,null,null,null,null,null,null,null,null,null,null,null,null,null,null,null,null,null,null,null,null,null,null,null,null,null,null,null,155,9900,16300,null,9900,null,1]
[null,null,null,null,null,null,null,null,null,null,null,null,null,null,null,null,null,null,null,null,null,null,null,null,null,null,null,null,156,9900,16400,null,9900,null,1]
[null,null,null,null,null,null,null,null,null,null,null,null,null,null,null,null,null,null,null,null,null,null,null,null,null,null,null,null,157,9900,16500,null,9900,null,1]
[null,null,null,null,null,null,null,null,null,null,null,null,null,null,null,null,null,null,null,null,null,null,null,null,null,null,null,null,158,9900,16600,null,9900,null,1]
[null,null,null,null,null,null,null,null,null,null,null,null,null,null,null,null,null,null,null,null,null,null,null,null,null,null,null,null,159,9900,16700,null,9900,null,1]
[null,null,null,null,null,null,null,null,null,null,null,null,null,null,null,null,null,null,null,null,null,null,null,null,null,null,null,null,160,9900,16800,null,9900,null,1]
[null,null,null,null,null,null,null,null,null,null,null,null,null,null,null,null,null,null,null,null,null,null,null,null,null,null,null,null,161,9900,16900,null,9900,null,1]
[null,null,null,null,null,null,null,null,null,null,null,null,null,null,null,null,null,null,null,null,null,null,null,null,null,null,null,null,162,9900,17000,null,9900,null,1]
[null,null,null,null,null,null,null,null,null,null,null,null,null,null,null,null,null,null,null,null,null,null,null,null,null,null,null,null,163,9900,17100,null,9900,null,1]
[null,null,null,null,null,null,null,null,null,null,null,null,null,null,null,null,null,null,null,null,null,null,null,null,null,null,null,null,164,9900,17200,null,9900,null,1]
[null,null,null,null,null,null,null,null,null,null,null,null,null,null,null,null,null,null,null,null,null,null,null,null,null,null,null,null,165,9900,17300,null,9900,null,1]
[null,null,null,null,null,null,null,null,null,null,null,null,null,null,null,null,null,null,null,null,null,null,null,null,null,null,null,null,166,9900,17400,null,9900,null,1]
[null,null,null,null,null,null,null,null,null,null,null,null,null,null,null,null,null,null,null,null,null,null,null,null,null,null,null,null,167,9900,17500,null,9900,null,1]
[null,null,null,null,null,null,null,null,null,null,null,null,null,null,null,null,null,null,null,null,null,null,null,null,null,null,null,null,168,9900,17600,null,9900,null,1]
[null,null,null,null,null,null,null,null,null,null,null,null,null,null,null,null,null,null,null,null,null,null,null,null,null,null,null,null,169,9900,17700,null,9900,null,1]
[null,null,null,null,null,null,null,null,null,null,null,null,null,null,null,null,null,null,null,null,null,null,null,null,null,null,null,null,170,9900,17800,null,9900,null,1]
[null,null,null,null,null,null,null,null,null,null,null,null,null,null,null,null,null,null,null,null,null,null,null,null,null,null,null,null,171,9900,17900,null,9900,null,1]
[null,null,null,null,null,null,null,null,null,null,null,null,null,null,null,null,null,null,null,null,null,null,null,null,null,null,null,null,172,9900,18000,null,9900,null,1]
[null,null,null,null,null,null,null,null,null,null,null,null,null,null,null,null,null,null,null,null,null,null,null,null,null,null,null,null,173,9900,18100,null,9900,null,1]
[null,null,null,null,null,null,null,null,null,null,null,null,null,null,null,null,null,null,null,null,null,null,null,null,null,null,null,null,174,9900,18200,null,9900,null,1]
[null,null,null,null,null,null,null,null,null,null,null,null,null,null,null,null,null,null,null,null,null,null,null,null,null,null,null,null,175,9900,18300,null,9900,null,1]
[null,null,null,null,null,null,null,null,null,null,null,null,null,null,null,null,null,null,null,null,null,null,null,null,null,null,null,null,176,9900,18400,null,9900,null,1]
[null,null,null,null,null,null,null,null,null,null,null,null,null,null,null,null,null,null,null,null,null,null,null,null,null,null,null,null,177,9900,18500,null,9900,null,1]
[null,null,null,null,null,null,null,null,null,null,null,null,null,null,null,null,null,null,null,null,null,null,null,null,null,null,null,null,178,9900,18600,null,9900,null,1]
[null,null,null,null,null,null,null,null,null,null,null,null,null,null,null,null,null,null,null,null,null,null,null,null,null,null,null,null,179,9900,18700,null,9900,null,1]
[null,null,null,null,null,null,null,null,null,null,null,null,null,null,null,null,null,null,null,null,null,null,null,null,null,null,null,null,180,9900,18800,null,9900,null,1]
[null,null,null,null,null,null,null,null,null,null,null,null,null,null,null,null,null,null,null,null,null,null,null,null,null,null,null,null,181,9900,18900,null,9900,null,1]
[null,null,null,null,null,null,null,null,null,null,null,null,null,null,null,null,null,null,null,null,null,null,null,null,null,null,null,null,182,9900,19000,null,9900,null,1]
[null,null,null,null,null,null,null,null,null,null,null,null,null,null,null,null,null,null,null,null,null,null,null,null,null,null,null,null,183,9900,19100,null,9900,null,1]
[null,null,null,null,null,null,null,null,null,null,null,null,null,null,null,null,null,null,null,null,null,null,null,null,null,null,null,null,184,9900,19200,null,9900,null,1]
[null,null,null,null,null,null,null,null,null,null,null,null,null,null,null,null,null,null,null,null,null,null,null,null,null,null,null,null,185,9900,19300,null,9900,null,1]
[null,null,null,null,null,null,null,null,null,null,null,null,null,null,null,null,null,null,null,null,null,null,null,null,null,null,null,null,186,9900,19400,null,9900,null,1]
[null,null,null,null,null,null,null,null,null,null,null,null,null,null,null,null,null,null,null,null,null,null,null,null,null,null,null,null,187,9900,19500,null,9900,null,1]
[null,null,null,null,null,null,null,null,null,null,null,null,null,null,null,null,null,null,null,null,null,null,null,null,null,null,null,null,188,9900,19600,null,9900,null,1]
[null,null,null,null,null,null,null,null,null,null,null,null,null,null,null,null,null,null,null,null,null,null,null,null,null,null,null,null,189,9900,19700,null,9900,null,1]
[null,null,null,null,null,null,null,null,null,null,null,null,null,null,null,null,null,null,null,null,null,null,null,null,null,null,null,null,190,9900,19800,null,9900,null,1]
[null,null,null,null,null,null,null,null,null,null,null,null,null,null,null,null,null,null,null,null,null,null,null,null,null,null,null,null,191,9900,19900,null,9900,null,1]
[null,null,null,null,null,null,null,null,null,null,null,null,null,null,null,null,null,null,null,null,null,null,null,null,null,null,null,null,192,9900,20000,null,9900,null,1]
[null,null,null,null,null,null,null,null,null,null,null,null,null,null,null,null,null,null,null,null,null,null,null,null,null,null,null,null,193,{"$f":"IF(AI219=1,AG219,AE219)","v":9900},20100,null,9900,null,1]
[null,null,null,null,null,null,null,null,null,null,null,null,null,null,null,null,null,null,null,null,null,null,null,null,null,null,null,null,194,9900,20200,null,{"$f":"AG219","v":9900},null,{"$f":"AI219","v":1}]
[null,null,null,null,null,null,null,null,null,null,null,null,null,null,null,null,null,null,null,null,null,null,null,null,null,null,null,null,195,9900,20300,null,9900,null,1]
[null,null,null,null,null,null,null,null,null,null,null,null,null,null,null,null,null,null,null,null,null,null,null,null,null,null,null,null,196,9900,20400,null,9900,null,1]
[null,null,null,null,null,null,null,null,null,null,null,null,null,null,null,null,null,null,null,null,null,null,null,null,null,null,null,null,197,9900,20500,null,9900,null,1]
[null,null,null,null,null,null,null,null,null,null,null,null,null,null,null,null,null,null,null,null,null,null,null,null,null,null,null,null,198,9900,20600,null,9900,null,1]
[null,null,null,null,null,null,null,null,null,null,null,null,null,null,null,null,null,null,null,null,null,null,null,null,null,null,null,null,199,9900,20700,null,9900,null,1]
[null,null,null,null,null,null,null,null,null,null,null,null,null,null,null,null,null,null,null,null,null,null,null,null,null,null,null,null,200,9900,20800,null,9900,null,1]
[null,null,null,null,null,null,null,null,null,null,null,null,null,null,null,null,null,null,null,null,null,null,null,null,null,null,null,null,201,9900,20900,null,9900,null,1]
[null,null,null,null,null,null,null,null,null,null,null,null,null,null,null,null,null,null,null,null,null,null,null,null,null,null,null,null,202,9900,21000,null,9900,null,1]
[null,null,null,null,null,null,null,null,null,null,null,null,null,null,null,null,null,null,null,null,null,null,null,null,null,null,null,null,203,9900,21100,null,9900,null,1]
[null,null,null,null,null,null,null,null,null,null,null,null,null,null,null,null,null,null,null,null,null,null,null,null,null,null,null,null,204,9900,21200,null,9900,null,1]
[null,null,null,null,null,null,null,null,null,null,null,null,null,null,null,null,null,null,null,null,null,null,null,null,null,null,null,null,205,9900,21300,null,9900,null,1]
[null,null,null,null,null,null,null,null,null,null,null,null,null,null,null,null,null,null,null,null,null,null,null,null,null,null,null,null,206,9900,21400,null,9900,null,1]
[null,null,null,null,null,null,null,null,null,null,null,null,null,null,null,null,null,null,null,null,null,null,null,null,null,null,null,null,207,9900,21500,null,9900,null,1]
[null,null,null,null,null,null,null,null,null,null,null,null,null,null,null,null,null,null,null,null,null,null,null,null,null,null,null,null,208,9900,21600,null,9900,null,1]
[null,null,null,null,null,null,null,null,null,null,null,null,null,null,null,null,null,null,null,null,null,null,null,null,null,null,null,null,209,9900,21700,null,9900,null,1]
[null,null,null,null,null,null,null,null,null,null,null,null,null,null,null,null,null,null,null,null,null,null,null,null,null,null,null,null,210,9900,21800,null,9900,null,1]
[null,null,null,null,null,null,null,null,null,null,null,null,null,null,null,null,null,null,null,null,null,null,null,null,null,null,null,null,211,9900,21900,null,9900,null,1]
[null,null,null,null,null,null,null,null,null,null,null,null,null,null,null,null,null,null,null,null,null,null,null,null,null,null,null,null,212,9900,22000,null,9900,null,1]
[null,null,null,null,null,null,null,null,null,null,null,null,null,null,null,null,null,null,null,null,null,null,null,null,null,null,null,null,213,9900,22100,null,9900,null,1]
[null,null,null,null,null,null,null,null,null,null,null,null,null,null,null,null,null,null,null,null,null,null,null,null,null,null,null,null,214,9900,22200,null,9900,null,1]
[null,null,null,null,null,null,null,null,null,null,null,null,null,null,null,null,null,null,null,null,null,null,null,null,null,null,null,null,215,9900,22300,null,9900,null,1]
[null,null,null,null,null,null,null,null,null,null,null,null,null,null,null,null,null,null,null,null,null,null,null,null,null,null,null,null,216,9900,22400,null,9900,null,1]
[null,null,null,null,null,null,null,null,null,null,null,null,null,null,null,null,null,null,null,null,null,null,null,null,null,null,null,null,217,9900,22500,null,9900,null,1]
[null,null,null,null,null,null,null,null,null,null,null,null,null,null,null,null,null,null,null,null,null,null,null,null,null,null,null,null,218,9900,22600,null,9900,null,1]
[null,null,null,null,null,null,null,null,null,null,null,null,null,null,null,null,null,null,null,null,null,null,null,null,null,null,null,null,219,9900,22700,null,9900,null,1]
[null,null,null,null,null,null,null,null,null,null,null,null,null,null,null,null,null,null,null,null,null,null,null,null,null,null,null,null,220,9900,22800,null,9900,null,1]
[null,null,null,null,null,null,null,null,null,null,null,null,null,null,null,null,null,null,null,null,null,null,null,null,null,null,null,null,221,9900,22900,null,9900,null,1]
[null,null,null,null,null,null,null,null,null,null,null,null,null,null,null,null,null,null,null,null,null,null,null,null,null,null,null,null,222,9900,23000,null,9900,null,1]
[null,null,null,null,null,null,null,null,null,null,null,null,null,null,null,null,null,null,null,null,null,null,null,null,null,null,null,null,223,9900,23100,null,9900,null,1]
[null,null,null,null,null,null,null,null,null,null,null,null,null,null,null,null,null,null,null,null,null,null,null,null,null,null,null,null,224,9900,23200,null,9900,null,1]
[null,null,null,null,null,null,null,null,null,null,null,null,null,null,null,null,null,null,null,null,null,null,null,null,null,null,null,null,225,9900,23300,null,9900,null,1]
[null,null,null,null,null,null,null,null,null,null,null,null,null,null,null,null,null,null,null,null,null,null,null,null,null,null,null,null,226,9900,23400,null,9900,null,1]
[null,null,null,null,null,null,null,null,null,null,null,null,null,null,null,null,null,null,null,null,null,null,null,null,null,null,null,null,227,9900,23500,null,9900,null,1]
[null,null,null,null,null,null,null,null,null,null,null,null,null,null,null,null,null,null,null,null,null,null,null,null,null,null,null,null,228,9900,23600,null,9900,null,1]
[null,null,null,null,null,null,null,null,null,null,null,null,null,null,null,null,null,null,null,null,null,null,null,null,null,null,null,null,229,9900,23700,null,9900,null,1]
[null,null,null,null,null,null,null,null,null,null,null,null,null,null,null,null,null,null,null,null,null,null,null,null,null,null,null,null,230,9900,23800,null,9900,null,1]
[null,null,null,null,null,null,null,null,null,null,null,null,null,null,null,null,null,null,null,null,null,null,null,null,null,null,null,null,231,9900,23900,null,9900,null,1]
[null,null,null,null,null,null,null,null,null,null,null,null,null,null,null,null,null,null,null,null,null,null,null,null,null,null,null,null,232,9900,24000,null,9900,null,1]
[null,null,null,null,null,null,null,null,null,null,null,null,null,null,null,null,null,null,null,null,null,null,null,null,null,null,null,null,233,9900,24100,null,9900,null,1]
[null,null,null,null,null,null,null,null,null,null,null,null,null,null,null,null,null,null,null,null,null,null,null,null,null,null,null,null,234,9900,24200,null,9900,null,1]
[null,null,null,null,null,null,null,null,null,null,null,null,null,null,null,null,null,null,null,null,null,null,null,null,null,null,null,null,235,9900,24300,null,9900,null,1]
[null,null,null,null,null,null,null,null,null,null,null,null,null,null,null,null,null,null,null,null,null,null,null,null,null,null,null,null,236,9900,24400,null,9900,null,1]
[null,null,null,null,null,null,null,null,null,null,null,null,null,null,null,null,null,null,null,null,null,null,null,null,null,null,null,null,237,9900,24500,null,9900,null,1]
[null,null,null,null,null,null,null,null,null,null,null,null,null,null,null,null,null,null,null,null,null,null,null,null,null,null,null,null,238,9900,24600,null,9900,null,1]
[null,null,null,null,null,null,null,null,null,null,null,null,null,null,null,null,null,null,null,null,null,null,null,null,null,null,null,null,239,9900,24700,null,9900,null,1]
[null,null,null,null,null,null,null,null,null,null,null,null,null,null,null,null,null,null,null,null,null,null,null,null,null,null,null,null,240,9900,24800,null,9900,null,1]
[null,null,null,null,null,null,null,null,null,null,null,null,null,null,null,null,null,null,null,null,null,null,null,null,null,null,null,null,241,9900,24900,null,9900,null,1]
[null,null,null,null,null,null,null,null,null,null,null,null,null,null,null,null,null,null,null,null,null,null,null,null,null,null,null,null,242,9900,25000,null,9900,null,1]
[null,null,null,null,null,null,null,null,null,null,null,null,null,null,null,null,null,null,null,null,null,null,null,null,null,null,null,null,243,9900,25100,null,9900,null,1]
[null,null,null,null,null,null,null,null,null,null,null,null,null,null,null,null,null,null,null,null,null,null,null,null,null,null,null,null,244,9900,25200,null,9900,null,1]
[null,null,null,null,null,null,null,null,null,null,null,null,null,null,null,null,null,null,null,null,null,null,null,null,null,null,null,null,245,9900,25300,null,9900,null,1]
[null,null,null,null,null,null,null,null,null,null,null,null,null,null,null,null,null,null,null,null,null,null,null,null,null,null,null,null,246,9900,25400,null,9900,null,1]
[null,null,null,null,null,null,null,null,null,null,null,null,null,null,null,null,null,null,null,null,null,null,null,null,null,null,null,null,247,9900,25500,null,9900,null,1]
[null,null,null,null,null,null,null,null,null,null,null,null,null,null,null,null,null,null,null,null,null,null,null,null,null,null,null,null,248,9900,25600,null,9900,null,1]
[null,null,null,null,null,null,null,null,null,null,null,null,null,null,null,null,null,null,null,null,null,null,null,null,null,null,null,null,249,9900,25700,null,9900,null,1]
[null,null,null,null,null,null,null,null,null,null,null,null,null,null,null,null,null,null,null,null,null,null,null,null,null,null,null,null,250,9900,25800,null,9900,null,1]
[null,null,null,null,null,null,null,null,null,null,null,null,null,null,null,null,null,null,null,null,null,null,null,null,null,null,null,null,251,9900,25900,null,9900,null,1]
[null,null,null,null,null,null,null,null,null,null,null,null,null,null,null,null,null,null,null,null,null,null,null,null,null,null,null,null,252,9900,26000,null,9900,null,1]
[null,null,null,null,null,null,null,null,null,null,null,null,null,null,null,null,null,null,null,null,null,null,null,null,null,null,null,null,253,9900,26100,null,9900,null,1]
[null,null,null,null,null,null,null,null,null,null,null,null,null,null,null,null,null,null,null,null,null,null,null,null,null,null,null,null,254,9900,26200,null,9900,null,1]
[null,null,null,null,null,null,null,null,null,null,null,null,null,null,null,null,null,null,null,null,null,null,null,null,null,null,null,null,255,9900,26300,null,9900,null,1]
[null,null,null,null,null,null,null,null,null,null,null,null,null,null,null,null,null,null,null,null,null,null,null,null,null,null,null,null,256,9900,26400,null,9900,null,1]
[null,null,null,null,null,null,null,null,null,null,null,null,null,null,null,null,null,null,null,null,null,null,null,null,null,null,null,null,257,{"$f":"IF(AI283=1,AG283,AE283)","v":9900},26500,null,9900,null,1]
[null,null,null,null,null,null,null,null,null,null,null,null,null,null,null,null,null,null,null,null,null,null,null,null,null,null,null,null,258,9900,26600,null,{"$f":"AG283","v":9900},null,{"$f":"AI283","v":1}]
[null,null,null,null,null,null,null,null,null,null,null,null,null,null,null,null,null,null,null,null,null,null,null,null,null,null,null,null,259,9900,26700,null,9900,null,1]
[null,null,null,null,null,null,null,null,null,null,null,null,null,null,null,null,null,null,null,null,null,null,null,null,null,null,null,null,260,9900,26800,null,9900,null,1]
[null,null,null,null,null,null,null,null,null,null,null,null,null,null,null,null,null,null,null,null,null,null,null,null,null,null,null,null,261,9900,26900,null,9900,null,1]
[null,null,null,null,null,null,null,null,null,null,null,null,null,null,null,null,null,null,null,null,null,null,null,null,null,null,null,null,262,9900,27000,null,9900,null,1]
[null,null,null,null,null,null,null,null,null,null,null,null,null,null,null,null,null,null,null,null,null,null,null,null,null,null,null,null,263,9900,27100,null,9900,null,1]
[null,null,null,null,null,null,null,null,null,null,null,null,null,null,null,null,null,null,null,null,null,null,null,null,null,null,null,null,264,9900,27200,null,9900,null,1]
[null,null,null,null,null,null,null,null,null,null,null,null,null,null,null,null,null,null,null,null,null,null,null,null,null,null,null,null,265,9900,27300,null,9900,null,1]
[null,null,null,null,null,null,null,null,null,null,null,null,null,null,null,null,null,null,null,null,null,null,null,null,null,null,null,null,266,9900,27400,null,9900,null,1]
[null,null,null,null,null,null,null,null,null,null,null,null,null,null,null,null,null,null,null,null,null,null,null,null,null,null,null,null,267,9900,27500,null,9900,null,1]
[null,null,null,null,null,null,null,null,null,null,null,null,null,null,null,null,null,null,null,null,null,null,null,null,null,null,null,null,268,9900,27600,null,9900,null,1]
[null,null,null,null,null,null,null,null,null,null,null,null,null,null,null,null,null,null,null,null,null,null,null,null,null,null,null,null,269,9900,27700,null,9900,null,1]
[null,null,null,null,null,null,null,null,null,null,null,null,null,null,null,null,null,null,null,null,null,null,null,null,null,null,null,null,270,9900,27800,null,9900,null,1]
[null,null,null,null,null,null,null,null,null,null,null,null,null,null,null,null,null,null,null,null,null,null,null,null,null,null,null,null,271,9900,27900,null,9900,null,1]
[null,null,null,null,null,null,null,null,null,null,null,null,null,null,null,null,null,null,null,null,null,null,null,null,null,null,null,null,272,9900,28000,null,9900,null,1]
[null,null,null,null,null,null,null,null,null,null,null,null,null,null,null,null,null,null,null,null,null,null,null,null,null,null,null,null,273,9900,28100,null,9900,null,1]
[null,null,null,null,null,null,null,null,null,null,null,null,null,null,null,null,null,null,null,null,null,null,null,null,null,null,null,null,274,9900,28200,null,9900,null,1]
[null,null,null,null,null,null,null,null,null,null,null,null,null,null,null,null,null,null,null,null,null,null,null,null,null,null,null,null,275,9900,28300,null,9900,null,1]
[null,null,null,null,null,null,null,null,null,null,null,null,null,null,null,null,null,null,null,null,null,null,null,null,null,null,null,null,276,9900,28400,null,9900,null,1]
[null,null,null,null,null,null,null,null,null,null,null,null,null,null,null,null,null,null,null,null,null,null,null,null,null,null,null,null,277,9900,28500,null,9900,null,1]
[null,null,null,null,null,null,null,null,null,null,null,null,null,null,null,null,null,null,null,null,null,null,null,null,null,null,null,null,278,9900,28600,null,9900,null,1]
[null,null,null,null,null,null,null,null,null,null,null,null,null,null,null,null,null,null,null,null,null,null,null,null,null,null,null,null,279,9900,28700,null,9900,null,1]
[null,null,null,null,null,null,null,null,null,null,null,null,null,null,null,null,null,null,null,null,null,null,null,null,null,null,null,null,280,9900,28800,null,9900,null,1]
[null,null,null,null,null,null,null,null,null,null,null,null,null,null,null,null,null,null,null,null,null,null,null,null,null,null,null,null,281,9900,28900,null,9900,null,1]
[null,null,null,null,null,null,null,null,null,null,null,null,null,null,null,null,null,null,null,null,null,null,null,null,null,null,null,null,282,9900,29000,null,9900,null,1]
[null,null,null,null,null,null,null,null,null,null,null,null,null,null,null,null,null,null,null,null,null,null,null,null,null,null,null,null,283,9900,29100,null,9900,null,1]
[null,null,null,null,null,null,null,null,null,null,null,null,null,null,null,null,null,null,null,null,null,null,null,null,null,null,null,null,284,9900,29200,null,9900,null,1]
[null,null,null,null,null,null,null,null,null,null,null,null,null,null,null,null,null,null,null,null,null,null,null,null,null,null,null,null,285,9900,29300,null,9900,null,1]
[null,null,null,null,null,null,null,null,null,null,null,null,null,null,null,null,null,null,null,null,null,null,null,null,null,null,null,null,286,9900,29400,null,9900,null,1]
[null,null,null,null,null,null,null,null,null,null,null,null,null,null,null,null,null,null,null,null,null,null,null,null,null,null,null,null,287,9900,29500,null,9900,null,1]
[null,null,null,null,null,null,null,null,null,null,null,null,null,null,null,null,null,null,null,null,null,null,null,null,null,null,null,null,288,9900,29600,null,9900,null,1]
[null,null,null,null,null,null,null,null,null,null,null,null,null,null,null,null,null,null,null,null,null,null,null,null,null,null,null,null,289,9900,29700,null,9900,null,1]
[null,null,null,null,null,null,null,null,null,null,null,null,null,null,null,null,null,null,null,null,null,null,null,null,null,null,null,null,290,9900,29800,null,9900,null,1]
[null,null,null,null,null,null,null,null,null,null,null,null,null,null,null,null,null,null,null,null,null,null,null,null,null,null,null,null,291,9900,29900,null,9900,null,1]
[null,null,null,null,null,null,null,null,null,null,null,null,null,null,null,null,null,null,null,null,null,null,null,null,null,null,null,null,292,9900,30000,null,9900,null,1]
[null,null,null,null,null,null,null,null,null,null,null,null,null,null,null,null,null,null,null,null,null,null,null,null,null,null,null,null,293,9900,30100,null,9900,null,1]
[null,null,null,null,null,null,null,null,null,null,null,null,null,null,null,null,null,null,null,null,null,null,null,null,null,null,null,null,294,9900,30200,null,9900,null,1]
[null,null,null,null,null,null,null,null,null,null,null,null,null,null,null,null,null,null,null,null,null,null,null,null,null,null,null,null,295,9900,30300,null,9900,null,1]
[null,null,null,null,null,null,null,null,null,null,null,null,null,null,null,null,null,null,null,null,null,null,null,null,null,null,null,null,296,9900,30400,null,9900,null,1]
[null,null,null,null,null,null,null,null,null,null,null,null,null,null,null,null,null,null,null,null,null,null,null,null,null,null,null,null,297,9900,30500,null,9900,null,1]
[null,null,null,null,null,null,null,null,null,null,null,null,null,null,null,null,null,null,null,null,null,null,null,null,null,null,null,null,298,9900,30600,null,9900,null,1]
[null,null,null,null,null,null,null,null,null,null,null,null,null,null,null,null,null,null,null,null,null,null,null,null,null,null,null,null,299,9900,30700,null,9900,null,1]
[null,null,null,null,null,null,null,null,null,null,null,null,null,null,null,null,null,null,null,null,null,null,null,null,null,null,null,null,300,9900,30800,null,9900,null,1]
[null,null,null,null,null,null,null,null,null,null,null,null,null,null,null,null,null,null,null,null,null,null,null,null,null,null,null,null,301,9900,30900,null,9900,null,1]
[null,null,null,null,null,null,null,null,null,null,null,null,null,null,null,null,null,null,null,null,null,null,null,null,null,null,null,null,302,9900,31000,null,9900,null,1]
[null,null,null,null,null,null,null,null,null,null,null,null,null,null,null,null,null,null,null,null,null,null,null,null,null,null,null,null,303,9900,31100,null,9900,null,1]
[null,null,null,null,null,null,null,null,null,null,null,null,null,null,null,null,null,null,null,null,null,null,null,null,null,null,null,null,304,9900,31200,null,9900,null,1]
[null,null,null,null,null,null,null,null,null,null,null,null,null,null,null,null,null,null,null,null,null,null,null,null,null,null,null,null,305,9900,31300,null,9900,null,1]
[null,null,null,null,null,null,null,null,null,null,null,null,null,null,null,null,null,null,null,null,null,null,null,null,null,null,null,null,306,9900,31400,null,9900,null,1]
[null,null,null,null,null,null,null,null,null,null,null,null,null,null,null,null,null,null,null,null,null,null,null,null,null,null,null,null,307,9900,31500,null,9900,null,1]
[null,null,null,null,null,null,null,null,null,null,null,null,null,null,null,null,null,null,null,null,null,null,null,null,null,null,null,null,308,9900,31600,null,9900,null,1]
[null,null,null,null,null,null,null,null,null,null,null,null,null,null,null,null,null,null,null,null,null,null,null,null,null,null,null,null,309,9900,31700,null,9900,null,1]
[null,null,null,null,null,null,null,null,null,null,null,null,null,null,null,null,null,null,null,null,null,null,null,null,null,null,null,null,310,9900,31800,null,9900,null,1]
[null,null,null,null,null,null,null,null,null,null,null,null,null,null,null,null,null,null,null,null,null,null,null,null,null,null,null,null,311,9900,31900,null,9900,null,1]
[null,null,null,null,null,null,null,null,null,null,null,null,null,null,null,null,null,null,null,null,null,null,null,null,null,null,null,null,312,9900,32000,null,9900,null,1]
[null,null,null,null,null,null,null,null,null,null,null,null,null,null,null,null,null,null,null,null,null,null,null,null,null,null,null,null,313,9900,32100,null,9900,null,1]
[null,null,null,null,null,null,null,null,null,null,null,null,null,null,null,null,null,null,null,null,null,null,null,null,null,null,null,null,314,9900,32200,null,9900,null,1]
[null,null,null,null,null,null,null,null,null,null,null,null,null,null,null,null,null,null,null,null,null,null,null,null,null,null,null,null,315,9900,32300,null,9900,null,1]
[null,null,null,null,null,null,null,null,null,null,null,null,null,null,null,null,null,null,null,null,null,null,null,null,null,null,null,null,316,9900,32400,null,9900,null,1]
[null,null,null,null,null,null,null,null,null,null,null,null,null,null,null,null,null,null,null,null,null,null,null,null,null,null,null,null,317,9900,32500,null,9900,null,1]
[null,null,null,null,null,null,null,null,null,null,null,null,null,null,null,null,null,null,null,null,null,null,null,null,null,null,null,null,318,9900,32600,null,9900,null,1]
[null,null,null,null,null,null,null,null,null,null,null,null,null,null,null,null,null,null,null,null,null,null,null,null,null,null,null,null,319,9900,32700,null,9900,null,1]
[null,null,null,null,null,null,null,null,null,null,null,null,null,null,null,null,null,null,null,null,null,null,null,null,null,null,null,null,320,9900,32800,null,9900,null,1]
[null,null,null,null,null,null,null,null,null,null,null,null,null,null,null,null,null,null,null,null,null,null,null,null,null,null,null,null,321,{"$f":"IF(AI347=1,AG347,AE347)","v":9900},32900,null,9900,null,1]
[null,null,null,null,null,null,null,null,null,null,null,null,null,null,null,null,null,null,null,null,null,null,null,null,null,null,null,null,322,9900,33000,null,{"$f":"AG347","v":9900},null,{"$f":"AI347","v":1}]
[null,null,null,null,null,null,null,null,null,null,null,null,null,null,null,null,null,null,null,null,null,null,null,null,null,null,null,null,323,9900,33100,null,9900,null,1]
[null,null,null,null,null,null,null,null,null,null,null,null,null,null,null,null,null,null,null,null,null,null,null,null,null,null,null,null,324,9900,33200,null,9900,null,1]
[null,null,null,null,null,null,null,null,null,null,null,null,null,null,null,null,null,null,null,null,null,null,null,null,null,null,null,null,325,9900,33300,null,9900,null,1]
[null,null,null,null,null,null,null,null,null,null,null,null,null,null,null,null,null,null,null,null,null,null,null,null,null,null,null,null,326,9900,33400,null,9900,null,1]
[null,null,null,null,null,null,null,null,null,null,null,null,null,null,null,null,null,null,null,null,null,null,null,null,null,null,null,null,327,9900,33500,null,9900,null,1]
[null,null,null,null,null,null,null,null,null,null,null,null,null,null,null,null,null,null,null,null,null,null,null,null,null,null,null,null,328,9900,33600,null,9900,null,1]
[null,null,null,null,null,null,null,null,null,null,null,null,null,null,null,null,null,null,null,null,null,null,null,null,null,null,null,null,329,9900,33700,null,9900,null,1]
[null,null,null,null,null,null,null,null,null,null,null,null,null,null,null,null,null,null,null,null,null,null,null,null,null,null,null,null,330,9900,33800,null,9900,null,1]
[null,null,null,null,null,null,null,null,null,null,null,null,null,null,null,null,null,null,null,null,null,null,null,null,null,null,null,null,331,9900,33900,null,9900,null,1]
[null,null,null,null,null,null,null,null,null,null,null,null,null,null,null,null,null,null,null,null,null,null,null,null,null,null,null,null,332,9900,34000,null,9900,null,1]
[null,null,null,null,null,null,null,null,null,null,null,null,null,null,null,null,null,null,null,null,null,null,null,null,null,null,null,null,333,9900,34100,null,9900,null,1]
[null,null,null,null,null,null,null,null,null,null,null,null,null,null,null,null,null,null,null,null,null,null,null,null,null,null,null,null,334,9900,34200,null,9900,null,1]
[null,null,null,null,null,null,null,null,null,null,null,null,null,null,null,null,null,null,null,null,null,null,null,null,null,null,null,null,335,9900,34300,null,9900,null,1]
[null,null,null,null,null,null,null,null,null,null,null,null,null,null,null,null,null,null,null,null,null,null,null,null,null,null,null,null,336,9900,34400,null,9900,null,1]
[null,null,null,null,null,null,null,null,null,null,null,null,null,null,null,null,null,null,null,null,null,null,null,null,null,null,null,null,337,9900,34500,null,9900,null,1]
[null,null,null,null,null,null,null,null,null,null,null,null,null,null,null,null,null,null,null,null,null,null,null,null,null,null,null,null,338,9900,34600,null,9900,null,1]
[null,null,null,null,null,null,null,null,null,null,null,null,null,null,null,null,null,null,null,null,null,null,null,null,null,null,null,null,339,9900,34700,null,9900,null,1]
[null,null,null,null,null,null,null,null,null,null,null,null,null,null,null,null,null,null,null,null,null,null,null,null,null,null,null,null,340,9900,34800,null,9900,null,1]
[null,null,null,null,null,null,null,null,null,null,null,null,null,null,null,null,null,null,null,null,null,null,null,null,null,null,null,null,341,9900,34900,null,9900,null,1]
[null,null,null,null,null,null,null,null,null,null,null,null,null,null,null,null,null,null,null,null,null,null,null,null,null,null,null,null,342,9900,35000,null,9900,null,1]
[null,null,null,null,null,null,null,null,null,null,null,null,null,null,null,null,null,null,null,null,null,null,null,null,null,null,null,null,343,9900,35100,null,9900,null,1]
[null,null,null,null,null,null,null,null,null,null,null,null,null,null,null,null,null,null,null,null,null,null,null,null,null,null,null,null,344,9900,35200,null,9900,null,1]
[null,null,null,null,null,null,null,null,null,null,null,null,null,null,null,null,null,null,null,null,null,null,null,null,null,null,null,null,345,9900,35300,null,9900,null,1]
[null,null,null,null,null,null,null,null,null,null,null,null,null,null,null,null,null,null,null,null,null,null,null,null,null,null,null,null,346,9900,35400,null,9900,null,1]
[null,null,null,null,null,null,null,null,null,null,null,null,null,null,null,null,null,null,null,null,null,null,null,null,null,null,null,null,347,9900,35500,null,9900,null,1]
[null,null,null,null,null,null,null,null,null,null,null,null,null,null,null,null,null,null,null,null,null,null,null,null,null,null,null,null,348,9900,35600,null,9900,null,1]
[null,null,null,null,null,null,null,null,null,null,null,null,null,null,null,null,null,null,null,null,null,null,null,null,null,null,null,null,349,9900,35700,null,9900,null,1]
[null,null,null,null,null,null,null,null,null,null,null,null,null,null,null,null,null,null,null,null,null,null,null,null,null,null,null,null,350,9900,35800,null,9900,null,1]
[null,null,null,null,null,null,null,null,null,null,null,null,null,null,null,null,null,null,null,null,null,null,null,null,null,null,null,null,351,9900,35900,null,9900,null,1]
[null,null,null,null,null,null,null,null,null,null,null,null,null,null,null,null,null,null,null,null,null,null,null,null,null,null,null,null,352,9900,36000,null,9900,null,1]
[null,null,null,null,null,null,null,null,null,null,null,null,null,null,null,null,null,null,null,null,null,null,null,null,null,null,null,null,353,9900,36100,null,9900,null,1]
[null,null,null,null,null,null,null,null,null,null,null,null,null,null,null,null,null,null,null,null,null,null,null,null,null,null,null,null,354,9900,36200,null,9900,null,1]
[null,null,null,null,null,null,null,null,null,null,null,null,null,null,null,null,null,null,null,null,null,null,null,null,null,null,null,null,355,9900,36300,null,9900,null,1]
[null,null,null,null,null,null,null,null,null,null,null,null,null,null,null,null,null,null,null,null,null,null,null,null,null,null,null,null,356,9900,36400,null,9900,null,1]
[null,null,null,null,null,null,null,null,null,null,null,null,null,null,null,null,null,null,null,null,null,null,null,null,null,null,null,null,357,9900,36500,null,9900,null,1]
[null,null,null,null,null,null,null,null,null,null,null,null,null,null,null,null,null,null,null,null,null,null,null,null,null,null,null,null,358,9900,36600,null,9900,null,1]
[null,null,null,null,null,null,null,null,null,null,null,null,null,null,null,null,null,null,null,null,null,null,null,null,null,null,null,null,359,9900,36700,null,9900,null,1]
[null,null,null,null,null,null,null,null,null,null,null,null,null,null,null,null,null,null,null,null,null,null,null,null,null,null,null,null,360,9900,36800,null,9900,null,1]
[null,null,null,null,null,null,null,null,null,null,null,null,null,null,null,null,null,null,null,null,null,null,null,null,null,null,null,null,361,9900,36900,null,9900,null,1]
[null,null,null,null,null,null,null,null,null,null,null,null,null,null,null,null,null,null,null,null,null,null,null,null,null,null,null,null,362,9900,37000,null,9900,null,1]
[null,null,null,null,null,null,null,null,null,null,null,null,null,null,null,null,null,null,null,null,null,null,null,null,null,null,null,null,363,9900,37100,null,9900,null,1]
[null,null,null,null,null,null,null,null,null,null,null,null,null,null,null,null,null,null,null,null,null,null,null,null,null,null,null,null,364,9900,37200,null,9900,null,1]
[null,null,null,null,null,null,null,null,null,null,null,null,null,null,null,null,null,null,null,null,null,null,null,null,null,null,null,null,365,9900,37300,null,9900,null,1]
[null,null,null,null,null,null,null,null,null,null,null,null,null,null,null,null,null,null,null,null,null,null,null,null,null,null,null,null,366,9900,37400,null,9900,null,1]
[null,null,null,null,null,null,null,null,null,null,null,null,null,null,null,null,null,null,null,null,null,null,null,null,null,null,null,null,367,9900,37500,null,9900,null,1]
[null,null,null,null,null,null,null,null,null,null,null,null,null,null,null,null,null,null,null,null,null,null,null,null,null,null,null,null,368,9900,37600,null,9900,null,1]
[null,null,null,null,null,null,null,null,null,null,null,null,null,null,null,null,null,null,null,null,null,null,null,null,null,null,null,null,369,9900,37700,null,9900,null,1]
[null,null,null,null,null,null,null,null,null,null,null,null,null,null,null,null,null,null,null,null,null,null,null,null,null,null,null,null,370,9900,37800,null,9900,null,1]
[null,null,null,null,null,null,null,null,null,null,null,null,null,null,null,null,null,null,null,null,null,null,null,null,null,null,null,null,371,9900,37900,null,9900,null,1]
[null,null,null,null,null,null,null,null,null,null,null,null,null,null,null,null,null,null,null,null,null,null,null,null,null,null,null,null,372,9900,38000,null,9900,null,1]
[null,null,null,null,null,null,null,null,null,null,null,null,null,null,null,null,null,null,null,null,null,null,null,null,null,null,null,null,373,9900,38100,null,9900,null,1]
[null,null,null,null,null,null,null,null,null,null,null,null,null,null,null,null,null,null,null,null,null,null,null,null,null,null,null,null,374,9900,38200,null,9900,null,1]
[null,null,null,null,null,null,null,null,null,null,null,null,null,null,null,null,null,null,null,null,null,null,null,null,null,null,null,null,375,9900,38300,null,9900,null,1]
[null,null,null,null,null,null,null,null,null,null,null,null,null,null,null,null,null,null,null,null,null,null,null,null,null,null,null,null,376,9900,38400,null,9900,null,1]
[null,null,null,null,null,null,null,null,null,null,null,null,null,null,null,null,null,null,null,null,null,null,null,null,null,null,null,null,377,9900,38500,null,9900,null,1]
[null,null,null,null,null,null,null,null,null,null,null,null,null,null,null,null,null,null,null,null,null,null,null,null,null,null,null,null,378,9900,38600,null,9900,null,1]
[null,null,null,null,null,null,null,null,null,null,null,null,null,null,null,null,null,null,null,null,null,null,null,null,null,null,null,null,379,9900,38700,null,9900,null,1]
[null,null,null,null,null,null,null,null,null,null,null,null,null,null,null,null,null,null,null,null,null,null,null,null,null,null,null,null,380,9900,38800,null,9900,null,1]
[null,null,null,null,null,null,null,null,null,null,null,null,null,null,null,null,null,null,null,null,null,null,null,null,null,null,null,null,381,9900,38900,null,9900,null,1]
[null,null,null,null,null,null,null,null,null,null,null,null,null,null,null,null,null,null,null,null,null,null,null,null,null,null,null,null,382,9900,39000,null,9900,null,1]
[null,null,null,null,null,null,null,null,null,null,null,null,null,null,null,null,null,null,null,null,null,null,null,null,null,null,null,null,383,9900,39100,null,9900,null,1]
[null,null,null,null,null,null,null,null,null,null,null,null,null,null,null,null,null,null,null,null,null,null,null,null,null,null,null,null,384,9900,39200,null,9900,null,1]
[null,null,null,null,null,null,null,null,null,null,null,null,null,null,null,null,null,null,null,null,null,null,null,null,null,null,null,null,385,{"$f":"IF(AI411=1,AG411,AE411)","v":9900},39300,null,9900,null,1]
[null,null,null,null,null,null,null,null,null,null,null,null,null,null,null,null,null,null,null,null,null,null,null,null,null,null,null,null,386,9900,39400,null,{"$f":"AG411","v":9900},null,{"$f":"AI411","v":1}]
[null,null,null,null,null,null,null,null,null,null,null,null,null,null,null,null,null,null,null,null,null,null,null,null,null,null,null,null,387,9900,39500,null,9900,null,1]
[null,null,null,null,null,null,null,null,null,null,null,null,null,null,null,null,null,null,null,null,null,null,null,null,null,null,null,null,388,9900,39600,null,9900,null,1]
[null,null,null,null,null,null,null,null,null,null,null,null,null,null,null,null,null,null,null,null,null,null,null,null,null,null,null,null,389,9900,39700,null,9900,null,1]
[null,null,null,null,null,null,null,null,null,null,null,null,null,null,null,null,null,null,null,null,null,null,null,null,null,null,null,null,390,9900,39800,null,9900,null,1]
[null,null,null,null,null,null,null,null,null,null,null,null,null,null,null,null,null,null,null,null,null,null,null,null,null,null,null,null,391,9900,39900,null,9900,null,1]
[null,null,null,null,null,null,null,null,null,null,null,null,null,null,null,null,null,null,null,null,null,null,null,null,null,null,null,null,392,9900,40000,null,9900,null,1]
[null,null,null,null,null,null,null,null,null,null,null,null,null,null,null,null,null,null,null,null,null,null,null,null,null,null,null,null,393,9900,40100,null,9900,null,1]
[null,null,null,null,null,null,null,null,null,null,null,null,null,null,null,null,null,null,null,null,null,null,null,null,null,null,null,null,394,9900,40200,null,9900,null,1]
[null,null,null,null,null,null,null,null,null,null,null,null,null,null,null,null,null,null,null,null,null,null,null,null,null,null,null,null,395,9900,40300,null,9900,null,1]
[null,null,null,null,null,null,null,null,null,null,null,null,null,null,null,null,null,null,null,null,null,null,null,null,null,null,null,null,396,9900,40400,null,9900,null,1]
[null,null,null,null,null,null,null,null,null,null,null,null,null,null,null,null,null,null,null,null,null,null,null,null,null,null,null,null,397,9900,40500,null,9900,null,1]
[null,null,null,null,null,null,null,null,null,null,null,null,null,null,null,null,null,null,null,null,null,null,null,null,null,null,null,null,398,9900,40600,null,9900,null,1]
[null,null,null,null,null,null,null,null,null,null,null,null,null,null,null,null,null,null,null,null,null,null,null,null,null,null,null,null,399,9900,40700,null,9900,null,1]
[null,null,null,null,null,null,null,null,null,null,null,null,null,null,null,null,null,null,null,null,null,null,null,null,null,null,null,null,400,9900,40800,null,9900,null,1]
[null,null,null,null,null,null,null,null,null,null,null,null,null,null,null,null,null,null,null,null,null,null,null,null,null,null,null,null,401,9900,40900,null,9900,null,1]
[null,null,null,null,null,null,null,null,null,null,null,null,null,null,null,null,null,null,null,null,null,null,null,null,null,null,null,null,402,9900,41000,null,9900,null,1]
[null,null,null,null,null,null,null,null,null,null,null,null,null,null,null,null,null,null,null,null,null,null,null,null,null,null,null,null,403,9900,41100,null,9900,null,1]
[null,null,null,null,null,null,null,null,null,null,null,null,null,null,null,null,null,null,null,null,null,null,null,null,null,null,null,null,404,9900,41200,null,9900,null,1]
[null,null,null,null,null,null,null,null,null,null,null,null,null,null,null,null,null,null,null,null,null,null,null,null,null,null,null,null,405,9900,41300,null,9900,null,1]
[null,null,null,null,null,null,null,null,null,null,null,null,null,null,null,null,null,null,null,null,null,null,null,null,null,null,null,null,406,9900,41400,null,9900,null,1]
[null,null,null,null,null,null,null,null,null,null,null,null,null,null,null,null,null,null,null,null,null,null,null,null,null,null,null,null,407,9900,41500,null,9900,null,1]
[null,null,null,null,null,null,null,null,null,null,null,null,null,null,null,null,null,null,null,null,null,null,null,null,null,null,null,null,408,9900,41600,null,9900,null,1]
[null,null,null,null,null,null,null,null,null,null,null,null,null,null,null,null,null,null,null,null,null,null,null,null,null,null,null,null,409,9900,41700,null,9900,null,1]
[null,null,null,null,null,null,null,null,null,null,null,null,null,null,null,null,null,null,null,null,null,null,null,null,null,null,null,null,410,9900,41800,null,9900,null,1]
[null,null,null,null,null,null,null,null,null,null,null,null,null,null,null,null,null,null,null,null,null,null,null,null,null,null,null,null,411,9900,41900,null,9900,null,1]
[null,null,null,null,null,null,null,null,null,null,null,null,null,null,null,null,null,null,null,null,null,null,null,null,null,null,null,null,412,9900,42000,null,9900,null,1]
[null,null,null,null,null,null,null,null,null,null,null,null,null,null,null,null,null,null,null,null,null,null,null,null,null,null,null,null,413,9900,42100,null,9900,null,1]
[null,null,null,null,null,null,null,null,null,null,null,null,null,null,null,null,null,null,null,null,null,null,null,null,null,null,null,null,414,9900,42200,null,9900,null,1]
[null,null,null,null,null,null,null,null,null,null,null,null,null,null,null,null,null,null,null,null,null,null,null,null,null,null,null,null,415,9900,42300,null,9900,null,1]
[null,null,null,null,null,null,null,null,null,null,null,null,null,null,null,null,null,null,null,null,null,null,null,null,null,null,null,null,416,9900,42400,null,9900,null,1]
[null,null,null,null,null,null,null,null,null,null,null,null,null,null,null,null,null,null,null,null,null,null,null,null,null,null,null,null,417,9900,42500,null,9900,null,1]
[null,null,null,null,null,null,null,null,null,null,null,null,null,null,null,null,null,null,null,null,null,null,null,null,null,null,null,null,418,9900,42600,null,9900,null,1]
[null,null,null,null,null,null,null,null,null,null,null,null,null,null,null,null,null,null,null,null,null,null,null,null,null,null,null,null,419,9900,42700,null,9900,null,1]
[null,null,null,null,null,null,null,null,null,null,null,null,null,null,null,null,null,null,null,null,null,null,null,null,null,null,null,null,420,9900,42800,null,9900,null,1]
[null,null,null,null,null,null,null,null,null,null,null,null,null,null,null,null,null,null,null,null,null,null,null,null,null,null,null,null,421,9900,42900,null,9900,null,1]
[null,null,null,null,null,null,null,null,null,null,null,null,null,null,null,null,null,null,null,null,null,null,null,null,null,null,null,null,422,9900,43000,null,9900,null,1]
[null,null,null,null,null,null,null,null,null,null,null,null,null,null,null,null,null,null,null,null,null,null,null,null,null,null,null,null,423,9900,43100,null,9900,null,1]
[null,null,null,null,null,null,null,null,null,null,null,null,null,null,null,null,null,null,null,null,null,null,null,null,null,null,null,null,424,9900,43200,null,9900,null,1]
[null,null,null,null,null,null,null,null,null,null,null,null,null,null,null,null,null,null,null,null,null,null,null,null,null,null,null,null,425,9900,43300,null,9900,null,1]
[null,null,null,null,null,null,null,null,null,null,null,null,null,null,null,null,null,null,null,null,null,null,null,null,null,null,null,null,426,9900,43400,null,9900,null,1]
[null,null,null,null,null,null,null,null,null,null,null,null,null,null,null,null,null,null,null,null,null,null,null,null,null,null,null,null,427,9900,43500,null,9900,null,1]
[null,null,null,null,null,null,null,null,null,null,null,null,null,null,null,null,null,null,null,null,null,null,null,null,null,null,null,null,428,9900,43600,null,9900,null,1]
[null,null,null,null,null,null,null,null,null,null,null,null,null,null,null,null,null,null,null,null,null,null,null,null,null,null,null,null,429,9900,43700,null,9900,null,1]
[null,null,null,null,null,null,null,null,null,null,null,null,null,null,null,null,null,null,null,null,null,null,null,null,null,null,null,null,430,9900,43800,null,9900,null,1]
[null,null,null,null,null,null,null,null,null,null,null,null,null,null,null,null,null,null,null,null,null,null,null,null,null,null,null,null,431,9900,43900,null,9900,null,1]
[null,null,null,null,null,null,null,null,null,null,null,null,null,null,null,null,null,null,null,null,null,null,null,null,null,null,null,null,432,9900,44000,null,9900,null,1]
[null,null,null,null,null,null,null,null,null,null,null,null,null,null,null,null,null,null,null,null,null,null,null,null,null,null,null,null,433,9900,44100,null,9900,null,1]
[null,null,null,null,null,null,null,null,null,null,null,null,null,null,null,null,null,null,null,null,null,null,null,null,null,null,null,null,434,9900,44200,null,9900,null,1]
[null,null,null,null,null,null,null,null,null,null,null,null,null,null,null,null,null,null,null,null,null,null,null,null,null,null,null,null,435,9900,44300,null,9900,null,1]
[null,null,null,null,null,null,null,null,null,null,null,null,null,null,null,null,null,null,null,null,null,null,null,null,null,null,null,null,436,9900,44400,null,9900,null,1]
[null,null,null,null,null,null,null,null,null,null,null,null,null,null,null,null,null,null,null,null,null,null,null,null,null,null,null,null,437,9900,44500,null,9900,null,1]
[null,null,null,null,null,null,null,null,null,null,null,null,null,null,null,null,null,null,null,null,null,null,null,null,null,null,null,null,438,9900,44600,null,9900,null,1]
[null,null,null,null,null,null,null,null,null,null,null,null,null,null,null,null,null,null,null,null,null,null,null,null,null,null,null,null,439,9900,44700,null,9900,null,1]
[null,null,null,null,null,null,null,null,null,null,null,null,null,null,null,null,null,null,null,null,null,null,null,null,null,null,null,null,440,9900,44800,null,9900,null,1]
[null,null,null,null,null,null,null,null,null,null,null,null,null,null,null,null,null,null,null,null,null,null,null,null,null,null,null,null,441,9900,44900,null,9900,null,1]
[null,null,null,null,null,null,null,null,null,null,null,null,null,null,null,null,null,null,null,null,null,null,null,null,null,null,null,null,442,9900,45000,null,9900,null,1]
[null,null,null,null,null,null,null,null,null,null,null,null,null,null,null,null,null,null,null,null,null,null,null,null,null,null,null,null,443,9900,45100,null,9900,null,1]
[null,null,null,null,null,null,null,null,null,null,null,null,null,null,null,null,null,null,null,null,null,null,null,null,null,null,null,null,444,9900,45200,null,9900,null,1]
[null,null,null,null,null,null,null,null,null,null,null,null,null,null,null,null,null,null,null,null,null,null,null,null,null,null,null,null,445,9900,45300,null,9900,null,1]
[null,null,null,null,null,null,null,null,null,null,null,null,null,null,null,null,null,null,null,null,null,null,null,null,null,null,null,null,446,9900,45400,null,9900,null,1]
[null,null,null,null,null,null,null,null,null,null,null,null,null,null,null,null,null,null,null,null,null,null,null,null,null,null,null,null,447,9900,45500,null,9900,null,1]
[null,null,null,null,null,null,null,null,null,null,null,null,null,null,null,null,null,null,null,null,null,null,null,null,null,null,null,null,448,9900,45600,null,9900,null,1]
[null,null,null,null,null,null,null,null,null,null,null,null,null,null,null,null,null,null,null,null,null,null,null,null,null,null,null,null,449,{"$f":"IF(AI475=1,AG475,AE475)","v":9900},45700,null,9900,null,1]
[null,null,null,null,null,null,null,null,null,null,null,null,null,null,null,null,null,null,null,null,null,null,null,null,null,null,null,null,450,9900,45800,null,{"$f":"AG475","v":9900},null,{"$f":"AI475","v":1}]
[null,null,null,null,null,null,null,null,null,null,null,null,null,null,null,null,null,null,null,null,null,null,null,null,null,null,null,null,451,9900,45900,null,9900,null,1]
[null,null,null,null,null,null,null,null,null,null,null,null,null,null,null,null,null,null,null,null,null,null,null,null,null,null,null,null,452,9900,46000,null,9900,null,1]
[null,null,null,null,null,null,null,null,null,null,null,null,null,null,null,null,null,null,null,null,null,null,null,null,null,null,null,null,453,9900,46100,null,9900,null,1]
[null,null,null,null,null,null,null,null,null,null,null,null,null,null,null,null,null,null,null,null,null,null,null,null,null,null,null,null,454,9900,46200,null,9900,null,1]
[null,null,null,null,null,null,null,null,null,null,null,null,null,null,null,null,null,null,null,null,null,null,null,null,null,null,null,null,455,9900,46300,null,9900,null,1]
[null,null,null,null,null,null,null,null,null,null,null,null,null,null,null,null,null,null,null,null,null,null,null,null,null,null,null,null,456,9900,46400,null,9900,null,1]
[null,null,null,null,null,null,null,null,null,null,null,null,null,null,null,null,null,null,null,null,null,null,null,null,null,null,null,null,457,9900,46500,null,9900,null,1]
[null,null,null,null,null,null,null,null,null,null,null,null,null,null,null,null,null,null,null,null,null,null,null,null,null,null,null,null,458,9900,46600,null,9900,null,1]
[null,null,null,null,null,null,null,null,null,null,null,null,null,null,null,null,null,null,null,null,null,null,null,null,null,null,null,null,459,9900,46700,null,9900,null,1]
[null,null,null,null,null,null,null,null,null,null,null,null,null,null,null,null,null,null,null,null,null,null,null,null,null,null,null,null,460,9900,46800,null,9900,null,1]
[null,null,null,null,null,null,null,null,null,null,null,null,null,null,null,null,null,null,null,null,null,null,null,null,null,null,null,null,461,9900,46900,null,9900,null,1]
[null,null,null,null,null,null,null,null,null,null,null,null,null,null,null,null,null,null,null,null,null,null,null,null,null,null,null,null,462,9900,47000,null,9900,null,1]
[null,null,null,null,null,null,null,null,null,null,null,null,null,null,null,null,null,null,null,null,null,null,null,null,null,null,null,null,463,9900,47100,null,9900,null,1]
[null,null,null,null,null,null,null,null,null,null,null,null,null,null,null,null,null,null,null,null,null,null,null,null,null,null,null,null,464,9900,47200,null,9900,null,1]
[null,null,null,null,null,null,null,null,null,null,null,null,null,null,null,null,null,null,null,null,null,null,null,null,null,null,null,null,465,9900,47300,null,9900,null,1]
[null,null,null,null,null,null,null,null,null,null,null,null,null,null,null,null,null,null,null,null,null,null,null,null,null,null,null,null,466,9900,47400,null,9900,null,1]
[null,null,null,null,null,null,null,null,null,null,null,null,null,null,null,null,null,null,null,null,null,null,null,null,null,null,null,null,467,9900,47500,null,9900,null,1]
[null,null,null,null,null,null,null,null,null,null,null,null,null,null,null,null,null,null,null,null,null,null,null,null,null,null,null,null,468,9900,47600,null,9900,null,1]
[null,null,null,null,null,null,null,null,null,null,null,null,null,null,null,null,null,null,null,null,null,null,null,null,null,null,null,null,469,9900,47700,null,9900,null,1]
[null,null,null,null,null,null,null,null,null,null,null,null,null,null,null,null,null,null,null,null,null,null,null,null,null,null,null,null,470,9900,47800,null,9900,null,1]
[null,null,null,null,null,null,null,null,null,null,null,null,null,null,null,null,null,null,null,null,null,null,null,null,null,null,null,null,471,9900,47900,null,9900,null,1]
[null,null,null,null,null,null,null,null,null,null,null,null,null,null,null,null,null,null,null,null,null,null,null,null,null,null,null,null,472,9900,48000,null,9900,null,1]
[null,null,null,null,null,null,null,null,null,null,null,null,null,null,null,null,null,null,null,null,null,null,null,null,null,null,null,null,473,9900,48100,null,9900,null,1]
[null,null,null,null,null,null,null,null,null,null,null,null,null,null,null,null,null,null,null,null,null,null,null,null,null,null,null,null,474,9900,48200,null,9900,null,1]
[null,null,null,null,null,null,null,null,null,null,null,null,null,null,null,null,null,null,null,null,null,null,null,null,null,null,null,null,475,9900,48300,null,9900,null,1]
[null,null,null,null,null,null,null,null,null,null,null,null,null,null,null,null,null,null,null,null,null,null,null,null,null,null,null,null,476,9900,48400,null,9900,null,1]
[null,null,null,null,null,null,null,null,null,null,null,null,null,null,null,null,null,null,null,null,null,null,null,null,null,null,null,null,477,9900,48500,null,9900,null,1]
[null,null,null,null,null,null,null,null,null,null,null,null,null,null,null,null,null,null,null,null,null,null,null,null,null,null,null,null,478,9900,48600,null,9900,null,1]
[null,null,null,null,null,null,null,null,null,null,null,null,null,null,null,null,null,null,null,null,null,null,null,null,null,null,null,null,479,9900,48700,null,9900,null,1]
[null,null,null,null,null,null,null,null,null,null,null,null,null,null,null,null,null,null,null,null,null,null,null,null,null,null,null,null,480,9900,48800,null,9900,null,1]
[null,null,null,null,null,null,null,null,null,null,null,null,null,null,null,null,null,null,null,null,null,null,null,null,null,null,null,null,481,9900,48900,null,9900,null,1]
[null,null,null,null,null,null,null,null,null,null,null,null,null,null,null,null,null,null,null,null,null,null,null,null,null,null,null,null,482,9900,49000,null,9900,null,1]
[null,null,null,null,null,null,null,null,null,null,null,null,null,null,null,null,null,null,null,null,null,null,null,null,null,null,null,null,483,9900,49100,null,9900,null,1]
[null,null,null,null,null,null,null,null,null,null,null,null,null,null,null,null,null,null,null,null,null,null,null,null,null,null,null,null,484,9900,49200,null,9900,null,1]
[null,null,null,null,null,null,null,null,null,null,null,null,null,null,null,null,null,null,null,null,null,null,null,null,null,null,null,null,485,9900,49300,null,9900,null,1]
[null,null,null,null,null,null,null,null,null,null,null,null,null,null,null,null,null,null,null,null,null,null,null,null,null,null,null,null,486,9900,49400,null,9900,null,1]
[null,null,null,null,null,null,null,null,null,null,null,null,null,null,null,null,null,null,null,null,null,null,null,null,null,null,null,null,487,9900,49500,null,9900,null,1]
[null,null,null,null,null,null,null,null,null,null,null,null,null,null,null,null,null,null,null,null,null,null,null,null,null,null,null,null,488,9900,49600,null,9900,null,1]
[null,null,null,null,null,null,null,null,null,null,null,null,null,null,null,null,null,null,null,null,null,null,null,null,null,null,null,null,489,9900,49700,null,9900,null,1]
[null,null,null,null,null,null,null,null,null,null,null,null,null,null,null,null,null,null,null,null,null,null,null,null,null,null,null,null,490,9900,49800,null,9900,null,1]
[null,null,null,null,null,null,null,null,null,null,null,null,null,null,null,null,null,null,null,null,null,null,null,null,null,null,null,null,491,9900,49900,null,9900,null,1]
[null,null,null,null,null,null,null,null,null,null,null,null,null,null,null,null,null,null,null,null,null,null,null,null,null,null,null,null,492,9900,50000,null,9900,null,1]

{"sheet":"Sheet1","index":10,"n_rows":0,"n_cols":0,"rows_kept":0,"cut":false,"hidden":true,"merged":[]}

{"sheet":"Annex I","index":11,"n_rows":31,"n_cols":55,"rows_kept":31,"cut":false,"hidden":false,"merged":[[18,0,19,0],[11,0,16,0],[25,0,28,0],[1,1,1,26],[0,0,2,0],[0,1,0,26],[2,13,2,26],[2,1,2,5],[2,6,2,12],[28,1,28,2]]}
[{"$f":"IF(AG2<=3,\"                      CHECK               THE OPTION BELOW\",\"\")","v":""},"Annexure - I"]
[null,{"$f":"CONCATENATE(\"STATEMENT OF SALARY DRAWN (Including arrears) AND DEDUCTIONS ETC., From \",DATA!E25,\"  To \",DATA!E26)","v":"STATEMENT OF SALARY DRAWN (Including arrears) AND DEDUCTIONS ETC., From Mar, 2017  To Feb, 2018"},null,null,null,null,null,null,null,null,null,null,null,null,null,null,null,null,null,null,null,null,null,null,null,null,null,null,null,null,null,null,{"$f":"AG7+AG19","v":4}]
[null,{"$f":"CONCATENATE(\"Name: \",DATA!C3,\" \",DATA!D3)","v":"Name: Sri. "},null,null,null,null,{"$f":"CONCATENATE(\"Desig.: \",DATA!C7)","v":"Desig.: "},null,null,null,null,null,null,{"$f":"CONCATENATE(\"Office: \",\"- \",DATA!C6,DATA!C18,\" \",DATA!D19)","v":"Office: -  "}]
["Need to enter SALARY particulars manually?","S.\nNo.","Month & Year","Pay","PP","SP","D.A","H.R.A","IR","CCA","HMA","SCA","RA","AHRA","PHA",{"$f":"'DATA 1'!G26","v":"Other Allowances"},"Gross",{"$f":"IF(DATA!BA4=\"CPS\",\"CPS\",\"ZPPF/GPF\")","v":"CPS"},"AP GLI","GIS","PT","EWF SWF","EHS",{"$f":"'DATA 1'!L15","v":"LIC (SS)"},"Adv. Tax","Total Ded.","Net",null,null,null,null,null,{"$f":"IF(AG7=1,\"Click here to go to Manual entry of Salary Particulars\",\"\")","v":""}]
[null,null,{"$f":"DATA!I5","v":"2017-01-01"},{"$f":"DATA!K5","v":39160},null,null,{"$f":"DATA!T5","v":3488},{"$f":"DATA!V5","v":4699},{"$f":"DATA!Z5","v":0},null,null,null,null,null,null,null,{"$f":"SUM(D5:O5)","v":47347},null,null,null,null,null,null,null,null,{"$f":"SUM(R5:Y5)","v":0},{"$f":"Q5-Z5","v":47347}]
[null,null,{"$f":"DATA!I6","v":"2017-02-01"},{"$f":"DATA!K6","v":39160},null,null,{"$f":"DATA!T6","v":3488},{"$f":"DATA!V6","v":4699},{"$f":"DATA!Z6","v":0},null,null,null,null,null,null,null,{"$f":"SUM(D6:O6)","v":47347},null,null,null,null,null,null,null,null,{"$f":"SUM(R6:Y6)","v":0},47347]
[null,1,{"$f":"DATA!I7","v":"2017-03-01"},{"$f":"IF(AG7=1,EDIT!D5,'STATEMENT (2)'!D5)","v":39160},{"$f":"IF(AH7=1,EDIT!E5,'STATEMENT (2)'!E5)","v":0},{"$f":"IF(AI7=1,EDIT!F5,'STATEMENT (2)'!F5)","v":0},{"$f":"IF(AJ7=1,EDIT!G5,'STATEMENT (2)'!G5)","v":5951},{"$f":"IF(AK7=1,EDIT!H5,'STATEMENT (2)'!H5)","v":4699},{"$f":"IF(AL7=1,EDIT!I5,'STATEMENT (2)'!I5)","v":0},{"$f":"IF(AM7=1,EDIT!J5,'STATEMENT (2)'!J5)","v":0},{"$f":"IF(AN7=1,EDIT!K5,'STATEMENT (2)'!K5)","v":0},{"$f":"IF(AO7=1,EDIT!L5,'STATEMENT (2)'!L5)","v":0},{"$f":"IF(AP7=1,EDIT!M5,'STATEMENT (2)'!M5)","v":0},{"$f":"IF(AQ7=1,EDIT!N5,'STATEMENT (2)'!N5)","v":0},{"$f":"IF(AR7=1,EDIT!O5,'STATEMENT (2)'!O5)","v":0},{"$f":"IF(AS7=1,EDIT!P5,'STATEMENT (2)'!P5)","v":0},{"$f":"SUM(D7:P7)","v":49810},{"$f":"IF(AU7=1,EDIT!R5,'STATEMENT (2)'!R5)","v":4511},{"$f":"IF(AV7=1,EDIT!S5,'STATEMENT (2)'!S5)","v":1400},{"$f":"IF(AW7=1,EDIT!T5,'STATEMENT (2)'!T5)","v":60},{"$f":"IF(AX7=1,EDIT!U5,'STATEMENT (2)'!U5)","v":200},{"$f":"IF(AY7=1,EDIT!V5,'STATEMENT (2)'!V5)","v":20},{"$f":"IF(AZ7=1,EDIT!W5,'STATEMENT (2)'!W5)","v":90},{"$f":"IF(BA7=1,EDIT!X5,'STATEMENT (2)'!X5)","v":0},{"$f":"IF(BB7=1,EDIT!Y5,'STATEMENT (2)'!Y5)","v":0},{"$f":"SUM(R7:Y7)","v":6281},43529,null,null,null,null,"YES",2,{"$f":"AG7","v":2},2,2,2,2,2,2,2,2,2,2,2,2,2,2,2,2,2,2,2,2,2]
[null,2,{"$f":"DATA!I8","v":"2017-04-01"},{"$f":"IF(AG8=1,EDIT!D6,'STATEMENT (2)'!D6)","v":39160},{"$f":"IF(AH8=1,EDIT!E6,'STATEMENT (2)'!E6)","v":0},{"$f":"IF(AI8=1,EDIT!F6,'STATEMENT (2)'!F6)","v":0},{"$f":"IF(AJ8=1,EDIT!G6,'STATEMENT (2)'!G6)","v":7182},{"$f":"IF(AK8=1,EDIT!H6,'STATEMENT (2)'!H6)","v":4699},{"$f":"IF(AL8=1,EDIT!I6,'STATEMENT (2)'!I6)","v":0},{"$f":"IF(AM8=1,EDIT!J6,'STATEMENT (2)'!J6)","v":0},{"$f":"IF(AN8=1,EDIT!K6,'STATEMENT (2)'!K6)","v":0},{"$f":"IF(AO8=1,EDIT!L6,'STATEMENT (2)'!L6)","v":0},{"$f":"IF(AP8=1,EDIT!M6,'STATEMENT (2)'!M6)","v":0},{"$f":"IF(AQ8=1,EDIT!N6,'STATEMENT (2)'!N6)","v":0},{"$f":"IF(AR8=1,EDIT!O6,'STATEMENT (2)'!O6)","v":0},{"$f":"IF(AS8=1,EDIT!P6,'STATEMENT (2)'!P6)","v":0},{"$f":"SUM(D8:P8)","v":51041},{"$f":"IF(AU8=1,EDIT!R6,'STATEMENT (2)'!R6)","v":4634},{"$f":"IF(AV8=1,EDIT!S6,'STATEMENT (2)'!S6)","v":1400},{"$f":"IF(AW8=1,EDIT!T6,'STATEMENT (2)'!T6)","v":60},{"$f":"IF(AX8=1,EDIT!U6,'STATEMENT (2)'!U6)","v":200},{"$f":"IF(AY8=1,EDIT!V6,'STATEMENT (2)'!V6)","v":0},{"$f":"IF(AZ8=1,EDIT!W6,'STATEMENT (2)'!W6)","v":90},{"$f":"IF(BA8=1,EDIT!X6,'STATEMENT (2)'!X6)","v":0},{"$f":"IF(BB8=1,EDIT!Y6,'STATEMENT (2)'!Y6)","v":0},{"$f":"SUM(R8:Y8)","v":6384},44657,null,null,null,null,"NO",{"$f":"AG7","v":2},{"$f":"AH7","v":2},2,2,2,2,2,2,2,2,2,2,2,2,2,2,2,2,2,2,2,2,2]
[null,3,{"$f":"DATA!I9","v":"2017-05-01"},{"$f":"IF(AG9=1,EDIT!D7,'STATEMENT (2)'!D7)","v":39160},{"$f":"IF(AH9=1,EDIT!E7,'STATEMENT (2)'!E7)","v":0},{"$f":"IF(AI9=1,EDIT!F7,'STATEMENT (2)'!F7)","v":0},{"$f":"IF(AJ9=1,EDIT!G7,'STATEMENT (2)'!G7)","v":7182},{"$f":"IF(AK9=1,EDIT!H7,'STATEMENT (2)'!H7)","v":4699},{"$f":"IF(AL9=1,EDIT!I7,'STATEMENT (2)'!I7)","v":0},{"$f":"IF(AM9=1,EDIT!J7,'STATEMENT (2)'!J7)","v":0},{"$f":"IF(AN9=1,EDIT!K7,'STATEMENT (2)'!K7)","v":0},{"$f":"IF(AO9=1,EDIT!L7,'STATEMENT (2)'!L7)","v":0},{"$f":"IF(AP9=1,EDIT!M7,'STATEMENT (2)'!M7)","v":0},{"$f":"IF(AQ9=1,EDIT!N7,'STATEMENT (2)'!N7)","v":0},{"$f":"IF(AR9=1,EDIT!O7,'STATEMENT (2)'!O7)","v":0},{"$f":"IF(AS9=1,EDIT!P7,'STATEMENT (2)'!P7)","v":0},51041,{"$f":"IF(AU9=1,EDIT!R7,'STATEMENT (2)'!R7)","v":4634},{"$f":"IF(AV9=1,EDIT!S7,'STATEMENT (2)'!S7)","v":1400},{"$f":"IF(AW9=1,EDIT!T7,'STATEMENT (2)'!T7)","v":60},{"$f":"IF(AX9=1,EDIT!U7,'STATEMENT (2)'!U7)","v":200},{"$f":"IF(AY9=1,EDIT!V7,'STATEMENT (2)'!V7)","v":0},{"$f":"IF(AZ9=1,EDIT!W7,'STATEMENT (2)'!W7)","v":90},{"$f":"IF(BA9=1,EDIT!X7,'STATEMENT (2)'!X7)","v":0},{"$f":"IF(BB9=1,EDIT!Y7,'STATEMENT (2)'!Y7)","v":0},6384,44657,null,null,null,null,null,{"$f":"AG8","v":2},2,2,2,2,2,2,2,2,2,2,2,2,2,2,2,2,2,2,2,2,2,2]
[null,4,{"$f":"DATA!I10","v":"2017-06-01"},{"$f":"IF(AG10=1,EDIT!D8,'STATEMENT (2)'!D8)","v":39160},{"$f":"IF(AH10=1,EDIT!E8,'STATEMENT (2)'!E8)","v":0},{"$f":"IF(AI10=1,EDIT!F8,'STATEMENT (2)'!F8)","v":0},{"$f":"IF(AJ10=1,EDIT!G8,'STATEMENT (2)'!G8)","v":7182},{"$f":"IF(AK10=1,EDIT!H8,'STATEMENT (2)'!H8)","v":4699},{"$f":"IF(AL10=1,EDIT!I8,'STATEMENT (2)'!I8)","v":0},{"$f":"IF(AM10=1,EDIT!J8,'STATEMENT (2)'!J8)","v":0},{"$f":"IF(AN10=1,EDIT!K8,'STATEMENT (2)'!K8)","v":0},{"$f":"IF(AO10=1,EDIT!L8,'STATEMENT (2)'!L8)","v":0},{"$f":"IF(AP10=1,EDIT!M8,'STATEMENT (2)'!M8)","v":0},{"$f":"IF(AQ10=1,EDIT!N8,'STATEMENT (2)'!N8)","v":0},{"$f":"IF(AR10=1,EDIT!O8,'STATEMENT (2)'!O8)","v":0},{"$f":"IF(AS10=1,EDIT!P8,'STATEMENT (2)'!P8)","v":0},51041,{"$f":"IF(AU10=1,EDIT!R8,'STATEMENT (2)'!R8)","v":4634},{"$f":"IF(AV10=1,EDIT!S8,'STATEMENT (2)'!S8)","v":1400},{"$f":"IF(AW10=1,EDIT!T8,'STATEMENT (2)'!T8)","v":60},{"$f":"IF(AX10=1,EDIT!U8,'STATEMENT (2)'!U8)","v":200},{"$f":"IF(AY10=1,EDIT!V8,'STATEMENT (2)'!V8)","v":""},{"$f":"IF(AZ10=1,EDIT!W8,'STATEMENT (2)'!W8)","v":90},{"$f":"IF(BA10=1,EDIT!X8,'STATEMENT (2)'!X8)","v":0},{"$f":"IF(BB10=1,EDIT!Y8,'STATEMENT (2)'!Y8)","v":0},6384,44657,null,null,null,null,null,2,2,2,2,2,2,2,2,2,2,2,2,2,2,2,2,2,2,2,2,2,2,2]
[null,5,{"$f":"DATA!I11","v":"2017-07-01"},{"$f":"IF(AG11=1,EDIT!D9,'STATEMENT (2)'!D9)","v":39160},{"$f":"IF(AH11=1,EDIT!E9,'STATEMENT (2)'!E9)","v":0},{"$f":"IF(AI11=1,EDIT!F9,'STATEMENT (2)'!F9)","v":0},{"$f":"IF(AJ11=1,EDIT!G9,'STATEMENT (2)'!G9)","v":7182},{"$f":"IF(AK11=1,EDIT!H9,'STATEMENT (2)'!H9)","v":4699},{"$f":"IF(AL11=1,EDIT!I9,'STATEMENT (2)'!I9)","v":0},{"$f":"IF(AM11=1,EDIT!J9,'STATEMENT (2)'!J9)","v":0},{"$f":"IF(AN11=1,EDIT!K9,'STATEMENT (2)'!K9)","v":0},{"$f":"IF(AO11=1,EDIT!L9,'STATEMENT (2)'!L9)","v":0},{"$f":"IF(AP11=1,EDIT!M9,'STATEMENT (2)'!M9)","v":0},{"$f":"IF(AQ11=1,EDIT!N9,'STATEMENT (2)'!N9)","v":0},{"$f":"IF(AR11=1,EDIT!O9,'STATEMENT (2)'!O9)","v":0},{"$f":"IF(AS11=1,EDIT!P9,'STATEMENT (2)'!P9)","v":0},51041,{"$f":"IF(AU11=1,EDIT!R9,'STATEMENT (2)'!R9)","v":4634},{"$f":"IF(AV11=1,EDIT!S9,'STATEMENT (2)'!S9)","v":1400},{"$f":"IF(AW11=1,EDIT!T9,'STATEMENT (2)'!T9)","v":60},{"$f":"IF(AX11=1,EDIT!U9,'STATEMENT (2)'!U9)","v":200},{"$f":"IF(AY11=1,EDIT!V9,'STATEMENT (2)'!V9)","v":0},{"$f":"IF(AZ11=1,EDIT!W9,'STATEMENT (2)'!W9)","v":90},{"$f":"IF(BA11=1,EDIT!X9,'STATEMENT (2)'!X9)","v":0},{"$f":"IF(BB11=1,EDIT!Y9,'STATEMENT (2)'!Y9)","v":0},6384,44657,null,null,null,null,null,2,2,2,2,2,2,2,2,2,2,2,2,2,2,2,2,2,2,2,2,2,2,2]
[{"$f":"IF(AG7=1,\"You have selected an option to 'enter Salary Particulars Manually', if not, Change the above option.\",\"\")","v":""},6,{"$f":"DATA!I12","v":"2017-08-01"},{"$f":"IF(AG12=1,EDIT!D10,'STATEMENT (2)'!D10)","v":39160},{"$f":"IF(AH12=1,EDIT!E10,'STATEMENT (2)'!E10)","v":0},{"$f":"IF(AI12=1,EDIT!F10,'STATEMENT (2)'!F10)","v":0},{"$f":"IF(AJ12=1,EDIT!G10,'STATEMENT (2)'!G10)","v":7182},{"$f":"IF(AK12=1,EDIT!H10,'STATEMENT (2)'!H10)","v":4699},{"$f":"IF(AL12=1,EDIT!I10,'STATEMENT (2)'!I10)","v":0},{"$f":"IF(AM12=1,EDIT!J10,'STATEMENT (2)'!J10)","v":0},{"$f":"IF(AN12=1,EDIT!K10,'STATEMENT (2)'!K10)","v":0},{"$f":"IF(AO12=1,EDIT!L10,'STATEMENT (2)'!L10)","v":0},{"$f":"IF(AP12=1,EDIT!M10,'STATEMENT (2)'!M10)","v":0},{"$f":"IF(AQ12=1,EDIT!N10,'STATEMENT (2)'!N10)","v":0},{"$f":"IF(AR12=1,EDIT!O10,'STATEMENT (2)'!O10)","v":0},{"$f":"IF(AS12=1,EDIT!P10,'STATEMENT (2)'!P10)","v":0},51041,{"$f":"IF(AU12=1,EDIT!R10,'STATEMENT (2)'!R10)","v":4634},{"$f":"IF(AV12=1,EDIT!S10,'STATEMENT (2)'!S10)","v":1400},{"$f":"IF(AW12=1,EDIT!T10,'STATEMENT (2)'!T10)","v":60},{"$f":"IF(AX12=1,EDIT!U10,'STATEMENT (2)'!U10)","v":200},{"$f":"IF(AY12=1,EDIT!V10,'STATEMENT (2)'!V10)","v":0},{"$f":"IF(AZ12=1,EDIT!W10,'STATEMENT (2)'!W10)","v":90},{"$f":"IF(BA12=1,EDIT!X10,'STATEMENT (2)'!X10)","v":0},{"$f":"IF(BB12=1,EDIT!Y10,'STATEMENT (2)'!Y10)","v":0},6384,44657,null,null,null,null,null,2,2,2,2,2,2,2,2,2,2,2,2,2,2,2,2,2,2,2,2,2,2,2]
[null,7,{"$f":"DATA!I13","v":"2017-09-01"},{"$f":"IF(AG13=1,EDIT!D11,'STATEMENT (2)'!D11)","v":39160},{"$f":"IF(AH13=1,EDIT!E11,'STATEMENT (2)'!E11)","v":0},{"$f":"IF(AI13=1,EDIT!F11,'STATEMENT (2)'!F11)","v":0},{"$f":"IF(AJ13=1,EDIT!G11,'STATEMENT (2)'!G11)","v":8618},{"$f":"IF(AK13=1,EDIT!H11,'STATEMENT (2)'!H11)","v":4699},{"$f":"IF(AL13=1,EDIT!I11,'STATEMENT (2)'!I11)","v":0},{"$f":"IF(AM13=1,EDIT!J11,'STATEMENT (2)'!J11)","v":0},{"$f":"IF(AN13=1,EDIT!K11,'STATEMENT (2)'!K11)","v":0},{"$f":"IF(AO13=1,EDIT!L11,'STATEMENT (2)'!L11)","v":0},{"$f":"IF(AP13=1,EDIT!M11,'STATEMENT (2)'!M11)","v":0},{"$f":"IF(AQ13=1,EDIT!N11,'STATEMENT (2)'!N11)","v":0},{"$f":"IF(AR13=1,EDIT!O11,'STATEMENT (2)'!O11)","v":0},{"$f":"IF(AS13=1,EDIT!P11,'STATEMENT (2)'!P11)","v":0},52477,{"$f":"IF(AU13=1,EDIT!R11,'STATEMENT (2)'!R11)","v":4778},{"$f":"IF(AV13=1,EDIT!S11,'STATEMENT (2)'!S11)","v":1400},{"$f":"IF(AW13=1,EDIT!T11,'STATEMENT (2)'!T11)","v":60},{"$f":"IF(AX13=1,EDIT!U11,'STATEMENT (2)'!U11)","v":200},{"$f":"IF(AY13=1,EDIT!V11,'STATEMENT (2)'!V11)","v":0},{"$f":"IF(AZ13=1,EDIT!W11,'STATEMENT (2)'!W11)","v":90},{"$f":"IF(BA13=1,EDIT!X11,'STATEMENT (2)'!X11)","v":0},{"$f":"IF(BB13=1,EDIT!Y11,'STATEMENT (2)'!Y11)","v":0},6528,45949,null,null,null,null,null,2,2,2,2,2,2,2,2,2,2,2,2,2,2,2,2,2,2,2,2,2,2,2]
[null,8,{"$f":"DATA!I14","v":"2017-10-01"},{"$f":"IF(AG14=1,EDIT!D12,'STATEMENT (2)'!D12)","v":40270},{"$f":"IF(AH14=1,EDIT!E12,'STATEMENT (2)'!E12)","v":0},{"$f":"IF(AI14=1,EDIT!F12,'STATEMENT (2)'!F12)","v":0},{"$f":"IF(AJ14=1,EDIT!G12,'STATEMENT (2)'!G12)","v":8863},{"$f":"IF(AK14=1,EDIT!H12,'STATEMENT (2)'!H12)","v":4832},{"$f":"IF(AL14=1,EDIT!I12,'STATEMENT (2)'!I12)","v":0},{"$f":"IF(AM14=1,EDIT!J12,'STATEMENT (2)'!J12)","v":0},{"$f":"IF(AN14=1,EDIT!K12,'STATEMENT (2)'!K12)","v":0},{"$f":"IF(AO14=1,EDIT!L12,'STATEMENT (2)'!L12)","v":0},{"$f":"IF(AP14=1,EDIT!M12,'STATEMENT (2)'!M12)","v":0},{"$f":"IF(AQ14=1,EDIT!N12,'STATEMENT (2)'!N12)","v":0},{"$f":"IF(AR14=1,EDIT!O12,'STATEMENT (2)'!O12)","v":0},{"$f":"IF(AS14=1,EDIT!P12,'STATEMENT (2)'!P12)","v":0},53965,{"$f":"IF(AU14=1,EDIT!R12,'STATEMENT (2)'!R12)","v":4913},{"$f":"IF(AV14=1,EDIT!S12,'STATEMENT (2)'!S12)","v":1400},{"$f":"IF(AW14=1,EDIT!T12,'STATEMENT (2)'!T12)","v":60},{"$f":"IF(AX14=1,EDIT!U12,'STATEMENT (2)'!U12)","v":200},{"$f":"IF(AY14=1,EDIT!V12,'STATEMENT (2)'!V12)","v":0},{"$f":"IF(AZ14=1,EDIT!W12,'STATEMENT (2)'!W12)","v":90},{"$f":"IF(BA14=1,EDIT!X12,'STATEMENT (2)'!X12)","v":0},{"$f":"IF(BB14=1,EDIT!Y12,'STATEMENT (2)'!Y12)","v":0},6663,47302,null,null,null,null,null,2,2,2,2,2,2,2,2,2,2,2,2,2,2,2,2,2,2,2,2,2,2,2]
[null,9,{"$f":"DATA!I15","v":"2017-11-01"},{"$f":"IF(AG15=1,EDIT!D13,'STATEMENT (2)'!D13)","v":40270},{"$f":"IF(AH15=1,EDIT!E13,'STATEMENT (2)'!E13)","v":0},{"$f":"IF(AI15=1,EDIT!F13,'STATEMENT (2)'!F13)","v":0},{"$f":"IF(AJ15=1,EDIT!G13,'STATEMENT (2)'!G13)","v":8863},{"$f":"IF(AK15=1,EDIT!H13,'STATEMENT (2)'!H13)","v":4832},{"$f":"IF(AL15=1,EDIT!I13,'STATEMENT (2)'!I13)","v":0},{"$f":"IF(AM15=1,EDIT!J13,'STATEMENT (2)'!J13)","v":0},{"$f":"IF(AN15=1,EDIT!K13,'STATEMENT (2)'!K13)","v":0},{"$f":"IF(AO15=1,EDIT!L13,'STATEMENT (2)'!L13)","v":0},{"$f":"IF(AP15=1,EDIT!M13,'STATEMENT (2)'!M13)","v":0},{"$f":"IF(AQ15=1,EDIT!N13,'STATEMENT (2)'!N13)","v":0},{"$f":"IF(AR15=1,EDIT!O13,'STATEMENT (2)'!O13)","v":0},{"$f":"IF(AS15=1,EDIT!P13,'STATEMENT (2)'!P13)","v":0},53965,{"$f":"IF(AU15=1,EDIT!R13,'STATEMENT (2)'!R13)","v":4913},{"$f":"IF(AV15=1,EDIT!S13,'STATEMENT (2)'!S13)","v":1400},{"$f":"IF(AW15=1,EDIT!T13,'STATEMENT (2)'!T13)","v":60},{"$f":"IF(AX15=1,EDIT!U13,'STATEMENT (2)'!U13)","v":200},{"$f":"IF(AY15=1,EDIT!V13,'STATEMENT (2)'!V13)","v":0},{"$f":"IF(AZ15=1,EDIT!W13,'STATEMENT (2)'!W13)","v":90},{"$f":"IF(BA15=1,EDIT!X13,'STATEMENT (2)'!X13)","v":0},{"$f":"IF(BB15=1,EDIT!Y13,'STATEMENT (2)'!Y13)","v":0},6663,47302,null,null,null,null,null,2,2,2,2,2,2,2,2,2,2,2,2,2,2,2,2,2,2,2,2,2,2,2]
[null,10,{"$f":"DATA!I16","v":"2017-12-01"},{"$f":"IF(AG16=1,EDIT!D14,'STATEMENT (2)'!D14)","v":40270},{"$f":"IF(AH16=1,EDIT!E14,'STATEMENT (2)'!E14)","v":0},{"$f":"IF(AI16=1,EDIT!F14,'STATEMENT (2)'!F14)","v":0},{"$f":"IF(AJ16=1,EDIT!G14,'STATEMENT (2)'!G14)","v":8863},{"$f":"IF(AK16=1,EDIT!H14,'STATEMENT (2)'!H14)","v":4832},{"$f":"IF(AL16=1,EDIT!I14,'STATEMENT (2)'!I14)","v":0},{"$f":"IF(AM16=1,EDIT!J14,'STATEMENT (2)'!J14)","v":0},{"$f":"IF(AN16=1,EDIT!K14,'STATEMENT (2)'!K14)","v":0},{"$f":"IF(AO16=1,EDIT!L14,'STATEMENT (2)'!L14)","v":0},{"$f":"IF(AP16=1,EDIT!M14,'STATEMENT (2)'!M14)","v":0},{"$f":"IF(AQ16=1,EDIT!N14,'STATEMENT (2)'!N14)","v":0},{"$f":"IF(AR16=1,EDIT!O14,'STATEMENT (2)'!O14)","v":0},{"$f":"IF(AS16=1,EDIT!P14,'STATEMENT (2)'!P14)","v":0},53965,{"$f":"IF(AU16=1,EDIT!R14,'STATEMENT (2)'!R14)","v":4913},{"$f":"IF(AV16=1,EDIT!S14,'STATEMENT (2)'!S14)","v":1400},{"$f":"IF(AW16=1,EDIT!T14,'STATEMENT (2)'!T14)","v":60},{"$f":"IF(AX16=1,EDIT!U14,'STATEMENT (2)'!U14)","v":200},{"$f":"IF(AY16=1,EDIT!V14,'STATEMENT (2)'!V14)","v":50},{"$f":"IF(AZ16=1,EDIT!W14,'STATEMENT (2)'!W14)","v":90},{"$f":"IF(BA16=1,EDIT!X14,'STATEMENT (2)'!X14)","v":0},{"$f":"IF(BB16=1,EDIT!Y14,'STATEMENT (2)'!Y14)","v":0},6713,47252,null,null,null,null,null,2,2,2,2,2,2,2,2,2,2,2,2,2,2,2,2,2,2,2,2,2,2,2]
[null,11,{"$f":"DATA!I17","v":"2018-01-01"},{"$f":"IF(AG17=1,EDIT!D15,'STATEMENT (2)'!D15)","v":40270},{"$f":"IF(AH17=1,EDIT!E15,'STATEMENT (2)'!E15)","v":0},{"$f":"IF(AI17=1,EDIT!F15,'STATEMENT (2)'!F15)","v":0},{"$f":"IF(AJ17=1,EDIT!G15,'STATEMENT (2)'!G15)","v":8863},{"$f":"IF(AK17=1,EDIT!H15,'STATEMENT (2)'!H15)","v":4832},{"$f":"IF(AL17=1,EDIT!I15,'STATEMENT (2)'!I15)","v":0},{"$f":"IF(AM17=1,EDIT!J15,'STATEMENT (2)'!J15)","v":0},{"$f":"IF(AN17=1,EDIT!K15,'STATEMENT (2)'!K15)","v":0},{"$f":"IF(AO17=1,EDIT!L15,'STATEMENT (2)'!L15)","v":0},{"$f":"IF(AP17=1,EDIT!M15,'STATEMENT (2)'!M15)","v":0},{"$f":"IF(AQ17=1,EDIT!N15,'STATEMENT (2)'!N15)","v":0},{"$f":"IF(AR17=1,EDIT!O15,'STATEMENT (2)'!O15)","v":0},{"$f":"IF(AS17=1,EDIT!P15,'STATEMENT (2)'!P15)","v":0},53965,{"$f":"IF(AU17=1,EDIT!R15,'STATEMENT (2)'!R15)","v":4913},{"$f":"IF(AV17=1,EDIT!S15,'STATEMENT (2)'!S15)","v":1400},{"$f":"IF(AW17=1,EDIT!T15,'STATEMENT (2)'!T15)","v":60},{"$f":"IF(AX17=1,EDIT!U15,'STATEMENT (2)'!U15)","v":200},{"$f":"IF(AY17=1,EDIT!V15,'STATEMENT (2)'!V15)","v":0},{"$f":"IF(AZ17=1,EDIT!W15,'STATEMENT (2)'!W15)","v":90},{"$f":"IF(BA17=1,EDIT!X15,'STATEMENT (2)'!X15)","v":0},{"$f":"IF(BB17=1,EDIT!Y15,'STATEMENT (2)'!Y15)","v":0},6663,47302,null,null,null,null,null,2,2,2,2,2,2,2,2,2,2,2,2,2,2,2,2,2,2,2,2,2,2,2]
[null,12,{"$f":"DATA!I18","v":"2018-02-01"},{"$f":"IF(AG18=1,EDIT!D16,'STATEMENT (2)'!D16)","v":40270},{"$f":"IF(AH18=1,EDIT!E16,'STATEMENT (2)'!E16)","v":0},{"$f":"IF(AI18=1,EDIT!F16,'STATEMENT (2)'!F16)","v":0},{"$f":"IF(AJ18=1,EDIT!G16,'STATEMENT (2)'!G16)","v":8863},{"$f":"IF(AK18=1,EDIT!H16,'STATEMENT (2)'!H16)","v":4832},{"$f":"IF(AL18=1,EDIT!I16,'STATEMENT (2)'!I16)","v":0},{"$f":"IF(AM18=1,EDIT!J16,'STATEMENT (2)'!J16)","v":0},{"$f":"IF(AN18=1,EDIT!K16,'STATEMENT (2)'!K16)","v":0},{"$f":"IF(AO18=1,EDIT!L16,'STATEMENT (2)'!L16)","v":0},{"$f":"IF(AP18=1,EDIT!M16,'STATEMENT (2)'!M16)","v":0},{"$f":"IF(AQ18=1,EDIT!N16,'STATEMENT (2)'!N16)","v":0},{"$f":"IF(AR18=1,EDIT!O16,'STATEMENT (2)'!O16)","v":0},{"$f":"IF(AS18=1,EDIT!P16,'STATEMENT (2)'!P16)","v":0},53965,{"$f":"IF(AU18=1,EDIT!R16,'STATEMENT (2)'!R16)","v":4913},{"$f":"IF(AV18=1,EDIT!S16,'STATEMENT (2)'!S16)","v":1400},{"$f":"IF(AW18=1,EDIT!T16,'STATEMENT (2)'!T16)","v":60},{"$f":"IF(AX18=1,EDIT!U16,'STATEMENT (2)'!U16)","v":200},{"$f":"IF(AY18=1,EDIT!V16,'STATEMENT (2)'!V16)","v":0},{"$f":"IF(AZ18=1,EDIT!W16,'STATEMENT (2)'!W16)","v":90},{"$f":"IF(BA18=1,EDIT!X16,'STATEMENT (2)'!X16)","v":0},{"$f":"IF(BB18=1,EDIT!Y16,'STATEMENT (2)'!Y16)","v":0},6663,47302,null,null,null,null,null,2,2,2,2,2,2,2,2,2,2,2,2,2,2,{"$f":"AT18","v":2},2,2,2,2,2,2,2,2]
[null,13,{"$f":"SHEET2!C3","v":"DA Arrears 1"},{"$f":"IF(AG19=1,EDIT!D17,'STATEMENT (2)'!D17)","v":0},{"$f":"IF(AH19=1,EDIT!E17,'STATEMENT (2)'!E17)","v":0},{"$f":"IF(AI19=1,EDIT!F17,'STATEMENT (2)'!F17)","v":0},{"$f":"IF(AJ19=1,EDIT!G17,'STATEMENT (2)'!G17)","v":18177},{"$f":"IF(AK19=1,EDIT!H17,'STATEMENT (2)'!H17)","v":0},{"$f":"IF(AL19=1,EDIT!I17,'STATEMENT (2)'!I17)","v":0},{"$f":"IF(AM19=1,EDIT!J17,'STATEMENT (2)'!J17)","v":0},{"$f":"IF(AN19=1,EDIT!K17,'STATEMENT (2)'!K17)","v":0},{"$f":"IF(AO19=1,EDIT!L17,'STATEMENT (2)'!L17)","v":0},{"$f":"IF(AP19=1,EDIT!M17,'STATEMENT (2)'!M17)","v":0},{"$f":"IF(AQ19=1,EDIT!N17,'STATEMENT (2)'!N17)","v":0},{"$f":"IF(AR19=1,EDIT!O17,'STATEMENT (2)'!O17)","v":0},{"$f":"IF(AS19=1,EDIT!P17,'STATEMENT (2)'!P17)","v":0},18177,{"$f":"IF(AU19=1,EDIT!R17,'STATEMENT (2)'!R17)","v":1818},{"$f":"IF(AV19=1,EDIT!S17,'STATEMENT (2)'!S17)","v":0},{"$f":"IF(AW19=1,EDIT!T17,'STATEMENT (2)'!T17)","v":0},{"$f":"IF(AX19=1,EDIT!U17,'STATEMENT (2)'!U17)","v":0},{"$f":"IF(AY19=1,EDIT!V17,'STATEMENT (2)'!V17)","v":0},{"$f":"IF(AZ19=1,EDIT!W17,'STATEMENT (2)'!W17)","v":0},{"$f":"IF(BA19=1,EDIT!X17,'STATEMENT (2)'!X17)","v":0},{"$f":"IF(BB19=1,EDIT!Y17,'STATEMENT (2)'!Y17)","v":0},1818,16359,null,null,null,null,null,{"$f":"AG18","v":2},2,{"$f":"AH19","v":2},2,2,2,2,2,2,2,2,2,2,2,2,2,2,2,2,2,2,2,2]
[null,14,{"$f":"SHEET2!C4","v":"DA Arrears 2"},{"$f":"IF(AG20=1,EDIT!D18,'STATEMENT (2)'!D18)","v":0},{"$f":"IF(AH20=1,EDIT!E18,'STATEMENT (2)'!E18)","v":0},{"$f":"IF(AI20=1,EDIT!F18,'STATEMENT (2)'!F18)","v":0},{"$f":"IF(AJ20=1,EDIT!G18,'STATEMENT (2)'!G18)","v":19993},{"$f":"IF(AK20=1,EDIT!H18,'STATEMENT (2)'!H18)","v":0},{"$f":"IF(AL20=1,EDIT!I18,'STATEMENT (2)'!I18)","v":0},{"$f":"IF(AM20=1,EDIT!J18,'STATEMENT (2)'!J18)","v":0},{"$f":"IF(AN20=1,EDIT!K18,'STATEMENT (2)'!K18)","v":0},{"$f":"IF(AO20=1,EDIT!L18,'STATEMENT (2)'!L18)","v":0},{"$f":"IF(AP20=1,EDIT!M18,'STATEMENT (2)'!M18)","v":0},{"$f":"IF(AQ20=1,EDIT!N18,'STATEMENT (2)'!N18)","v":0},{"$f":"IF(AR20=1,EDIT!O18,'STATEMENT (2)'!O18)","v":0},{"$f":"IF(AS20=1,EDIT!P18,'STATEMENT (2)'!P18)","v":0},19993,{"$f":"IF(AU20=1,EDIT!R18,'STATEMENT (2)'!R18)","v":2004},{"$f":"IF(AV20=1,EDIT!S18,'STATEMENT (2)'!S18)","v":0},{"$f":"IF(AW20=1,EDIT!T18,'STATEMENT (2)'!T18)","v":0},{"$f":"IF(AX20=1,EDIT!U18,'STATEMENT (2)'!U18)","v":0},{"$f":"IF(AY20=1,EDIT!V18,'STATEMENT (2)'!V18)","v":0},{"$f":"IF(AZ20=1,EDIT!W18,'STATEMENT (2)'!W18)","v":0},{"$f":"IF(BA20=1,EDIT!X18,'STATEMENT (2)'!X18)","v":0},{"$f":"IF(BB20=1,EDIT!Y18,'STATEMENT (2)'!Y18)","v":0},2004,17989,null,null,null,null,null,{"$f":"AG19","v":2},{"$f":"AH19","v":2},2,2,2,2,2,2,2,2,2,2,2,2,2,2,2,2,2,2,2,2,2]
[null,15,{"$f":"SHEET2!C5","v":"PRC Arrears"},{"$f":"IF(AG21=1,EDIT!D19,'STATEMENT (2)'!D19)","v":0},{"$f":"IF(AH21=1,EDIT!E19,'STATEMENT (2)'!E19)","v":0},{"$f":"IF(AI21=1,EDIT!F19,'STATEMENT (2)'!F19)","v":0},{"$f":"IF(AJ21=1,EDIT!G19,'STATEMENT (2)'!G19)","v":0},{"$f":"IF(AK21=1,EDIT!H19,'STATEMENT (2)'!H19)","v":0},{"$f":"IF(AL21=1,EDIT!I19,'STATEMENT (2)'!I19)","v":0},{"$f":"IF(AM21=1,EDIT!J19,'STATEMENT (2)'!J19)","v":0},{"$f":"IF(AN21=1,EDIT!K19,'STATEMENT (2)'!K19)","v":0},{"$f":"IF(AO21=1,EDIT!L19,'STATEMENT (2)'!L19)","v":0},{"$f":"IF(AP21=1,EDIT!M19,'STATEMENT (2)'!M19)","v":0},{"$f":"IF(AQ21=1,EDIT!N19,'STATEMENT (2)'!N19)","v":0},{"$f":"IF(AR21=1,EDIT!O19,'STATEMENT (2)'!O19)","v":0},{"$f":"IF(AS21=1,EDIT!P19,'STATEMENT (2)'!P19)","v":0},0,{"$f":"IF(AU21=1,EDIT!R19,'STATEMENT (2)'!R19)","v":0},{"$f":"IF(AV21=1,EDIT!S19,'STATEMENT (2)'!S19)","v":0},{"$f":"IF(AW21=1,EDIT!T19,'STATEMENT (2)'!T19)","v":0},{"$f":"IF(AX21=1,EDIT!U19,'STATEMENT (2)'!U19)","v":0},{"$f":"IF(AY21=1,EDIT!V19,'STATEMENT (2)'!V19)","v":0},{"$f":"IF(AZ21=1,EDIT!W19,'STATEMENT (2)'!W19)","v":0},{"$f":"IF(BA21=1,EDIT!X19,'STATEMENT (2)'!X19)","v":0},{"$f":"IF(BB21=1,EDIT!Y19,'STATEMENT (2)'!Y19)","v":0},0,0,null,null,null,null,null,{"$f":"AG20","v":2},2,2,2,2,2,2,2,2,2,2,2,2,2,2,2,2,2,2,2,2,2,2]
[null,16,{"$f":"SHEET2!C6","v":"Promotion Arrears           "},{"$f":"IF(AG22=1,EDIT!D20,'STATEMENT (2)'!D20)","v":0},{"$f":"IF(AH22=1,EDIT!E20,'STATEMENT (2)'!E20)","v":0},{"$f":"IF(AI22=1,EDIT!F20,'STATEMENT (2)'!F20)","v":0},{"$f":"IF(AJ22=1,EDIT!G20,'STATEMENT (2)'!G20)","v":0},{"$f":"IF(AK22=1,EDIT!H20,'STATEMENT (2)'!H20)","v":0},{"$f":"IF(AL22=1,EDIT!I20,'STATEMENT (2)'!I20)","v":0},{"$f":"IF(AM22=1,EDIT!J20,'STATEMENT (2)'!J20)","v":0},{"$f":"IF(AN22=1,EDIT!K20,'STATEMENT (2)'!K20)","v":0},{"$f":"IF(AO22=1,EDIT!L20,'STATEMENT (2)'!L20)","v":0},{"$f":"IF(AP22=1,EDIT!M20,'STATEMENT (2)'!M20)","v":0},{"$f":"IF(AQ22=1,EDIT!N20,'STATEMENT (2)'!N20)","v":0},{"$f":"IF(AR22=1,EDIT!O20,'STATEMENT (2)'!O20)","v":0},{"$f":"IF(AS22=1,EDIT!P20,'STATEMENT (2)'!P20)","v":0},0,{"$f":"IF(AU22=1,EDIT!R20,'STATEMENT (2)'!R20)","v":0},{"$f":"IF(AV22=1,EDIT!S20,'STATEMENT (2)'!S20)","v":0},{"$f":"IF(AW22=1,EDIT!T20,'STATEMENT (2)'!T20)","v":0},{"$f":"IF(AX22=1,EDIT!U20,'STATEMENT (2)'!U20)","v":0},{"$f":"IF(AY22=1,EDIT!V20,'STATEMENT (2)'!V20)","v":0},{"$f":"IF(AZ22=1,EDIT!W20,'STATEMENT (2)'!W20)","v":0},{"$f":"IF(BA22=1,EDIT!X20,'STATEMENT (2)'!X20)","v":0},{"$f":"IF(BB22=1,EDIT!Y20,'STATEMENT (2)'!Y20)","v":0},0,0,null,null,null,null,null,2,2,2,2,2,2,2,2,2,2,2,2,2,2,2,2,2,2,2,2,2,2,2]
[null,17,{"$f":"SHEET2!C7","v":"AAS Arrears          "},{"$f":"IF(AG23=1,EDIT!D21,'STATEMENT (2)'!D21)","v":0},{"$f":"IF(AH23=1,EDIT!E21,'STATEMENT (2)'!E21)","v":0},{"$f":"IF(AI23=1,EDIT!F21,'STATEMENT (2)'!F21)","v":0},{"$f":"IF(AJ23=1,EDIT!G21,'STATEMENT (2)'!G21)","v":0},{"$f":"IF(AK23=1,EDIT!H21,'STATEMENT (2)'!H21)","v":0},{"$f":"IF(AL23=1,EDIT!I21,'STATEMENT (2)'!I21)","v":0},{"$f":"IF(AM23=1,EDIT!J21,'STATEMENT (2)'!J21)","v":0},{"$f":"IF(AN23=1,EDIT!K21,'STATEMENT (2)'!K21)","v":0},{"$f":"IF(AO23=1,EDIT!L21,'STATEMENT (2)'!L21)","v":0},{"$f":"IF(AP23=1,EDIT!M21,'STATEMENT (2)'!M21)","v":0},{"$f":"IF(AQ23=1,EDIT!N21,'STATEMENT (2)'!N21)","v":0},{"$f":"IF(AR23=1,EDIT!O21,'STATEMENT (2)'!O21)","v":""},{"$f":"IF(AS23=1,EDIT!P21,'STATEMENT (2)'!P21)","v":0},0,{"$f":"IF(AU23=1,EDIT!R21,'STATEMENT (2)'!R21)","v":0},{"$f":"IF(AV23=1,EDIT!S21,'STATEMENT (2)'!S21)","v":0},{"$f":"IF(AW23=1,EDIT!T21,'STATEMENT (2)'!T21)","v":0},{"$f":"IF(AX23=1,EDIT!U21,'STATEMENT (2)'!U21)","v":0},{"$f":"IF(AY23=1,EDIT!V21,'STATEMENT (2)'!V21)","v":0},{"$f":"IF(AZ23=1,EDIT!W21,'STATEMENT (2)'!W21)","v":0},{"$f":"IF(BA23=1,EDIT!X21,'STATEMENT (2)'!X21)","v":0},{"$f":"IF(BB23=1,EDIT!Y21,'STATEMENT (2)'!Y21)","v":0},0,0,null,null,null,null,null,2,2,2,2,2,2,2,2,2,2,2,2,2,2,2,2,2,2,2,2,2,2,2]
[null,18,{"$f":"SHEET2!C8","v":"Surrender Leave"},{"$f":"IF(AG24=1,EDIT!D22,'STATEMENT (2)'!D22)","v":0},{"$f":"IF(AH24=1,EDIT!E22,'STATEMENT (2)'!E22)","v":0},{"$f":"IF(AI24=1,EDIT!F22,'STATEMENT (2)'!F22)","v":0},{"$f":"IF(AJ24=1,EDIT!G22,'STATEMENT (2)'!G22)","v":0},{"$f":"IF(AK24=1,EDIT!H22,'STATEMENT (2)'!H22)","v":0},{"$f":"IF(AL24=1,EDIT!I22,'STATEMENT (2)'!I22)","v":""},{"$f":"IF(AM24=1,EDIT!J22,'STATEMENT (2)'!J22)","v":0},{"$f":"IF(AN24=1,EDIT!K22,'STATEMENT (2)'!K22)","v":0},{"$f":"IF(AO24=1,EDIT!L22,'STATEMENT (2)'!L22)","v":0},{"$f":"IF(AP24=1,EDIT!M22,'STATEMENT (2)'!M22)","v":0},{"$f":"IF(AQ24=1,EDIT!N22,'STATEMENT (2)'!N22)","v":0},{"$f":"IF(AR24=1,EDIT!O22,'STATEMENT (2)'!O22)","v":""},{"$f":"IF(AS24=1,EDIT!P22,'STATEMENT (2)'!P22)","v":0},0,{"$f":"IF(AU24=1,EDIT!R22,'STATEMENT (2)'!R22)","v":0},{"$f":"IF(AV24=1,EDIT!S22,'STATEMENT (2)'!S22)","v":0},{"$f":"IF(AW24=1,EDIT!T22,'STATEMENT (2)'!T22)","v":0},{"$f":"IF(AX24=1,EDIT!U22,'STATEMENT (2)'!U22)","v":0},{"$f":"IF(AY24=1,EDIT!V22,'STATEMENT (2)'!V22)","v":0},{"$f":"IF(AZ24=1,EDIT!W22,'STATEMENT (2)'!W22)","v":0},{"$f":"IF(BA24=1,EDIT!X22,'STATEMENT (2)'!X22)","v":0},{"$f":"IF(BB24=1,EDIT!Y22,'STATEMENT (2)'!Y22)","v":0},0,0,null,null,null,null,null,2,2,2,2,2,2,2,2,2,2,2,2,2,2,2,2,2,2,2,2,2,2,2]
[null,19,{"$f":"SHEET2!C9","v":"Child Fee Concession"},{"$f":"IF(AG25=1,EDIT!D23,'STATEMENT (2)'!D23)","v":0},{"$f":"IF(AH25=1,EDIT!E23,'STATEMENT (2)'!E23)","v":0},{"$f":"IF(AI25=1,EDIT!F23,'STATEMENT (2)'!F23)","v":0},{"$f":"IF(AJ25=1,EDIT!G23,'STATEMENT (2)'!G23)","v":""},{"$f":"IF(AK25=1,EDIT!H23,'STATEMENT (2)'!H23)","v":""},{"$f":"IF(AL25=1,EDIT!I23,'STATEMENT (2)'!I23)","v":""},{"$f":"IF(AM25=1,EDIT!J23,'STATEMENT (2)'!J23)","v":0},{"$f":"IF(AN25=1,EDIT!K23,'STATEMENT (2)'!K23)","v":0},{"$f":"IF(AO25=1,EDIT!L23,'STATEMENT (2)'!L23)","v":0},{"$f":"IF(AP25=1,EDIT!M23,'STATEMENT (2)'!M23)","v":0},{"$f":"IF(AQ25=1,EDIT!N23,'STATEMENT (2)'!N23)","v":0},{"$f":"IF(AR25=1,EDIT!O23,'STATEMENT (2)'!O23)","v":""},{"$f":"IF(AS25=1,EDIT!P23,'STATEMENT (2)'!P23)","v":0},0,{"$f":"IF(AU25=1,EDIT!R23,'STATEMENT (2)'!R23)","v":0},{"$f":"IF(AV25=1,EDIT!S23,'STATEMENT (2)'!S23)","v":0},{"$f":"IF(AW25=1,EDIT!T23,'STATEMENT (2)'!T23)","v":0},{"$f":"IF(AX25=1,EDIT!U23,'STATEMENT (2)'!U23)","v":0},{"$f":"IF(AY25=1,EDIT!V23,'STATEMENT (2)'!V23)","v":0},{"$f":"IF(AZ25=1,EDIT!W23,'STATEMENT (2)'!W23)","v":0},{"$f":"IF(BA25=1,EDIT!X23,'STATEMENT (2)'!X23)","v":0},{"$f":"IF(BB25=1,EDIT!Y23,'STATEMENT (2)'!Y23)","v":0},0,0,null,null,null,null,null,2,2,2,2,2,2,2,2,2,2,2,2,2,2,2,2,2,2,2,2,2,2,2]
[null,20,{"$f":"EDIT!C24","v":0},{"$f":"IF(AG26=1,EDIT!D24,'STATEMENT (2)'!D24)","v":0},{"$f":"IF(AH26=1,EDIT!E24,'STATEMENT (2)'!E24)","v":0},{"$f":"IF(AI26=1,EDIT!F24,'STATEMENT (2)'!F24)","v":0},{"$f":"IF(AJ26=1,EDIT!G24,'STATEMENT (2)'!G24)","v":0},{"$f":"IF(AK26=1,EDIT!H24,'STATEMENT (2)'!H24)","v":0},{"$f":"IF(AL26=1,EDIT!I24,'STATEMENT (2)'!I24)","v":0},{"$f":"IF(AM26=1,EDIT!J24,'STATEMENT (2)'!J24)","v":0},{"$f":"IF(AN26=1,EDIT!K24,'STATEMENT (2)'!K24)","v":0},{"$f":"IF(AO26=1,EDIT!L24,'STATEMENT (2)'!L24)","v":0},{"$f":"IF(AP26=1,EDIT!M24,'STATEMENT (2)'!M24)","v":0},{"$f":"IF(AQ26=1,EDIT!N24,'STATEMENT (2)'!N24)","v":0},{"$f":"IF(AR26=1,EDIT!O24,'STATEMENT (2)'!O24)","v":0},{"$f":"IF(AS26=1,EDIT!P24,'STATEMENT (2)'!P24)","v":0},0,{"$f":"IF(AU26=1,EDIT!R24,'STATEMENT (2)'!R24)","v":0},{"$f":"IF(AV26=1,EDIT!S24,'STATEMENT (2)'!S24)","v":0},{"$f":"IF(AW26=1,EDIT!T24,'STATEMENT (2)'!T24)","v":0},{"$f":"IF(AX26=1,EDIT!U24,'STATEMENT (2)'!U24)","v":0},{"$f":"IF(AY26=1,EDIT!V24,'STATEMENT (2)'!V24)","v":0},{"$f":"IF(AZ26=1,EDIT!W24,'STATEMENT (2)'!W24)","v":0},{"$f":"IF(BA26=1,EDIT!X24,'STATEMENT (2)'!X24)","v":0},{"$f":"IF(BB26=1,EDIT!Y24,'STATEMENT (2)'!Y24)","v":0},0,0,null,null,null,null,null,2,2,2,2,2,2,2,2,2,2,2,2,2,2,2,2,2,2,2,2,2,2,2]
[null,21,{"$f":"EDIT!C25","v":0},{"$f":"IF(AG27=1,EDIT!D25,'STATEMENT (2)'!D25)","v":0},{"$f":"IF(AH27=1,EDIT!E25,'STATEMENT (2)'!E25)","v":0},{"$f":"IF(AI27=1,EDIT!F25,'STATEMENT (2)'!F25)","v":0},{"$f":"IF(AJ27=1,EDIT!G25,'STATEMENT (2)'!G25)","v":""},{"$f":"IF(AK27=1,EDIT!H25,'STATEMENT (2)'!H25)","v":""},{"$f":"IF(AL27=1,EDIT!I25,'STATEMENT (2)'!I25)","v":0},{"$f":"IF(AM27=1,EDIT!J25,'STATEMENT (2)'!J25)","v":0},{"$f":"IF(AN27=1,EDIT!K25,'STATEMENT (2)'!K25)","v":0},{"$f":"IF(AO27=1,EDIT!L25,'STATEMENT (2)'!L25)","v":0},{"$f":"IF(AP27=1,EDIT!M25,'STATEMENT (2)'!M25)","v":0},{"$f":"IF(AQ27=1,EDIT!N25,'STATEMENT (2)'!N25)","v":0},{"$f":"IF(AR27=1,EDIT!O25,'STATEMENT (2)'!O25)","v":""},{"$f":"IF(AS27=1,EDIT!P25,'STATEMENT (2)'!P25)","v":0},0,{"$f":"IF(AU27=1,EDIT!R25,'STATEMENT (2)'!R25)","v":0},{"$f":"IF(AV27=1,EDIT!S25,'STATEMENT (2)'!S25)","v":0},{"$f":"IF(AW27=1,EDIT!T25,'STATEMENT (2)'!T25)","v":0},{"$f":"IF(AX27=1,EDIT!U25,'STATEMENT (2)'!U25)","v":""},{"$f":"IF(AY27=1,EDIT!V25,'STATEMENT (2)'!V25)","v":0},{"$f":"IF(AZ27=1,EDIT!W25,'STATEMENT (2)'!W25)","v":0},{"$f":"IF(BA27=1,EDIT!X25,'STATEMENT (2)'!X25)","v":0},{"$f":"IF(BB27=1,EDIT!Y25,'STATEMENT (2)'!Y25)","v":0},0,0,null,null,null,null,null,2,2,2,2,2,2,2,2,2,2,2,2,2,2,2,2,2,2,2,2,2,2,2]
[null,22,{"$f":"EDIT!C26","v":0},{"$f":"IF(AG28=1,EDIT!D26,'STATEMENT (2)'!D26)","v":0},{"$f":"IF(AH28=1,EDIT!E26,'STATEMENT (2)'!E26)","v":0},{"$f":"IF(AI28=1,EDIT!F26,'STATEMENT (2)'!F26)","v":0},{"$f":"IF(AJ28=1,EDIT!G26,'STATEMENT (2)'!G26)","v":0},{"$f":"IF(AK28=1,EDIT!H26,'STATEMENT (2)'!H26)","v":0},{"$f":"IF(AL28=1,EDIT!I26,'STATEMENT (2)'!I26)","v":0},{"$f":"IF(AM28=1,EDIT!J26,'STATEMENT (2)'!J26)","v":0},{"$f":"IF(AN28=1,EDIT!K26,'STATEMENT (2)'!K26)","v":0},{"$f":"IF(AO28=1,EDIT!L26,'STATEMENT (2)'!L26)","v":0},{"$f":"IF(AP28=1,EDIT!M26,'STATEMENT (2)'!M26)","v":0},{"$f":"IF(AQ28=1,EDIT!N26,'STATEMENT (2)'!N26)","v":0},{"$f":"IF(AR28=1,EDIT!O26,'STATEMENT (2)'!O26)","v":0},{"$f":"IF(AS28=1,EDIT!P26,'STATEMENT (2)'!P26)","v":0},0,{"$f":"IF(AU28=1,EDIT!R26,'STATEMENT (2)'!R26)","v":0},{"$f":"IF(AV28=1,EDIT!S26,'STATEMENT (2)'!S26)","v":0},{"$f":"IF(AW28=1,EDIT!T26,'STATEMENT (2)'!T26)","v":0},{"$f":"IF(AX28=1,EDIT!U26,'STATEMENT (2)'!U26)","v":0},{"$f":"IF(AY28=1,EDIT!V26,'STATEMENT (2)'!V26)","v":0},{"$f":"IF(AZ28=1,EDIT!W26,'STATEMENT (2)'!W26)","v":0},{"$f":"IF(BA28=1,EDIT!X26,'STATEMENT (2)'!X26)","v":0},{"$f":"IF(BB28=1,EDIT!Y26,'STATEMENT (2)'!Y26)","v":0},0,0,null,null,null,null,null,2,2,2,2,2,2,2,2,2,2,2,2,2,2,2,2,2,2,2,2,2,2,2]
[null,"Grand total",null,{"$f":"SUM(D7:D28)","v":475470},0,0,132964,57053,0,0,0,0,0,0,0,0,{"$f":"SUM(Q7:Q28)","v":665487},60846,16800,720,2400,70,1080,0,0,81916,583571,null,null,null,null,null,2,2,2,2,2,2,2,2,2,2,2,2,2,2,2,2,2,2,2,2,2,2,2]
[]
[null,null,"Signature of the Drawing Officer",null,null,null,null,null,null,null,null,null,null,null,null,null,null,null,null,null,"Signature of the Employee"]

{"sheet":"Annex II","index":12,"n_rows":71,"n_cols":41,"rows_kept":71,"cut":false,"hidden":false,"merged":[[4,28,6,30],[21,2,21,11],[20,2,20,11],[0,0,0,4],[0,5,0,14],[1,0,1,4],[1,5,1,14],[2,2,2,6],[2,7,2,11],[2,12,2,13],[2,14,2,15],[7,2,7,11],[4,1,4,11],[4,12,4,15],[2,26,2,27],[3,0,3,2],[3,3,3,6],[3,7,3,11],[3,12,3,13],[3,14,3,15],[45,12,45,14],[5,1,5,11],[6,1,6,11],[19,1,19,11],[8,2,8,11],[9,2,9,11],[10,1,10,11],[11,1,11,11],[12,2,12,11],[13,2,13,11],[14,1,14,11],[15,1,15,11],[16,1,16,11],[17,1,17,11],[18,1,18,11],[68,0,68,15],[68,24,70,24],[61,5,61,12],[52,20,52,24],[53,1,53,6],[53,12,53,14],[53,20,53,24],[54,1,54,6],[54,12,54,14],[52,12,52,14],[55,3,55,4],[56,3,56,4],[57,3,57,4],[65,0,65,6],[65,12,65,15],[47,12,47,14],[48,2,48,6],[51,1,51,6],[51,12,51,14],[55,8,55,11],[62,0,63,15],[58,3,58,4],[59,12,59,14],[57,10,57,11],[58,10,58,11],[59,10,59,11],[22,2,22,11],[41,1,41,11],[46,12,46,14],[25,2,25,11],[26,1,26,11],[27,1,27,11],[28,1,28,11],[30,2,30,3],[42,1,42,11],[43,1,43,6],[44,2,44,6],[44,12,44,14],[39,1,39,11],[29,6,29,8],[30,6,30,8]]}
["Financial year",null,null,null,null,"ANNEXURE - II",null,null,null,null,null,null,null,null,null,"Assessment year"]
[{"$f":"DATA!D35","v":"2017-18"},null,null,null,null,"INCOME TAX CALCULATION",null,null,null,null,null,null,null,null,null,{"$f":"DATA!D37","v":"2018-19"}]
["Name",null,{"$f":"CONCATENATE(DATA!C3,\" \",DATA!D3)","v":"Sri. "},null,null,null,null,{"$f":"CONCATENATE(\"PAN No: \",DATA!C10)","v":"PAN No: "},null,null,null,null,"Office",null,{"$f":"DATA!C6","v":""}]
["Designation",null,null,{"$f":"DATA!C7","v":""},null,null,null,{"$f":"CONCATENATE(\"Emp. Treasury I.D.: \",DATA!C4)","v":"Emp. Treasury I.D.: "},null,null,null,null,"Address",null,{"$f":"CONCATENATE(DATA!C9,\"(M) \",DATA!C8,\" (Dt.)\")","v":"(M)  (Dt.)"},null,null,null,null,null,"Rent paid in excess of 10% Salary   (Rent:@",null,null,null,null,null,{"$f":"IF(DATA!B41=1,IF(O9<O8,\"* ఇంటి అద్దె పెంచుకోవచ్చు.\",IF(AJ11>1200,\"* ఇంటి అద్దె తగ్గించుకోవచ్చు.\",\"* ఇంటి అద్దె మార్చవలసినవసరం లేదు.!\")),\"\")","v":"* ఇంటి అద్దె మార్చవలసినవసరం లేదు.!"},"SINGLE CLICK FOR\n5 PAGES PRINT AT ONCE"]
[1,"Whether living in ---------",null,null,null,null,null,null,null,null,null,null,{"$f":"DATA!B42","v":"Rented House"},null,null,null,null,null,null,null,"Rent paid in excess of 10% Salary",null,null,null,null,null,null,null,"ప్రింట్‌ తీసుకోండి."]
[2,"Gross Salary………",null,null,null,null,null,null,null,null,null,null,"Rs.",null,null,{"$f":"'Annex I'!Q29","v":665487},null,null,null,null,null,null,null,null,null,null,null,null,null,null,null,null,null,null,null,null,null,null,null,null,{"$f":"'DATA 2'!AH21","v":9900}]
[3,"H.R.A. Exemption as per eligibility U/s. 10(13-A)",null,null,null,null,null,null,null,null,null,null,null,null,null,null,null,null,null,null,"Rent annum","Pay+DA",0.1,"Excess",0.4,null,null,null,null,null,null,null,null,null,null,null,null,null,null,null,{"$f":"IF(AO8=\"\",\"\",\"YOU CAN FOLLOW THIS INSTRUCTION!\")","v":"YOU CAN FOLLOW THIS INSTRUCTION!"}]
[null,"a)","Actual HRA received",null,null,null,null,null,null,null,null,null,"Rs.",null,{"$f":"'Annex I'!H29+'Annex I'!N29","v":57053},null,null,null,null,null,{"$f":"IF(AF11=\"\",0,(12*AF11))","v":118800},{"$f":"'Annex I'!D29+'Annex I'!G29","v":608434},{"$f":"ROUND(V8*10%,0)","v":60843},{"$f":"U8-W8","v":57957},{"$f":"IF(DATA!HB6=0.3,ROUND(V8*50%,0),ROUND(V8*40%,0))","v":243374},null,null,null,null,null,null,null,null,null,null,{"$f":"O10","v":243374},null,null,null,null,{"$f":"AA4","v":"* ఇంటి అద్దె మార్చవలసినవసరం లేదు.!"}]
[null,"b)",{"$f":"IF('DATA 2'!AD21=1,'Annex II'!U5,CONCATENATE(\"Rent paid in excess of 10% Salary   (Rent:@ \",AO6,\")\"))","v":"Rent paid in excess of 10% Salary   (Rent:@ 9900)"},null,null,null,null,null,null,null,null,null,"Rs.",null,{"$f":"IF('DATA 2'!AD21=1,'DATA 2'!Y30,VLOOKUP(M5,U11:V13,2,0))","v":57957},null,null,null,null,null,null,null,null,null,null,null,null,null,null,null,null,null,null,null,null,{"$f":"AF11","v":9900}]
[null,"c)",{"$f":"IF(DATA!HB6=0.3,\"50% of Salary\",\"40% of Salary (Salary means Basic Pay+D.A)\")","v":"40% of Salary (Salary means Basic Pay+D.A)"},null,null,null,null,null,null,null,null,null,"Rs.",null,{"$f":"Y8","v":243374},{"$f":"MIN(O8:O10)","v":57053},null,null,null,null,null,null,null,null,null,null,null,null,null,null,null,"PER MONTH"]
[4,"Total Salary (2-3)",null,null,null,null,null,null,null,null,null,null,"Rs.",null,null,{"$f":"P6-P10","v":608434},null,null,null,null,"Rented House",{"$f":"IF(X8<0,0,X8)","v":57957},null,null,null,null,null,null,null,null,null,{"$f":"AO6","v":9900},12,{"$f":"AF11*AG11","v":118800},null,{"$f":"O9-O8","v":904}]
[5,"Deductions from Salary Income",null,null,null,null,null,null,null,null,null,null,null,null,null,null,null,null,null,null,"Own House",0]
[null,"a)","Exemption from Conveyance Allowance U/s. 10(14) (i)",null,null,null,null,null,null,null,null,null,"Rs.",null,{"$f":"'Annex I'!O29","v":0},null,null,null,null,null,"Govt. Quarters",0]
[null,"b)","Profession Tax U/s 16 (3) B",null,null,null,null,null,null,null,null,null,"Rs.",null,{"$f":"'Annex I'!U29","v":2400},{"$f":"O13+O14","v":2400},null,null,null,null,null,null,null,null,null,null,null,null,null,null,null,null,null,null,null,{"$f":"O9-O10","v":-185417},{"$f":"AJ14","v":-185417}]
[6,"Income From Salary (4-5)",null,null,null,null,null,null,null,null,null,null,"Rs.",null,null,{"$f":"P11-P14","v":606034},null,null,null,null,"excess of rent to be paid",null,{"$f":"ROUND(O8,-2)+1200","v":58300}]
[7,"Add: Income From other sources",null,null,null,null,null,null,null,null,null,null,"Rs.",null,{"$f":"'DATA 1'!O36","v":0},null,null,null,null,null,null,null,{"$f":"ROUND((W15+W8)/12,-2)","v":9900},{"$f":"W16*12","v":118800},{"$f":"IF(DATA!B41>1,\"\",W16)","v":9900}]
[8,"Add: Income From Capital Gains",null,null,null,null,null,null,null,null,null,null,"Rs.",null,{"$f":"'DATA 1'!O37","v":0},null,null,null,null,null,"actual rent to be paid",null,{"$f":"IF(X16>1200,W16-100,IF(X16<-1200,W16+100,IF(X16<0,W16-100,IF(X16>0,W16+100))))","v":9800},{"$f":"IF(X16>-1200,1,IF(X16>1200,2,3))","v":1}]
[9,{"$f":"DATA!D47","v":"Loss from House Property   U/S 24(1)(vi)"},null,null,null,null,null,null,null,null,null,null,"Rs.",{"$f":"IF('DATA 1'!O38=0,\"\",IF(DATA!C45=2,\"(-)\",\"\"))","v":""},{"$f":"IF(DATA!C45=2,'DATA 1'!O38,'DATA 1'!O38)","v":0},{"$f":"O19","v":0}]
[10,"Gross Total Income  (6+7+8+9)",null,null,null,null,null,null,null,null,null,null,"Rs.",null,{"$f":"SUM(O16:O17)+IF(DATA!C45=2,-'Annex II'!O18,'Annex II'!O18)","v":0},{"$f":"P15+O19","v":606034}]
[11,"Deductions"]
[null,"a)",{"$f":"'DATA 2'!AT47","v":"U/S 80 E-Interest on Educational Loan"},null,null,null,null,null,null,null,null,null,"Rs.",null,{"$f":"'DATA 2'!AU67","v":0},null,null,null,null,null,null,null,{"$f":"ROUND((W15+W8)/12,-2)","v":9900}]
[null,"b)",{"$f":"'DATA 2'!AT48","v":"U/S 80 EE-Interest on Housing Loan upto 35 lakhs for 1st time : (limit 2.5 lakh)"},null,null,null,null,null,null,null,null,null,"Rs.",null,{"$f":"'DATA 2'!AU68","v":0},null,null,null,null,null,null,null,{"$f":"IF(X17=1,W16,IF(X17=2,W16+100,W16-100))","v":9900}]
[null,"c)",{"$f":"'DATA 2'!AT49","v":"U/S 80 U-Deductions for disabled person (40%) Limit Rs. 75,000"},null,null,null,null,null,null,null,null,null,"Rs.",null,{"$f":"'DATA 2'!AU69","v":0}]
[null,"d)",{"$f":"'DATA 2'!C16","v":"E.H.F."},null,null,null,null,null,null,null,null,null,"Rs.",null,{"$f":"'Annex I'!W29","v":1080}]
[null,"e)",{"$f":"'DATA 2'!C17","v":"Any other"},null,null,null,null,null,null,null,null,null,"Rs.",null,{"$f":"'DATA 2'!M17","v":0}]
[null,"i)","U/S 80 G : E.W.F,  S.W.F & C.M.R.F. ",null,null,null,null,null,null,null,null,null,"Rs.",null,{"$f":"'Annex I'!V29","v":70}]
[null,"TOTAL-----------",null,null,null,null,null,null,null,null,null,null,"Rs.",null,{"$f":"SUM(O21:O26)","v":1150},{"$f":"O27","v":1150}]
[12,"Gross Total Income  (10-11)",null,null,null,null,null,null,null,null,null,null,"Rs.",null,null,{"$f":"P19-P27","v":604884}]
[13,"Savings U/s 80C (Limited to 1.5 lakh)"]
[null,"a)",{"$f":"DATA!EM25","v":"U/S 80 CCD (1) - CPS"},null,null,null,{"$f":"IF('DATA 1'!D19=\"\",\"\",CONCATENATE(\"(No. \",UPPER('DATA 1'!D19),\")\"))","v":""},null,null,null,null,null,{"$f":"IF(O30=0,\"\",\"Rs.\")","v":"Rs."},null,{"$f":"'DATA 2'!H27","v":60846}]
[null,"b)","APGLI",null,null,null,{"$f":"IF('DATA 1'!D20=\"\",\"\",CONCATENATE(\"(No. \",UPPER('DATA 1'!D20),\")\"))","v":""},null,null,null,null,null,{"$f":"IF(O31=0,\"\",\"Rs.\")","v":"Rs."},null,{"$f":"'Annex I'!S29","v":16800}]
[null,"c)","GIS",null,null,null,null,null,null,null,null,null,"Rs.",null,{"$f":"'Annex I'!T29","v":720}]
[null,"d)",{"$f":"'DATA 1'!L15","v":"LIC (SS)"},null,null,null,null,null,null,null,null,null,"",null,{"$f":"'Annex I'!X29","v":0}]
[null,"e)",{"$f":"'DATA 2'!AN47","v":"LIC Policies premium - Yearly"},null,null,null,null,null,null,null,null,null,"",null,{"$f":"'DATA 2'!H21","v":0}]
[null,"f)",{"$f":"'DATA 2'!AN48","v":"Tuition Fee for Two children"},null,null,null,null,null,null,null,null,null,"",null,{"$f":"'DATA 2'!H22","v":0}]
[null,"g)",{"$f":"'DATA 2'!AN49","v":"PLI"},null,null,null,null,null,null,null,null,null,"",null,{"$f":"'DATA 2'!H23","v":0}]
[null,"h)",{"$f":"'DATA 2'!AN50","v":"Sukanya Samriddhi Account (SSA)"},null,null,null,null,null,null,null,null,null,"",null,{"$f":"'DATA 2'!H24","v":0},null,null,null,null,null,{"$f":"O30+O31+O32+O34+O33+O35+O36+O37","v":78366},100000,{"$f":"MIN(U37:V37)","v":78366},{"$f":"W37+O38","v":78366},{"$f":"O39","v":0},{"$f":"X37+Y37","v":78366}]
[null,"i)",{"$f":"'DATA 2'!B25","v":"Any Other deductable u/s 80c"},null,null,null,null,null,null,null,null,null,"",null,{"$f":"'DATA 2'!H25","v":0}]
[null,"j)",{"$f":"'DATA 2'!B26","v":"Any Other "},null,null,null,null,null,null,null,null,null,"",null,{"$f":"'DATA 2'!H26","v":0}]
[null,"Total Savings",null,null,null,null,null,null,null,null,null,null,"Rs.",null,{"$f":"SUM(O30:O39)","v":78366},{"$f":"MIN(T40:U40)","v":78366},null,null,null,{"$f":"O40","v":78366},150000]
[null,{"$f":"'DATA 2'!A32","v":"U/S 80 CCD (1B)-NPS (Max. 50000) Additional Deduction"},null,null,null,null,null,null,null,null,null,null,"Rs.",null,{"$f":"'DATA 2'!H32","v":0},{"$f":"MIN(T42:U42)","v":0},null,null,null,{"$f":"O42","v":0},25000]
[null,{"$f":"'DATA 2'!A31","v":"U/S 80 CCG-Rajiv Gandhi Equity Savings Scheme( 50%) (Max. 25000)"},null,null,null,null,null,null,null,null,null,null,"Rs.",null,{"$f":"'DATA 2'!H31","v":0},{"$f":"MIN(T41:U41)","v":0},null,null,null,{"$f":"O41","v":0},50000]
[14,{"$f":"CONCATENATE(\"Net Taxable Income (12-13) \",\"(\",AM43,\" - \",AM44,\" = \",AM45,\")\",\" Rounded to multiples of Rs.10\")","v":"Net Taxable Income (12-13) (604884 - 78366 = 526518) Rounded to multiples of Rs.10"},null,null,null,null,null,null,null,null,null,null,"Rs.",null,null,{"$f":"ROUND(P28-(P40+P42+P41),-1)","v":526520},null,null,null,null,null,null,null,null,null,null,null,null,null,null,null,null,null,null,null,null,null,null,{"$f":"P28","v":604884}]
[15,"Tax on Income",null,null,null,null,null,null,null,null,null,null,null,null,null,null,null,null,"*","Male",{"$f":"P43","v":526520},250000,{"$f":"U44-V44","v":276520},{"$f":"ROUND(W44*10%,0)","v":27652},250000,{"$f":"P43","v":526520},null,null,null,null,null,null,null,null,null,null,null,null,{"$f":"P42+P40+P41","v":78366}]
[null,"a)",{"$f":"U53","v":"Up to Rs.2,50,000"},null,null,null,null,"(",{"$f":"AA49","v":250000},"@","Nil",")","Rs.",null,null,"Nil",null,null,null,null,null,null,null,null,null,{"$f":"MIN(Z44,Y44)","v":250000}," @     Nil )",{"$f":"IF(Z45<=0,\"           \",Z45)","v":250000},null,null,null,null,null,null,null,null,null,null,{"$f":"AM43-AM44","v":526518}]
[null,"b)",{"$f":"U55","v":"Rs.2,50,001 to 5,00,000."},null,null,null,null,"(",{"$f":"AA50","v":250000},"@",0.05,")","Rs.",null,null,{"$f":"X69","v":12500},null,null,null,null,null,null,null,250000,{"$f":"Z44-Y44","v":276520},{"$f":"MIN(X46,Y46)","v":250000}," @  10% )",{"$f":"IF(Z46<=0,\"           \",Z46)","v":250000}]
[null,"c)",{"$f":"U56","v":"Rs.5,00,001 To 10,00,000."},null,null,null,null,"(",{"$f":"AA51","v":26520},"@",0.2,")","Rs.",null,null,{"$f":"X70","v":5304},null,null,null,null,null,null,{"$f":"IF(Y47<0,0,Y47)","v":26520},500000,{"$f":"Z44-500000","v":26520},{"$f":"MIN(X47,W47)","v":26520}," @  20% )",{"$f":"IF(Z47<=0,\"           \",Z47)","v":26520}]
[null,"d)",{"$f":"U58","v":"above Rs.10,00,001."},null,null,null,null,"(",{"$f":"AA52","v":"           "},"@",0.3,")","Rs.",null,null,{"$f":"X71","v":0},null,null,null,null,null,null,null,null,{"$f":"W47-X47","v":-473480},{"$f":"Y48","v":-473480}," @  30% )",{"$f":"IF(Z48<=0,\"           \",Z48)","v":"           "}]
[null,null,"Total tax",null,null,null,null,null,null,null,null,null,null,null,null,{"$f":"P46+P47+P48","v":17804},null,null,null,null,null,null,null,null,"(",{"$f":"IF(AB45=\"\",\"\",AA45)","v":" @     Nil )"},{"$f":"AB45","v":250000}]
[16,"Rebate for Net Taxable Income below Rs. 3,50,000 ( U/s 87 A) ",null,null,null,null,null,null,null,null,null,null,"Rs.",null,{"$f":"IF(P43<350001,2500,0)","v":0},{"$f":"IF(AND(P43<=350000,P43>250000),2500,0)","v":0},null,null,null,null,null,null,null,null,"(",{"$f":"IF(AB46=\"\",\"\",AA46)","v":" @  10% )"},{"$f":"AB46","v":250000}]
[17,"Tax Payable after Rebate (15-16)",null,null,null,null,null,null,null,null,null,null,null,null,null,{"$f":"IF(((P46-P50)+P47+P48)>0,((P46-P50)+P47+P48),0)","v":17804},null,null,null,null,null,null,null,null,"(",{"$f":"IF(AB47=\"\",\"\",AA47)","v":" @  20% )"},{"$f":"AB47","v":26520}]
[18,"Education Cess @ 2%",null,null,null,null,null,null,null,null,null,null,"Rs.",null,null,{"$f":"ROUND(P51*2%,0)","v":356},null,null,null,null,null,null,null,null,"(",{"$f":"IF(AB48=\"\",\"\",AA48)","v":" @  30% )"},{"$f":"AB48","v":"           "}]
[19,"Secondary & Higher Education Cess @ 1%",null,null,null,null,null,null,null,null,null,null,"Rs.",null,null,{"$f":"ROUND(P51*1%,0)","v":178},null,null,null,"Male","Up to Rs.2,50,000"]
[20,"Total Income Tax (15+16+17)",null,null,null,null,null,null,null,null,null,null,"Rs.",null,null,{"$f":"P51+P52+P53","v":18338}]
[21,"Details of Adv.Tax Paid",null,null,null,null,null,null,null,null,null,null,"Rs.",null,null,{"$f":"G56+G57+G58+G59+'DATA 1'!O32","v":0},null,null,null,"Male","Rs.2,50,001 to 5,00,000."]
[null,"a)","Upto",{"$f":"'Annex I'!C15","v":"2017-11-01"},null,"Rs.",{"$f":"SUM('DATA 1'!O18:O26)","v":0},null,{"$f":"IF('DATA 1'!O39>1,\"Relief U/S 89 \",\"\")","v":""},null,null,null,null,null,null,{"$f":"'DATA 1'!O39","v":0},null,null,null,null,"Rs.5,00,001 To 10,00,000."]
[null,"b)",null,{"$f":"'Annex I'!C16","v":"2017-12-01"},null,"Rs.",{"$f":"'DATA 1'!O27","v":0},null,null,null,null,null,null,null,null,null,null,null,null,"Net Tax",{"$f":"G56+G57+G58+G59","v":0},{"$f":"P55","v":0},{"$f":"V57-U57","v":0},{"$f":"ROUND(W57*100%,0)","v":0}]
[null,"c)",null,{"$f":"'Annex I'!C17","v":"2018-01-01"},null,"Rs.",{"$f":"'DATA 1'!O28","v":0},null,{"$f":"IF('DATA 1'!O32>0,\"Adv. Tax\",\"\")","v":""},{"$f":"IF('DATA 1'!O32>0,\":\",\"\")","v":""},{"$f":"IF('DATA 1'!O32>0,'Annex II'!G60,\" \")","v":" "},null,null,null,null,null,null,null,null,null,"above Rs.10,00,001."]
[null,null,null,{"$f":"'Annex I'!C18","v":"2018-02-01"},null,"Rs.",{"$f":"'DATA 1'!O29","v":0},null,{"$f":"IF('DATA 1'!O32>0,\"Challan\",\"\")","v":""},{"$f":"IF('DATA 1'!O32>0,\":\",\"\")","v":""},{"$f":"IF('DATA 1'!O32>0,'DATA 1'!O32,\" \")","v":" "},null,null,null,null,null,null,null,{"$f":"AO8","v":"* ఇంటి అద్దె మార్చవలసినవసరం లేదు.!"}]
[null,null,"Total Advance  Tax",null,null,null,{"$f":"SUM(G56:G59)","v":0},null,{"$f":"IF('DATA 1'!O32>0,\"Total\",\"\")","v":""},{"$f":"IF('DATA 1'!O32>0,\":\",\"\")","v":""},{"$f":"IF('DATA 1'!O32>0,'DATA 1'!O33,\" \")","v":" "},null,{"$f":"IF(T60=0,\"Total Tax Liability\",IF(T60>0,\"Total Tax Liability\",IF('Annex II'!G60>0,\"Tax Refundable\",\"Total Tax Liability\")))","v":"Total Tax Liability"},null,null,{"$f":"IF(M60=\"Total Tax Liability\",IF(T60>0,T60,0),T60)","v":18338},null,null,null,{"$f":"P54-P55-P56","v":18338},"NIL"]
[]
[null,null,null,null,null,{"$f":"IF(DATA!B41>1,\"\",IF(DATA!B49>1,\"\",\"UNDERTAKING CERTIFICATE\"))","v":""}]
[{"$f":"IF(DATA!B41>1,\"\",IF(DATA!B49>1,\"\",CONCATENATE(\"          This is to certify that I paid an amount of Rs. \",'Annex II'!U8,\" /-  \",'Rent Receipt'!R19,\" towards House Rent for the year \",DATA!D35,\"., (Rent:@\",AF11,\" PM)\")))","v":""}]
[]
[]
["Signature of the Drawing Officer",null,null,null,null,null,null,null,null,null,null,null,"Signature of the Employee",null,null,null,null,null,null,null,null,null,null,0.05,{"$f":"IF(P43>250000,T69,\"\")","v":276520},{"$f":"IF(Y66=\"\",\"\",U68)","v":250000},{"$f":"IF(Y66=\"\",\"\",AB66)","v":26520},{"$f":"Y66-Z66","v":26520}]
[null,null,null,null,null,null,null,null,null,null,null,null,null,null,null,null,null,null,null,null,{"$f":"P43","v":526520},null,null,0.2]
["Prepared by CV Prasad, State Secretary, APTF 1938, Kadapa Dt. & T.John Sundar Raju, SA, ZPHS, Parnapalli.",null,null,null,null,null,null,null,null,null,null,null,null,null,null,null,null,{"$f":"IF(V68<0,0,V68)","v":276520},null,{"$f":"U67","v":526520},250000,{"$f":"T68-U68","v":276520},null,0.3]
[{"$f":"S59","v":"* ఇంటి అద్దె మార్చవలసినవసరం లేదు.!"},null,null,null,null,null,null,null,null,null,null,null,null,null,null,null,null,{"$f":"IF(T69<=0,0,T69)","v":276520},0.05,{"$f":"U67-250000","v":276520},250000,{"$f":"MIN(T69,U69)","v":250000},{"$f":"ROUND(V69*S69,0)","v":12500},{"$f":"IF(W69>0,W69,0)","v":12500},{"$f":"X69+X70+X71","v":17804}]
[null,null,null,null,null,null,null,null,null,null,null,null,null,null,null,null,null,{"$f":"IF(T70<0,0,T70)","v":26520},0.2,{"$f":"U67-500000","v":26520},500000,{"$f":"MIN(T70,U70)","v":26520},{"$f":"ROUND(V70*S70,0)","v":5304},{"$f":"IF(W70>0,W70,0)","v":5304}]
[null,null,null,null,null,null,null,null,null,null,null,null,null,null,null,null,null,{"$f":"IF(T71<0,0,T71)","v":0},0.3,{"$f":"U67-1000000","v":-473480},1E+16,{"$f":"MIN(T71,U71)","v":-473480},{"$f":"ROUND(V71*S71,0)","v":-142044},{"$f":"IF(W71>0,W71,0)","v":0}]

{"sheet":"Form 16 ","index":13,"n_rows":61,"n_cols":28,"rows_kept":61,"cut":false,"hidden":false,"merged":[[7,0,7,6],[7,7,7,12],[0,0,0,12],[0,20,1,21],[1,0,1,12],[2,0,2,12],[3,0,3,6],[3,7,3,12],[5,0,5,6],[5,7,5,12],[5,20,5,21],[6,0,6,6],[6,7,6,12],[8,0,8,6],[8,7,8,12],[9,0,9,6],[9,7,9,12],[10,0,10,2],[10,3,10,6],[10,7,10,9],[10,10,10,12],[11,0,11,2],[11,3,11,6],[12,0,12,12],[13,0,13,2],[13,3,13,5],[13,7,13,10],[13,11,13,12],[11,7,11,9],[11,10,11,12],[15,0,15,2],[15,3,15,6],[15,7,18,8],[15,9,18,10],[15,11,18,12],[14,0,14,2],[14,3,14,6],[14,7,14,8],[14,9,14,10],[14,11,14,12],[24,2,24,6],[16,0,16,2],[16,3,16,6],[17,0,17,2],[17,3,17,6],[18,0,18,2],[18,3,18,6],[19,0,19,12],[20,0,20,12],[21,1,21,2],[22,2,22,6],[23,2,23,6],[40,1,40,3],[25,2,25,6],[26,2,26,6],[28,1,28,6],[30,2,30,3],[31,1,31,6],[32,1,32,6],[35,1,35,6],[36,1,36,6],[37,1,37,6],[38,1,38,6],[39,1,39,6],[41,1,41,5],[42,1,42,3],[42,7,42,8],[42,9,42,10],[54,5,54,7],[54,8,54,10]]}
["FORM No. 16  \n ( Vide rule 31(1)(a) of Income Tax Rules, 1962 )",null,null,null,null,null,null,null,null,null,null,null,null,null,null,null,null,null,null,null,"ప్రింట్‌ తీసుకోండి."]
["Certificate under section 203 of the Income-tax Act, 1961 "]
["for Tax deducted at source from income chargeable under the head \"salaries\""]
["NAME AND ADDRESS OF THE EMPLOYER",null,null,null,null,null,null,"NAME AND DESIGNATION OF THE EMPLOYEE",null,null,null,null,null,null,null,null,null,null,null,null,null,null,null,null,null,null,null,"SINGLE CLICK FOR\n5 PAGES PRINT AT ONCE"]
[]
[{"$f":"CONCATENATE(DATA!C13,\" \",DATA!D13)","v":"Sri. "},null,null,null,null,null,null,{"$f":"CONCATENATE(DATA!C3,\" \",DATA!D3:D3)","v":"Sri. "}]
[{"$f":"DATA!C14","v":""},null,null,null,null,null,null,{"$f":"DATA!C7","v":""}]
[{"$f":"DATA!C15","v":""},null,null,null,null,null,null,{"$f":"DATA!C6","v":""}]
[{"$f":"H9","v":""},null,null,null,null,null,null,{"$f":"CONCATENATE(DATA!D19)","v":""}]
[]
["PAN No. of Deductor",null,null,"TAN No. of Deductor",null,null,null,"PAN OF Employee",null,null,"Emp. Treasury ID"]
[{"$f":"DATA!C16","v":""},null,null,{"$f":"UPPER(DATA!C17)","v":""},null,null,null,{"$f":"DATA!C10","v":""},null,null,{"$f":"'DATA 1'!D4","v":0}]
["Acknowledgement Nos.of allquarterly statements of TDS under sub-section 200 as provided by TIN facilitation center or NSDL web-site"]
["Quarter",null,null,"Acknowledgement No & Amount",null,null,null,"Period",null,null,null,"Assessment"]
[1,null,null," ",null,null,null,"From",null,"To",null,"Year"]
[2,null,null," ",null,null,null,{"$f":"DATA!E25","v":"Mar, 2017"},null,{"$f":"DATA!E26","v":"Feb, 2018"},null,{"$f":"DATA!D37","v":"2018-19"}]
[3,null,null," "]
[4]
["Total Rs.",null,null," "]
["DETAILS OF SALARY PAID AND ANY OTHER INCOME AND TAX DEDUCTED"]
[]
[1,"Gross Salary",null,null,null,null,null,"Rs.",{"$f":"'Annex II'!P6","v":665487}]
[null,"a)","Salary as per provisions cotained in section 17 (1)",null,null,null,null,"Rs.",0]
[null,"b)","Value of percuisites under section 17(2)",null,null,null,null,"Rs.",0]
[null,null,"(As Per Form No. 12BA, Wherever applicable)"]
[null,"c)","Profits in lieu of salary under section 17(3)",null,null,null,null,"Rs.",0]
[null,null,"(as per Form No. 12BA, Wherver applicable)"]
[null,"d)","Total",null,null,null,null,"Rs.",{"$f":"SUM(I22:I27)","v":665487},null,null,"Rs.",{"$f":"I28","v":665487}]
[2,"Less: Allowance to the extent exempted U/s 10"]
[null,"a)","House Rent Allowence",null,null,null,null,"Rs.",{"$f":"'Annex II'!P10","v":57053}]
[null,"b)","Other Allowance",null,null,null,null,"Rs.",0,null,null,"Rs.",{"$f":"I30+I31","v":57053}]
[3,"Balance (1-2)",null,null,null,null,null,null,null,null,null,"Rs.",{"$f":"'Annex II'!P11","v":608434}]
[4,"Deductions"]
[null,"a)","Entertainment Allowence/Conveyance Allowance etc.",null,null,null,null,"Rs.",{"$f":"'Annex II'!O13","v":0}]
[null,"b)","Professional tax",null,null,null,null,"Rs.",{"$f":"'Annex II'!O14","v":2400}]
[5,"Aggreate of 4 (a)&(b)",null,null,null,null,null,null,null,null,null,"Rs.",{"$f":"I34+I35","v":2400}]
[6,"INCOME CHARGEABLE UNDER THE HEAD SALARIES (3-5)",null,null,null,null,null,null,null,null,null,"Rs.",{"$f":"M32-M36","v":606034}]
[7,"Add: Any other income reported by the employee",null,null,null,null,null,null,null,null,null,"Rs.",{"$f":"'Annex II'!O16","v":0}]
[null,{"$f":"'Annex II'!B17","v":"Add: Income From Capital Gains"},null,null,null,null,null,null,null,null,null,"Rs.",{"$f":"'Annex II'!O17","v":0}]
[null,{"$f":"'Annex II'!B18","v":"Loss from House Property   U/S 24(1)(vi)"},null,null,null,null,null,null,null,null,null,"Rs.",{"$f":"'Annex II'!O18","v":0}]
[8,"Gross Total Income (6+7)",null,null,null,null,null,null,null,null,null,"Rs.",{"$f":"'Annex II'!P19","v":606034}]
[9,"Deductions Under Chapter VI-A"]
["A)","UnderSection 80C,80CCC,80CCD.",null,null,null,"Gross",null,"Qualifying",null,"Deductible"]
[null,"a)","Section 80C",null,null,"Amount",null,null,"Amount",null,"Amount"]
[null,"i",{"$f":"'Annex II'!C30","v":"U/S 80 CCD (1) - CPS"},null,"Rs.",{"$f":"'Annex II'!O30","v":60846},null,"Rs.",{"$f":"F45","v":60846},"Rs.",{"$f":"F45","v":60846}]
[null,"ii",{"$f":"'Annex II'!C31","v":"APGLI"},null,"Rs.",{"$f":"'Annex II'!O31","v":16800},null,"Rs.",{"$f":"F46","v":16800},"Rs.",{"$f":"F46","v":16800}]
[null,"iii",{"$f":"'Annex II'!C32","v":"GIS"},null,"Rs.",{"$f":"'Annex II'!O32","v":720},null,"Rs.",720,"Rs.",720]
[null,"iv",{"$f":"'Annex II'!C33","v":"LIC (SS)"},null,"Rs.",{"$f":"'Annex II'!O33","v":0},null,"Rs.",0,"Rs.",0]
[null,"v",{"$f":"'Annex II'!C34","v":"LIC Policies premium - Yearly"},null,"Rs.",{"$f":"'Annex II'!O34","v":0},null,"Rs.",0,"Rs.",0]
[null,"vi",{"$f":"'Annex II'!C35","v":"Tuition Fee for Two children"},null,"Rs.",{"$f":"'Annex II'!O35","v":0},null,"Rs.",0,"Rs.",0]
[null,"vii",{"$f":"'Annex II'!C36","v":"PLI"},null,"Rs.",{"$f":"'Annex II'!O36","v":0},null,"Rs.",0,"Rs.",0]
[null,"viii",{"$f":"'Annex II'!C37","v":"Sukanya Samriddhi Account (SSA)"},null,"Rs.",{"$f":"'Annex II'!O37","v":0},null,"Rs.",0,"Rs.",0]
[null,"ix",{"$f":"'Annex II'!C38","v":"Any Other deductable u/s 80c"},null,"Rs.",{"$f":"'Annex II'!O38","v":0},null,"Rs.",0,"Rs.",0,null,null,null,null,null,{"$f":"SUM(F45:F54)","v":78366},150000,{"$f":"MIN(Q53:R53)","v":78366}]
[null,"x",{"$f":"'Annex II'!C39","v":"Any Other "},null,null,{"$f":"'Annex II'!O39","v":0},null,null,0,null,0]
[null,null,"Total Under Section 80C,80CCC,80CCD",null,null,{"$f":"Q53","v":78366},null,null,"Admissible Amount",null,null,"Rs.",{"$f":"S53","v":78366}]
[null,"b)","Section 80CCG"]
[null,null,{"$f":"'Annex II'!B41","v":"U/S 80 CCD (1B)-NPS (Max. 50000) Additional Deduction"},null,null,null,null,null,null,null,null,null,{"$f":"'Annex II'!P41","v":0}]
[null,null,{"$f":"'Annex II'!B42","v":"U/S 80 CCG-Rajiv Gandhi Equity Savings Scheme( 50%) (Max. 25000)"},null,null,null,null,null,null,null,null,null,{"$f":"'Annex II'!P42","v":0}]
[null,null,"Aggregate Amount Deductible Under 2 Sections………………………………………………….",null,null,null,null,null,null,null,null,"Rs.",{"$f":"M55+M57+M58","v":78366}]
["Note:",null,"1.Aggregate amount deductible under section 80C,80CCC,80CCD, shall not exceed one lakh rupees."]
[null,null,"2.Max. Rs 25,000 savings is allowed above 1 L limit on Rajiv Gandhi Equity savings Scheme"]

{"sheet":"16 (Back)","index":14,"n_rows":127,"n_cols":104,"rows_kept":127,"cut":false,"hidden":false,"merged":[[2,28,4,31],[23,1,23,5],[0,1,0,5],[0,6,0,7],[1,1,1,5],[1,6,1,7],[8,5,8,9],[9,1,9,7],[11,1,11,7],[12,1,12,7],[15,1,15,7],[16,1,16,7],[17,1,17,7],[18,1,18,7],[19,1,19,7],[20,1,20,7],[26,0,26,11],[28,1,28,2],[28,6,28,7],[28,10,28,11],[25,0,25,11],[21,1,22,7],[29,1,29,2],[29,6,29,7],[29,10,29,11],[37,1,37,2],[30,1,30,2],[30,6,30,7],[30,10,30,11],[31,1,31,2],[31,6,31,7],[31,10,31,11],[32,1,32,2],[33,1,33,2],[34,1,34,2],[35,1,35,2],[36,1,36,2],[38,1,38,2],[38,6,38,7],[38,10,38,11],[39,1,39,2],[39,6,39,7],[39,10,39,11],[40,1,40,2],[40,6,40,7],[40,10,40,11],[41,1,41,2],[41,6,41,7],[41,10,41,11],[53,14,53,26],[54,0,54,1],[54,2,54,3],[54,14,54,26],[42,1,42,2],[42,6,42,7],[42,10,42,11],[43,6,43,7],[44,0,49,11],[53,0,53,1],[7,1,7,5],[4,1,4,5],[2,1,2,5],[3,1,3,5],[5,1,5,5],[6,1,6,5]]}
["B)","Other Sections Under Chapter VI A",null,null,null,null,"Gross",null,"Qualifying","Deductible"]
[null,"( Under Sections 80E,80G,80DD etc )",null,null,null,null,"Amount",null,"Amount","Amount",null,null,null,null,null,null,null,null,null,null,null,null,null,null,null,null,null,null,null,null,"FORM 16 PAGE 2"]
[null,{"$f":"'Annex II'!C21","v":"U/S 80 E-Interest on Educational Loan"},null,null,null,null,"Rs.",{"$f":"'Annex II'!O21","v":0},{"$f":"H3","v":0},{"$f":"H3","v":0},null,null,null,null,null,null,null,null,null,null,null,null,null,null,null,null,null,null,"ప్రింట్‌ తీసుకోండి."]
[null,{"$f":"'Annex II'!C22","v":"U/S 80 EE-Interest on Housing Loan upto 35 lakhs for 1st time : (limit 2.5 lakh)"},null,null,null,null,"Rs.",{"$f":"'Annex II'!O22","v":0},0,0,null,null,null,null,null,null,null,null,null,null,null,null,null,null,null,null,null,"SINGLE CLICK FOR\n5 PAGES PRINT AT ONCE"]
[null,{"$f":"'Annex II'!C23","v":"U/S 80 U-Deductions for disabled person (40%) Limit Rs. 75,000"},null,null,null,null,"Rs.",{"$f":"'Annex II'!O23","v":0},0,0]
[null,"U/S 80 D - Employee Health Insurance Premium",null,null,null,null,"Rs.",{"$f":"'Annex II'!O24","v":1080},1080,1080]
[null,{"$f":"'Annex II'!C25","v":"Any other"},null,null,null,null,"Rs.",{"$f":"'Annex II'!O25","v":0},0,0]
[null,{"$f":"'Annex II'!C26","v":"U/S 80 G : E.W.F,  S.W.F & C.M.R.F. "},null,null,null,null,"Rs.",{"$f":"'Annex II'!O26","v":70},70,70]
[null,null,null,null,null,"Total Under Sections 80G,80E,80DD etc…..",null,null,null,null,"Rs.",{"$f":"SUM(H3:H8)","v":1150}]
[10,"Aggregate of Deductible Amounts U/Chapter VIA (A+B)………",null,null,null,null,null,null,null,null,"Rs.",{"$f":"S10","v":79516},null,null,null,null,{"$f":"'Form 16 '!M59","v":78366},{"$f":"L9","v":1150},{"$f":"SUM(Q10:R10)","v":79516}]
[null,null,null,null,null,null,null,null,null,null,null,null,null,{"$f":"IF(AQ11=1,EDIT!N9,'STATEMENT (2)'!N9)","v":0}]
[11,"TOTAL INCOME  (8-10) (Rounded to multiples of Rs. 10)",null,null,null,null,null,null,null,null,"Rs.",{"$f":"'Annex II'!P43","v":526520},null,null,null,null,{"$f":"'Form 16 '!M41","v":606034},{"$f":"L10","v":79516},{"$f":"Q12-R12","v":526518}]
[12,"TAX ON TOTAL INCOME Rs.",null,null,null,null,null,null,null,null,"Rs.",{"$f":"'Annex II'!P49","v":17804}]
[13,"Rebate for Net Taxable Income below Rs.3,50,000( U/s 87 A) Rs. 2500",null,null,null,null,null,null,null,null,null,{"$f":"'Annex II'!P50","v":0}]
[14,"Tax after Rebate",null,null,null,null,null,null,null,null,null,{"$f":"'Annex II'!P51","v":17804}]
[15,"Education Cess @ 2% (On Tax at  S.No.12 )",null,null,null,null,null,null,null,null,"Rs.",{"$f":"'Annex II'!P52","v":356}]
[16,"Secondary and Higher Education Cess @ 1% (On Tax at  S.No.12 )",null,null,null,null,null,null,null,null,"Rs.",{"$f":"'Annex II'!P53","v":178}]
[17,"TAX PAYABLE (14+15+16)",null,null,null,null,null,null,null,null,"Rs.",{"$f":"SUM(L15:L17)","v":18338}]
[18,"Less: Relief under section 89 (attach details)",null,null,null,null,null,null,null,null,"Rs.",{"$f":"'Annex II'!P56","v":0}]
[19,"TAX PAYABLE (17-18)",null,null,null,null,null,null,null,null,"Rs.",{"$f":"L18-L19","v":18338}]
[20,"Less:(a) Tax deducted at source U/s 192(1)",null,null,null,null,null,null,null,null,"Rs."]
[null,"        (b)Tax paid by the employer on behalf of the employee U/s 192 (1A) on perquisited U/s 17 (2)",null,null,null,null,null,null,null,null,"Rs.",{"$f":"'Annex II'!P55","v":0}]
[]
[21,{"$f":"IF(L24=0,\"TAX PAYABLE / REFUNDABLE (19-20)\",IF(L24<0,\"REFUNDABLE\",IF(L24>0,\"TAX PAYABLE / REFUNDABLE (19-20)\")))","v":"TAX PAYABLE / REFUNDABLE (19-20)"},null,null,null,null,null,null,null,null,"Rs.",{"$f":"'Annex II'!P60","v":18338}]
[]
["DETAILS OF TAX DEDUCTED AND DEPOSITED INTO CENTRAL GOVERNMENT ACCOUNT"]
["(The employer is to provide tranction - wise details of tax deducted and deposited)"]
[]
["Sl.","TDS",null,"Surcharge","Education","Total Tax","Cheque/DD",null,"BSR Code","Date on ","Transfer"]
["No.","Rs.",null,"Rs.","Cess","Deposited","No. (if any)",null,"of Bank","Which Tax","vocher/chalana"]
[null,null,null,null,"Rs.","Rs.",null,null,"Branch","Deposited","Identification No"]
[1," ",null,null,null," "]
[2," ",null,null,null," "]
[3," ",null,null,null," "]
[4," ",null,null,null," "]
[5," ",null,null,null," "]
[6," ",null,null,null," "]
[7," ",null,null,null," "]
[8," ",null,null,null," "]
[9," ",null,null,null," "]
[10," ",null,null,null," "]
[11," ",null,null,null," "]
[12," ",null,null,null," "]
[]
[{"$f":"CONCATENATE(\"                          \",O49,\", \",Q49,\", \", O51, \"  \",S49, \" \",\", \",O52,\"  \",O50,\"  \",O53,\"  \",Q50,O54,O55,\"  \",O56)","v":"                          I, , working in the capacity of    , do hereby certify that the sum of Rs.  18338  Rupees in words  eighteen thousand three hundred and Thirty eighthas been deducted  at  source and paid to the credit of the central Government.   I further certify that the information given above is true, complete and correct based on the books of account, documents and other  available records."}]
[]
[]
[]
[null,null,null,null,null,null,null,null,null,null,null,null,null,null,"I",null,{"$f":"UPPER('DATA 1'!E11)","v":""},null,{"$f":"UPPER('DATA 1'!D12)","v":""}]
[null,null,null,null,null,null,null,null,null,null,null,null,null,null,{"$f":"L20","v":18338},null,{"$f":"K126","v":"eighteen thousand three hundred and Thirty eight"}]
[null,null,null,null,null,null,null,null,null,null,null,null,null,null,"working in the capacity of "]
[null,null,null,null,null,"Sign--",null,null,null,null,null,null,null,null,"do hereby certify that the sum of Rs."]
[null,null,null,null,null,null,null,null,null,null,null,null,null,null,"Rupees in words"]
["Place:",null,null,null,null,"Signature of the person responsible for deduction of tax",null,null,null,null,null,null,null,null,"has been deducted  at  source and paid to the credit of the central Government.   I further certify that the "]
["Date:",null,null,null,null,"Full Name--",{"$f":"Q49","v":""},null,null,null,null,null,null,null,"information given above is true, complete and correct based on the books of account, documents and other"]
[null,null,null,null,null,"Designation-",{"$f":"S49","v":""},null,null,null,null,null,null,null,"available records."]
[]
[]
[]
[]
[]
[]
[]
[]
[]
[]
[]
[]
[]
[]
[]
[]
[]
[]
[]
[]
[]
[]
[]
[]
[]
[]
[]
[]
[]
[]
[]
[]
[]
[]
[]
[]
[]
[]
[]
[]
[]
[]
[]
[]
[]
[]
[]
[]
[]
[]
[]
[]
[]
[]
[]
[]
[]
[]
[]
[null,"Only ]"]
[null,{"$f":"CONCATENATE(K126,\" \",B116)","v":"eighteen thousand three hundred and Thirty eight Only ]"}]
[null,{"$f":"LOWER(B117)","v":"eighteen thousand three hundred and thirty eight only ]"}]
[null,{"$f":"CONCATENATE(\"[ Rupees \",B118)","v":"[ Rupees eighteen thousand three hundred and thirty eight only ]"}]
[null,null,null,null,null,1,2,3,4,5,6,7,8,9,10,11,12,13,14,15,16,17,18,19,20,21,22,23,24,25,26,27,28,29,30,31,32,33,34,35,36,37,38,39,40,41,42,43,44,45,46,47,48,49,50,51,52,53,54,55,56,57,58,59,60,61,62,63,64,65,66,67,68,69,70,71,72,73,74,75,76,77,78,79,80,81,82,83,84,85,86,87,88,89,90,91,92,93,94,95,96,97,98,99]
[null,null,null,null,null,"one","two","three","four","five","six","seven","eight","nine","ten","eleven","twelve","thirteen","fourteen","fifteen","sixteen","seventeen","eighteen","nineteen","twenty","Twenty one","Twenty two","Twenty three","Twenty four","Twenty five","Twenty six","Twenty seven","Twenty eight","Twenty nine","Thirty ","Thirty one","Thirty two","Thirty three","Thirty four","Thirty five","Thirty six","Thirty seven","Thirty eight","Thirty nine","Forty ","Forty one","Forty two","Forty three","Forty four","Forty five","Forty six","Forty seven","Forty eight","Forty nine","Fifty","Fifty one","Fifty two","Fifty three","Fifty four","Fifty five","Fifty six","Fifty seven","Fifty eight","Fifty nine","sixty","Sixty one","Sixty two","Sixty three","Sixty four","Sixty five","Sixty six","Sixty seven","Sixty eight","Sixty nine","Seventy","Seventy one","Seventy two","Seventy three","Seventy four","Seventy five","Seventy six","Seventy seven","Seventy eight","Seventy nine","Eighty ","Eighty one","Eighty two","Eighty three","Eighty four","Eighty five","Eighty six","Eighty seven","Eighty eight","Eighty nine","Ninety","Ninety one","Ninety two","Ninety three","Ninety four","Ninety five","Ninety six","Ninety seven","Ninety eight","Ninety nine"]
[null,null,null,null,null,null,null,null,{"$f":"INT(J126/100000)","v":0},{"$f":"INT(J126/1000-I122*100)","v":18},{"$f":"INT(J126/100-I122*1000-J122*10)","v":3},{"$f":"INT(J126-I122*100000-J122*1000-K122*100)","v":38},{"$f":"IF(AND(K122=0,L122=0),1,2)","v":2},{"$f":"IF(OR(M122=1,M123=3),5,6)","v":6},{"$f":"INT(J127/100000)","v":1},{"$f":"INT(J127/1000-O122*100)","v":18},{"$f":"INT(J127/100-O122*1000-P122*10)","v":8},{"$f":"INT(J127-O122*100000-P122*1000-Q122*100)","v":0},{"$f":"IF(AND(Q122=0,R122=0),1,2)","v":2},{"$f":"IF(OR(S122=1,S123=3),5,6)","v":5}]
[null,null,null,null,null,null,null,null,{"$f":"IF(I122=0,\"\",LOOKUP(I122,F120:CZ120,F121:CZ121))","v":""},{"$f":"IF(J122=0,\"\",LOOKUP(J122,F120:CZ120,F121:CZ121))","v":"eighteen"},{"$f":"IF(K122=0,\"\",LOOKUP(K122,F120:N120,F121:N121))","v":"three"},{"$f":"IF(L122=0,\"\",LOOKUP(L122,F120:CZ120,F121:CZ121))","v":"Thirty eight"},{"$f":"IF(L122=0,3,4)","v":4},null,{"$f":"IF(O122=0,\"\",LOOKUP(O122,F120:CZ120,F121:CZ121))","v":"one"},{"$f":"IF(P122=0,\"\",LOOKUP(P122,F120:CZ120,F121:CZ121))","v":"eighteen"},{"$f":"IF(Q122=0,\"\",LOOKUP(Q122,F120:N120,F121:N121))","v":"eight"},{"$f":"IF(R122=0,\"\",LOOKUP(R122,L120:DF120,L121:DF121))","v":""},{"$f":"IF(R122=0,3,4)","v":3}]
[null,null,null,null,null,null,null,null,{"$f":"IF(I122>1,\" lakhs \",IF(I122>0,\" lakh \",\"\"))","v":""},{"$f":"IF(J122>0,\" thousand \",\"\")","v":" thousand "},{"$f":"IF(K122>0,\" hundred \",\"\")","v":" hundred "},null,null,null,{"$f":"IF(O122>1,\" lakhs \",IF(O122>0,\" lakh \",\"\"))","v":" lakh "},{"$f":"IF(P122>0,\" thousand \",\"\")","v":" thousand "},{"$f":"IF(Q122>0,\" hundred \",\"\")","v":" hundred "}]
[]
[null,null,null,null,null,null,null,null,null,{"$f":"O50","v":18338},{"$f":"IF(J126=0,\"Zero\",IF(J126>0,TRIM(CONCATENATE(I123,I124,J123,J124,K123,K124,IF(AND(J126>100,N122=6),\" and \",\"\"),L123)),\"\"))","v":"eighteen thousand three hundred and Thirty eight"}]
[null,null,null,null,null,null,null,null,null,{"$f":"'Rent Receipt'!S3","v":118800},{"$f":"IF(J127=0,\"Zero\",IF(J127>0,TRIM(CONCATENATE(O123,O124,P123,P124,Q123,Q124,IF(AND(J127>100,T122=6),\" and \",\"\"),R123)),\"\"))","v":"one lakh eighteen thousand eight hundred"}]

{"sheet":"Rent Receipt","index":15,"n_rows":155,"n_cols":28,"rows_kept":155,"cut":false,"hidden":false,"merged":[[40,4,40,5],[40,1,40,3],[11,21,11,24],[12,21,12,24],[13,21,13,24],[31,5,31,9],[32,5,32,9],[34,6,34,9],[38,1,38,5],[39,1,39,5],[0,21,0,25],[1,21,1,25],[2,21,6,25],[7,21,8,24],[6,1,24,9],[9,21,9,24],[10,14,10,17],[10,21,10,24],[11,14,11,17],[3,1,3,9],[2,1,2,9]]}
[{"$f":"A100","v":""},{"$f":"A1","v":""},{"$f":"B1","v":""},"","","","","","","","",null,null,null,null,null,null,null,null,null,null,"Submit this receipt, if you receive HRA"]
[{"$f":"A3","v":""},null,null,null,null,null,null,null,null,null,{"$f":"K1","v":""},null,null,null,null,null,null,null,null,null,null,"Rs.3000/- or above PER MONTH"]
["",{"$f":"IF(DATA!B41=1,\"RECEIPT OF HOUSE RENT\",\"\")","v":"RECEIPT OF HOUSE RENT"},null,null,null,null,null,null,null,null,{"$f":"K2","v":""},null,null,null,"Received a sum of Rs.",null,null,null,{"$f":"'Annex II'!U8","v":118800},"/-",null,{"$f":"IF(DATA!B41=1,\"ఈ పేజీని ప్రింట్‌ తీసుకోండి.\",\"\")","v":"ఈ పేజీని ప్రింట్‌ తీసుకోండి."}]
["",{"$f":"IF(DATA!B41=1,\"(Under Section 1 (13-A) of Income Tax Act )\",\"\")","v":"(Under Section 1 (13-A) of Income Tax Act )"},null,null,null,null,null,null,null,null,"",null,null,null,null,null,null,null,null,null,null,null,null,null,null,null,null,"SINGLE CLICK FOR\n5 PAGES PRINT AT ONCE"]
["",null,null,null,null,null,null,null,null,null,""]
["",null,null,null,null,null,null,null,null,null,"",null,null,null,null,null,"in words",null,"from the tenant of"]
["",{"$f":"IF(DATA!B41=1,CONCATENATE(\"                                               \",O3,\" \",S3,\"  \",T3,\"  \",Q6,\"  \",R19,\"  \",S6,\" \",O19,\"  \",Q7,\" \",S7,T7,\"  \",O11,\"  \",M29,\"\",O12,\"  \",M32,\".\"),\"\")","v":"                                               Received a sum of Rs. 118800  /-  in words  (Rupees one lakh eighteen thousand eight hundred only)  from the tenant of Sri.   towards the House Rent @  Rs. 9900/-  per month from Mar, 2017 to Feb, 2018 in respect of the house,  situated at  ."},null,null,null,null,null,null,null,null,"",null,null,null,null,null,"towards the House Rent @  Rs.",null,{"$f":"'Annex II'!AF11","v":9900},"/-"]
["",null,null,null,null,null,null,null,null,null,""]
["",null,null,null,null,null,null,null,null,null,""]
["",null,null,null,null,null,null,null,null,null,""]
["",null,null,null,null,null,null,null,null,null,"",null,null,{"$f":"IF(AQ11=1,EDIT!N9,'STATEMENT (2)'!N9)","v":0},{"$f":"CONCATENATE(\"per month from \",DATA!E25,\" to \",DATA!E26,\" in respect of the house,\")","v":"per month from Mar, 2017 to Feb, 2018 in respect of the house,"}]
["",null,null,null,null,null,null,null,null,null,"",null,null,null,"situated at"]
["",null,null,null,null,null,null,null,null,null,""]
["",null,null,null,null,null,null,null,null,null,""]
["",null,null,null,null,null,null,null,null,null,""]
["",null,null,null,null,null,null,null,null,null,""]
["",null,null,null,null,null,null,null,null,null,""]
["",null,null,null,null,null,null,null,null,null,""]
["",null,null,null,null,null,null,null,null,null,"",null,null,null,{"$f":"CONCATENATE(DATA!C3,\" \",DATA!D3)","v":"Sri. "},null,null,{"$f":"CONCATENATE(\"(Rupees \",'16 (Back)'!K127,\" only)\")","v":"(Rupees one lakh eighteen thousand eight hundred only)"}]
["",null,null,null,null,null,null,null,null,null,""]
["",null,null,null,null,null,null,null,null,null,""]
["",null,null,null,null,null,null,null,null,null,""]
["",null,null,null,null,null,null,null,null,null,""]
["",null,null,null,null,null,null,null,null,null,""]
["",null,null,null,null,null,null,null,null,null,""]
["",null,null,null,null,null,null,null,null,null,""]
["",null,null,null,null,null,null,null,null,null,""]
["",null,null,null,null,null,null,{"$f":"IF(DATA!B41=1,\"Affix\",\"\")","v":"Affix"},null,null,""]
["",null,null,null,null,null,null,{"$f":"H28","v":"Affix"},null,null,""]
["",null,null,null,null,null,null,{"$f":"H28","v":"Affix"},null,null,""]
["",null,null,null,null,null,null,null,null,null,"",null,"Enter address here"]
["",{"$f":"IF(DATA!B41=1,\"Signature of the Tenant\",\"\")","v":"Signature of the Tenant"},null,null,null,{"$f":"IF(DATA!B41=1,\"Signature Of the House Owner\",\"\")","v":"Signature Of the House Owner"},null,null,null,null,"",null,{"$f":"DATA!C5","v":""}]
["",null,null,null,null,{"$f":"IF(DATA!B41=1,\"(With Revenue Stamp affixed)\",\"\")","v":"(With Revenue Stamp affixed)"},null,null,null,null,""]
["",null,null,null,null,null,null,null,null,null,""]
["",null,null,null,null,{"$f":"IF(DATA!B41=1,\"Name:\",\"\")","v":"Name:"},{"$f":"IF('DATA 2'!V12=\"\",\"\",'DATA 2'!V12)","v":""},null,null,null,""]
["",null,null,null,null,null,null,null,null,null,""]
["",{"$f":"IF(DATA!B41=1,\"Address of the House Owner :\",\"\")","v":"Address of the House Owner :"},null,null,null,null,null,null,null,null,""]
["",{"$f":"IF(DATA!B41=1,\"(If living elsewhere)\",\"\")","v":"(If living elsewhere)"},null,null,null,null,null,null,null,null,""]
["",{"$f":"IF(DATA!B41>1,0,IF('DATA 2'!V13=\"\",\"\",UPPER('DATA 2'!V13)))","v":""},null,null,null,null,null,null,null,null,""]
["",{"$f":"IF(DATA!B41>1,0,IF('DATA 2'!V14=\"\",\"\",UPPER('DATA 2'!V14)))","v":""},null,null,null,null,null,null,null,null,""]
["",{"$f":"IF(DATA!B41>1,0,IF(S7>8300,'DATA 2'!U15,IF('DATA 2'!V15<>\"\",'DATA 2'!U15,\"\")))","v":"PAN No. of the Owner"},null,null,{"$f":"IF(DATA!B41>1,0,IF('DATA 2'!V15=\"\",\"\",UPPER('DATA 2'!V15)))","v":""},null,null,null,null,null,""]
["",null,null,null,null,null,null,null,null,null,""]
["",null,null,null,null,null,null,null,null,null,""]
["",null,null,null,null,null,null,null,null,null,""]
["",null,null,null,null,null,null,null,null,null,""]
["",null,null,null,null,null,null,null,null,null,""]
["",null,null,null,null,null,null,null,null,null,""]
["",null,null,null,null,null,null,null,null,null,""]
["",null,null,null,null,null,null,null,null,null,""]
["",null,null,null,null,null,null,null,null,null,""]
["",null,null,null,null,null,null,null,null,null,""]
[{"$f":"A53","v":""},null,null,null,null,null,null,null,null,null,""]
[{"$f":"B53","v":""},"","","","","","","","",{"$f":"K53","v":""},""]
[]
[]
[]
[]
[]
[]
[]
[]
[]
[]
[]
[]
[]
[]
[]
[]
[]
[]
[]
[]
[]
[]
[]
[]
[]
[]
[]
[]
[]
[]
[]
[]
[]
[]
[]
[]
[]
[]
[]
[]
[]
[]
[]
[]
[]
[]
[{"$f":"IF(DATA!B41>1,0,\"\")","v":""},{"$f":"A100","v":""},{"$f":"B100","v":""},"","","","","","","","",""]
[{"$f":"A100","v":""},{"$f":"B100","v":""},"","","","","","","","","",""]
[{"$f":"A101","v":""},{"$f":"B101","v":""},{"$f":"C101","v":""},{"$f":"D101","v":""},{"$f":"E101","v":""},{"$f":"F101","v":""},{"$f":"G101","v":""},{"$f":"H101","v":""},{"$f":"I101","v":""},{"$f":"J101","v":""},{"$f":"K101","v":""},{"$f":"L101","v":""}]
["","","","","","","","","","","",""]
["","","","","","","","","","","",""]
["","","","","","","","","","","",""]
["","","","","","","","","","","",""]
["","","","","","","","","","","",""]
["","","","","","","","","","","",""]
["","","","","","","","","","","",""]
["","","","","","","","","","","",""]
["","","","","","","","","","","",""]
["","","","","","","","","","","",""]
["","","","","","","","","","","",""]
["","","","","","","","","","","",""]
["","","","","","","","","","","",""]
["","","","","","","","","","","",""]
["","","","","","","","","","","",""]
["","","","","","","","","","","",""]
["","","","","","","","","","","",""]
["","","","","","","","","","","",""]
["","","","","","","","","","","",""]
["","","","","","","","","","","",""]
["","","","","","","","","","","",""]
["","","","","","","","","","","",""]
["","","","","","","","","","","",""]
["","","","","","","","","","","",""]
["","","","","","","","","","","",""]
["","","","","","","","","","","",""]
["","","","","","","","","","","",""]
["","","","","","","","","","","",""]
["","","","","","","","","","","",""]
["","","","","","","","","","","",""]
["","","","","","","","","","","",""]
["","","","","","","","","","","",""]
["","","","","","","","","","","",""]
["","","","","","","","","","","",""]
["","","","","","","","","","","",""]
["","","","","","","","","","","",""]
["","","","","","","","","","","",""]
["","","","","","","","","","","",""]
["","","","","","","","","","","",""]
["","","","","","","","","","","",""]
["","","","","","","","","","","",""]
["","","","","","","","","","","",""]
["","","","","","","","","","","",""]
["","","","","","","","","","","",""]
["","","","","","","","","","","",""]
["","","","","","","","","","","",""]
["","","","","","","","","","","",""]
["","","","","","","","","","","",""]
["","","","","","","","","","","",""]
["","","","","","","","","","","",""]
["","","","","","","","","","","",""]
["","","","","","","","","","","",""]
["","","","","","","","","","","",""]

{"sheet":"12 BB","index":16,"n_rows":55,"n_cols":16,"rows_kept":55,"cut":false,"hidden":false,"merged":[[11,11,11,14],[11,15,11,18],[8,11,8,18],[0,0,0,18],[1,0,1,18],[2,0,2,18],[3,0,3,18],[5,11,5,18],[6,11,6,18],[7,11,7,18],[9,0,9,18],[10,1,10,10],[10,11,10,14],[10,15,10,18],[12,11,12,14],[12,15,12,18],[13,15,13,18],[14,15,14,18],[14,6,14,14],[13,6,13,14],[15,15,15,18],[16,11,16,14],[16,15,16,18],[17,11,17,14],[17,15,17,18],[15,6,15,14],[18,11,18,14],[18,15,18,18],[19,11,19,14],[19,15,19,18],[20,11,20,14],[20,15,20,18],[21,11,21,14],[21,15,21,18],[22,11,22,14],[22,15,22,18],[23,11,23,14],[23,15,23,18],[24,11,24,14],[24,15,24,18],[25,11,25,14],[25,15,25,18],[26,11,26,14],[26,15,26,18],[27,11,27,14],[27,15,27,18],[28,11,28,14],[28,15,28,18],[29,11,29,14],[29,15,29,18],[30,11,30,14],[30,15,30,18],[31,11,31,14],[31,15,31,18],[32,11,32,14],[32,15,32,18],[33,11,33,14],[33,15,33,18],[34,11,34,14],[34,15,34,18],[35,11,35,14],[35,15,35,18],[36,11,36,14],[36,15,36,18],[37,11,37,14],[37,15,37,18],[38,11,38,14],[38,15,38,18],[45,11,45,14],[45,15,45,18],[39,11,39,14],[39,15,39,18],[41,11,41,14],[41,15,41,18],[42,11,42,14],[42,15,42,18],[40,15,40,18],[48,1,48,18],[49,2,49,8],[40,11,40,14],[45,2,45,10],[46,2,46,10],[47,2,47,10],[43,2,43,10],[44,2,44,10],[46,11,46,14],[46,15,46,18],[47,11,47,14],[47,15,47,18],[43,11,43,14],[43,15,43,18],[44,11,44,14],[44,15,44,18]]}
["INCOME TAX RULES,1962"]
["FORM-12BB"]
["(See rule 26c)"]
["Statement showing particulars of claims by an employee for deduction of tax under section 192"]
[]
[1,"Name and address of the employee",null,null,null,null,null,null,null,":",null,{"$f":"DATA!D3","v":""}]
[null,null,null,null,null,null,null,null,null,null,null,{"$f":"DATA!C5","v":""}]
[2,"Permanent Account Number of the employee",null,null,null,null,null,null,null,":",null,{"$f":"DATA!C10","v":""}]
[3,"Financial year",null,null,null,null,null,null,null,":",null,{"$f":"DATA!D35","v":"2017-18"}]
["Details of claims and evidence thereof"]
["S No","Nature of claim",null,null,null,null,null,null,null,null,null,"Amount(Rs)",null,null,null,"Evidence"]
[1,"House Rent Allowence:"]
[null,"1)","Rent paid to the landlord",null,null,null,null,null,null,null,null,{"$f":"'Annex II'!U8","v":118800},null,null,null,{"$f":"IF(L13>0,\"House Rent \",\"\")","v":"House Rent "}]
[null,"2)","Name of the landlord",null,null,null,{"$f":"'DATA 2'!V12","v":0},null,null,null,null,null,null,null,null,{"$f":"IF(L13>0,\"Receipt \",\"\")","v":"Receipt "}]
[null,"3)","Address of the landlord",null,null,null,{"$f":"'DATA 2'!V13","v":0},null,null,null,null,null,null,null,null,{"$f":"IF(L13>0,\"Produced\",\"\")","v":"Produced"}]
[null,null,null,null,null,null,{"$f":"'DATA 2'!V14","v":0}]
[null,"4)","PAN number of the landlord",null,null,null,null,null,null,null,null,{"$f":"'DATA 2'!V15","v":0}]
[null,null,"(If Rent Amount more than ONE lakh rupees)"]
[2,"Leave travel concession or assistance"]
[3,"Deduction of interest on borrowing"]
[null,"1)","Interest payable/paid to the lender"]
[null,"2)","Name of the lender"]
[null,"3)","Address of the lender"]
[]
[null,"4)","PAN number of the lender"]
[null,"a)","Financial institutions (if available)"]
[null,"b)","Employer (if available)"]
[null,"c)","Others"]
[4,"Deduction under Chapter VI-A"]
["A)",null,"Section 80C,80CCand 80CCD",null,null,null,null,null,null,null,null,{"$f":"'Form 16 '!M59","v":78366}]
[null,"a)",{"$f":"DATA!EL25","v":"80 CCD"},{"$f":"'Form 16 '!C45","v":"U/S 80 CCD (1) - CPS"},null,null,null,null,null,null,null,{"$f":"'Form 16 '!K45","v":60846},null,null,null,{"$f":"IF(L31>0,\"Salary Deductions\",\"\")","v":"Salary Deductions"}]
[null,"b)","80 C",{"$f":"'Form 16 '!C46","v":"APGLI"},null,null,null,null,null,null,null,{"$f":"'Form 16 '!K46","v":16800},null,null,null,{"$f":"IF(L32>0,\"Salary Deductions\",\"\")","v":"Salary Deductions"}]
[null,"c)","80 C",{"$f":"'Form 16 '!C47","v":"GIS"},null,null,null,null,null,null,null,{"$f":"'Form 16 '!K47","v":720},null,null,null,"Salary Deductions"]
[null,"d)","80 CC",{"$f":"'Form 16 '!C48","v":"LIC (SS)"},null,null,null,null,null,null,null,{"$f":"'Form 16 '!K48","v":0},null,null,null,""]
[null,"e)","80 CC",{"$f":"'Form 16 '!C49","v":"LIC Policies premium - Yearly"},null,null,null,null,null,null,null,{"$f":"'Form 16 '!K49","v":0},null,null,null,{"$f":"IF(L35>0,\"Certificates Produced\",\"\")","v":""}]
[null,"f)","80 CC",{"$f":"'Form 16 '!C50","v":"Tuition Fee for Two children"},null,null,null,null,null,null,null,{"$f":"'Form 16 '!K50","v":0},null,null,null,{"$f":"IF(L36>0,\"Certificates Produced\",\"\")","v":""}]
[null,"g)","80 CC",{"$f":"'Form 16 '!C51","v":"PLI"},null,null,null,null,null,null,null,{"$f":"'Form 16 '!K51","v":0},null,null,null,""]
[null,"h)","80 CC",{"$f":"'Form 16 '!C52","v":"Sukanya Samriddhi Account (SSA)"},null,null,null,null,null,null,null,{"$f":"'Form 16 '!K52","v":0},null,null,null,""]
[null,"i)","80 CC",{"$f":"'Form 16 '!C53","v":"Any Other deductable u/s 80c"},null,null,null,null,null,null,null,{"$f":"'Form 16 '!K53","v":0},null,null,null,""]
[null,"j)","80 CC",{"$f":"'Form 16 '!C54","v":"Any Other "},null,null,null,null,null,null,null,{"$f":"'Form 16 '!K54","v":0},null,null,null,""]
[null,"k)","80 CCD","U/S 80 CCD 1(B) Additional Benefit of NPS",null,null,null,null,null,null,null,{"$f":"'Form 16 '!M58","v":0},null,null,null,{"$f":"IF(L41>0,\"Salary Deduction\",\"\")","v":""}]
["B)",null,"Other Sections (80E,80G,80TTA)ChapterVI-A",null,null,null,null,null,null,null,null,{"$f":"'16 (Back)'!L9","v":1150}]
[null,"i)",{"$f":"'16 (Back)'!B8","v":"U/S 80 G : E.W.F,  S.W.F & C.M.R.F. "},null,null,null,null,null,null,null,null,{"$f":"'16 (Back)'!J8","v":70},null,null,null,{"$f":"IF(L43>0,\"Salary Deduction\",\"\")","v":"Salary Deduction"}]
[null,"ii)",{"$f":"'16 (Back)'!B3","v":"U/S 80 E-Interest on Educational Loan"},null,null,null,null,null,null,null,null,{"$f":"'16 (Back)'!J3","v":0},null,null,null,{"$f":"IF(L44>0,\"Certificates Produced\",\"\")","v":""}]
[null,"iii)",{"$f":"'16 (Back)'!B4","v":"U/S 80 EE-Interest on Housing Loan upto 35 lakhs for 1st time : (limit 2.5 lakh)"},null,null,null,null,null,null,null,null,{"$f":"'16 (Back)'!J4","v":0},null,null,null,{"$f":"IF(L45>0,\"Certificates Produced\",\"\")","v":""}]
[null,"iv)",{"$f":"'16 (Back)'!B5","v":"U/S 80 U-Deductions for disabled person (40%) Limit Rs. 75,000"},null,null,null,null,null,null,null,null,{"$f":"'16 (Back)'!J5","v":0},null,null,null,""]
[null,"v)",{"$f":"'16 (Back)'!B6","v":"U/S 80 D - Employee Health Insurance Premium"},null,null,null,null,null,null,null,null,{"$f":"'16 (Back)'!J6","v":1080},null,null,null,"Salary Deductions"]
[null,"vi)",{"$f":"'16 (Back)'!B7","v":"Any other"},null,null,null,null,null,null,null,null,{"$f":"'16 (Back)'!J7","v":0},null,null,null,{"$f":"IF(L48>0,\"Certificates Produced\",\"\")","v":""}]
[null,"Verification"]
[null,"I,",{"$f":"L6","v":""},null,null,null,null,null,null,"son/daughter of"]
[null,"do hereby certify that the information given above is complete and correct."]
[]
[null,"Place:"]
[null,"Date  :",null,null,null,null,null,null,null,null,null,"(Signature of the employee)"]
[1122]

{"sheet":"STATEMENT (2)","index":17,"n_rows":30,"n_cols":35,"rows_kept":30,"cut":false,"hidden":true,"merged":[[26,1,26,2],[28,2,29,2]]}
[null,"main link sheet","BOTH"]
[null,"S.\nNo.","Month & Year","Pay","PP","SP","D.A","H.R.A","IR","CCA","HMA","SCA","RA","A HRA","PHA","Others","Gross",{"$f":"DATA!BA4","v":"CPS"},"APGLI","GIS","PT","SWF/ EWF","EHS","LIC\n(SSS)","Adav. Tax","Total Ded.","Net"]
[null,null,{"$f":"DATA!I5","v":"2017-01-01"},{"$f":"DATA!K5","v":39160},null,null,{"$f":"DATA!T5","v":3488},{"$f":"DATA!V5","v":4699},{"$f":"DATA!Z5","v":0},null,null,null,null,null,null,null,{"$f":"SUM(D3:O3)","v":47347},null,null,null,null,null,null,null,null,{"$f":"SUM(R3:Y3)","v":0},{"$f":"Q3-Z3","v":47347}]
[null,null,{"$f":"DATA!I6","v":"2017-02-01"},{"$f":"DATA!K6","v":39160},null,null,{"$f":"DATA!T6","v":3488},{"$f":"DATA!V6","v":4699},{"$f":"DATA!Z6","v":0},null,null,null,null,null,null,null,{"$f":"SUM(D4:O4)","v":47347},null,null,null,null,null,null,null,null,{"$f":"SUM(R4:Y4)","v":0},{"$f":"Q4-Z4","v":47347},null,null,null,null,null,null,null,"EOL"]
[null,1,{"$f":"DATA!I7","v":"2017-03-01"},{"$f":"DATA!K7","v":39160},{"$f":"DATA!Q7","v":0},{"$f":"DATA!N7","v":0},{"$f":"DATA!T7","v":5951},{"$f":"DATA!V7","v":4699},{"$f":"DATA!Z7","v":0},{"$f":"DATA!AL7","v":0},{"$f":"DATA!AB7","v":0},{"$f":"DATA!AF7","v":0},{"$f":"DATA!AT7","v":0},{"$f":"DATA!AI7","v":0},{"$f":"DATA!AO7","v":0},{"$f":"DATA!AW7","v":0},{"$f":"SUM(D5:P5)","v":49810},{"$f":"IF(AI5=0,0,DATA!BA7)","v":4511},{"$f":"IF(AI5=0,0,DATA!BE7)","v":1400},{"$f":"IF(AI5=0,0,DATA!BH7)","v":60},{"$f":"DATA!BN7","v":200},{"$f":"IF(AI5=0,0,DATA!BU7)","v":20},{"$f":"IF(AI5=0,0,DATA!BK7)","v":90},{"$f":"IF(AI5=0,0,DATA!BO7)","v":0},{"$f":"IF(AI5=0,0,DATA!BV7)","v":0},{"$f":"SUM(R5:Y5)","v":6281},{"$f":"Q5-Z5","v":43529},null,null,null,null,null,null,null,{"$f":"IF(Q5=0,0,1)","v":1}]
[null,2,{"$f":"DATA!I8","v":"2017-04-01"},{"$f":"DATA!K8","v":39160},{"$f":"DATA!Q8","v":0},{"$f":"DATA!N8","v":0},{"$f":"DATA!T8","v":7182},{"$f":"DATA!V8","v":4699},{"$f":"DATA!Z8","v":0},{"$f":"DATA!AL8","v":0},{"$f":"DATA!AB8","v":0},{"$f":"DATA!AF8","v":0},{"$f":"DATA!AT8","v":0},{"$f":"DATA!AI8","v":0},{"$f":"DATA!AO8","v":0},{"$f":"DATA!AW8","v":0},{"$f":"SUM(D6:P6)","v":51041},{"$f":"IF(AI6=0,0,DATA!BA8)","v":4634},{"$f":"IF(AI6=0,0,DATA!BE8)","v":1400},{"$f":"IF(AI6=0,0,DATA!BH8)","v":60},{"$f":"DATA!BN8","v":200},null,{"$f":"IF(AI6=0,0,DATA!BK8)","v":90},{"$f":"IF(AI6=0,0,DATA!BO8)","v":0},{"$f":"IF(AI6=0,0,DATA!BV8)","v":0},{"$f":"SUM(R6:Y6)","v":6384},{"$f":"Q6-Z6","v":44657},null,null,null,null,null,null,null,{"$f":"IF(Q6=0,0,1)","v":1}]
[null,3,{"$f":"DATA!I9","v":"2017-05-01"},{"$f":"DATA!K9","v":39160},{"$f":"DATA!Q9","v":0},{"$f":"DATA!N9","v":0},{"$f":"DATA!T9","v":7182},{"$f":"DATA!V9","v":4699},{"$f":"DATA!Z9","v":0},{"$f":"DATA!AL9","v":0},{"$f":"DATA!AB9","v":0},{"$f":"DATA!AF9","v":0},{"$f":"DATA!AT9","v":0},{"$f":"DATA!AI9","v":0},{"$f":"DATA!AO9","v":0},{"$f":"DATA!AW9","v":0},51041,{"$f":"IF(AI7=0,0,DATA!BA9)","v":4634},{"$f":"IF(AI7=0,0,DATA!BE9)","v":1400},{"$f":"IF(AI7=0,0,DATA!BH9)","v":60},{"$f":"DATA!BN9","v":200},null,{"$f":"IF(AI7=0,0,DATA!BK9)","v":90},{"$f":"IF(AI7=0,0,DATA!BO9)","v":0},{"$f":"IF(AI7=0,0,DATA!BV9)","v":0},6384,44657,null,null,null,null,null,null,null,1]
[null,4,{"$f":"DATA!I10","v":"2017-06-01"},{"$f":"DATA!K10","v":39160},{"$f":"DATA!Q10","v":0},{"$f":"DATA!N10","v":0},{"$f":"DATA!T10","v":7182},{"$f":"DATA!V10","v":4699},{"$f":"DATA!Z10","v":0},{"$f":"DATA!AL10","v":0},{"$f":"DATA!AB10","v":0},{"$f":"DATA!AF10","v":0},{"$f":"DATA!AT10","v":0},{"$f":"DATA!AI10","v":0},{"$f":"DATA!AO10","v":0},{"$f":"DATA!AW10","v":0},51041,{"$f":"IF(AI8=0,0,DATA!BA10)","v":4634},{"$f":"IF(AI8=0,0,DATA!BE10)","v":1400},{"$f":"IF(AI8=0,0,DATA!BH10)","v":60},{"$f":"DATA!BN10","v":200},"",{"$f":"IF(AI8=0,0,DATA!BK10)","v":90},{"$f":"IF(AI8=0,0,DATA!BO10)","v":0},{"$f":"IF(AI8=0,0,DATA!BV10)","v":0},6384,44657,null,null,null,null,null,null,null,1]
[null,5,{"$f":"DATA!I11","v":"2017-07-01"},{"$f":"DATA!K11","v":39160},{"$f":"DATA!Q11","v":0},{"$f":"DATA!N11","v":0},{"$f":"DATA!T11","v":7182},{"$f":"DATA!V11","v":4699},{"$f":"DATA!Z11","v":0},{"$f":"DATA!AL11","v":0},{"$f":"DATA!AB11","v":0},{"$f":"DATA!AF11","v":0},{"$f":"DATA!AT11","v":0},{"$f":"DATA!AI11","v":0},{"$f":"DATA!AO11","v":0},{"$f":"DATA!AW11","v":0},51041,{"$f":"IF(AI9=0,0,DATA!BA11)","v":4634},{"$f":"IF(AI9=0,0,DATA!BE11)","v":1400},{"$f":"IF(AI9=0,0,DATA!BH11)","v":60},{"$f":"DATA!BN11","v":200},null,{"$f":"IF(AI9=0,0,DATA!BK11)","v":90},{"$f":"IF(AI9=0,0,DATA!BO11)","v":0},{"$f":"IF(AI9=0,0,DATA!BV11)","v":0},6384,44657,null,null,null,null,null,null,null,1]
[null,6,{"$f":"DATA!I12","v":"2017-08-01"},{"$f":"DATA!K12","v":39160},{"$f":"DATA!Q12","v":0},{"$f":"DATA!N12","v":0},{"$f":"DATA!T12","v":7182},{"$f":"DATA!V12","v":4699},{"$f":"DATA!Z12","v":0},{"$f":"DATA!AL12","v":0},{"$f":"DATA!AB12","v":0},{"$f":"DATA!AF12","v":0},{"$f":"DATA!AT12","v":0},{"$f":"DATA!AI12","v":0},{"$f":"DATA!AO12","v":0},{"$f":"DATA!AW12","v":0},51041,{"$f":"IF(AI10=0,0,DATA!BA12)","v":4634},{"$f":"IF(AI10=0,0,DATA!BE12)","v":1400},{"$f":"IF(AI10=0,0,DATA!BH12)","v":60},{"$f":"DATA!BN12","v":200},null,{"$f":"IF(AI10=0,0,DATA!BK12)","v":90},{"$f":"IF(AI10=0,0,DATA!BO12)","v":0},{"$f":"IF(AI10=0,0,DATA!BV12)","v":0},6384,44657,null,null,null,null,null,null,null,1]
[null,7,{"$f":"DATA!I13","v":"2017-09-01"},{"$f":"DATA!K13","v":39160},{"$f":"DATA!Q13","v":0},{"$f":"DATA!N13","v":0},{"$f":"DATA!T13","v":8618},{"$f":"DATA!V13","v":4699},{"$f":"DATA!Z13","v":0},{"$f":"DATA!AL13","v":0},{"$f":"DATA!AB13","v":0},{"$f":"DATA!AF13","v":0},{"$f":"DATA!AT13","v":0},{"$f":"DATA!AI13","v":0},{"$f":"DATA!AO13","v":0},{"$f":"DATA!AW13","v":0},52477,{"$f":"IF(AI11=0,0,DATA!BA13)","v":4778},{"$f":"IF(AI11=0,0,DATA!BE13)","v":1400},{"$f":"IF(AI11=0,0,DATA!BH13)","v":60},{"$f":"DATA!BN13","v":200},null,{"$f":"IF(AI11=0,0,DATA!BK13)","v":90},{"$f":"IF(AI11=0,0,DATA!BO13)","v":0},{"$f":"IF(AI11=0,0,DATA!BV13)","v":0},6528,45949,null,null,null,null,null,null,null,1]
[null,8,{"$f":"DATA!I14","v":"2017-10-01"},{"$f":"DATA!K14","v":40270},{"$f":"DATA!Q14","v":0},{"$f":"DATA!N14","v":0},{"$f":"DATA!T14","v":8863},{"$f":"DATA!V14","v":4832},{"$f":"DATA!Z14","v":0},{"$f":"DATA!AL14","v":0},{"$f":"DATA!AB14","v":0},{"$f":"DATA!AF14","v":0},{"$f":"DATA!AT14","v":0},{"$f":"DATA!AI14","v":0},{"$f":"DATA!AO14","v":0},{"$f":"DATA!AW14","v":0},53965,{"$f":"IF(AI12=0,0,DATA!BA14)","v":4913},{"$f":"IF(AI12=0,0,DATA!BE14)","v":1400},{"$f":"IF(AI12=0,0,DATA!BH14)","v":60},{"$f":"DATA!BN14","v":200},null,{"$f":"IF(AI12=0,0,DATA!BK14)","v":90},{"$f":"IF(AI12=0,0,DATA!BO14)","v":0},{"$f":"IF(AI12=0,0,DATA!BV14)","v":0},6663,47302,null,null,null,null,null,null,null,1]
[null,9,{"$f":"DATA!I15","v":"2017-11-01"},{"$f":"DATA!K15","v":40270},{"$f":"DATA!Q15","v":0},{"$f":"DATA!N15","v":0},{"$f":"DATA!T15","v":8863},{"$f":"DATA!V15","v":4832},{"$f":"DATA!Z15","v":0},{"$f":"DATA!AL15","v":0},{"$f":"DATA!AB15","v":0},{"$f":"DATA!AF15","v":0},{"$f":"DATA!AT15","v":0},{"$f":"DATA!AI15","v":0},{"$f":"DATA!AO15","v":0},{"$f":"DATA!AW15","v":0},53965,{"$f":"IF(AI13=0,0,DATA!BA15)","v":4913},{"$f":"IF(AI13=0,0,DATA!BE15)","v":1400},{"$f":"IF(AI13=0,0,DATA!BH15)","v":60},{"$f":"DATA!BN15","v":200},null,{"$f":"IF(AI13=0,0,DATA!BK15)","v":90},{"$f":"IF(AI13=0,0,DATA!BO15)","v":0},{"$f":"IF(AI13=0,0,DATA!BV15)","v":0},6663,47302,null,null,null,null,null,null,null,1]
[null,10,{"$f":"DATA!I16","v":"2017-12-01"},{"$f":"DATA!K16","v":40270},{"$f":"DATA!Q16","v":0},{"$f":"DATA!N16","v":0},{"$f":"DATA!T16","v":8863},{"$f":"DATA!V16","v":4832},{"$f":"DATA!Z16","v":0},{"$f":"DATA!AL16","v":0},{"$f":"DATA!AB16","v":0},{"$f":"DATA!AF16","v":0},{"$f":"DATA!AT16","v":0},{"$f":"DATA!AI16","v":0},{"$f":"DATA!AO16","v":0},{"$f":"DATA!AW16","v":0},53965,{"$f":"IF(AI14=0,0,DATA!BA16)","v":4913},{"$f":"IF(AI14=0,0,DATA!BE16)","v":1400},{"$f":"IF(AI14=0,0,DATA!BH16)","v":60},{"$f":"DATA!BN16","v":200},{"$f":"IF(AI14=0,0,DATA!BU16)","v":50},{"$f":"IF(AI14=0,0,DATA!BK16)","v":90},{"$f":"IF(AI14=0,0,DATA!BO16)","v":0},{"$f":"IF(AI14=0,0,DATA!BV16)","v":0},6713,47252,null,null,null,null,null,null,null,1]
[null,11,{"$f":"DATA!I17","v":"2018-01-01"},{"$f":"DATA!K17","v":40270},{"$f":"DATA!Q17","v":0},{"$f":"DATA!N17","v":0},{"$f":"DATA!T17","v":8863},{"$f":"DATA!V17","v":4832},{"$f":"DATA!Z17","v":0},{"$f":"DATA!AL17","v":0},{"$f":"DATA!AB17","v":0},{"$f":"DATA!AF17","v":0},{"$f":"DATA!AT17","v":0},{"$f":"DATA!AI17","v":0},{"$f":"DATA!AO17","v":0},{"$f":"DATA!AW17","v":0},53965,{"$f":"IF(AI15=0,0,DATA!BA17)","v":4913},{"$f":"IF(AI15=0,0,DATA!BE17)","v":1400},{"$f":"IF(AI15=0,0,DATA!BH17)","v":60},{"$f":"DATA!BN17","v":200},null,{"$f":"IF(AI15=0,0,DATA!BK17)","v":90},{"$f":"IF(AI15=0,0,DATA!BO17)","v":0},{"$f":"IF(AI15=0,0,DATA!BV17)","v":0},6663,47302,null,null,null,null,null,null,null,1]
[null,12,{"$f":"DATA!I18","v":"2018-02-01"},{"$f":"DATA!K18","v":40270},{"$f":"DATA!Q18","v":0},{"$f":"DATA!N18","v":0},{"$f":"DATA!T18","v":8863},{"$f":"DATA!V18","v":4832},{"$f":"DATA!Z18","v":0},{"$f":"DATA!AL18","v":0},{"$f":"DATA!AB18","v":0},{"$f":"DATA!AF18","v":0},{"$f":"DATA!AT18","v":0},{"$f":"DATA!AI18","v":0},{"$f":"DATA!AO18","v":0},{"$f":"DATA!AW18","v":0},53965,{"$f":"IF(AI16=0,0,DATA!BA18)","v":4913},{"$f":"IF(AI16=0,0,DATA!BE18)","v":1400},{"$f":"IF(AI16=0,0,DATA!BH18)","v":60},{"$f":"DATA!BN18","v":200},null,{"$f":"IF(AI16=0,0,DATA!BK18)","v":90},{"$f":"IF(AI16=0,0,DATA!BO18)","v":0},{"$f":"IF(AI16=0,0,DATA!BV18)","v":0},6663,47302,null,null,null,null,null,null,null,1]
[null,13,"DA 1 Arrear",null,null,null,{"$f":"DATA!T19","v":18177},null,null,null,null,null,null,null,null,null,18177,{"$f":"SUM(DATA!BA19:BD19)","v":1818},null,null,null,null,null,null,null,1818,16359]
[null,14,"DA 2 Arrear",null,null,null,{"$f":"DATA!T20","v":19993},null,null,null,null,null,null,null,null,null,19993,{"$f":"SUM(DATA!BA20:BD20)","v":2004},null,null,null,null,null,null,null,2004,17989]
[null,15,"PRC Arrear",null,null,null,null,null,null,null,null,null,null,null,null,null,0,null,null,null,null,null,null,null,null,0,0]
[null,16,"Promotion Arrear           ",{"$f":"DATA!J47","v":0},null,null,{"$f":"DATA!L47","v":0},{"$f":"DATA!M47","v":0},{"$f":"DATA!N47","v":0},null,null,null,null,null,null,null,0,{"$f":"DATA!R47","v":0},null,null,null,null,null,null,null,0,0]
[null,17,"AAS Incre.Arrear            ",{"$f":"DATA!J39","v":0},null,null,{"$f":"DATA!L39","v":0},{"$f":"DATA!M39","v":0},{"$f":"DATA!N39","v":0},null,null,null,null,null,"",null,0,{"$f":"DATA!R39","v":0},null,null,null,null,null,null,null,0,0]
[null,18,"Surrender Leave",{"$f":"IF(DATA!ER25=1,D30,0)","v":0},{"$f":"IF(DATA!ER25=1,E30,0)","v":0},null,{"$f":"IF(DATA!ER25=1,H30,0)","v":0},{"$f":"IF(DATA!ER25=1,I30,0)","v":0},"",{"$f":"IF(DATA!ER25=1,F30,0)","v":0},null,{"$f":"IF(DATA!ER25=1,G30,0)","v":0},null,null,"",{"$f":"IF(DATA!ER25=2,J30,0)","v":0},0,0,null,null,null,null,null,null,null,0,0]
[null,19,"Child Fee Concession",null,null,null,"","","",null,null,null,null,null,"",{"$f":"'DATA 1'!J33","v":0},0,{"$f":"DATA!BA25","v":0},null,null,null,null,null,null,null,0,0]
[null,20,null,null,null,null,null,null,null,null,null,null,null,null,null,null,0,{"$f":"DATA!BA26","v":0},null,null,null,null,null,null,null,0,0]
[null,21,null,null,null,null,"","",null,null,null,null,null,null,"",null,0,{"$f":"DATA!BA27","v":0},null,null,"",null,null,null,null,0,0]
[null,22,null,null,null,null,null,null,null,null,null,null,null,null,null,null,0,{"$f":"DATA!BA28","v":0},null,null,null,null,null,null,null,0,0]
[null,"Grand totals",null,{"$f":"SUM(D5:D26)","v":475470},0,0,132964,57053,0,0,0,0,0,0,0,0,665487,60846,16800,720,2400,70,1080,0,0,81916,583571]
[]
[null,null,"S.L.","PAY","PP","CCA","SCA","DA","HRA","GROSS"]
[null,null,null,{"$f":"DATA!J52","v":0},{"$f":"DATA!K52","v":0},{"$f":"DATA!N52","v":0},{"$f":"DATA!O52","v":0},{"$f":"DATA!L52","v":0},{"$f":"DATA!M52","v":0},{"$f":"SUM(D30:I30)","v":0}]

{"sheet":"10BA","index":18,"n_rows":22,"n_cols":30,"rows_kept":22,"cut":false,"hidden":false,"merged":[[8,5,8,29],[1,1,1,29],[2,1,2,29],[3,1,3,29],[6,3,6,18],[7,19,7,24],[9,24,9,29],[10,9,10,14],[11,10,11,29],[12,1,12,29],[17,22,17,29]]}
[]
[null,"FORM NO. 10BA"]
[null,"[See rule 11B]  "]
[null,"Declaration to be filed by the assessee claiming deduction under section 80GG "]
[]
[]
[null,"I/We",null,null,null,null,null,null,null,null,null,null,null,null,null,null,null,null,null,null,null,null,null,null,null,null,null,null,null,"(Name of the assessee with permanent "]
[null,"account number) do hereby certify that during the previous year",null,null,null,null,null,null,null,null,null,null,null,null,null,null,null,null,null,null,null,null,null,null,null,null,null,null,null,"I/we had occupied"]
[null,"the premise"]
[null,"(full address of the premise) for the purpose of my/our own residence for a period of"]
[null,"months and have paid Rs.",null,null,null,null,null,null,null,null,null,null,null,null,null,"in cash/through crossed cheque, bank draft towards "]
[null,"payment of rent to Shri/Ms/M/s"]
[]
[null,"(Name and complete address of the landlord)."]
[]
[null,"It is further certified that no other residential accommodation is owned by "]
[]
[null,"(a)   me/my spouse/my minor child/our family (in case the assessee is HUF), at"]
[null,null,"ordinarily reside/perform duties of office or employment or carry on business or profession, or"]
[]
[null,"(b)   me/us at any other place, being accommodation in my occupation, the value of which is to be determined"]
[null,null,"u/s 23(2)(a)(i) or u/s 23(2)(b). "]

{"sheet":"10-I","index":19,"n_rows":52,"n_cols":5,"rows_kept":52,"cut":false,"hidden":false,"merged":[[35,1,35,10],[0,1,0,10],[1,1,1,10],[2,1,2,10],[14,1,14,10],[16,1,16,10],[20,1,20,10],[22,4,22,7],[24,1,24,10],[28,1,28,10],[30,1,30,10],[32,1,32,10]]}
[null,"FORM NO. 10-I"]
[null,"[See rule 11DD]"]
[null,"Certificate of prescribed authority for the purposes of section 80DDB"]
[]
[null,"      1. Name of the Patient"]
[]
[null,"      2. Address"]
[]
[null,"      3. Father’s name"]
[]
[null,"      4. Name and address of the person on whom the patient is dependent"]
[null,"          and his relationship with the patient."]
[]
[null,"      5. Name of the disease or ailment"]
[null,"          (please see rule 11DD)"]
[null,"      6. For diseases or ailments mentioned in item (i) of clause (a) of"]
[null,"          sub-rule (1), whether the disability is 40% or more (Please specify the extent)"]
[]
[null,"      7. Name, address, registration number and qualification of the"]
[null,"          specialist issuing the certificate, along with the name and address"]
[null,"          of the Government hospital [see rule 11DD(2)] Verification"]
[]
[null,null,null,null,"VERIFICATION"]
[]
[null,"This is to verify that I, Dr.________________________________________________ "]
[]
[null,"s/o (w/o) Shri_____________________, in the case of the patient Shri/Smt./Ms.__________________,"]
[]
[null,"after  considering  the  entire  history of  illness,  careful  examination  and  appropriate  investigations,"]
[]
[null,"am of the opinion that the patient is suffering from______________________________disease/ailment"]
[]
[null,"during the previous year ending on 31st March,_______________________"]
[]
[]
[null,"I also certify (only in case of neurological disease) that the extent of disability is more than 40%)"]
[null,"(Strike off, if not applicable)."]
[null,"I certify that the information furnished above is true to the best of my knowledge."]
[]
[null,"Date _______________                                                                     Signature"]
[null,"Place _______________"]
[null,"                                                                                                (Name and Address)"]
[]
[]
[]
[]
[null,"   To be countersigned by the Head of the Government hospital, where the prescribed authority is a"]
[null,"specialist with post-graduate degree in General or Internal Medicine."]
[]
[null,"Date ______________                                                                    Signature"]
[null,"Place ______________"]
[null,"                                                                                                 (Name and Address)"]

{"sheet":"10-IA","index":20,"n_rows":29,"n_cols":7,"rows_kept":29,"cut":false,"hidden":false,"merged":[[8,0,8,8],[0,0,0,7],[1,0,1,7],[2,0,2,7],[3,0,3,7],[4,0,4,8],[9,0,9,8],[10,0,10,8],[11,0,11,8],[13,0,13,8],[15,0,15,8]]}
["FORM NO. 10-IA"]
["[See sub-rule (2) of rule 11A]"]
["Certificate of the medical authority for certifying ‘person with disability’, ‘severe disability',"]
["autsm', ‘cerebral palsy’ and ‘multiple disability’ for purposes of section 80 DD and section 80U"]
[]
[null,null,null,null,null,null,"Certificate No."]
[null,null,null,null,null,null,"Date :"]
[]
["         This is to certify that Shri/Smt./Ms.________________________________ son/daughter of"]
["Shri____________________________________, age________ years___________male/female*"]
["residing at______________________________________, Registration No._______________is a"]
["person with disability/severe disability* suffering from autism/cerebral palsy/multiple disability.       "]
[]
["2. This condition is progressive/non-progressive/likely to improve/not likely to improve*."]
[]
["3. Reassessment is recommended/not recommended after a period of _____months/years"]
[]
[null,null,null,null,"Sd/-"]
[null,null,null,null,"(Neurologist/Pediatric Neurologist/Civil Surgeon/"]
[null,null,null,null,"Chief Medical Officer*)"]
["Name :___________________"]
["Address of Institution/Government hospital :"]
["____________________________________"]
["____________________________________"]
[]
["Qualification/designation of specialist :____________________"]
["SEAL"]
["Signature/Thumb impression* of the patient"]
["Note : *Strike out whichever is not applicable."]

{"sheet":"Sheet4","index":21,"n_rows":22,"n_cols":14,"rows_kept":22,"cut":false,"hidden":true,"merged":[]}
[null,null,null,null,null,"PRC Arrears"]
[null,null,null,"month","b.pay","A.D.","T.D."]
[null,null,null,{"$f":"DATA!I5","v":"2017-01-01"},{"$f":"F3","v":39160},{"$f":"DATA!CE5","v":39160},0]
[null,null,null,{"$f":"DATA!I6","v":"2017-02-01"},{"$f":"F4","v":39160},{"$f":"DATA!CE6","v":39160},0]
[null,null,null,{"$f":"DATA!I7","v":"2017-03-01"},{"$f":"F5","v":39160},{"$f":"DATA!R55","v":39160},0]
[null,null,null,{"$f":"DATA!I8","v":"2017-04-01"},{"$f":"IF(DATA!JC4=0,F6,IF(DATA!H8>=DATA!JC4,G6,F6))","v":39160},{"$f":"DATA!R56","v":39160},{"$f":"DATA!S56","v":0}]
[null,null,null,{"$f":"DATA!I9","v":"2017-05-01"},{"$f":"IF(DATA!JC5=0,F7,IF(DATA!H9>=DATA!JC5,G7,F7))","v":39160},{"$f":"DATA!R57","v":39160},{"$f":"DATA!S57","v":0}]
[null,null,null,{"$f":"DATA!I10","v":"2017-06-01"},{"$f":"IF(DATA!JC6=0,F8,IF(DATA!H10>=DATA!JC6,G8,F8))","v":39160},{"$f":"DATA!R58","v":39160},{"$f":"DATA!S58","v":0}]
[null,null,null,{"$f":"DATA!I11","v":"2017-07-01"},{"$f":"IF(DATA!JC7=0,F9,IF(DATA!H11>=DATA!JC7,G9,F9))","v":39160},{"$f":"DATA!R59","v":39160},{"$f":"DATA!S59","v":0}]
[null,null,null,{"$f":"DATA!I12","v":"2017-08-01"},{"$f":"IF(DATA!JC8=0,F10,IF(DATA!H12>=DATA!JC8,G10,F10))","v":39160},{"$f":"DATA!R60","v":39160},{"$f":"DATA!S60","v":0}]
[null,null,null,{"$f":"DATA!I13","v":"2017-09-01"},{"$f":"IF(DATA!JC9=0,F11,IF(DATA!H13>=DATA!JC9,G11,F11))","v":39160},{"$f":"DATA!R61","v":39160},{"$f":"DATA!S61","v":0}]
[null,null,null,{"$f":"DATA!I14","v":"2017-10-01"},{"$f":"IF(DATA!JC10=0,F12,IF(DATA!H14>=DATA!JC10,G12,F12))","v":40270},{"$f":"DATA!R62","v":40270},{"$f":"DATA!S62","v":0}]
[null,null,null,{"$f":"DATA!I15","v":"2017-11-01"},{"$f":"IF(DATA!JC11=0,F13,IF(DATA!H15>=DATA!JC11,G13,F13))","v":40270},{"$f":"DATA!R63","v":40270},{"$f":"DATA!S63","v":0}]
[null,null,null,{"$f":"DATA!I16","v":"2017-12-01"},{"$f":"IF(DATA!JC12=0,F14,IF(DATA!H16>=DATA!JC12,G14,F14))","v":40270},{"$f":"DATA!R64","v":40270},{"$f":"DATA!S64","v":0}]
[null,null,null,{"$f":"DATA!I17","v":"2018-01-01"},{"$f":"IF(DATA!JC13=0,F15,IF(DATA!H17>=DATA!JC13,G15,F15))","v":40270},{"$f":"DATA!R65","v":40270},{"$f":"DATA!S65","v":0}]
[null,null,null,{"$f":"DATA!I18","v":"2018-02-01"},{"$f":"IF(DATA!JC14=0,F16,IF(DATA!H18>=DATA!JC14,G16,F16))","v":40270},{"$f":"DATA!R66","v":40270},{"$f":"DATA!S66","v":0}]
[]
[null,null,null,null,null,null,null,"tax",null,{"$f":"'Annex II'!P60","v":18338},null,"REQUIRED SAVINGS",null,{"$f":"J18*10","v":183380}]
[null,null,null,null,null,null,null,"max savings",null,150000,null,"BALANCE SAVINGS",null,{"$f":"IF(N18>J21,J21,N18)","v":71634}]
[null,null,null,null,null,null,null,"savings",null,{"$f":"'DATA 2'!I21","v":78366}]
[null,null,null,null,null,null,null,"balance upto 1.5 L",null,{"$f":"J19-J20","v":71634}]
[null,null,null,null,null,null,null,null,null,{"$f":"CONCATENATE('DATA 2'!U18,'DATA 2'!U20,'DATA 2'!U19,'DATA 2'!U21,'DATA 2'!U22,'DATA 2'!U23)","v":"* <-----You can select - House Rent Manually* You can enhance your savings Rs. 71634"}]

{"sheet":"SHEET2","index":22,"n_rows":16,"n_cols":27,"rows_kept":16,"cut":false,"hidden":true,"merged":[[12,1,12,2],[0,1,0,26]]}
[null,"EDIT YOUR ARREARS HERE"]
[null,"S.\nNo.","Month & Year","Pay","PP","SP","D.A","H.R.A","IR","CCA","HMA","SCA","RA","A HRA","PHA","Others","Gross",{"$f":"DATA!BA4","v":"CPS"},"APGLI","GIS","PT","SWF/ EWF","EHS","LIC\n(SSS)","Adav. Tax","Total Ded.","Net"]
[null,13,"DA Arrears 1",{"$f":"EDIT!AF40","v":0},{"$f":"EDIT!AG40","v":0},{"$f":"EDIT!AH40","v":0},{"$f":"EDIT!AI40","v":18177},{"$f":"EDIT!AJ40","v":0},{"$f":"EDIT!AK40","v":0},{"$f":"EDIT!AL40","v":0},{"$f":"EDIT!AM40","v":0},{"$f":"EDIT!AN40","v":0},{"$f":"EDIT!AO40","v":0},{"$f":"EDIT!AP40","v":0},{"$f":"EDIT!AQ40","v":0},{"$f":"EDIT!AR40","v":0},{"$f":"SUM(D3:P3)","v":18177},{"$f":"EDIT!AT40","v":1818},{"$f":"EDIT!AU40","v":0},{"$f":"EDIT!AV40","v":0},{"$f":"EDIT!AW40","v":0},{"$f":"EDIT!AX40","v":0},{"$f":"EDIT!AY40","v":0},{"$f":"EDIT!AZ40","v":0},{"$f":"EDIT!BA40","v":0},{"$f":"SUM(R3:Y3)","v":1818},{"$f":"Q3-Z3","v":16359}]
[null,14,"DA Arrears 2",{"$f":"EDIT!AF41","v":0},{"$f":"EDIT!AG41","v":0},{"$f":"EDIT!AH41","v":0},{"$f":"EDIT!AI41","v":19993},{"$f":"EDIT!AJ41","v":0},{"$f":"EDIT!AK41","v":0},{"$f":"EDIT!AL41","v":0},{"$f":"EDIT!AM41","v":0},{"$f":"EDIT!AN41","v":0},{"$f":"EDIT!AO41","v":0},{"$f":"EDIT!AP41","v":0},{"$f":"EDIT!AQ41","v":0},{"$f":"EDIT!AR41","v":0},{"$f":"SUM(D4:P4)","v":19993},{"$f":"EDIT!AT41","v":2004},{"$f":"EDIT!AU41","v":0},{"$f":"EDIT!AV41","v":0},{"$f":"EDIT!AW41","v":0},{"$f":"EDIT!AX41","v":0},{"$f":"EDIT!AY41","v":0},{"$f":"EDIT!AZ41","v":0},{"$f":"EDIT!BA41","v":0},{"$f":"SUM(R4:Y4)","v":2004},17989]
[null,15,"PRC Arrears",{"$f":"EDIT!AF42","v":0},{"$f":"EDIT!AG42","v":0},{"$f":"EDIT!AH42","v":0},{"$f":"EDIT!AI42","v":0},{"$f":"EDIT!AJ42","v":0},{"$f":"EDIT!AK42","v":0},{"$f":"EDIT!AL42","v":0},{"$f":"EDIT!AM42","v":0},{"$f":"EDIT!AN42","v":0},{"$f":"EDIT!AO42","v":0},{"$f":"EDIT!AP42","v":0},{"$f":"EDIT!AQ42","v":0},{"$f":"EDIT!AR42","v":0},0,{"$f":"EDIT!AT42","v":0},{"$f":"EDIT!AU42","v":0},{"$f":"EDIT!AV42","v":0},{"$f":"EDIT!AW42","v":0},{"$f":"EDIT!AX42","v":0},{"$f":"EDIT!AY42","v":0},{"$f":"EDIT!AZ42","v":0},{"$f":"EDIT!BA42","v":0},0,0]
[null,16,"Promotion Arrears           ",{"$f":"EDIT!AF43","v":0},{"$f":"EDIT!AG43","v":0},{"$f":"EDIT!AH43","v":0},{"$f":"EDIT!AI43","v":0},{"$f":"EDIT!AJ43","v":0},{"$f":"EDIT!AK43","v":0},{"$f":"EDIT!AL43","v":0},{"$f":"EDIT!AM43","v":0},{"$f":"EDIT!AN43","v":0},{"$f":"EDIT!AO43","v":0},{"$f":"EDIT!AP43","v":0},{"$f":"EDIT!AQ43","v":0},{"$f":"EDIT!AR43","v":0},0,{"$f":"EDIT!AT43","v":0},{"$f":"EDIT!AU43","v":0},{"$f":"EDIT!AV43","v":0},{"$f":"EDIT!AW43","v":0},{"$f":"EDIT!AX43","v":0},{"$f":"EDIT!AY43","v":0},{"$f":"EDIT!AZ43","v":0},{"$f":"EDIT!BA43","v":0},0,0]
[null,17,"AAS Arrears          ",{"$f":"EDIT!AF44","v":0},{"$f":"EDIT!AG44","v":0},{"$f":"EDIT!AH44","v":0},{"$f":"EDIT!AI44","v":0},{"$f":"EDIT!AJ44","v":0},{"$f":"EDIT!AK44","v":0},{"$f":"EDIT!AL44","v":0},{"$f":"EDIT!AM44","v":0},{"$f":"EDIT!AN44","v":0},{"$f":"EDIT!AO44","v":0},{"$f":"EDIT!AP44","v":0},{"$f":"EDIT!AQ44","v":""},{"$f":"EDIT!AR44","v":0},0,{"$f":"EDIT!AT44","v":0},{"$f":"EDIT!AU44","v":0},{"$f":"EDIT!AV44","v":0},{"$f":"EDIT!AW44","v":0},{"$f":"EDIT!AX44","v":0},{"$f":"EDIT!AY44","v":0},{"$f":"EDIT!AZ44","v":0},{"$f":"EDIT!BA44","v":0},0,0]
[null,18,"Surrender Leave",{"$f":"IF(DATA!ER25=1,EDIT!AF45,0)","v":0},{"$f":"EDIT!AG45","v":0},{"$f":"EDIT!AH45","v":0},{"$f":"IF(DATA!ER25=1,EDIT!AI45,0)","v":0},{"$f":"IF(DATA!ER25=1,EDIT!AJ45,0)","v":0},{"$f":"IF(DATA!ER25=1,EDIT!AK45,0)","v":""},{"$f":"EDIT!AL45","v":0},{"$f":"EDIT!AM45","v":0},{"$f":"EDIT!AN45","v":0},{"$f":"EDIT!AO45","v":0},{"$f":"EDIT!AP45","v":0},{"$f":"EDIT!AQ45","v":""},{"$f":"IF(DATA!ER25=2,EDIT!AR45,0)","v":0},0,{"$f":"EDIT!AT45","v":0},{"$f":"EDIT!AU45","v":0},{"$f":"EDIT!AV45","v":0},{"$f":"EDIT!AW45","v":0},{"$f":"EDIT!AX45","v":0},{"$f":"EDIT!AY45","v":0},{"$f":"EDIT!AZ45","v":0},{"$f":"EDIT!BA45","v":0},0,0]
[null,19,"Child Fee Concession",{"$f":"EDIT!AF46","v":0},{"$f":"EDIT!AG46","v":0},{"$f":"EDIT!AH46","v":0},{"$f":"EDIT!AI46","v":""},{"$f":"EDIT!AJ46","v":""},{"$f":"EDIT!AK46","v":""},{"$f":"EDIT!AL46","v":0},{"$f":"EDIT!AM46","v":0},{"$f":"EDIT!AN46","v":0},{"$f":"EDIT!AO46","v":0},{"$f":"EDIT!AP46","v":0},{"$f":"EDIT!AQ46","v":""},{"$f":"EDIT!AR46","v":0},0,{"$f":"EDIT!AT46","v":0},{"$f":"EDIT!AU46","v":0},{"$f":"EDIT!AV46","v":0},{"$f":"EDIT!AW46","v":0},{"$f":"EDIT!AX46","v":0},{"$f":"EDIT!AY46","v":0},{"$f":"EDIT!AZ46","v":0},{"$f":"EDIT!BA46","v":0},0,0]
[null,20,null,{"$f":"EDIT!AF47","v":0},{"$f":"EDIT!AG47","v":0},{"$f":"EDIT!AH47","v":0},{"$f":"EDIT!AI47","v":0},{"$f":"EDIT!AJ47","v":0},{"$f":"EDIT!AK47","v":0},{"$f":"EDIT!AL47","v":0},{"$f":"EDIT!AM47","v":0},{"$f":"EDIT!AN47","v":0},{"$f":"EDIT!AO47","v":0},{"$f":"EDIT!AP47","v":0},{"$f":"EDIT!AQ47","v":0},{"$f":"EDIT!AR47","v":0},0,{"$f":"EDIT!AT47","v":0},{"$f":"EDIT!AU47","v":0},{"$f":"EDIT!AV47","v":0},{"$f":"EDIT!AW47","v":0},{"$f":"EDIT!AX47","v":0},{"$f":"EDIT!AY47","v":0},{"$f":"EDIT!AZ47","v":0},{"$f":"EDIT!BA47","v":0},0,0]
[null,21,null,{"$f":"EDIT!AF48","v":0},{"$f":"EDIT!AG48","v":0},{"$f":"EDIT!AH48","v":0},{"$f":"EDIT!AI48","v":""},{"$f":"EDIT!AJ48","v":""},{"$f":"EDIT!AK48","v":0},{"$f":"EDIT!AL48","v":0},{"$f":"EDIT!AM48","v":0},{"$f":"EDIT!AN48","v":0},{"$f":"EDIT!AO48","v":0},{"$f":"EDIT!AP48","v":0},{"$f":"EDIT!AQ48","v":""},{"$f":"EDIT!AR48","v":0},0,{"$f":"EDIT!AT48","v":0},{"$f":"EDIT!AU48","v":0},{"$f":"EDIT!AV48","v":0},{"$f":"EDIT!AW48","v":""},{"$f":"EDIT!AX48","v":0},{"$f":"EDIT!AY48","v":0},{"$f":"EDIT!AZ48","v":0},{"$f":"EDIT!BA48","v":0},0,0]
[null,22,null,{"$f":"EDIT!AF49","v":0},{"$f":"EDIT!AG49","v":0},{"$f":"EDIT!AH49","v":0},{"$f":"EDIT!AI49","v":0},{"$f":"EDIT!AJ49","v":0},{"$f":"EDIT!AK49","v":0},{"$f":"EDIT!AL49","v":0},{"$f":"EDIT!AM49","v":0},{"$f":"EDIT!AN49","v":0},{"$f":"EDIT!AO49","v":0},{"$f":"EDIT!AP49","v":0},{"$f":"EDIT!AQ49","v":0},{"$f":"EDIT!AR49","v":0},0,{"$f":"EDIT!AT49","v":0},{"$f":"EDIT!AU49","v":0},{"$f":"EDIT!AV49","v":0},{"$f":"EDIT!AW49","v":0},{"$f":"EDIT!AX49","v":0},{"$f":"EDIT!AY49","v":0},{"$f":"EDIT!AZ49","v":0},{"$f":"EDIT!BA49","v":0},0,0]
[null,"Grand totals",null,{"$f":"SUM(D3:D12)","v":0},0,0,38170,0,0,0,0,0,0,0,0,0,38170,3822,0,0,0,0,0,0,0,3822,34348]
[]
[]
[null,null,null,null,null,null,null,null,null,null,null,null,null,null,null,null,null,null,null,null,null,null,null,"SHEET1!AF30"]

{"sheet":"RENT","index":23,"n_rows":21,"n_cols":8,"rows_kept":21,"cut":false,"hidden":false,"merged":[[4,0,4,7],[6,0,6,7],[0,0,0,7],[1,0,1,7]]}
["RECEIPT OF HOUSE RENT"]
["(Under Section 1 (13-A) of Income Tax Act )"]
[]
[]
["                                 Received a sum of Rs. _______________________ (Rupees________________ ____________________ _________________ Towards the rent @_____________ per month from ______________________ _____________ ______________________ to _______________________ in respect of House No.______________________________________________ _________________________________________________ situated at ___________________________________"]
[]
["(Affix Revenue Stamp of Rs.1/-)"]
[]
[]
[]
[]
[]
["Date: ",null,null,null,null,null,null," Signature of the House Owner"]
["                                  "]
[]
["Name:"]
[]
["Address: _____________________"]
["______________________________"]
["______________________________"]
["PAN No: _____________________"]

{"sheet":"NON PAN","index":24,"n_rows":18,"n_cols":7,"rows_kept":18,"cut":false,"hidden":false,"merged":[[2,0,2,9],[6,0,6,9],[16,6,16,9],[12,0,12,9],[14,0,14,9],[9,6,9,9],[4,0,4,9]]}
[]
[]
["DECLARATION"]
[]
["1.   I …………………………(Name of Landlord) S/o …………………R/o ……………......................................…….(Full address of the Landlord with pin code) do hereby declare that I have given my hosing accommodation at ………………....................... ........................ ...........................……. (address) on rent to Mr/Ms/Mrs ……………………………………. S/o D/o …………......................…… For a period of ……… months/years from …………….. (date) to ……………..(date) at a monthly rent of  Rs………… (amount) (Amount in words) ................................................................."]
[]
["2.   Further I also declare that I do not have Income tax Permanent Account Number (PAN)."]
[]
[]
["Place:",null,null,null,null,null,"Name and Signature"]
["Dated:"]
[]
["Verification"]
[]
["I, the above named deponent do hereby declare that what is stated in para 1 to 2 is true to the best of my knowledge and belief and nothing has been concealed."]
[]
["Place:",null,null,null,null,null,"Name and Signature of the DDO"]
["Dated:"]

{"sheet":"OLD NEW PAYS","index":25,"n_rows":82,"n_cols":3,"rows_kept":82,"cut":false,"hidden":true,"merged":[]}
[]
[null,"BASIC PAYS IN PRC 2010","BASIC PAYS IN PRC 2015"]
[null,6700,14170]
[null,6900,14600]
[null,7100,15030]
[null,7300,15460]
[null,7520,15930]
[null,7740,16400]
[null,7960,16870]
[null,8200,17380]
[null,8440,17890]
[null,8680,18400]
[null,8940,18950]
[null,9200,19500]
[null,9460,20050]
[null,9740,20640]
[null,10020,21230]
[null,10300,21820]
[null,10600,22460]
[null,10900,23100]
[null,11200,23740]
[null,11530,24440]
[null,11860,25140]
[null,12190,25840]
[null,12550,26600]
[null,12910,27360]
[null,13270,28120]
[null,13660,28940]
[null,14050,29760]
[null,14440,30580]
[null,14860,31460]
[null,15280,32340]
[null,15700,33220]
[null,16150,34170]
[null,16600,35120]
[null,17050,36070]
[null,17540,37100]
[null,18030,38130]
[null,18520,39160]
[null,19050,40270]
[null,19580,41380]
[null,20110,42490]
[null,20680,43680]
[null,21250,44870]
[null,21820,46060]
[null,22430,47330]
[null,23040,48600]
[null,23650,49870]
[null,24300,51230]
[null,24950,52590]
[null,25600,53950]
[null,26300,55410]
[null,27000,56870]
[null,27700,58330]
[null,28450,59890]
[null,29200,61450]
[null,29950,63010]
[null,30750,64670]
[null,31550,66330]
[null,32350,67990]
[null,33200,69750]
[null,34050,71510]
[null,34900,73270]
[null,35800,75150]
[null,36700,77030]
[null,37600,78910]
[null,38570,80930]
[null,39540,82950]
[null,40510,84970]
[null,41550,87130]
[null,42590,89290]
[null,43630,91450]
[null,44740,93780]
[null,45850,96110]
[null,46960,98440]
[null,48160,100770]
[null,49360,103290]
[null,50560,105810]
[null,51760,108330]
[null,53060,110850]
[null,54360,110850]
[null,55660,110850]

{"sheet":"FORM","index":26,"n_rows":48,"n_cols":5,"rows_kept":48,"cut":false,"hidden":false,"merged":[[8,3,8,4],[45,0,45,4],[46,0,46,4],[27,0,27,1],[16,3,16,4],[10,3,10,4],[12,3,12,4],[13,3,13,4],[14,3,14,4],[15,0,15,1],[15,3,15,4],[38,0,38,1],[38,3,38,4],[39,0,39,1],[0,0,0,4],[3,3,3,4],[4,3,4,4],[5,3,5,4],[7,3,7,4],[1,3,1,4],[2,3,2,4],[6,3,6,4],[47,0,47,4],[19,3,19,4],[20,0,20,4],[27,3,27,4],[28,3,28,4],[29,3,29,4],[32,0,37,0],[21,3,21,4],[22,3,22,4],[23,3,23,4],[24,3,24,4],[25,3,25,4],[26,3,26,4]]}
["Needed data for Prepartion of Income Tax Returns\nEmployee Mobile No. __ __ __ __ __ __ __ __ __ __"]
["Employee Name"]
[null,"Treasury I.D."]
[null,"House Address"]
[null,"Working Place"]
[null,"Designation"]
[null,"District & Mandal "]
[null,"PAN No."]
["DDO's Name",null,null,"                                                                                   "]
[null,"DDO's Designation"]
[null,"DDO's Office"]
[null,"DDO's PAN No. & TAN No."]
["House Type (Rented /Own )"]
["PF No.  / PRAN No."]
["APGLI No."]
["Basic Pay as in Jan -2017"]
[null,"Increment Month"]
[null,"AAS arrs. Date from & Upto the Month*",null,null,""]
[null,"Promotion Date From & Upto the Month*",null,null,""]
[null,"Promotion fixation option given to"]
["Pays & Allowances (From Mar-16 and note the changes, if any) "]
[null,"Special Pay -                ","Rs."]
[null,"Personal Pay -          ","Rs."]
[null,"H.R.A. -       Percentage","%"]
[null,"H.M. Allowances -     ","Rs."]
[null,"Other Allowances -    ","Rs."]
[null,"P.H. Allowances -        ","Rs."]
["Surrender Leave* Month and Days If availed"]
[null,"Personal Pay for S.L. -(If drawn) ","Rs."]
["Education Fee concession received -   ",null,"Rs."]
["Any EOL / HPL ?* if so, Availed month & No. of days"]
["DEDUCTIONS (Monthly) From March & changes"]
[null,"PF                               ","Rs."]
[null,"APGLI -                      ","Rs."]
[null,"GIS -                        ","Rs."]
[null,"EHS -                         ","Rs."]
[null,"EWF & SWF         ","Rs."]
[null,"LIC - (Salary Savings)  ","Rs."]
["Advance Tax.  Upto Nov -:-                             ",null,null,"Dec-:                                Jan-:-                                                "]
["Other Savings: (YEARLY)"]
[null,"LIC - (Yearly - By hand)     ","Rs."]
[null,"NSC :","Rs."]
[null,"PLI:","Rs."]
[null,"Tution Fee:","Rs."]
[null,"Others","Rs."]
["DA 1 arrears Details: Basic Pay as on Jan-16 : _________ ;AAS Date If Taken ________;  DA bill Upto the month of ______ ;S.L. Diff. Month and Date, If taken _________; (OR) Gross :_____________  PF/CPS: __________ NET : _______"]
["DA 2 arrears Details: DA bill Upto the month of __________; S.L. Diff. Month and Date, If taken _________;\n (OR) Gross :_____________  PF/CPS: ___________ NET : ___________"]
["* Note: AAS, Promotion, PRC arrears, S.L., E.O.L, H.P.L, etc., amounts are to be crosschecked with  reference to Pay Bill Register."]

{"sheet":"EDIT","index":27,"n_rows":50,"n_cols":60,"rows_kept":50,"cut":false,"hidden":false,"merged":[[0,1,0,26],[26,1,26,2]]}
[null,"EDIT YOUR SALARY PARTICULARS HERE"]
[null,"S.\nNo.","Month & Year","Pay","PP","SP","D.A","H.R.A","IR","CCA","HMA","SCA","RA","A HRA","PHA","Others","Gross",{"$f":"DATA!BA4","v":"CPS"},"APGLI","GIS","PT","SWF/ EWF","EHS","LIC\n(SSS)","Adav. Tax","Total Ded.","Net"]
[null,null,{"$f":"DATA!I5","v":"2017-01-01"},{"$f":"DATA!K5","v":39160},null,null,{"$f":"DATA!T5","v":3488},{"$f":"DATA!V5","v":4699},{"$f":"DATA!Z5","v":0},null,null,null,null,null,null,null,{"$f":"SUM(D3:O3)","v":47347},null,null,null,null,null,null,null,null,{"$f":"SUM(R3:Y3)","v":0},{"$f":"Q3-Z3","v":47347}]
[null,null,{"$f":"DATA!I6","v":"2017-02-01"},{"$f":"DATA!K6","v":39160},null,null,{"$f":"DATA!T6","v":3488},{"$f":"DATA!V6","v":4699},{"$f":"DATA!Z6","v":0},null,null,null,null,null,null,null,{"$f":"SUM(D4:O4)","v":47347},null,null,null,null,null,null,null,null,0,47347]
[null,1,{"$f":"DATA!I7","v":"2017-03-01"},{"$f":"AF28","v":39160},{"$f":"AG28","v":0},0,5951,4699,0,0,0,0,0,0,0,0,{"$f":"SUM(D5:P5)","v":49810},{"$f":"AT28","v":4511},{"$f":"AU28","v":1400},60,200,20,90,0,0,{"$f":"SUM(R5:Y5)","v":6281},{"$f":"Q5-Z5","v":43529},null,null,null,{"$f":"'Annex I'!AG7","v":2},{"$f":"AE5","v":2},{"$f":"AF5","v":2},2,2,2,2,2,2,2,2,2,2,2,2,2,2,2,2,2,2,2,2,2,2,2,2,2,2,2]
[null,2,{"$f":"DATA!I8","v":"2017-04-01"},{"$f":"AF29","v":39160},{"$f":"AG29","v":0},{"$f":"AH29","v":0},{"$f":"AI29","v":7182},{"$f":"AJ29","v":4699},{"$f":"AK29","v":0},{"$f":"AL29","v":0},{"$f":"AM29","v":0},{"$f":"AN29","v":0},{"$f":"AO29","v":0},{"$f":"AP29","v":0},{"$f":"AQ29","v":0},{"$f":"AR29","v":0},{"$f":"SUM(D6:P6)","v":51041},{"$f":"AT29","v":4634},{"$f":"AU29","v":1400},{"$f":"AV29","v":60},{"$f":"AW29","v":200},{"$f":"AX29","v":0},{"$f":"AY29","v":90},{"$f":"AZ29","v":0},{"$f":"BA29","v":0},6384,{"$f":"Q6-Z6","v":44657},null,null,null,null,{"$f":"AF5","v":2},{"$f":"AF6","v":2},2,2,2,2,2,2,2,2,2,2,2,2,2,2,2,2,2,2,2,2,2,2,2,2,2,2,2]
[null,3,{"$f":"DATA!I9","v":"2017-05-01"},39160,0,0,7182,4699,0,0,0,0,0,0,0,0,51041,4634,1400,60,200,0,90,0,0,6384,44657,null,null,null,null,{"$f":"AF6","v":2},{"$f":"AF7","v":2},2,2,2,2,2,2,2,2,2,2,2,2,2,2,2,2,2,2,2,2,2,2,2,2,2,2,2]
[null,4,{"$f":"DATA!I10","v":"2017-06-01"},39160,0,0,7182,4699,0,0,0,0,0,0,0,0,51041,4634,1400,60,200,"",90,0,0,6384,44657,null,null,null,null,2,{"$f":"AF8","v":2},2,2,2,2,2,2,2,2,2,2,2,2,2,2,2,2,2,2,2,2,2,2,2,2,2,2,2]
[null,5,{"$f":"DATA!I11","v":"2017-07-01"},39160,0,0,7182,4699,0,0,0,0,0,0,0,0,51041,4634,1400,60,200,0,90,0,0,6384,44657,null,null,null,null,2,{"$f":"AF9","v":2},2,2,2,2,2,2,2,2,2,2,2,2,2,2,2,2,2,2,2,2,2,2,2,2,2,2,2]
[null,6,{"$f":"DATA!I12","v":"2017-08-01"},39160,0,0,7182,4699,0,0,0,0,0,0,0,0,51041,4634,1400,60,200,0,90,0,0,6384,44657,null,null,null,null,2,{"$f":"AF10","v":2},2,2,2,2,2,2,2,2,2,2,2,2,2,2,2,2,2,2,2,2,2,2,2,2,2,2,2]
[null,7,{"$f":"DATA!I13","v":"2017-09-01"},39160,0,0,8618,4699,0,0,0,0,0,0,0,0,52477,4778,1400,60,200,0,90,0,0,6528,45949,null,null,null,null,2,{"$f":"AF11","v":2},2,2,2,2,2,2,2,2,2,2,2,2,2,2,2,2,2,2,2,2,2,2,2,2,2,2,2]
[null,8,{"$f":"DATA!I14","v":"2017-10-01"},40270,0,0,8863,4832,0,0,0,0,0,0,0,0,53965,4913,1400,60,200,0,90,0,0,6663,47302,null,null,null,null,2,{"$f":"AF12","v":2},2,2,2,2,2,2,2,2,2,2,2,2,2,2,2,2,2,2,2,2,2,2,2,2,2,2,2]
[null,9,{"$f":"DATA!I15","v":"2017-11-01"},40270,0,0,8863,4832,0,0,0,0,0,0,0,0,53965,4913,1400,60,200,0,90,0,0,6663,47302,null,null,null,null,2,{"$f":"AF13","v":2},2,2,2,2,2,2,2,2,2,2,2,2,2,2,2,2,2,2,2,2,2,2,2,2,2,2,2]
[null,10,{"$f":"DATA!I16","v":"2017-12-01"},40270,0,0,8863,4832,0,0,0,0,0,0,0,0,53965,4913,1400,60,200,50,90,0,0,6713,47252,null,null,null,null,2,{"$f":"AF14","v":2},2,2,2,2,2,2,2,2,2,2,2,2,2,2,2,2,2,2,2,2,2,2,2,2,2,2,2]
[null,11,{"$f":"DATA!I17","v":"2018-01-01"},40270,0,0,8863,4832,0,0,0,0,0,0,0,0,53965,4913,1400,60,200,0,90,0,0,6663,47302,null,null,null,null,2,{"$f":"AF15","v":2},2,2,2,2,2,2,2,2,2,2,2,2,2,2,2,2,2,2,2,2,2,2,2,2,2,2,2]
[null,12,{"$f":"DATA!I18","v":"2018-02-01"},40270,0,0,8863,4832,0,0,0,0,0,0,0,0,{"$f":"SUM(D16:P16)","v":53965},4913,1400,60,200,0,90,0,0,{"$f":"SUM(R16:Y16)","v":6663},47302,null,null,null,null,2,{"$f":"AF16","v":2},2,2,2,2,2,2,2,2,2,2,2,2,2,2,2,2,2,2,2,2,2,2,2,2,2,2,2]
[null,13,"DA Arrears 1",{"$f":"SHEET2!D3","v":0},{"$f":"SHEET2!E3","v":0},{"$f":"SHEET2!F3","v":0},{"$f":"SHEET2!G3","v":18177},{"$f":"SHEET2!H3","v":0},{"$f":"SHEET2!I3","v":0},{"$f":"SHEET2!J3","v":0},{"$f":"SHEET2!K3","v":0},{"$f":"SHEET2!L3","v":0},{"$f":"SHEET2!M3","v":0},{"$f":"SHEET2!N3","v":0},{"$f":"SHEET2!O3","v":0},{"$f":"SHEET2!P3","v":0},{"$f":"SUM(D17:P17)","v":18177},{"$f":"SHEET2!R3","v":1818},{"$f":"SHEET2!S3","v":0},{"$f":"SHEET2!T3","v":0},{"$f":"SHEET2!U3","v":0},{"$f":"SHEET2!V3","v":0},{"$f":"SHEET2!W3","v":0},{"$f":"SHEET2!X3","v":0},{"$f":"SHEET2!Y3","v":0},{"$f":"SUM(R17:Y17)","v":1818},16359]
[null,14,"DA Arrears 2",{"$f":"SHEET2!D4","v":0},{"$f":"SHEET2!E4","v":0},{"$f":"SHEET2!F4","v":0},{"$f":"SHEET2!G4","v":19993},{"$f":"SHEET2!H4","v":0},{"$f":"SHEET2!I4","v":0},{"$f":"SHEET2!J4","v":0},{"$f":"SHEET2!K4","v":0},{"$f":"SHEET2!L4","v":0},{"$f":"SHEET2!M4","v":0},{"$f":"SHEET2!N4","v":0},{"$f":"SHEET2!O4","v":0},{"$f":"SHEET2!P4","v":0},{"$f":"SUM(D18:P18)","v":19993},{"$f":"SHEET2!R4","v":2004},{"$f":"SHEET2!S4","v":0},{"$f":"SHEET2!T4","v":0},{"$f":"SHEET2!U4","v":0},{"$f":"SHEET2!V4","v":0},{"$f":"SHEET2!W4","v":0},{"$f":"SHEET2!X4","v":0},{"$f":"SHEET2!Y4","v":0},{"$f":"SUM(R18:Y18)","v":2004},17989]
[null,15,"PRC Arrears",{"$f":"SHEET2!D5","v":0},{"$f":"SHEET2!E5","v":0},{"$f":"SHEET2!F5","v":0},{"$f":"SHEET2!G5","v":0},{"$f":"SHEET2!H5","v":0},{"$f":"SHEET2!I5","v":0},{"$f":"SHEET2!J5","v":0},{"$f":"SHEET2!K5","v":0},{"$f":"SHEET2!L5","v":0},{"$f":"SHEET2!M5","v":0},{"$f":"SHEET2!N5","v":0},{"$f":"SHEET2!O5","v":0},{"$f":"SHEET2!P5","v":0},0,{"$f":"SHEET2!R5","v":0},{"$f":"SHEET2!S5","v":0},{"$f":"SHEET2!T5","v":0},{"$f":"SHEET2!U5","v":0},{"$f":"SHEET2!V5","v":0},{"$f":"SHEET2!W5","v":0},{"$f":"SHEET2!X5","v":0},{"$f":"SHEET2!Y5","v":0},0,0]
[null,16,"Promotion Arrears           ",{"$f":"SHEET2!D6","v":0},{"$f":"SHEET2!E6","v":0},{"$f":"SHEET2!F6","v":0},{"$f":"SHEET2!G6","v":0},{"$f":"SHEET2!H6","v":0},{"$f":"SHEET2!I6","v":0},{"$f":"SHEET2!J6","v":0},{"$f":"SHEET2!K6","v":0},{"$f":"SHEET2!L6","v":0},{"$f":"SHEET2!M6","v":0},{"$f":"SHEET2!N6","v":0},{"$f":"SHEET2!O6","v":0},{"$f":"SHEET2!P6","v":0},0,{"$f":"SHEET2!R6","v":0},{"$f":"SHEET2!S6","v":0},{"$f":"SHEET2!T6","v":0},{"$f":"SHEET2!U6","v":0},{"$f":"SHEET2!V6","v":0},{"$f":"SHEET2!W6","v":0},{"$f":"SHEET2!X6","v":0},{"$f":"SHEET2!Y6","v":0},{"$f":"SUM(R20:Y20)","v":0},0]
[null,17,"AAS Incre.Arrears          ",{"$f":"SHEET2!D7","v":0},{"$f":"SHEET2!E7","v":0},{"$f":"SHEET2!F7","v":0},{"$f":"SHEET2!G7","v":0},{"$f":"SHEET2!H7","v":0},{"$f":"SHEET2!I7","v":0},{"$f":"SHEET2!J7","v":0},{"$f":"SHEET2!K7","v":0},{"$f":"SHEET2!L7","v":0},{"$f":"SHEET2!M7","v":0},{"$f":"SHEET2!N7","v":0},{"$f":"SHEET2!O7","v":""},{"$f":"SHEET2!P7","v":0},{"$f":"SUM(D21:P21)","v":0},{"$f":"SHEET2!R7","v":0},{"$f":"SHEET2!S7","v":0},{"$f":"SHEET2!T7","v":0},{"$f":"SHEET2!U7","v":0},{"$f":"SHEET2!V7","v":0},{"$f":"SHEET2!W7","v":0},{"$f":"SHEET2!X7","v":0},{"$f":"SHEET2!Y7","v":0},0,0]
[null,18,"Surrender Leave",{"$f":"SHEET2!D8","v":0},{"$f":"SHEET2!E8","v":0},{"$f":"SHEET2!F8","v":0},{"$f":"SHEET2!G8","v":0},{"$f":"SHEET2!H8","v":0},{"$f":"SHEET2!I8","v":""},{"$f":"SHEET2!J8","v":0},{"$f":"SHEET2!K8","v":0},{"$f":"SHEET2!L8","v":0},{"$f":"SHEET2!M8","v":0},{"$f":"SHEET2!N8","v":0},{"$f":"SHEET2!O8","v":""},{"$f":"SHEET2!P8","v":0},0,{"$f":"SHEET2!R8","v":0},{"$f":"SHEET2!S8","v":0},{"$f":"SHEET2!T8","v":0},{"$f":"SHEET2!U8","v":0},{"$f":"SHEET2!V8","v":0},{"$f":"SHEET2!W8","v":0},{"$f":"SHEET2!X8","v":0},{"$f":"SHEET2!Y8","v":0},0,0]
[null,19,"Child Fee Concession",{"$f":"SHEET2!D9","v":0},{"$f":"SHEET2!E9","v":0},{"$f":"SHEET2!F9","v":0},{"$f":"SHEET2!G9","v":""},{"$f":"SHEET2!H9","v":""},{"$f":"SHEET2!I9","v":""},{"$f":"SHEET2!J9","v":0},{"$f":"SHEET2!K9","v":0},{"$f":"SHEET2!L9","v":0},{"$f":"SHEET2!M9","v":0},{"$f":"SHEET2!N9","v":0},{"$f":"SHEET2!O9","v":""},{"$f":"SHEET2!P9","v":0},0,{"$f":"SHEET2!R9","v":0},{"$f":"SHEET2!S9","v":0},{"$f":"SHEET2!T9","v":0},{"$f":"SHEET2!U9","v":0},{"$f":"SHEET2!V9","v":0},{"$f":"SHEET2!W9","v":0},{"$f":"SHEET2!X9","v":0},{"$f":"SHEET2!Y9","v":0},0,0]
[null,20,null,{"$f":"SHEET2!D10","v":0},{"$f":"SHEET2!E10","v":0},{"$f":"SHEET2!F10","v":0},{"$f":"SHEET2!G10","v":0},{"$f":"SHEET2!H10","v":0},{"$f":"SHEET2!I10","v":0},{"$f":"SHEET2!J10","v":0},{"$f":"SHEET2!K10","v":0},{"$f":"SHEET2!L10","v":0},{"$f":"SHEET2!M10","v":0},{"$f":"SHEET2!N10","v":0},{"$f":"SHEET2!O10","v":0},{"$f":"SHEET2!P10","v":0},0,{"$f":"SHEET2!R10","v":0},{"$f":"SHEET2!S10","v":0},{"$f":"SHEET2!T10","v":0},{"$f":"SHEET2!U10","v":0},{"$f":"SHEET2!V10","v":0},{"$f":"SHEET2!W10","v":0},{"$f":"SHEET2!X10","v":0},{"$f":"SHEET2!Y10","v":0},0,0]
[null,21,null,{"$f":"SHEET2!D11","v":0},{"$f":"SHEET2!E11","v":0},{"$f":"SHEET2!F11","v":0},{"$f":"SHEET2!G11","v":""},{"$f":"SHEET2!H11","v":""},{"$f":"SHEET2!I11","v":0},{"$f":"SHEET2!J11","v":0},{"$f":"SHEET2!K11","v":0},{"$f":"SHEET2!L11","v":0},{"$f":"SHEET2!M11","v":0},{"$f":"SHEET2!N11","v":0},{"$f":"SHEET2!O11","v":""},{"$f":"SHEET2!P11","v":0},0,{"$f":"SHEET2!R11","v":0},{"$f":"SHEET2!S11","v":0},{"$f":"SHEET2!T11","v":0},{"$f":"SHEET2!U11","v":""},{"$f":"SHEET2!V11","v":0},{"$f":"SHEET2!W11","v":0},{"$f":"SHEET2!X11","v":0},{"$f":"SHEET2!Y11","v":0},0,0]
[null,22,null,{"$f":"SHEET2!D12","v":0},{"$f":"SHEET2!E12","v":0},{"$f":"SHEET2!F12","v":0},{"$f":"SHEET2!G12","v":0},{"$f":"SHEET2!H12","v":0},{"$f":"SHEET2!I12","v":0},{"$f":"SHEET2!J12","v":0},{"$f":"SHEET2!K12","v":0},{"$f":"SHEET2!L12","v":0},{"$f":"SHEET2!M12","v":0},{"$f":"SHEET2!N12","v":0},{"$f":"SHEET2!O12","v":0},{"$f":"SHEET2!P12","v":0},0,{"$f":"SHEET2!R12","v":0},{"$f":"SHEET2!S12","v":0},{"$f":"SHEET2!T12","v":0},{"$f":"SHEET2!U12","v":0},{"$f":"SHEET2!V12","v":0},{"$f":"SHEET2!W12","v":0},{"$f":"SHEET2!X12","v":0},{"$f":"SHEET2!Y12","v":0},{"$f":"SUM(R26:Y26)","v":0},0]
[null,"Grand totals",null,{"$f":"SUM(D5:D26)","v":475470},{"$f":"SUM(E5:E26)","v":0},0,132964,57053,0,0,0,0,0,0,0,0,665487,{"$f":"SUM(R5:R26)","v":60846},{"$f":"SUM(S5:S26)","v":16800},{"$f":"SUM(T5:T26)","v":720},{"$f":"SUM(U5:U26)","v":2400},{"$f":"SUM(V5:V26)","v":70},{"$f":"SUM(W5:W26)","v":1080},{"$f":"SUM(X5:X26)","v":0},{"$f":"SUM(Y5:Y26)","v":0},{"$f":"SUM(Z5:Z26)","v":81916},{"$f":"SUM(AA5:AA26)","v":583571}]
[null,null,null,null,null,null,null,null,null,null,null,null,null,null,null,null,null,null,null,null,null,null,null,null,null,null,null,null,null,null,null,{"$f":"'STATEMENT (2)'!D5","v":39160},{"$f":"'STATEMENT (2)'!E5","v":0},{"$f":"'STATEMENT (2)'!F5","v":0},{"$f":"'STATEMENT (2)'!G5","v":5951},{"$f":"'STATEMENT (2)'!H5","v":4699},{"$f":"'STATEMENT (2)'!I5","v":0},{"$f":"'STATEMENT (2)'!J5","v":0},{"$f":"'STATEMENT (2)'!K5","v":0},{"$f":"'STATEMENT (2)'!L5","v":0},{"$f":"'STATEMENT (2)'!M5","v":0},{"$f":"'STATEMENT (2)'!N5","v":0},{"$f":"'STATEMENT (2)'!O5","v":0},{"$f":"'STATEMENT (2)'!P5","v":0},{"$f":"'STATEMENT (2)'!Q5","v":49810},{"$f":"'STATEMENT (2)'!R5","v":4511},{"$f":"'STATEMENT (2)'!S5","v":1400},{"$f":"'STATEMENT (2)'!T5","v":60},{"$f":"'STATEMENT (2)'!U5","v":200},{"$f":"'STATEMENT (2)'!V5","v":20},{"$f":"'STATEMENT (2)'!W5","v":90},{"$f":"'STATEMENT (2)'!X5","v":0},{"$f":"'STATEMENT (2)'!Y5","v":0},{"$f":"'STATEMENT (2)'!Z5","v":6281},{"$f":"'STATEMENT (2)'!AA5","v":43529}]
[null,null,null,null,null,null,null,null,null,null,null,null,null,null,null,null,null,null,null,null,null,null,null,null,null,null,null,null,null,null,null,{"$f":"'STATEMENT (2)'!D6","v":39160},{"$f":"'STATEMENT (2)'!E6","v":0},{"$f":"'STATEMENT (2)'!F6","v":0},{"$f":"'STATEMENT (2)'!G6","v":7182},{"$f":"'STATEMENT (2)'!H6","v":4699},{"$f":"'STATEMENT (2)'!I6","v":0},{"$f":"'STATEMENT (2)'!J6","v":0},{"$f":"'STATEMENT (2)'!K6","v":0},{"$f":"'STATEMENT (2)'!L6","v":0},{"$f":"'STATEMENT (2)'!M6","v":0},{"$f":"'STATEMENT (2)'!N6","v":0},{"$f":"'STATEMENT (2)'!O6","v":0},{"$f":"'STATEMENT (2)'!P6","v":0},{"$f":"'STATEMENT (2)'!Q6","v":51041},{"$f":"'STATEMENT (2)'!R6","v":4634},{"$f":"'STATEMENT (2)'!S6","v":1400},{"$f":"'STATEMENT (2)'!T6","v":60},{"$f":"'STATEMENT (2)'!U6","v":200},{"$f":"'STATEMENT (2)'!V6","v":0},{"$f":"'STATEMENT (2)'!W6","v":90},{"$f":"'STATEMENT (2)'!X6","v":0},{"$f":"'STATEMENT (2)'!Y6","v":0},{"$f":"'STATEMENT (2)'!Z6","v":6384},{"$f":"'STATEMENT (2)'!AA6","v":44657}]
[null,null,null,null,null,null,null,null,null,null,null,null,null,null,null,null,null,null,null,null,null,null,null,null,null,null,null,null,null,null,null,{"$f":"'STATEMENT (2)'!D7","v":39160},{"$f":"'STATEMENT (2)'!E7","v":0},{"$f":"'STATEMENT (2)'!F7","v":0},{"$f":"'STATEMENT (2)'!G7","v":7182},{"$f":"'STATEMENT (2)'!H7","v":4699},{"$f":"'STATEMENT (2)'!I7","v":0},{"$f":"'STATEMENT (2)'!J7","v":0},{"$f":"'STATEMENT (2)'!K7","v":0},{"$f":"'STATEMENT (2)'!L7","v":0},{"$f":"'STATEMENT (2)'!M7","v":0},{"$f":"'STATEMENT (2)'!N7","v":0},{"$f":"'STATEMENT (2)'!O7","v":0},{"$f":"'STATEMENT (2)'!P7","v":0},{"$f":"'STATEMENT (2)'!Q7","v":51041},{"$f":"'STATEMENT (2)'!R7","v":4634},{"$f":"'STATEMENT (2)'!S7","v":1400},{"$f":"'STATEMENT (2)'!T7","v":60},{"$f":"'STATEMENT (2)'!U7","v":200},{"$f":"'STATEMENT (2)'!V7","v":0},{"$f":"'STATEMENT (2)'!W7","v":90},{"$f":"'STATEMENT (2)'!X7","v":0},{"$f":"'STATEMENT (2)'!Y7","v":0},{"$f":"'STATEMENT (2)'!Z7","v":6384},{"$f":"'STATEMENT (2)'!AA7","v":44657}]
[null,null,null,null,null,null,null,null,null,null,null,null,null,null,null,null,null,null,null,null,null,null,null,null,null,null,null,null,null,null,null,{"$f":"'STATEMENT (2)'!D8","v":39160},{"$f":"'STATEMENT (2)'!E8","v":0},{"$f":"'STATEMENT (2)'!F8","v":0},{"$f":"'STATEMENT (2)'!G8","v":7182},{"$f":"'STATEMENT (2)'!H8","v":4699},{"$f":"'STATEMENT (2)'!I8","v":0},{"$f":"'STATEMENT (2)'!J8","v":0},{"$f":"'STATEMENT (2)'!K8","v":0},{"$f":"'STATEMENT (2)'!L8","v":0},{"$f":"'STATEMENT (2)'!M8","v":0},{"$f":"'STATEMENT (2)'!N8","v":0},{"$f":"'STATEMENT (2)'!O8","v":0},{"$f":"'STATEMENT (2)'!P8","v":0},{"$f":"'STATEMENT (2)'!Q8","v":51041},{"$f":"'STATEMENT (2)'!R8","v":4634},{"$f":"'STATEMENT (2)'!S8","v":1400},{"$f":"'STATEMENT (2)'!T8","v":60},{"$f":"'STATEMENT (2)'!U8","v":200},{"$f":"'STATEMENT (2)'!V8","v":""},{"$f":"'STATEMENT (2)'!W8","v":90},{"$f":"'STATEMENT (2)'!X8","v":0},{"$f":"'STATEMENT (2)'!Y8","v":0},{"$f":"'STATEMENT (2)'!Z8","v":6384},{"$f":"'STATEMENT (2)'!AA8","v":44657}]
[null,null,null,null,null,null,null,null,null,null,null,null,null,null,null,null,null,null,null,null,null,null,null,null,null,null,null,null,null,null,null,{"$f":"'STATEMENT (2)'!D9","v":39160},{"$f":"'STATEMENT (2)'!E9","v":0},{"$f":"'STATEMENT (2)'!F9","v":0},{"$f":"'STATEMENT (2)'!G9","v":7182},{"$f":"'STATEMENT (2)'!H9","v":4699},{"$f":"'STATEMENT (2)'!I9","v":0},{"$f":"'STATEMENT (2)'!J9","v":0},{"$f":"'STATEMENT (2)'!K9","v":0},{"$f":"'STATEMENT (2)'!L9","v":0},{"$f":"'STATEMENT (2)'!M9","v":0},{"$f":"'STATEMENT (2)'!N9","v":0},{"$f":"'STATEMENT (2)'!O9","v":0},{"$f":"'STATEMENT (2)'!P9","v":0},{"$f":"'STATEMENT (2)'!Q9","v":51041},{"$f":"'STATEMENT (2)'!R9","v":4634},{"$f":"'STATEMENT (2)'!S9","v":1400},{"$f":"'STATEMENT (2)'!T9","v":60},{"$f":"'STATEMENT (2)'!U9","v":200},{"$f":"'STATEMENT (2)'!V9","v":0},{"$f":"'STATEMENT (2)'!W9","v":90},{"$f":"'STATEMENT (2)'!X9","v":0},{"$f":"'STATEMENT (2)'!Y9","v":0},{"$f":"'STATEMENT (2)'!Z9","v":6384},{"$f":"'STATEMENT (2)'!AA9","v":44657}]
[null,null,null,null,null,null,null,null,null,null,null,null,null,null,null,null,null,null,null,null,null,null,null,null,null,null,null,null,null,null,null,{"$f":"'STATEMENT (2)'!D10","v":39160},{"$f":"'STATEMENT (2)'!E10","v":0},{"$f":"'STATEMENT (2)'!F10","v":0},{"$f":"'STATEMENT (2)'!G10","v":7182},{"$f":"'STATEMENT (2)'!H10","v":4699},{"$f":"'STATEMENT (2)'!I10","v":0},{"$f":"'STATEMENT (2)'!J10","v":0},{"$f":"'STATEMENT (2)'!K10","v":0},{"$f":"'STATEMENT (2)'!L10","v":0},{"$f":"'STATEMENT (2)'!M10","v":0},{"$f":"'STATEMENT (2)'!N10","v":0},{"$f":"'STATEMENT (2)'!O10","v":0},{"$f":"'STATEMENT (2)'!P10","v":0},{"$f":"'STATEMENT (2)'!Q10","v":51041},{"$f":"'STATEMENT (2)'!R10","v":4634},{"$f":"'STATEMENT (2)'!S10","v":1400},{"$f":"'STATEMENT (2)'!T10","v":60},{"$f":"'STATEMENT (2)'!U10","v":200},{"$f":"'STATEMENT (2)'!V10","v":0},{"$f":"'STATEMENT (2)'!W10","v":90},{"$f":"'STATEMENT (2)'!X10","v":0},{"$f":"'STATEMENT (2)'!Y10","v":0},{"$f":"'STATEMENT (2)'!Z10","v":6384},{"$f":"'STATEMENT (2)'!AA10","v":44657}]
[null,null,null,null,null,null,null,null,null,null,null,null,null,null,null,null,null,null,null,null,null,null,null,null,null,null,null,null,null,null,null,{"$f":"'STATEMENT (2)'!D11","v":39160},{"$f":"'STATEMENT (2)'!E11","v":0},{"$f":"'STATEMENT (2)'!F11","v":0},{"$f":"'STATEMENT (2)'!G11","v":8618},{"$f":"'STATEMENT (2)'!H11","v":4699},{"$f":"'STATEMENT (2)'!I11","v":0},{"$f":"'STATEMENT (2)'!J11","v":0},{"$f":"'STATEMENT (2)'!K11","v":0},{"$f":"'STATEMENT (2)'!L11","v":0},{"$f":"'STATEMENT (2)'!M11","v":0},{"$f":"'STATEMENT (2)'!N11","v":0},{"$f":"'STATEMENT (2)'!O11","v":0},{"$f":"'STATEMENT (2)'!P11","v":0},{"$f":"'STATEMENT (2)'!Q11","v":52477},{"$f":"'STATEMENT (2)'!R11","v":4778},{"$f":"'STATEMENT (2)'!S11","v":1400},{"$f":"'STATEMENT (2)'!T11","v":60},{"$f":"'STATEMENT (2)'!U11","v":200},{"$f":"'STATEMENT (2)'!V11","v":0},{"$f":"'STATEMENT (2)'!W11","v":90},{"$f":"'STATEMENT (2)'!X11","v":0},{"$f":"'STATEMENT (2)'!Y11","v":0},{"$f":"'STATEMENT (2)'!Z11","v":6528},{"$f":"'STATEMENT (2)'!AA11","v":45949}]
[null,null,null,null,null,null,null,null,null,null,null,null,null,null,null,null,null,null,null,null,null,null,null,null,null,null,null,null,null,null,null,{"$f":"'STATEMENT (2)'!D12","v":40270},{"$f":"'STATEMENT (2)'!E12","v":0},{"$f":"'STATEMENT (2)'!F12","v":0},{"$f":"'STATEMENT (2)'!G12","v":8863},{"$f":"'STATEMENT (2)'!H12","v":4832},{"$f":"'STATEMENT (2)'!I12","v":0},{"$f":"'STATEMENT (2)'!J12","v":0},{"$f":"'STATEMENT (2)'!K12","v":0},{"$f":"'STATEMENT (2)'!L12","v":0},{"$f":"'STATEMENT (2)'!M12","v":0},{"$f":"'STATEMENT (2)'!N12","v":0},{"$f":"'STATEMENT (2)'!O12","v":0},{"$f":"'STATEMENT (2)'!P12","v":0},{"$f":"'STATEMENT (2)'!Q12","v":53965},{"$f":"'STATEMENT (2)'!R12","v":4913},{"$f":"'STATEMENT (2)'!S12","v":1400},{"$f":"'STATEMENT (2)'!T12","v":60},{"$f":"'STATEMENT (2)'!U12","v":200},{"$f":"'STATEMENT (2)'!V12","v":0},{"$f":"'STATEMENT (2)'!W12","v":90},{"$f":"'STATEMENT (2)'!X12","v":0},{"$f":"'STATEMENT (2)'!Y12","v":0},{"$f":"'STATEMENT (2)'!Z12","v":6663},{"$f":"'STATEMENT (2)'!AA12","v":47302}]
[null,null,null,null,null,null,null,null,null,null,null,null,null,null,null,null,null,null,null,null,null,null,null,null,null,null,null,null,null,null,null,{"$f":"'STATEMENT (2)'!D13","v":40270},{"$f":"'STATEMENT (2)'!E13","v":0},{"$f":"'STATEMENT (2)'!F13","v":0},{"$f":"'STATEMENT (2)'!G13","v":8863},{"$f":"'STATEMENT (2)'!H13","v":4832},{"$f":"'STATEMENT (2)'!I13","v":0},{"$f":"'STATEMENT (2)'!J13","v":0},{"$f":"'STATEMENT (2)'!K13","v":0},{"$f":"'STATEMENT (2)'!L13","v":0},{"$f":"'STATEMENT (2)'!M13","v":0},{"$f":"'STATEMENT (2)'!N13","v":0},{"$f":"'STATEMENT (2)'!O13","v":0},{"$f":"'STATEMENT (2)'!P13","v":0},{"$f":"'STATEMENT (2)'!Q13","v":53965},{"$f":"'STATEMENT (2)'!R13","v":4913},{"$f":"'STATEMENT (2)'!S13","v":1400},{"$f":"'STATEMENT (2)'!T13","v":60},{"$f":"'STATEMENT (2)'!U13","v":200},{"$f":"'STATEMENT (2)'!V13","v":0},{"$f":"'STATEMENT (2)'!W13","v":90},{"$f":"'STATEMENT (2)'!X13","v":0},{"$f":"'STATEMENT (2)'!Y13","v":0},{"$f":"'STATEMENT (2)'!Z13","v":6663},{"$f":"'STATEMENT (2)'!AA13","v":47302}]
[null,null,null,null,null,null,null,null,null,null,null,null,null,null,null,null,null,null,null,null,null,null,null,null,null,null,null,null,null,null,null,{"$f":"'STATEMENT (2)'!D14","v":40270},{"$f":"'STATEMENT (2)'!E14","v":0},{"$f":"'STATEMENT (2)'!F14","v":0},{"$f":"'STATEMENT (2)'!G14","v":8863},{"$f":"'STATEMENT (2)'!H14","v":4832},{"$f":"'STATEMENT (2)'!I14","v":0},{"$f":"'STATEMENT (2)'!J14","v":0},{"$f":"'STATEMENT (2)'!K14","v":0},{"$f":"'STATEMENT (2)'!L14","v":0},{"$f":"'STATEMENT (2)'!M14","v":0},{"$f":"'STATEMENT (2)'!N14","v":0},{"$f":"'STATEMENT (2)'!O14","v":0},{"$f":"'STATEMENT (2)'!P14","v":0},{"$f":"'STATEMENT (2)'!Q14","v":53965},{"$f":"'STATEMENT (2)'!R14","v":4913},{"$f":"'STATEMENT (2)'!S14","v":1400},{"$f":"'STATEMENT (2)'!T14","v":60},{"$f":"'STATEMENT (2)'!U14","v":200},{"$f":"'STATEMENT (2)'!V14","v":50},{"$f":"'STATEMENT (2)'!W14","v":90},{"$f":"'STATEMENT (2)'!X14","v":0},{"$f":"'STATEMENT (2)'!Y14","v":0},{"$f":"'STATEMENT (2)'!Z14","v":6713},{"$f":"'STATEMENT (2)'!AA14","v":47252}]
[null,null,null,null,null,null,null,null,null,null,null,null,null,null,null,null,null,null,null,null,null,null,null,null,null,null,null,null,null,null,null,{"$f":"'STATEMENT (2)'!D15","v":40270},{"$f":"'STATEMENT (2)'!E15","v":0},{"$f":"'STATEMENT (2)'!F15","v":0},{"$f":"'STATEMENT (2)'!G15","v":8863},{"$f":"'STATEMENT (2)'!H15","v":4832},{"$f":"'STATEMENT (2)'!I15","v":0},{"$f":"'STATEMENT (2)'!J15","v":0},{"$f":"'STATEMENT (2)'!K15","v":0},{"$f":"'STATEMENT (2)'!L15","v":0},{"$f":"'STATEMENT (2)'!M15","v":0},{"$f":"'STATEMENT (2)'!N15","v":0},{"$f":"'STATEMENT (2)'!O15","v":0},{"$f":"'STATEMENT (2)'!P15","v":0},{"$f":"'STATEMENT (2)'!Q15","v":53965},{"$f":"'STATEMENT (2)'!R15","v":4913},{"$f":"'STATEMENT (2)'!S15","v":1400},{"$f":"'STATEMENT (2)'!T15","v":60},{"$f":"'STATEMENT (2)'!U15","v":200},{"$f":"'STATEMENT (2)'!V15","v":0},{"$f":"'STATEMENT (2)'!W15","v":90},{"$f":"'STATEMENT (2)'!X15","v":0},{"$f":"'STATEMENT (2)'!Y15","v":0},{"$f":"'STATEMENT (2)'!Z15","v":6663},{"$f":"'STATEMENT (2)'!AA15","v":47302}]
[null,null,null,null,null,null,null,null,null,null,null,null,null,null,null,null,null,null,null,null,null,null,null,null,null,null,null,null,null,null,null,{"$f":"'STATEMENT (2)'!D16","v":40270},{"$f":"'STATEMENT (2)'!E16","v":0},{"$f":"'STATEMENT (2)'!F16","v":0},{"$f":"'STATEMENT (2)'!G16","v":8863},{"$f":"'STATEMENT (2)'!H16","v":4832},{"$f":"'STATEMENT (2)'!I16","v":0},{"$f":"'STATEMENT (2)'!J16","v":0},{"$f":"'STATEMENT (2)'!K16","v":0},{"$f":"'STATEMENT (2)'!L16","v":0},{"$f":"'STATEMENT (2)'!M16","v":0},{"$f":"'STATEMENT (2)'!N16","v":0},{"$f":"'STATEMENT (2)'!O16","v":0},{"$f":"'STATEMENT (2)'!P16","v":0},{"$f":"'STATEMENT (2)'!Q16","v":53965},{"$f":"'STATEMENT (2)'!R16","v":4913},{"$f":"'STATEMENT (2)'!S16","v":1400},{"$f":"'STATEMENT (2)'!T16","v":60},{"$f":"'STATEMENT (2)'!U16","v":200},{"$f":"'STATEMENT (2)'!V16","v":0},{"$f":"'STATEMENT (2)'!W16","v":90},{"$f":"'STATEMENT (2)'!X16","v":0},{"$f":"'STATEMENT (2)'!Y16","v":0},{"$f":"'STATEMENT (2)'!Z16","v":6663},{"$f":"'STATEMENT (2)'!AA16","v":47302}]
[null,null,null,null,null,null,null,null,null,null,null,null,null,null,null,null,null,null,null,null,null,null,null,null,null,null,null,null,null,null,null,{"$f":"'STATEMENT (2)'!D17","v":0},{"$f":"'STATEMENT (2)'!E17","v":0},{"$f":"'STATEMENT (2)'!F17","v":0},{"$f":"'STATEMENT (2)'!G17","v":18177},{"$f":"'STATEMENT (2)'!H17","v":0},{"$f":"'STATEMENT (2)'!I17","v":0},{"$f":"'STATEMENT (2)'!J17","v":0},{"$f":"'STATEMENT (2)'!K17","v":0},{"$f":"'STATEMENT (2)'!L17","v":0},{"$f":"'STATEMENT (2)'!M17","v":0},{"$f":"'STATEMENT (2)'!N17","v":0},{"$f":"'STATEMENT (2)'!O17","v":0},{"$f":"'STATEMENT (2)'!P17","v":0},{"$f":"'STATEMENT (2)'!Q17","v":18177},{"$f":"'STATEMENT (2)'!R17","v":1818},{"$f":"'STATEMENT (2)'!S17","v":0},{"$f":"'STATEMENT (2)'!T17","v":0},{"$f":"'STATEMENT (2)'!U17","v":0},{"$f":"'STATEMENT (2)'!V17","v":0},{"$f":"'STATEMENT (2)'!W17","v":0},{"$f":"'STATEMENT (2)'!X17","v":0},{"$f":"'STATEMENT (2)'!Y17","v":0},{"$f":"'STATEMENT (2)'!Z17","v":1818},{"$f":"'STATEMENT (2)'!AA17","v":16359}]
[null,null,null,null,null,null,null,null,null,null,null,null,null,null,null,null,null,null,null,null,null,null,null,null,null,null,null,null,null,null,null,{"$f":"'STATEMENT (2)'!D18","v":0},{"$f":"'STATEMENT (2)'!E18","v":0},{"$f":"'STATEMENT (2)'!F18","v":0},{"$f":"'STATEMENT (2)'!G18","v":19993},{"$f":"'STATEMENT (2)'!H18","v":0},{"$f":"'STATEMENT (2)'!I18","v":0},{"$f":"'STATEMENT (2)'!J18","v":0},{"$f":"'STATEMENT (2)'!K18","v":0},{"$f":"'STATEMENT (2)'!L18","v":0},{"$f":"'STATEMENT (2)'!M18","v":0},{"$f":"'STATEMENT (2)'!N18","v":0},{"$f":"'STATEMENT (2)'!O18","v":0},{"$f":"'STATEMENT (2)'!P18","v":0},{"$f":"'STATEMENT (2)'!Q18","v":19993},{"$f":"'STATEMENT (2)'!R18","v":2004},{"$f":"'STATEMENT (2)'!S18","v":0},{"$f":"'STATEMENT (2)'!T18","v":0},{"$f":"'STATEMENT (2)'!U18","v":0},{"$f":"'STATEMENT (2)'!V18","v":0},{"$f":"'STATEMENT (2)'!W18","v":0},{"$f":"'STATEMENT (2)'!X18","v":0},{"$f":"'STATEMENT (2)'!Y18","v":0},{"$f":"'STATEMENT (2)'!Z18","v":2004},{"$f":"'STATEMENT (2)'!AA18","v":17989}]
[null,null,null,null,null,null,null,null,null,null,null,null,null,null,null,null,null,null,null,null,null,null,null,null,null,null,null,null,null,null,null,{"$f":"'STATEMENT (2)'!D19","v":0},{"$f":"'STATEMENT (2)'!E19","v":0},{"$f":"'STATEMENT (2)'!F19","v":0},{"$f":"'STATEMENT (2)'!G19","v":0},{"$f":"'STATEMENT (2)'!H19","v":0},{"$f":"'STATEMENT (2)'!I19","v":0},{"$f":"'STATEMENT (2)'!J19","v":0},{"$f":"'STATEMENT (2)'!K19","v":0},{"$f":"'STATEMENT (2)'!L19","v":0},{"$f":"'STATEMENT (2)'!M19","v":0},{"$f":"'STATEMENT (2)'!N19","v":0},{"$f":"'STATEMENT (2)'!O19","v":0},{"$f":"'STATEMENT (2)'!P19","v":0},{"$f":"'STATEMENT (2)'!Q19","v":0},{"$f":"'STATEMENT (2)'!R19","v":0},{"$f":"'STATEMENT (2)'!S19","v":0},{"$f":"'STATEMENT (2)'!T19","v":0},{"$f":"'STATEMENT (2)'!U19","v":0},{"$f":"'STATEMENT (2)'!V19","v":0},{"$f":"'STATEMENT (2)'!W19","v":0},{"$f":"'STATEMENT (2)'!X19","v":0},{"$f":"'STATEMENT (2)'!Y19","v":0},{"$f":"'STATEMENT (2)'!Z19","v":0},{"$f":"'STATEMENT (2)'!AA19","v":0}]
[null,null,null,null,null,null,null,null,null,null,null,null,null,null,null,null,null,null,null,null,null,null,null,null,null,null,null,null,null,null,null,{"$f":"'STATEMENT (2)'!D20","v":0},{"$f":"'STATEMENT (2)'!E20","v":0},{"$f":"'STATEMENT (2)'!F20","v":0},{"$f":"'STATEMENT (2)'!G20","v":0},{"$f":"'STATEMENT (2)'!H20","v":0},{"$f":"'STATEMENT (2)'!I20","v":0},{"$f":"'STATEMENT (2)'!J20","v":0},{"$f":"'STATEMENT (2)'!K20","v":0},{"$f":"'STATEMENT (2)'!L20","v":0},{"$f":"'STATEMENT (2)'!M20","v":0},{"$f":"'STATEMENT (2)'!N20","v":0},{"$f":"'STATEMENT (2)'!O20","v":0},{"$f":"'STATEMENT (2)'!P20","v":0},{"$f":"'STATEMENT (2)'!Q20","v":0},{"$f":"'STATEMENT (2)'!R20","v":0},{"$f":"'STATEMENT (2)'!S20","v":0},{"$f":"'STATEMENT (2)'!T20","v":0},{"$f":"'STATEMENT (2)'!U20","v":0},{"$f":"'STATEMENT (2)'!V20","v":0},{"$f":"'STATEMENT (2)'!W20","v":0},{"$f":"'STATEMENT (2)'!X20","v":0},{"$f":"'STATEMENT (2)'!Y20","v":0},{"$f":"'STATEMENT (2)'!Z20","v":0},{"$f":"'STATEMENT (2)'!AA20","v":0}]
[null,null,null,null,null,null,null,null,null,null,null,null,null,null,null,null,null,null,null,null,null,null,null,null,null,null,null,null,null,null,null,{"$f":"'STATEMENT (2)'!D21","v":0},{"$f":"'STATEMENT (2)'!E21","v":0},{"$f":"'STATEMENT (2)'!F21","v":0},{"$f":"'STATEMENT (2)'!G21","v":0},{"$f":"'STATEMENT (2)'!H21","v":0},{"$f":"'STATEMENT (2)'!I21","v":0},{"$f":"'STATEMENT (2)'!J21","v":0},{"$f":"'STATEMENT (2)'!K21","v":0},{"$f":"'STATEMENT (2)'!L21","v":0},{"$f":"'STATEMENT (2)'!M21","v":0},{"$f":"'STATEMENT (2)'!N21","v":0},{"$f":"'STATEMENT (2)'!O21","v":""},{"$f":"'STATEMENT (2)'!P21","v":0},{"$f":"'STATEMENT (2)'!Q21","v":0},{"$f":"'STATEMENT (2)'!R21","v":0},{"$f":"'STATEMENT (2)'!S21","v":0},{"$f":"'STATEMENT (2)'!T21","v":0},{"$f":"'STATEMENT (2)'!U21","v":0},{"$f":"'STATEMENT (2)'!V21","v":0},{"$f":"'STATEMENT (2)'!W21","v":0},{"$f":"'STATEMENT (2)'!X21","v":0},{"$f":"'STATEMENT (2)'!Y21","v":0},{"$f":"'STATEMENT (2)'!Z21","v":0},{"$f":"'STATEMENT (2)'!AA21","v":0}]
[null,null,null,null,null,null,null,null,null,null,null,null,null,null,null,null,null,null,null,null,null,null,null,null,null,null,null,null,null,null,null,{"$f":"'STATEMENT (2)'!D30","v":0},{"$f":"'STATEMENT (2)'!E30","v":0},{"$f":"'STATEMENT (2)'!F30","v":0},{"$f":"'STATEMENT (2)'!H30","v":0},{"$f":"'STATEMENT (2)'!I30","v":0},{"$f":"'STATEMENT (2)'!I22","v":""},{"$f":"'STATEMENT (2)'!J22","v":0},{"$f":"'STATEMENT (2)'!K22","v":0},{"$f":"'STATEMENT (2)'!L22","v":0},{"$f":"'STATEMENT (2)'!M22","v":0},{"$f":"'STATEMENT (2)'!N22","v":0},{"$f":"'STATEMENT (2)'!O22","v":""},{"$f":"'STATEMENT (2)'!P22","v":0},{"$f":"'STATEMENT (2)'!Q22","v":0},{"$f":"'STATEMENT (2)'!R22","v":0},{"$f":"'STATEMENT (2)'!S22","v":0},{"$f":"'STATEMENT (2)'!T22","v":0},{"$f":"'STATEMENT (2)'!U22","v":0},{"$f":"'STATEMENT (2)'!V22","v":0},{"$f":"'STATEMENT (2)'!W22","v":0},{"$f":"'STATEMENT (2)'!X22","v":0},{"$f":"'STATEMENT (2)'!Y22","v":0},{"$f":"'STATEMENT (2)'!Z22","v":0},{"$f":"'STATEMENT (2)'!AA22","v":0}]
[null,null,null,null,null,null,null,null,null,null,null,null,null,null,null,null,null,null,null,null,null,null,null,null,null,null,null,null,null,null,null,{"$f":"'STATEMENT (2)'!D23","v":0},{"$f":"'STATEMENT (2)'!E23","v":0},{"$f":"'STATEMENT (2)'!F23","v":0},{"$f":"'STATEMENT (2)'!G23","v":""},{"$f":"'STATEMENT (2)'!H23","v":""},{"$f":"'STATEMENT (2)'!I23","v":""},{"$f":"'STATEMENT (2)'!J23","v":0},{"$f":"'STATEMENT (2)'!K23","v":0},{"$f":"'STATEMENT (2)'!L23","v":0},{"$f":"'STATEMENT (2)'!M23","v":0},{"$f":"'STATEMENT (2)'!N23","v":0},{"$f":"'STATEMENT (2)'!O23","v":""},{"$f":"'STATEMENT (2)'!P23","v":0},{"$f":"'STATEMENT (2)'!Q23","v":0},{"$f":"'STATEMENT (2)'!R23","v":0},{"$f":"'STATEMENT (2)'!S23","v":0},{"$f":"'STATEMENT (2)'!T23","v":0},{"$f":"'STATEMENT (2)'!U23","v":0},{"$f":"'STATEMENT (2)'!V23","v":0},{"$f":"'STATEMENT (2)'!W23","v":0},{"$f":"'STATEMENT (2)'!X23","v":0},{"$f":"'STATEMENT (2)'!Y23","v":0},{"$f":"'STATEMENT (2)'!Z23","v":0},{"$f":"'STATEMENT (2)'!AA23","v":0}]
[null,null,null,null,null,null,null,null,null,null,null,null,null,null,null,null,null,null,null,null,null,null,null,null,null,null,null,null,null,null,null,{"$f":"'STATEMENT (2)'!D24","v":0},{"$f":"'STATEMENT (2)'!E24","v":0},{"$f":"'STATEMENT (2)'!F24","v":0},{"$f":"'STATEMENT (2)'!G24","v":0},{"$f":"'STATEMENT (2)'!H24","v":0},{"$f":"'STATEMENT (2)'!I24","v":0},{"$f":"'STATEMENT (2)'!J24","v":0},{"$f":"'STATEMENT (2)'!K24","v":0},{"$f":"'STATEMENT (2)'!L24","v":0},{"$f":"'STATEMENT (2)'!M24","v":0},{"$f":"'STATEMENT (2)'!N24","v":0},{"$f":"'STATEMENT (2)'!O24","v":0},{"$f":"'STATEMENT (2)'!P24","v":0},{"$f":"'STATEMENT (2)'!Q24","v":0},{"$f":"'STATEMENT (2)'!R24","v":0},{"$f":"'STATEMENT (2)'!S24","v":0},{"$f":"'STATEMENT (2)'!T24","v":0},{"$f":"'STATEMENT (2)'!U24","v":0},{"$f":"'STATEMENT (2)'!V24","v":0},{"$f":"'STATEMENT (2)'!W24","v":0},{"$f":"'STATEMENT (2)'!X24","v":0},{"$f":"'STATEMENT (2)'!Y24","v":0},{"$f":"'STATEMENT (2)'!Z24","v":0},{"$f":"'STATEMENT (2)'!AA24","v":0}]
[null,null,null,null,null,null,null,null,null,null,null,null,null,null,null,null,null,null,null,null,null,null,null,null,null,null,null,null,null,null,null,{"$f":"'STATEMENT (2)'!D25","v":0},{"$f":"'STATEMENT (2)'!E25","v":0},{"$f":"'STATEMENT (2)'!F25","v":0},{"$f":"'STATEMENT (2)'!G25","v":""},{"$f":"'STATEMENT (2)'!H25","v":""},{"$f":"'STATEMENT (2)'!I25","v":0},{"$f":"'STATEMENT (2)'!J25","v":0},{"$f":"'STATEMENT (2)'!K25","v":0},{"$f":"'STATEMENT (2)'!L25","v":0},{"$f":"'STATEMENT (2)'!M25","v":0},{"$f":"'STATEMENT (2)'!N25","v":0},{"$f":"'STATEMENT (2)'!O25","v":""},{"$f":"'STATEMENT (2)'!P25","v":0},{"$f":"'STATEMENT (2)'!Q25","v":0},{"$f":"'STATEMENT (2)'!R25","v":0},{"$f":"'STATEMENT (2)'!S25","v":0},{"$f":"'STATEMENT (2)'!T25","v":0},{"$f":"'STATEMENT (2)'!U25","v":""},{"$f":"'STATEMENT (2)'!V25","v":0},{"$f":"'STATEMENT (2)'!W25","v":0},{"$f":"'STATEMENT (2)'!X25","v":0},{"$f":"'STATEMENT (2)'!Y25","v":0},{"$f":"'STATEMENT (2)'!Z25","v":0},{"$f":"'STATEMENT (2)'!AA25","v":0}]
[null,null,null,null,null,null,null,null,null,null,null,null,null,null,null,null,null,null,null,null,null,null,null,null,null,null,null,null,null,null,null,{"$f":"'STATEMENT (2)'!D26","v":0},{"$f":"'STATEMENT (2)'!E26","v":0},{"$f":"'STATEMENT (2)'!F26","v":0},{"$f":"'STATEMENT (2)'!G26","v":0},{"$f":"'STATEMENT (2)'!H26","v":0},{"$f":"'STATEMENT (2)'!I26","v":0},{"$f":"'STATEMENT (2)'!J26","v":0},{"$f":"'STATEMENT (2)'!K26","v":0},{"$f":"'STATEMENT (2)'!L26","v":0},{"$f":"'STATEMENT (2)'!M26","v":0},{"$f":"'STATEMENT (2)'!N26","v":0},{"$f":"'STATEMENT (2)'!O26","v":0},{"$f":"'STATEMENT (2)'!P26","v":0},{"$f":"'STATEMENT (2)'!Q26","v":0},{"$f":"'STATEMENT (2)'!R26","v":0},{"$f":"'STATEMENT (2)'!S26","v":0},{"$f":"'STATEMENT (2)'!T26","v":0},{"$f":"'STATEMENT (2)'!U26","v":0},{"$f":"'STATEMENT (2)'!V26","v":0},{"$f":"'STATEMENT (2)'!W26","v":0},{"$f":"'STATEMENT (2)'!X26","v":0},{"$f":"'STATEMENT (2)'!Y26","v":0},{"$f":"'STATEMENT (2)'!Z26","v":0},{"$f":"'STATEMENT (2)'!AA26","v":0}]
[null,null,null,null,null,null,null,null,null,null,null,null,null,null,null,null,null,null,null,null,null,null,null,null,null,null,null,null,null,null,null,{"$f":"'STATEMENT (2)'!D27","v":475470},{"$f":"'STATEMENT (2)'!E27","v":0},{"$f":"'STATEMENT (2)'!F27","v":0},{"$f":"'STATEMENT (2)'!G27","v":132964},{"$f":"'STATEMENT (2)'!H27","v":57053},{"$f":"'STATEMENT (2)'!I27","v":0},{"$f":"'STATEMENT (2)'!J27","v":0},{"$f":"'STATEMENT (2)'!K27","v":0},{"$f":"'STATEMENT (2)'!L27","v":0},{"$f":"'STATEMENT (2)'!M27","v":0},{"$f":"'STATEMENT (2)'!N27","v":0},{"$f":"'STATEMENT (2)'!O27","v":0},{"$f":"'STATEMENT (2)'!P27","v":0},{"$f":"'STATEMENT (2)'!Q27","v":665487},{"$f":"'STATEMENT (2)'!R27","v":60846},{"$f":"'STATEMENT (2)'!S27","v":16800},{"$f":"'STATEMENT (2)'!T27","v":720},{"$f":"'STATEMENT (2)'!U27","v":2400},{"$f":"'STATEMENT (2)'!V27","v":70},{"$f":"'STATEMENT (2)'!W27","v":1080},{"$f":"'STATEMENT (2)'!X27","v":0},{"$f":"'STATEMENT (2)'!Y27","v":0},{"$f":"'STATEMENT (2)'!Z27","v":81916},{"$f":"'STATEMENT (2)'!AA27","v":583571}]

{"sheet":"Sheet6","index":28,"n_rows":0,"n_cols":0,"rows_kept":0,"cut":false,"hidden":true,"merged":[]}